{"text_format":"1","workbook":"xlsx","n_sheets":8,"sheets":["Participants","Aktuelle_Rangliste","22.12.2022","28.03.2023","Template","Settings","Sprache","Info"],"not_rendered":{"charts":0,"images":3,"macros":1,"external_links":0,"defined_names":1,"comments":0,"pivot_tables":0},"unopened":[],"bounds":{"document_bytes":16777216,"sheet_cells":100000,"rows_first":2000,"rows_last":500,"rows_between":2000,"halvings":0,"cell_chars":16384,"cell_head_chars":4096},"cells_cut":0,"cells_raw":0,"read":"whole","date_system":"1900"}

{"sheet":"Participants","index":0,"n_rows":1002,"n_cols":7,"rows_kept":1002,"cut":false,"hidden":false,"merged":[]}
[{"$f":"Sprache!$E$6","v":"Teilnehmer"},null,null,null,{"$f":"Sprache!$E$7","v":"Startwert"}]
[{"$f":"Sprache!$E$9","v":"Nr."},{"$f":"Sprache!$E$8","v":"ID"},{"$f":"Sprache!$E$10","v":"Name"},{"$f":"Sprache!$E$32","v":"Verein"},"2022-10-06","2022-12-22","2023-03-28"]
["1.","G1","Brasilien",null,1841.3,1840.8182497794046,1840.8182497794046]
["2.","C1","Argentinien",null,1773.88,1837.7343303226655,1837.7343303226655]
["3.","D1","Frankreich",null,1759.78,1823.2467372678627,1826.7135737147623]
["4.","F1","Belgien",null,1816.71,1784.5833793496768,1784.5833793496768]
["5.","B1","England",null,1728.47,1774.141308672524,1778.4451396723948]
["6.","A4","Niederlande",null,1694.51,1740.6487785894392,1740.6487785894392]
["7.","F4","Kroatien",null,1645.64,1726.5261155167407,1726.5261155167407]
["8.","H1","Portugal",null,1676.56,1701.1047147426118,1696.800883742741]
["9.","E1","Spanien",null,1715.22,1692.6875513100958,1692.6875513100958]
["10.","F3","Marokko",null,1563.5,1671.1804237792071,1671.1804237792071]
["11.","G3","Schweiz",null,1635.92,1658.1326311161736,1654.665794669274]
["12.","B3","USA",null,1627.48,1652.7103236326968,1652.7103236326968]
["13.","E3","Deutschland",null,1650.21,1645.976674709251,1645.8922305255576]
["14.","C3","Mexiko",null,1644.89,1637.1741634022635,1637.258607585957]
["15.","H3","Uruguay",null,1638.71,1627.1475472750744,1627.1475472750744]
["16.","D3","Dänemark",null,1666.57,1608.113005179637,1608.113005179637]
["17.","A3","Senegal",null,1584.38,1603.6426538698399,1603.6426538698399]
["18.","E4","Japan",null,1559.54,1595.2735498829391,1595.2735498829391]
["19.","C4","Polen",null,1548.59,1557.8649270928411,1557.8649270928411]
["20.","B2","IR Iran",null,1564.61,1551.1598670925353,1551.1598670925353]
["21.","H4","Republik Korea",null,1530.3,1537.6940853063384,1537.6940853063384]
["22.","D2","Australien",null,1488.72,1533.9695399163395,1533.9695399163395]
["23.","B4","Wales",null,1569.82,1530.249706846158,1530.249706846158]
["24.","G2","Serbien",null,1563.62,1525.5535582737702,1525.5535582737702]
["25.","D4","Tunesien",null,1507.54,1526.2009853978452,1526.2009853978452]
["26.","E2","Costa Rica",null,1503.59,1498.0991626264918,1498.0991626264918]
["27.","G4","Kamerun",null,1471.44,1500.1138938162321,1500.1138938162321]
["28.","A2","Ecuador",null,1464.39,1477.4336325277422,1477.4336325277422]
["29.","C2","Saudiarabien",null,1437.78,1438.2395693909043,1438.2395693909043]
["30.","F2","Kanada",null,1475,1429.863744647593,1429.863744647593]
["31.","H2","Ghana",null,1393,1396.718497492644,1396.718497492644]
["32.","A1","Katar",null,1439.89,1386.2015665539955,1386.2015665539955]
["33."]
["34."]
["35."]
["36."]
["37."]
["38."]
["39."]
["40."]
["41."]
["42."]
["43."]
["44."]
["45."]
["46."]
["47."]
["48."]
["49."]
["50."]
["51."]
["52."]
["53."]
["54."]
["55."]
["56."]
["57."]
["58."]
["59."]
["60."]
["61."]
["62."]
["63."]
["64."]
["65."]
["66."]
["67."]
["68."]
["69."]
["70."]
["71."]
["72."]
["73."]
["74."]
["75."]
["76."]
["77."]
["78."]
["79."]
["80."]
["81."]
["82."]
["83."]
["84."]
["85."]
["86."]
["87."]
["88."]
["89."]
["90."]
["91."]
["92."]
["93."]
["94."]
["95."]
["96."]
["97."]
["98."]
["99."]
["100."]
["101."]
["102."]
["103."]
["104."]
["105."]
["106."]
["107."]
["108."]
["109."]
["110."]
["111."]
["112."]
["113."]
["114."]
["115."]
["116."]
["117."]
["118."]
["119."]
["120."]
["121."]
["122."]
["123."]
["124."]
["125."]
["126."]
["127."]
["128."]
["129."]
["130."]
["131."]
["132."]
["133."]
["134."]
["135."]
["136."]
["137."]
["138."]
["139."]
["140."]
["141."]
["142."]
["143."]
["144."]
["145."]
["146."]
["147."]
["148."]
["149."]
["150."]
["151."]
["152."]
["153."]
["154."]
["155."]
["156."]
["157."]
["158."]
["159."]
["160."]
["161."]
["162."]
["163."]
["164."]
["165."]
["166."]
["167."]
["168."]
["169."]
["170."]
["171."]
["172."]
["173."]
["174."]
["175."]
["176."]
["177."]
["178."]
["179."]
["180."]
["181."]
["182."]
["183."]
["184."]
["185."]
["186."]
["187."]
["188."]
["189."]
["190."]
["191."]
["192."]
["193."]
["194."]
["195."]
["196."]
["197."]
["198."]
["199."]
["200."]
["201."]
["202."]
["203."]
["204."]
["205."]
["206."]
["207."]
["208."]
["209."]
["210."]
["211."]
["212."]
["213."]
["214."]
["215."]
["216."]
["217."]
["218."]
["219."]
["220."]
["221."]
["222."]
["223."]
["224."]
["225."]
["226."]
["227."]
["228."]
["229."]
["230."]
["231."]
["232."]
["233."]
["234."]
["235."]
["236."]
["237."]
["238."]
["239."]
["240."]
["241."]
["242."]
["243."]
["244."]
["245."]
["246."]
["247."]
["248."]
["249."]
["250."]
["251."]
["252."]
["253."]
["254."]
["255."]
["256."]
["257."]
["258."]
["259."]
["260."]
["261."]
["262."]
["263."]
["264."]
["265."]
["266."]
["267."]
["268."]
["269."]
["270."]
["271."]
["272."]
["273."]
["274."]
["275."]
["276."]
["277."]
["278."]
["279."]
["280."]
["281."]
["282."]
["283."]
["284."]
["285."]
["286."]
["287."]
["288."]
["289."]
["290."]
["291."]
["292."]
["293."]
["294."]
["295."]
["296."]
["297."]
["298."]
["299."]
["300."]
["301."]
["302."]
["303."]
["304."]
["305."]
["306."]
["307."]
["308."]
["309."]
["310."]
["311."]
["312."]
["313."]
["314."]
["315."]
["316."]
["317."]
["318."]
["319."]
["320."]
["321."]
["322."]
["323."]
["324."]
["325."]
["326."]
["327."]
["328."]
["329."]
["330."]
["331."]
["332."]
["333."]
["334."]
["335."]
["336."]
["337."]
["338."]
["339."]
["340."]
["341."]
["342."]
["343."]
["344."]
["345."]
["346."]
["347."]
["348."]
["349."]
["350."]
["351."]
["352."]
["353."]
["354."]
["355."]
["356."]
["357."]
["358."]
["359."]
["360."]
["361."]
["362."]
["363."]
["364."]
["365."]
["366."]
["367."]
["368."]
["369."]
["370."]
["371."]
["372."]
["373."]
["374."]
["375."]
["376."]
["377."]
["378."]
["379."]
["380."]
["381."]
["382."]
["383."]
["384."]
["385."]
["386."]
["387."]
["388."]
["389."]
["390."]
["391."]
["392."]
["393."]
["394."]
["395."]
["396."]
["397."]
["398."]
["399."]
["400."]
["401."]
["402."]
["403."]
["404."]
["405."]
["406."]
["407."]
["408."]
["409."]
["410."]
["411."]
["412."]
["413."]
["414."]
["415."]
["416."]
["417."]
["418."]
["419."]
["420."]
["421."]
["422."]
["423."]
["424."]
["425."]
["426."]
["427."]
["428."]
["429."]
["430."]
["431."]
["432."]
["433."]
["434."]
["435."]
["436."]
["437."]
["438."]
["439."]
["440."]
["441."]
["442."]
["443."]
["444."]
["445."]
["446."]
["447."]
["448."]
["449."]
["450."]
["451."]
["452."]
["453."]
["454."]
["455."]
["456."]
["457."]
["458."]
["459."]
["460."]
["461."]
["462."]
["463."]
["464."]
["465."]
["466."]
["467."]
["468."]
["469."]
["470."]
["471."]
["472."]
["473."]
["474."]
["475."]
["476."]
["477."]
["478."]
["479."]
["480."]
["481."]
["482."]
["483."]
["484."]
["485."]
["486."]
["487."]
["488."]
["489."]
["490."]
["491."]
["492."]
["493."]
["494."]
["495."]
["496."]
["497."]
["498."]
["499."]
["500."]
["501."]
["502."]
["503."]
["504."]
["505."]
["506."]
["507."]
["508."]
["509."]
["510."]
["511."]
["512."]
["513."]
["514."]
["515."]
["516."]
["517."]
["518."]
["519."]
["520."]
["521."]
["522."]
["523."]
["524."]
["525."]
["526."]
["527."]
["528."]
["529."]
["530."]
["531."]
["532."]
["533."]
["534."]
["535."]
["536."]
["537."]
["538."]
["539."]
["540."]
["541."]
["542."]
["543."]
["544."]
["545."]
["546."]
["547."]
["548."]
["549."]
["550."]
["551."]
["552."]
["553."]
["554."]
["555."]
["556."]
["557."]
["558."]
["559."]
["560."]
["561."]
["562."]
["563."]
["564."]
["565."]
["566."]
["567."]
["568."]
["569."]
["570."]
["571."]
["572."]
["573."]
["574."]
["575."]
["576."]
["577."]
["578."]
["579."]
["580."]
["581."]
["582."]
["583."]
["584."]
["585."]
["586."]
["587."]
["588."]
["589."]
["590."]
["591."]
["592."]
["593."]
["594."]
["595."]
["596."]
["597."]
["598."]
["599."]
["600."]
["601."]
["602."]
["603."]
["604."]
["605."]
["606."]
["607."]
["608."]
["609."]
["610."]
["611."]
["612."]
["613."]
["614."]
["615."]
["616."]
["617."]
["618."]
["619."]
["620."]
["621."]
["622."]
["623."]
["624."]
["625."]
["626."]
["627."]
["628."]
["629."]
["630."]
["631."]
["632."]
["633."]
["634."]
["635."]
["636."]
["637."]
["638."]
["639."]
["640."]
["641."]
["642."]
["643."]
["644."]
["645."]
["646."]
["647."]
["648."]
["649."]
["650."]
["651."]
["652."]
["653."]
["654."]
["655."]
["656."]
["657."]
["658."]
["659."]
["660."]
["661."]
["662."]
["663."]
["664."]
["665."]
["666."]
["667."]
["668."]
["669."]
["670."]
["671."]
["672."]
["673."]
["674."]
["675."]
["676."]
["677."]
["678."]
["679."]
["680."]
["681."]
["682."]
["683."]
["684."]
["685."]
["686."]
["687."]
["688."]
["689."]
["690."]
["691."]
["692."]
["693."]
["694."]
["695."]
["696."]
["697."]
["698."]
["699."]
["700."]
["701."]
["702."]
["703."]
["704."]
["705."]
["706."]
["707."]
["708."]
["709."]
["710."]
["711."]
["712."]
["713."]
["714."]
["715."]
["716."]
["717."]
["718."]
["719."]
["720."]
["721."]
["722."]
["723."]
["724."]
["725."]
["726."]
["727."]
["728."]
["729."]
["730."]
["731."]
["732."]
["733."]
["734."]
["735."]
["736."]
["737."]
["738."]
["739."]
["740."]
["741."]
["742."]
["743."]
["744."]
["745."]
["746."]
["747."]
["748."]
["749."]
["750."]
["751."]
["752."]
["753."]
["754."]
["755."]
["756."]
["757."]
["758."]
["759."]
["760."]
["761."]
["762."]
["763."]
["764."]
["765."]
["766."]
["767."]
["768."]
["769."]
["770."]
["771."]
["772."]
["773."]
["774."]
["775."]
["776."]
["777."]
["778."]
["779."]
["780."]
["781."]
["782."]
["783."]
["784."]
["785."]
["786."]
["787."]
["788."]
["789."]
["790."]
["791."]
["792."]
["793."]
["794."]
["795."]
["796."]
["797."]
["798."]
["799."]
["800."]
["801."]
["802."]
["803."]
["804."]
["805."]
["806."]
["807."]
["808."]
["809."]
["810."]
["811."]
["812."]
["813."]
["814."]
["815."]
["816."]
["817."]
["818."]
["819."]
["820."]
["821."]
["822."]
["823."]
["824."]
["825."]
["826."]
["827."]
["828."]
["829."]
["830."]
["831."]
["832."]
["833."]
["834."]
["835."]
["836."]
["837."]
["838."]
["839."]
["840."]
["841."]
["842."]
["843."]
["844."]
["845."]
["846."]
["847."]
["848."]
["849."]
["850."]
["851."]
["852."]
["853."]
["854."]
["855."]
["856."]
["857."]
["858."]
["859."]
["860."]
["861."]
["862."]
["863."]
["864."]
["865."]
["866."]
["867."]
["868."]
["869."]
["870."]
["871."]
["872."]
["873."]
["874."]
["875."]
["876."]
["877."]
["878."]
["879."]
["880."]
["881."]
["882."]
["883."]
["884."]
["885."]
["886."]
["887."]
["888."]
["889."]
["890."]
["891."]
["892."]
["893."]
["894."]
["895."]
["896."]
["897."]
["898."]
["899."]
["900."]
["901."]
["902."]
["903."]
["904."]
["905."]
["906."]
["907."]
["908."]
["909."]
["910."]
["911."]
["912."]
["913."]
["914."]
["915."]
["916."]
["917."]
["918."]
["919."]
["920."]
["921."]
["922."]
["923."]
["924."]
["925."]
["926."]
["927."]
["928."]
["929."]
["930."]
["931."]
["932."]
["933."]
["934."]
["935."]
["936."]
["937."]
["938."]
["939."]
["940."]
["941."]
["942."]
["943."]
["944."]
["945."]
["946."]
["947."]
["948."]
["949."]
["950."]
["951."]
["952."]
["953."]
["954."]
["955."]
["956."]
["957."]
["958."]
["959."]
["960."]
["961."]
["962."]
["963."]
["964."]
["965."]
["966."]
["967."]
["968."]
["969."]
["970."]
["971."]
["972."]
["973."]
["974."]
["975."]
["976."]
["977."]
["978."]
["979."]
["980."]
["981."]
["982."]
["983."]
["984."]
["985."]
["986."]
["987."]
["988."]
["989."]
["990."]
["991."]
["992."]
["993."]
["994."]
["995."]
["996."]
["997."]
["998."]
["999."]
["1000."]

{"sheet":"Aktuelle_Rangliste","index":1,"n_rows":35,"n_cols":6,"rows_kept":35,"cut":false,"hidden":false,"merged":[]}
[null,null,null,null,"Datum:","2023-03-28"]
[]
[null,"Rang","Name","Verein","Punkte","+/-"]
[null,1,"Brasilien",null,1840.8182497794046,0]
[null,2,"Argentinien",null,1837.7343303226655,0]
[null,3,"Frankreich",null,1826.7135737147623,3.466836446899606]
[null,4,"Belgien",null,1784.5833793496768,0]
[null,5,"England",null,1778.4451396723948,4.3038309998707973]
[null,6,"Niederlande",null,1740.6487785894392,0]
[null,7,"Kroatien",null,1726.5261155167407,0]
[null,8,"Portugal",null,1696.800883742741,-4.3038309998707973]
[null,9,"Spanien",null,1692.6875513100958,0]
[null,10,"Marokko",null,1671.1804237792071,0]
[null,11,"Schweiz",null,1654.665794669274,-3.466836446899606]
[null,12,"USA",null,1652.7103236326968,0]
[null,13,"Deutschland",null,1645.8922305255576,-8.4444183693449304E-2]
[null,14,"Mexiko",null,1637.258607585957,8.4444183693449304E-2]
[null,15,"Uruguay",null,1627.1475472750744,0]
[null,16,"Dänemark",null,1608.113005179637,0]
[null,17,"Senegal",null,1603.6426538698399,0]
[null,18,"Japan",null,1595.2735498829391,0]
[null,19,"Polen",null,1557.8649270928411,0]
[null,20,"IR Iran",null,1551.1598670925353,0]
[null,21,"Republik Korea",null,1537.6940853063384,0]
[null,22,"Australien",null,1533.9695399163395,0]
[null,23,"Wales",null,1530.249706846158,0]
[null,24,"Tunesien",null,1526.2009853978452,0]
[null,25,"Serbien",null,1525.5535582737702,0]
[null,26,"Kamerun",null,1500.1138938162321,0]
[null,27,"Costa Rica",null,1498.0991626264918,0]
[null,28,"Ecuador",null,1477.4336325277422,0]
[null,29,"Saudiarabien",null,1438.2395693909043,0]
[null,30,"Kanada",null,1429.863744647593,0]
[null,31,"Ghana",null,1396.718497492644,0]
[null,32,"Katar",null,1386.2015665539955,0]

{"sheet":"22.12.2022","index":2,"n_rows":2003,"n_cols":17,"rows_kept":2003,"cut":false,"hidden":false,"merged":[[0,8,2,8],[0,9,2,9],[0,10,2,10],[2,6,2,7]]}
[null,{"$f":"Sprache!$E$11","v":"Rangliste"},null,{"$f":"Sprache!$E$12","v":"Altes Datum:"},null,{"$f":"Sprache!$E$13","v":"Neues Datum:"},null,null,{"$f":"Sprache!$E$20","v":"Wichtung"},{"$f":"Sprache!$E$21","v":"Elfmetersch."},{"$f":"Sprache!$E$22","v":"KO-Runde"}]
[null,{"$f":"Sprache!$E$14","v":"Spiele"},null,"2022-10-06","\u009e","2022-12-22",null,null,null,null,null,null,"Neue Rangliste"]
[null,{"$f":"Sprache!$E$16","v":"Datum"},{"$f":"Sprache!$E$17","v":"ID 1"},null,{"$f":"Sprache!$E$18","v":"ID 2"},null,{"$f":"Sprache!$E$19","v":"Ergebnis"},null,null,null,null,null,"Rang","Name","Verein","Punkte","+/-"]
[null,"2022-11-20T19:00:00","A1",{"$f":"IFERROR(VLOOKUP(C4,Participants!$B$3:$C$1002,2,0),\"\")","v":"Katar"},"A2",{"$f":"IFERROR(VLOOKUP(E4,Participants!$B$3:$C$1002,2,0),\"\")","v":"Ecuador"},0,2,50,null,null,null,1,"Brasilien",null,1840.8182497794046,-0.48175022059535877]
[null,"2022-11-21T19:00:00","A3",{"$f":"IFERROR(VLOOKUP(C5,Participants!$B$3:$C$1002,2,0),\"\")","v":"Senegal"},"A4",{"$f":"IFERROR(VLOOKUP(E5,Participants!$B$3:$C$1002,2,0),\"\")","v":"Niederlande"},0,2,50,null,null,null,2,"Argentinien",null,1837.7343303226655,63.854330322665419]
[null,"2022-11-21T16:00:00","B1",{"$f":"IFERROR(VLOOKUP(C6,Participants!$B$3:$C$1002,2,0),\"\")","v":"England"},"B2",{"$f":"IFERROR(VLOOKUP(E6,Participants!$B$3:$C$1002,2,0),\"\")","v":"IR Iran"},6,2,50,null,null,null,3,"Frankreich",null,1823.2467372678627,63.466737267862754]
[null,"2022-11-21T22:00:00","B3",{"$f":"IFERROR(VLOOKUP(C7,Participants!$B$3:$C$1002,2,0),\"\")","v":"USA"},"B4",{"$f":"IFERROR(VLOOKUP(E7,Participants!$B$3:$C$1002,2,0),\"\")","v":"Wales"},1,1,50,null,null,null,4,"Belgien",null,1784.5833793496768,-32.126620650323275]
[null,"2022-11-22T22:00:00","D1",{"$f":"IFERROR(VLOOKUP(C8,Participants!$B$3:$C$1002,2,0),\"\")","v":"Frankreich"},"D2",{"$f":"IFERROR(VLOOKUP(E8,Participants!$B$3:$C$1002,2,0),\"\")","v":"Australien"},4,1,50,null,null,null,5,"England",null,1774.141308672524,45.671308672523992]
[null,"2022-11-22T16:00:00","D3",{"$f":"IFERROR(VLOOKUP(C9,Participants!$B$3:$C$1002,2,0),\"\")","v":"Dänemark"},"D4",{"$f":"IFERROR(VLOOKUP(E9,Participants!$B$3:$C$1002,2,0),\"\")","v":"Tunesien"},0,0,50,null,null,null,6,"Niederlande",null,1740.6487785894392,46.138778589439198]
[null,"2022-11-22T19:00:00","C3",{"$f":"IFERROR(VLOOKUP(C10,Participants!$B$3:$C$1002,2,0),\"\")","v":"Mexiko"},"C4",{"$f":"IFERROR(VLOOKUP(E10,Participants!$B$3:$C$1002,2,0),\"\")","v":"Polen"},0,0,50,null,null,null,7,"Kroatien",null,1726.5261155167407,80.886115516740574]
[null,"2022-11-22T13:00:00","C1",{"$f":"IFERROR(VLOOKUP(C11,Participants!$B$3:$C$1002,2,0),\"\")","v":"Argentinien"},"C2",{"$f":"IFERROR(VLOOKUP(E11,Participants!$B$3:$C$1002,2,0),\"\")","v":"Saudiarabien"},1,2,50,null,null,null,8,"Portugal",null,1701.1047147426118,24.544714742611859]
[null,"2022-11-23T22:00:00","F1",{"$f":"IFERROR(VLOOKUP(C12,Participants!$B$3:$C$1002,2,0),\"\")","v":"Belgien"},"F2",{"$f":"IFERROR(VLOOKUP(E12,Participants!$B$3:$C$1002,2,0),\"\")","v":"Kanada"},1,0,50,null,null,null,9,"Spanien",null,1692.6875513100958,-22.532448689904186]
[null,"2022-11-23T19:00:00","E1",{"$f":"IFERROR(VLOOKUP(C13,Participants!$B$3:$C$1002,2,0),\"\")","v":"Spanien"},"E2",{"$f":"IFERROR(VLOOKUP(E13,Participants!$B$3:$C$1002,2,0),\"\")","v":"Costa Rica"},7,0,50,null,null,null,10,"Marokko",null,1671.1804237792071,107.6804237792071]
[null,"2022-11-23T16:00:00","E3",{"$f":"IFERROR(VLOOKUP(C14,Participants!$B$3:$C$1002,2,0),\"\")","v":"Deutschland"},"E4",{"$f":"IFERROR(VLOOKUP(E14,Participants!$B$3:$C$1002,2,0),\"\")","v":"Japan"},1,2,50,null,null,null,11,"Schweiz",null,1658.1326311161736,22.212631116173498]
[null,"2022-11-23T13:00:00","F3",{"$f":"IFERROR(VLOOKUP(C15,Participants!$B$3:$C$1002,2,0),\"\")","v":"Marokko"},"F4",{"$f":"IFERROR(VLOOKUP(E15,Participants!$B$3:$C$1002,2,0),\"\")","v":"Kroatien"},0,0,50,null,null,null,12,"USA",null,1652.7103236326968,25.230323632696809]
[null,"2022-11-24T13:00:00","G3",{"$f":"IFERROR(VLOOKUP(C16,Participants!$B$3:$C$1002,2,0),\"\")","v":"Schweiz"},"G4",{"$f":"IFERROR(VLOOKUP(E16,Participants!$B$3:$C$1002,2,0),\"\")","v":"Kamerun"},1,0,50,null,null,null,13,"Deutschland",null,1645.976674709251,-4.2333252907490078]
[null,"2022-11-24T16:00:00","H3",{"$f":"IFERROR(VLOOKUP(C17,Participants!$B$3:$C$1002,2,0),\"\")","v":"Uruguay"},"H4",{"$f":"IFERROR(VLOOKUP(E17,Participants!$B$3:$C$1002,2,0),\"\")","v":"Republik Korea"},0,0,50,null,null,null,14,"Mexiko",null,1637.1741634022635,-7.7158365977365975]
[null,"2022-11-24T19:00:00","H1",{"$f":"IFERROR(VLOOKUP(C18,Participants!$B$3:$C$1002,2,0),\"\")","v":"Portugal"},"H2",{"$f":"IFERROR(VLOOKUP(E18,Participants!$B$3:$C$1002,2,0),\"\")","v":"Ghana"},3,2,50,null,null,null,15,"Uruguay",null,1627.1475472750744,-11.562452724925606]
[null,"2022-11-24T22:00:00","G1",{"$f":"IFERROR(VLOOKUP(C19,Participants!$B$3:$C$1002,2,0),\"\")","v":"Brasilien"},"G2",{"$f":"IFERROR(VLOOKUP(E19,Participants!$B$3:$C$1002,2,0),\"\")","v":"Serbien"},2,0,50,null,null,null,16,"Dänemark",null,1608.113005179637,-58.456994820362979]
[null,"2022-11-25T13:00:00","B4",{"$f":"IFERROR(VLOOKUP(C20,Participants!$B$3:$C$1002,2,0),\"\")","v":"Wales"},"B2",{"$f":"IFERROR(VLOOKUP(E20,Participants!$B$3:$C$1002,2,0),\"\")","v":"IR Iran"},0,2,50,null,null,null,17,"Senegal",null,1603.6426538698399,19.262653869839824]
[null,"2022-11-25T16:00:00","A1",{"$f":"IFERROR(VLOOKUP(C21,Participants!$B$3:$C$1002,2,0),\"\")","v":"Katar"},"A3",{"$f":"IFERROR(VLOOKUP(E21,Participants!$B$3:$C$1002,2,0),\"\")","v":"Senegal"},1,3,50,null,null,null,18,"Japan",null,1595.2735498829391,35.733549882939087]
[null,"2022-11-25T19:00:00","A4",{"$f":"IFERROR(VLOOKUP(C22,Participants!$B$3:$C$1002,2,0),\"\")","v":"Niederlande"},"A2",{"$f":"IFERROR(VLOOKUP(E22,Participants!$B$3:$C$1002,2,0),\"\")","v":"Ecuador"},1,1,50,null,null,null,19,"Polen",null,1557.8649270928411,9.2749270928411534]
[null,"2022-11-25T22:00:00","B1",{"$f":"IFERROR(VLOOKUP(C23,Participants!$B$3:$C$1002,2,0),\"\")","v":"England"},"B3",{"$f":"IFERROR(VLOOKUP(E23,Participants!$B$3:$C$1002,2,0),\"\")","v":"USA"},0,0,50,null,null,null,20,"IR Iran",null,1551.1598670925353,-13.450132907464649]
[null,"2022-11-26T13:00:00","D4",{"$f":"IFERROR(VLOOKUP(C24,Participants!$B$3:$C$1002,2,0),\"\")","v":"Tunesien"},"D2",{"$f":"IFERROR(VLOOKUP(E24,Participants!$B$3:$C$1002,2,0),\"\")","v":"Australien"},0,1,50,null,null,null,21,"Republik Korea",null,1537.6940853063384,7.3940853063384111]
[null,"2022-11-26T16:00:00","C4",{"$f":"IFERROR(VLOOKUP(C25,Participants!$B$3:$C$1002,2,0),\"\")","v":"Polen"},"C2",{"$f":"IFERROR(VLOOKUP(E25,Participants!$B$3:$C$1002,2,0),\"\")","v":"Saudiarabien"},2,0,50,null,null,null,22,"Australien",null,1533.9695399163395,45.249539916339472]
[null,"2022-11-26T19:00:00","D1",{"$f":"IFERROR(VLOOKUP(C26,Participants!$B$3:$C$1002,2,0),\"\")","v":"Frankreich"},"D3",{"$f":"IFERROR(VLOOKUP(E26,Participants!$B$3:$C$1002,2,0),\"\")","v":"Dänemark"},2,1,50,null,null,null,23,"Wales",null,1530.249706846158,-39.570293153841931]
[null,"2022-11-26T22:00:00","C1",{"$f":"IFERROR(VLOOKUP(C27,Participants!$B$3:$C$1002,2,0),\"\")","v":"Argentinien"},"C3",{"$f":"IFERROR(VLOOKUP(E27,Participants!$B$3:$C$1002,2,0),\"\")","v":"Mexiko"},2,0,50,null,null,null,24,"Tunesien",null,1526.2009853978452,18.660985397845252]
[null,"2022-11-27T13:00:00","E4",{"$f":"IFERROR(VLOOKUP(C28,Participants!$B$3:$C$1002,2,0),\"\")","v":"Japan"},"E2",{"$f":"IFERROR(VLOOKUP(E28,Participants!$B$3:$C$1002,2,0),\"\")","v":"Costa Rica"},0,1,50,null,null,null,25,"Serbien",null,1525.5535582737702,-38.066441726229641]
[null,"2022-11-27T16:00:00","F1",{"$f":"IFERROR(VLOOKUP(C29,Participants!$B$3:$C$1002,2,0),\"\")","v":"Belgien"},"F3",{"$f":"IFERROR(VLOOKUP(E29,Participants!$B$3:$C$1002,2,0),\"\")","v":"Marokko"},0,2,50,null,null,null,26,"Kamerun",null,1500.1138938162321,28.673893816232066]
[null,"2022-11-27T19:00:00","F4",{"$f":"IFERROR(VLOOKUP(C30,Participants!$B$3:$C$1002,2,0),\"\")","v":"Kroatien"},"F2",{"$f":"IFERROR(VLOOKUP(E30,Participants!$B$3:$C$1002,2,0),\"\")","v":"Kanada"},4,1,50,null,null,null,27,"Costa Rica",null,1498.0991626264918,-5.4908373735081568]
[null,"2022-11-27T22:00:00","E1",{"$f":"IFERROR(VLOOKUP(C31,Participants!$B$3:$C$1002,2,0),\"\")","v":"Spanien"},"E3",{"$f":"IFERROR(VLOOKUP(E31,Participants!$B$3:$C$1002,2,0),\"\")","v":"Deutschland"},1,1,50,null,null,null,28,"Ecuador",null,1477.4336325277422,13.043632527742147]
[null,"2022-11-28T13:00:00","G4",{"$f":"IFERROR(VLOOKUP(C32,Participants!$B$3:$C$1002,2,0),\"\")","v":"Kamerun"},"G2",{"$f":"IFERROR(VLOOKUP(E32,Participants!$B$3:$C$1002,2,0),\"\")","v":"Serbien"},3,3,50,null,null,null,29,"Saudiarabien",null,1438.2395693909043,0.4595693909043348]
[null,"2022-11-28T16:00:00","H4",{"$f":"IFERROR(VLOOKUP(C33,Participants!$B$3:$C$1002,2,0),\"\")","v":"Republik Korea"},"H2",{"$f":"IFERROR(VLOOKUP(E33,Participants!$B$3:$C$1002,2,0),\"\")","v":"Ghana"},2,3,50,null,null,null,30,"Kanada",null,1429.863744647593,-45.136255352407034]
[null,"2022-11-28T19:00:00","G1",{"$f":"IFERROR(VLOOKUP(C34,Participants!$B$3:$C$1002,2,0),\"\")","v":"Brasilien"},"G3",{"$f":"IFERROR(VLOOKUP(E34,Participants!$B$3:$C$1002,2,0),\"\")","v":"Schweiz"},1,0,50,null,null,null,31,"Ghana",null,1396.718497492644,3.7184974926440191]
[null,"2022-11-28T22:00:00","H1",{"$f":"IFERROR(VLOOKUP(C35,Participants!$B$3:$C$1002,2,0),\"\")","v":"Portugal"},"H3",{"$f":"IFERROR(VLOOKUP(E35,Participants!$B$3:$C$1002,2,0),\"\")","v":"Uruguay"},2,0,50,null,null,null,32,"Katar",null,1386.2015665539955,-53.688433446004638]
[null,"2022-11-29T22:00:00","B4",{"$f":"IFERROR(VLOOKUP(C36,Participants!$B$3:$C$1002,2,0),\"\")","v":"Wales"},"B1",{"$f":"IFERROR(VLOOKUP(E36,Participants!$B$3:$C$1002,2,0),\"\")","v":"England"},0,3,50]
[null,"2022-11-29T22:00:00","B2",{"$f":"IFERROR(VLOOKUP(C37,Participants!$B$3:$C$1002,2,0),\"\")","v":"IR Iran"},"B3",{"$f":"IFERROR(VLOOKUP(E37,Participants!$B$3:$C$1002,2,0),\"\")","v":"USA"},0,1,50]
[null,"2022-11-29T18:00:00","A2",{"$f":"IFERROR(VLOOKUP(C38,Participants!$B$3:$C$1002,2,0),\"\")","v":"Ecuador"},"A3",{"$f":"IFERROR(VLOOKUP(E38,Participants!$B$3:$C$1002,2,0),\"\")","v":"Senegal"},1,2,50]
[null,"2022-11-29T18:00:00","A4",{"$f":"IFERROR(VLOOKUP(C39,Participants!$B$3:$C$1002,2,0),\"\")","v":"Niederlande"},"A1",{"$f":"IFERROR(VLOOKUP(E39,Participants!$B$3:$C$1002,2,0),\"\")","v":"Katar"},2,0,50]
[null,"2022-11-30T18:00:00","D2",{"$f":"IFERROR(VLOOKUP(C40,Participants!$B$3:$C$1002,2,0),\"\")","v":"Australien"},"D3",{"$f":"IFERROR(VLOOKUP(E40,Participants!$B$3:$C$1002,2,0),\"\")","v":"Dänemark"},1,0,50]
[null,"2022-11-30T18:00:00","D4",{"$f":"IFERROR(VLOOKUP(C41,Participants!$B$3:$C$1002,2,0),\"\")","v":"Tunesien"},"D1",{"$f":"IFERROR(VLOOKUP(E41,Participants!$B$3:$C$1002,2,0),\"\")","v":"Frankreich"},1,0,50]
[null,"2022-11-30T22:00:00","C4",{"$f":"IFERROR(VLOOKUP(C42,Participants!$B$3:$C$1002,2,0),\"\")","v":"Polen"},"C1",{"$f":"IFERROR(VLOOKUP(E42,Participants!$B$3:$C$1002,2,0),\"\")","v":"Argentinien"},0,2,50]
[null,"2022-11-30T22:00:00","C2",{"$f":"IFERROR(VLOOKUP(C43,Participants!$B$3:$C$1002,2,0),\"\")","v":"Saudiarabien"},"C3",{"$f":"IFERROR(VLOOKUP(E43,Participants!$B$3:$C$1002,2,0),\"\")","v":"Mexiko"},1,2,50]
[null,"2022-12-01T18:00:00","F4",{"$f":"IFERROR(VLOOKUP(C44,Participants!$B$3:$C$1002,2,0),\"\")","v":"Kroatien"},"F1",{"$f":"IFERROR(VLOOKUP(E44,Participants!$B$3:$C$1002,2,0),\"\")","v":"Belgien"},0,0,50]
[null,"2022-12-01T18:00:00","F2",{"$f":"IFERROR(VLOOKUP(C45,Participants!$B$3:$C$1002,2,0),\"\")","v":"Kanada"},"F3",{"$f":"IFERROR(VLOOKUP(E45,Participants!$B$3:$C$1002,2,0),\"\")","v":"Marokko"},1,2,50]
[null,"2022-12-01T22:00:00","E4",{"$f":"IFERROR(VLOOKUP(C46,Participants!$B$3:$C$1002,2,0),\"\")","v":"Japan"},"E1",{"$f":"IFERROR(VLOOKUP(E46,Participants!$B$3:$C$1002,2,0),\"\")","v":"Spanien"},2,1,50]
[null,"2022-12-01T22:00:00","E2",{"$f":"IFERROR(VLOOKUP(C47,Participants!$B$3:$C$1002,2,0),\"\")","v":"Costa Rica"},"E3",{"$f":"IFERROR(VLOOKUP(E47,Participants!$B$3:$C$1002,2,0),\"\")","v":"Deutschland"},2,4,50]
[null,"2022-12-02T18:00:00","H2",{"$f":"IFERROR(VLOOKUP(C48,Participants!$B$3:$C$1002,2,0),\"\")","v":"Ghana"},"H3",{"$f":"IFERROR(VLOOKUP(E48,Participants!$B$3:$C$1002,2,0),\"\")","v":"Uruguay"},0,2,50]
[null,"2022-12-02T18:00:00","H4",{"$f":"IFERROR(VLOOKUP(C49,Participants!$B$3:$C$1002,2,0),\"\")","v":"Republik Korea"},"H1",{"$f":"IFERROR(VLOOKUP(E49,Participants!$B$3:$C$1002,2,0),\"\")","v":"Portugal"},2,1,50]
[null,"2022-12-02T22:00:00","G2",{"$f":"IFERROR(VLOOKUP(C50,Participants!$B$3:$C$1002,2,0),\"\")","v":"Serbien"},"G3",{"$f":"IFERROR(VLOOKUP(E50,Participants!$B$3:$C$1002,2,0),\"\")","v":"Schweiz"},2,3,50]
[null,"2022-12-02T22:00:00","G4",{"$f":"IFERROR(VLOOKUP(C51,Participants!$B$3:$C$1002,2,0),\"\")","v":"Kamerun"},"G1",{"$f":"IFERROR(VLOOKUP(E51,Participants!$B$3:$C$1002,2,0),\"\")","v":"Brasilien"},1,0,50]
[null,"2022-12-03T18:00:00","A4",{"$f":"IFERROR(VLOOKUP(C52,Participants!$B$3:$C$1002,2,0),\"\")","v":"Niederlande"},"B3",{"$f":"IFERROR(VLOOKUP(E52,Participants!$B$3:$C$1002,2,0),\"\")","v":"USA"},3,1,50,null,"k"]
[null,"2022-12-03T22:00:00","C1",{"$f":"IFERROR(VLOOKUP(C53,Participants!$B$3:$C$1002,2,0),\"\")","v":"Argentinien"},"D2",{"$f":"IFERROR(VLOOKUP(E53,Participants!$B$3:$C$1002,2,0),\"\")","v":"Australien"},2,1,50,null,"k"]
[null,"2022-12-04T22:00:00","B1",{"$f":"IFERROR(VLOOKUP(C54,Participants!$B$3:$C$1002,2,0),\"\")","v":"England"},"A3",{"$f":"IFERROR(VLOOKUP(E54,Participants!$B$3:$C$1002,2,0),\"\")","v":"Senegal"},3,0,50,null,"k"]
[null,"2022-12-04T18:00:00","D1",{"$f":"IFERROR(VLOOKUP(C55,Participants!$B$3:$C$1002,2,0),\"\")","v":"Frankreich"},"C4",{"$f":"IFERROR(VLOOKUP(E55,Participants!$B$3:$C$1002,2,0),\"\")","v":"Polen"},3,1,50,null,"k"]
[null,"2022-12-05T18:00:00","E4",{"$f":"IFERROR(VLOOKUP(C56,Participants!$B$3:$C$1002,2,0),\"\")","v":"Japan"},"F4",{"$f":"IFERROR(VLOOKUP(E56,Participants!$B$3:$C$1002,2,0),\"\")","v":"Kroatien"},2,4,50,"e","k"]
[null,"2022-12-05T22:00:00","G1",{"$f":"IFERROR(VLOOKUP(C57,Participants!$B$3:$C$1002,2,0),\"\")","v":"Brasilien"},"H4",{"$f":"IFERROR(VLOOKUP(E57,Participants!$B$3:$C$1002,2,0),\"\")","v":"Republik Korea"},4,1,50,null,"k"]
[null,"2022-12-06T18:00:00","F3",{"$f":"IFERROR(VLOOKUP(C58,Participants!$B$3:$C$1002,2,0),\"\")","v":"Marokko"},"E1",{"$f":"IFERROR(VLOOKUP(E58,Participants!$B$3:$C$1002,2,0),\"\")","v":"Spanien"},3,0,50,"e","k"]
[null,"2022-12-06T22:00:00","H1",{"$f":"IFERROR(VLOOKUP(C59,Participants!$B$3:$C$1002,2,0),\"\")","v":"Portugal"},"G3",{"$f":"IFERROR(VLOOKUP(E59,Participants!$B$3:$C$1002,2,0),\"\")","v":"Schweiz"},6,1,50,null,"k"]
[null,"2022-12-09T22:00:00","F4",{"$f":"IFERROR(VLOOKUP(C60,Participants!$B$3:$C$1002,2,0),\"\")","v":"Kroatien"},"G1",{"$f":"IFERROR(VLOOKUP(E60,Participants!$B$3:$C$1002,2,0),\"\")","v":"Brasilien"},5,3,60,"e","k"]
[null,"2022-12-09T18:00:00","A4",{"$f":"IFERROR(VLOOKUP(C61,Participants!$B$3:$C$1002,2,0),\"\")","v":"Niederlande"},"C1",{"$f":"IFERROR(VLOOKUP(E61,Participants!$B$3:$C$1002,2,0),\"\")","v":"Argentinien"},5,6,60,"e","k"]
[null,"2022-12-10T22:00:00","F3",{"$f":"IFERROR(VLOOKUP(C62,Participants!$B$3:$C$1002,2,0),\"\")","v":"Marokko"},"H1",{"$f":"IFERROR(VLOOKUP(E62,Participants!$B$3:$C$1002,2,0),\"\")","v":"Portugal"},1,0,60,null,"k"]
[null,"2022-12-10T18:00:00","B1",{"$f":"IFERROR(VLOOKUP(C63,Participants!$B$3:$C$1002,2,0),\"\")","v":"England"},"D1",{"$f":"IFERROR(VLOOKUP(E63,Participants!$B$3:$C$1002,2,0),\"\")","v":"Frankreich"},1,2,60,null,"k"]
[null,"2022-12-13T22:00:00","C1",{"$f":"IFERROR(VLOOKUP(C64,Participants!$B$3:$C$1002,2,0),\"\")","v":"Argentinien"},"F4",{"$f":"IFERROR(VLOOKUP(E64,Participants!$B$3:$C$1002,2,0),\"\")","v":"Kroatien"},3,0,60,null,"k"]
[null,"2022-12-14T22:00:00","D1",{"$f":"IFERROR(VLOOKUP(C65,Participants!$B$3:$C$1002,2,0),\"\")","v":"Frankreich"},"F3",{"$f":"IFERROR(VLOOKUP(E65,Participants!$B$3:$C$1002,2,0),\"\")","v":"Marokko"},2,0,60,null,"k"]
[null,"2022-12-17T18:00:00","F4",{"$f":"IFERROR(VLOOKUP(C66,Participants!$B$3:$C$1002,2,0),\"\")","v":"Kroatien"},"F3",{"$f":"IFERROR(VLOOKUP(E66,Participants!$B$3:$C$1002,2,0),\"\")","v":"Marokko"},2,1,60,null,"k"]
[null,"2022-12-18T18:00:00","C1",{"$f":"IFERROR(VLOOKUP(C67,Participants!$B$3:$C$1002,2,0),\"\")","v":"Argentinien"},"D1",{"$f":"IFERROR(VLOOKUP(E67,Participants!$B$3:$C$1002,2,0),\"\")","v":"Frankreich"},7,5,60,"e","k"]
[null,null,null,{"$f":"IFERROR(VLOOKUP(C68,Participants!$B$3:$C$1002,2,0),\"\")","v":""},null,{"$f":"IFERROR(VLOOKUP(E68,Participants!$B$3:$C$1002,2,0),\"\")","v":""}]
[null,null,null,{"$f":"IFERROR(VLOOKUP(C69,Participants!$B$3:$C$1002,2,0),\"\")","v":""},null,{"$f":"IFERROR(VLOOKUP(E69,Participants!$B$3:$C$1002,2,0),\"\")","v":""}]
[null,null,null,{"$f":"IFERROR(VLOOKUP(C70,Participants!$B$3:$C$1002,2,0),\"\")","v":""},null,{"$f":"IFERROR(VLOOKUP(E70,Participants!$B$3:$C$1002,2,0),\"\")","v":""}]
[null,null,null,{"$f":"IFERROR(VLOOKUP(C71,Participants!$B$3:$C$1002,2,0),\"\")","v":""},null,{"$f":"IFERROR(VLOOKUP(E71,Participants!$B$3:$C$1002,2,0),\"\")","v":""}]
[null,null,null,{"$f":"IFERROR(VLOOKUP(C72,Participants!$B$3:$C$1002,2,0),\"\")","v":""},null,{"$f":"IFERROR(VLOOKUP(E72,Participants!$B$3:$C$1002,2,0),\"\")","v":""}]
[null,null,null,{"$f":"IFERROR(VLOOKUP(C73,Participants!$B$3:$C$1002,2,0),\"\")","v":""},null,{"$f":"IFERROR(VLOOKUP(E73,Participants!$B$3:$C$1002,2,0),\"\")","v":""}]
[null,null,null,{"$f":"IFERROR(VLOOKUP(C74,Participants!$B$3:$C$1002,2,0),\"\")","v":""},null,{"$f":"IFERROR(VLOOKUP(E74,Participants!$B$3:$C$1002,2,0),\"\")","v":""}]
[null,null,null,{"$f":"IFERROR(VLOOKUP(C75,Participants!$B$3:$C$1002,2,0),\"\")","v":""},null,{"$f":"IFERROR(VLOOKUP(E75,Participants!$B$3:$C$1002,2,0),\"\")","v":""}]
[null,null,null,{"$f":"IFERROR(VLOOKUP(C76,Participants!$B$3:$C$1002,2,0),\"\")","v":""},null,{"$f":"IFERROR(VLOOKUP(E76,Participants!$B$3:$C$1002,2,0),\"\")","v":""}]
[null,null,null,{"$f":"IFERROR(VLOOKUP(C77,Participants!$B$3:$C$1002,2,0),\"\")","v":""},null,{"$f":"IFERROR(VLOOKUP(E77,Participants!$B$3:$C$1002,2,0),\"\")","v":""}]
[null,null,null,{"$f":"IFERROR(VLOOKUP(C78,Participants!$B$3:$C$1002,2,0),\"\")","v":""},null,{"$f":"IFERROR(VLOOKUP(E78,Participants!$B$3:$C$1002,2,0),\"\")","v":""}]
[null,null,null,{"$f":"IFERROR(VLOOKUP(C79,Participants!$B$3:$C$1002,2,0),\"\")","v":""},null,{"$f":"IFERROR(VLOOKUP(E79,Participants!$B$3:$C$1002,2,0),\"\")","v":""}]
[null,null,null,{"$f":"IFERROR(VLOOKUP(C80,Participants!$B$3:$C$1002,2,0),\"\")","v":""},null,{"$f":"IFERROR(VLOOKUP(E80,Participants!$B$3:$C$1002,2,0),\"\")","v":""}]
[null,null,null,{"$f":"IFERROR(VLOOKUP(C81,Participants!$B$3:$C$1002,2,0),\"\")","v":""},null,{"$f":"IFERROR(VLOOKUP(E81,Participants!$B$3:$C$1002,2,0),\"\")","v":""}]
[null,null,null,{"$f":"IFERROR(VLOOKUP(C82,Participants!$B$3:$C$1002,2,0),\"\")","v":""},null,{"$f":"IFERROR(VLOOKUP(E82,Participants!$B$3:$C$1002,2,0),\"\")","v":""}]
[null,null,null,{"$f":"IFERROR(VLOOKUP(C83,Participants!$B$3:$C$1002,2,0),\"\")","v":""},null,{"$f":"IFERROR(VLOOKUP(E83,Participants!$B$3:$C$1002,2,0),\"\")","v":""}]
[null,null,null,{"$f":"IFERROR(VLOOKUP(C84,Participants!$B$3:$C$1002,2,0),\"\")","v":""},null,{"$f":"IFERROR(VLOOKUP(E84,Participants!$B$3:$C$1002,2,0),\"\")","v":""}]
[null,null,null,{"$f":"IFERROR(VLOOKUP(C85,Participants!$B$3:$C$1002,2,0),\"\")","v":""},null,{"$f":"IFERROR(VLOOKUP(E85,Participants!$B$3:$C$1002,2,0),\"\")","v":""}]
[null,null,null,{"$f":"IFERROR(VLOOKUP(C86,Participants!$B$3:$C$1002,2,0),\"\")","v":""},null,{"$f":"IFERROR(VLOOKUP(E86,Participants!$B$3:$C$1002,2,0),\"\")","v":""}]
[null,null,null,{"$f":"IFERROR(VLOOKUP(C87,Participants!$B$3:$C$1002,2,0),\"\")","v":""},null,{"$f":"IFERROR(VLOOKUP(E87,Participants!$B$3:$C$1002,2,0),\"\")","v":""}]
[null,null,null,{"$f":"IFERROR(VLOOKUP(C88,Participants!$B$3:$C$1002,2,0),\"\")","v":""},null,{"$f":"IFERROR(VLOOKUP(E88,Participants!$B$3:$C$1002,2,0),\"\")","v":""}]
[null,null,null,{"$f":"IFERROR(VLOOKUP(C89,Participants!$B$3:$C$1002,2,0),\"\")","v":""},null,{"$f":"IFERROR(VLOOKUP(E89,Participants!$B$3:$C$1002,2,0),\"\")","v":""}]
[null,null,null,{"$f":"IFERROR(VLOOKUP(C90,Participants!$B$3:$C$1002,2,0),\"\")","v":""},null,{"$f":"IFERROR(VLOOKUP(E90,Participants!$B$3:$C$1002,2,0),\"\")","v":""}]
[null,null,null,{"$f":"IFERROR(VLOOKUP(C91,Participants!$B$3:$C$1002,2,0),\"\")","v":""},null,{"$f":"IFERROR(VLOOKUP(E91,Participants!$B$3:$C$1002,2,0),\"\")","v":""}]
[null,null,null,{"$f":"IFERROR(VLOOKUP(C92,Participants!$B$3:$C$1002,2,0),\"\")","v":""},null,{"$f":"IFERROR(VLOOKUP(E92,Participants!$B$3:$C$1002,2,0),\"\")","v":""}]
[null,null,null,{"$f":"IFERROR(VLOOKUP(C93,Participants!$B$3:$C$1002,2,0),\"\")","v":""},null,{"$f":"IFERROR(VLOOKUP(E93,Participants!$B$3:$C$1002,2,0),\"\")","v":""}]
[null,null,null,{"$f":"IFERROR(VLOOKUP(C94,Participants!$B$3:$C$1002,2,0),\"\")","v":""},null,{"$f":"IFERROR(VLOOKUP(E94,Participants!$B$3:$C$1002,2,0),\"\")","v":""}]
[null,null,null,{"$f":"IFERROR(VLOOKUP(C95,Participants!$B$3:$C$1002,2,0),\"\")","v":""},null,{"$f":"IFERROR(VLOOKUP(E95,Participants!$B$3:$C$1002,2,0),\"\")","v":""}]
[null,null,null,{"$f":"IFERROR(VLOOKUP(C96,Participants!$B$3:$C$1002,2,0),\"\")","v":""},null,{"$f":"IFERROR(VLOOKUP(E96,Participants!$B$3:$C$1002,2,0),\"\")","v":""}]
[null,null,null,{"$f":"IFERROR(VLOOKUP(C97,Participants!$B$3:$C$1002,2,0),\"\")","v":""},null,{"$f":"IFERROR(VLOOKUP(E97,Participants!$B$3:$C$1002,2,0),\"\")","v":""}]
[null,null,null,{"$f":"IFERROR(VLOOKUP(C98,Participants!$B$3:$C$1002,2,0),\"\")","v":""},null,{"$f":"IFERROR(VLOOKUP(E98,Participants!$B$3:$C$1002,2,0),\"\")","v":""}]
[null,null,null,{"$f":"IFERROR(VLOOKUP(C99,Participants!$B$3:$C$1002,2,0),\"\")","v":""},null,{"$f":"IFERROR(VLOOKUP(E99,Participants!$B$3:$C$1002,2,0),\"\")","v":""}]
[null,null,null,{"$f":"IFERROR(VLOOKUP(C100,Participants!$B$3:$C$1002,2,0),\"\")","v":""},null,{"$f":"IFERROR(VLOOKUP(E100,Participants!$B$3:$C$1002,2,0),\"\")","v":""}]
[null,null,null,{"$f":"IFERROR(VLOOKUP(C101,Participants!$B$3:$C$1002,2,0),\"\")","v":""},null,{"$f":"IFERROR(VLOOKUP(E101,Participants!$B$3:$C$1002,2,0),\"\")","v":""}]
[null,null,null,{"$f":"IFERROR(VLOOKUP(C102,Participants!$B$3:$C$1002,2,0),\"\")","v":""},null,{"$f":"IFERROR(VLOOKUP(E102,Participants!$B$3:$C$1002,2,0),\"\")","v":""}]
[null,null,null,{"$f":"IFERROR(VLOOKUP(C103,Participants!$B$3:$C$1002,2,0),\"\")","v":""},null,{"$f":"IFERROR(VLOOKUP(E103,Participants!$B$3:$C$1002,2,0),\"\")","v":""}]
[null,null,null,{"$f":"IFERROR(VLOOKUP(C104,Participants!$B$3:$C$1002,2,0),\"\")","v":""},null,{"$f":"IFERROR(VLOOKUP(E104,Participants!$B$3:$C$1002,2,0),\"\")","v":""}]
[null,null,null,{"$f":"IFERROR(VLOOKUP(C105,Participants!$B$3:$C$1002,2,0),\"\")","v":""},null,{"$f":"IFERROR(VLOOKUP(E105,Participants!$B$3:$C$1002,2,0),\"\")","v":""}]
[null,null,null,{"$f":"IFERROR(VLOOKUP(C106,Participants!$B$3:$C$1002,2,0),\"\")","v":""},null,{"$f":"IFERROR(VLOOKUP(E106,Participants!$B$3:$C$1002,2,0),\"\")","v":""}]
[null,null,null,{"$f":"IFERROR(VLOOKUP(C107,Participants!$B$3:$C$1002,2,0),\"\")","v":""},null,{"$f":"IFERROR(VLOOKUP(E107,Participants!$B$3:$C$1002,2,0),\"\")","v":""}]
[null,null,null,{"$f":"IFERROR(VLOOKUP(C108,Participants!$B$3:$C$1002,2,0),\"\")","v":""},null,{"$f":"IFERROR(VLOOKUP(E108,Participants!$B$3:$C$1002,2,0),\"\")","v":""}]
[null,null,null,{"$f":"IFERROR(VLOOKUP(C109,Participants!$B$3:$C$1002,2,0),\"\")","v":""},null,{"$f":"IFERROR(VLOOKUP(E109,Participants!$B$3:$C$1002,2,0),\"\")","v":""}]
[null,null,null,{"$f":"IFERROR(VLOOKUP(C110,Participants!$B$3:$C$1002,2,0),\"\")","v":""},null,{"$f":"IFERROR(VLOOKUP(E110,Participants!$B$3:$C$1002,2,0),\"\")","v":""}]
[null,null,null,{"$f":"IFERROR(VLOOKUP(C111,Participants!$B$3:$C$1002,2,0),\"\")","v":""},null,{"$f":"IFERROR(VLOOKUP(E111,Participants!$B$3:$C$1002,2,0),\"\")","v":""}]
[null,null,null,{"$f":"IFERROR(VLOOKUP(C112,Participants!$B$3:$C$1002,2,0),\"\")","v":""},null,{"$f":"IFERROR(VLOOKUP(E112,Participants!$B$3:$C$1002,2,0),\"\")","v":""}]
[null,null,null,{"$f":"IFERROR(VLOOKUP(C113,Participants!$B$3:$C$1002,2,0),\"\")","v":""},null,{"$f":"IFERROR(VLOOKUP(E113,Participants!$B$3:$C$1002,2,0),\"\")","v":""}]
[null,null,null,{"$f":"IFERROR(VLOOKUP(C114,Participants!$B$3:$C$1002,2,0),\"\")","v":""},null,{"$f":"IFERROR(VLOOKUP(E114,Participants!$B$3:$C$1002,2,0),\"\")","v":""}]
[null,null,null,{"$f":"IFERROR(VLOOKUP(C115,Participants!$B$3:$C$1002,2,0),\"\")","v":""},null,{"$f":"IFERROR(VLOOKUP(E115,Participants!$B$3:$C$1002,2,0),\"\")","v":""}]
[null,null,null,{"$f":"IFERROR(VLOOKUP(C116,Participants!$B$3:$C$1002,2,0),\"\")","v":""},null,{"$f":"IFERROR(VLOOKUP(E116,Participants!$B$3:$C$1002,2,0),\"\")","v":""}]
[null,null,null,{"$f":"IFERROR(VLOOKUP(C117,Participants!$B$3:$C$1002,2,0),\"\")","v":""},null,{"$f":"IFERROR(VLOOKUP(E117,Participants!$B$3:$C$1002,2,0),\"\")","v":""}]
[null,null,null,{"$f":"IFERROR(VLOOKUP(C118,Participants!$B$3:$C$1002,2,0),\"\")","v":""},null,{"$f":"IFERROR(VLOOKUP(E118,Participants!$B$3:$C$1002,2,0),\"\")","v":""}]
[null,null,null,{"$f":"IFERROR(VLOOKUP(C119,Participants!$B$3:$C$1002,2,0),\"\")","v":""},null,{"$f":"IFERROR(VLOOKUP(E119,Participants!$B$3:$C$1002,2,0),\"\")","v":""}]
[null,null,null,{"$f":"IFERROR(VLOOKUP(C120,Participants!$B$3:$C$1002,2,0),\"\")","v":""},null,{"$f":"IFERROR(VLOOKUP(E120,Participants!$B$3:$C$1002,2,0),\"\")","v":""}]
[null,null,null,{"$f":"IFERROR(VLOOKUP(C121,Participants!$B$3:$C$1002,2,0),\"\")","v":""},null,{"$f":"IFERROR(VLOOKUP(E121,Participants!$B$3:$C$1002,2,0),\"\")","v":""}]
[null,null,null,{"$f":"IFERROR(VLOOKUP(C122,Participants!$B$3:$C$1002,2,0),\"\")","v":""},null,{"$f":"IFERROR(VLOOKUP(E122,Participants!$B$3:$C$1002,2,0),\"\")","v":""}]
[null,null,null,{"$f":"IFERROR(VLOOKUP(C123,Participants!$B$3:$C$1002,2,0),\"\")","v":""},null,{"$f":"IFERROR(VLOOKUP(E123,Participants!$B$3:$C$1002,2,0),\"\")","v":""}]
[null,null,null,{"$f":"IFERROR(VLOOKUP(C124,Participants!$B$3:$C$1002,2,0),\"\")","v":""},null,{"$f":"IFERROR(VLOOKUP(E124,Participants!$B$3:$C$1002,2,0),\"\")","v":""}]
[null,null,null,{"$f":"IFERROR(VLOOKUP(C125,Participants!$B$3:$C$1002,2,0),\"\")","v":""},null,{"$f":"IFERROR(VLOOKUP(E125,Participants!$B$3:$C$1002,2,0),\"\")","v":""}]
[null,null,null,{"$f":"IFERROR(VLOOKUP(C126,Participants!$B$3:$C$1002,2,0),\"\")","v":""},null,{"$f":"IFERROR(VLOOKUP(E126,Participants!$B$3:$C$1002,2,0),\"\")","v":""}]
[null,null,null,{"$f":"IFERROR(VLOOKUP(C127,Participants!$B$3:$C$1002,2,0),\"\")","v":""},null,{"$f":"IFERROR(VLOOKUP(E127,Participants!$B$3:$C$1002,2,0),\"\")","v":""}]
[null,null,null,{"$f":"IFERROR(VLOOKUP(C128,Participants!$B$3:$C$1002,2,0),\"\")","v":""},null,{"$f":"IFERROR(VLOOKUP(E128,Participants!$B$3:$C$1002,2,0),\"\")","v":""}]
[null,null,null,{"$f":"IFERROR(VLOOKUP(C129,Participants!$B$3:$C$1002,2,0),\"\")","v":""},null,{"$f":"IFERROR(VLOOKUP(E129,Participants!$B$3:$C$1002,2,0),\"\")","v":""}]
[null,null,null,{"$f":"IFERROR(VLOOKUP(C130,Participants!$B$3:$C$1002,2,0),\"\")","v":""},null,{"$f":"IFERROR(VLOOKUP(E130,Participants!$B$3:$C$1002,2,0),\"\")","v":""}]
[null,null,null,{"$f":"IFERROR(VLOOKUP(C131,Participants!$B$3:$C$1002,2,0),\"\")","v":""},null,{"$f":"IFERROR(VLOOKUP(E131,Participants!$B$3:$C$1002,2,0),\"\")","v":""}]
[null,null,null,{"$f":"IFERROR(VLOOKUP(C132,Participants!$B$3:$C$1002,2,0),\"\")","v":""},null,{"$f":"IFERROR(VLOOKUP(E132,Participants!$B$3:$C$1002,2,0),\"\")","v":""}]
[null,null,null,{"$f":"IFERROR(VLOOKUP(C133,Participants!$B$3:$C$1002,2,0),\"\")","v":""},null,{"$f":"IFERROR(VLOOKUP(E133,Participants!$B$3:$C$1002,2,0),\"\")","v":""}]
[null,null,null,{"$f":"IFERROR(VLOOKUP(C134,Participants!$B$3:$C$1002,2,0),\"\")","v":""},null,{"$f":"IFERROR(VLOOKUP(E134,Participants!$B$3:$C$1002,2,0),\"\")","v":""}]
[null,null,null,{"$f":"IFERROR(VLOOKUP(C135,Participants!$B$3:$C$1002,2,0),\"\")","v":""},null,{"$f":"IFERROR(VLOOKUP(E135,Participants!$B$3:$C$1002,2,0),\"\")","v":""}]
[null,null,null,{"$f":"IFERROR(VLOOKUP(C136,Participants!$B$3:$C$1002,2,0),\"\")","v":""},null,{"$f":"IFERROR(VLOOKUP(E136,Participants!$B$3:$C$1002,2,0),\"\")","v":""}]
[null,null,null,{"$f":"IFERROR(VLOOKUP(C137,Participants!$B$3:$C$1002,2,0),\"\")","v":""},null,{"$f":"IFERROR(VLOOKUP(E137,Participants!$B$3:$C$1002,2,0),\"\")","v":""}]
[null,null,null,{"$f":"IFERROR(VLOOKUP(C138,Participants!$B$3:$C$1002,2,0),\"\")","v":""},null,{"$f":"IFERROR(VLOOKUP(E138,Participants!$B$3:$C$1002,2,0),\"\")","v":""}]
[null,null,null,{"$f":"IFERROR(VLOOKUP(C139,Participants!$B$3:$C$1002,2,0),\"\")","v":""},null,{"$f":"IFERROR(VLOOKUP(E139,Participants!$B$3:$C$1002,2,0),\"\")","v":""}]
[null,null,null,{"$f":"IFERROR(VLOOKUP(C140,Participants!$B$3:$C$1002,2,0),\"\")","v":""},null,{"$f":"IFERROR(VLOOKUP(E140,Participants!$B$3:$C$1002,2,0),\"\")","v":""}]
[null,null,null,{"$f":"IFERROR(VLOOKUP(C141,Participants!$B$3:$C$1002,2,0),\"\")","v":""},null,{"$f":"IFERROR(VLOOKUP(E141,Participants!$B$3:$C$1002,2,0),\"\")","v":""}]
[null,null,null,{"$f":"IFERROR(VLOOKUP(C142,Participants!$B$3:$C$1002,2,0),\"\")","v":""},null,{"$f":"IFERROR(VLOOKUP(E142,Participants!$B$3:$C$1002,2,0),\"\")","v":""}]
[null,null,null,{"$f":"IFERROR(VLOOKUP(C143,Participants!$B$3:$C$1002,2,0),\"\")","v":""},null,{"$f":"IFERROR(VLOOKUP(E143,Participants!$B$3:$C$1002,2,0),\"\")","v":""}]
[null,null,null,{"$f":"IFERROR(VLOOKUP(C144,Participants!$B$3:$C$1002,2,0),\"\")","v":""},null,{"$f":"IFERROR(VLOOKUP(E144,Participants!$B$3:$C$1002,2,0),\"\")","v":""}]
[null,null,null,{"$f":"IFERROR(VLOOKUP(C145,Participants!$B$3:$C$1002,2,0),\"\")","v":""},null,{"$f":"IFERROR(VLOOKUP(E145,Participants!$B$3:$C$1002,2,0),\"\")","v":""}]
[null,null,null,{"$f":"IFERROR(VLOOKUP(C146,Participants!$B$3:$C$1002,2,0),\"\")","v":""},null,{"$f":"IFERROR(VLOOKUP(E146,Participants!$B$3:$C$1002,2,0),\"\")","v":""}]
[null,null,null,{"$f":"IFERROR(VLOOKUP(C147,Participants!$B$3:$C$1002,2,0),\"\")","v":""},null,{"$f":"IFERROR(VLOOKUP(E147,Participants!$B$3:$C$1002,2,0),\"\")","v":""}]
[null,null,null,{"$f":"IFERROR(VLOOKUP(C148,Participants!$B$3:$C$1002,2,0),\"\")","v":""},null,{"$f":"IFERROR(VLOOKUP(E148,Participants!$B$3:$C$1002,2,0),\"\")","v":""}]
[null,null,null,{"$f":"IFERROR(VLOOKUP(C149,Participants!$B$3:$C$1002,2,0),\"\")","v":""},null,{"$f":"IFERROR(VLOOKUP(E149,Participants!$B$3:$C$1002,2,0),\"\")","v":""}]
[null,null,null,{"$f":"IFERROR(VLOOKUP(C150,Participants!$B$3:$C$1002,2,0),\"\")","v":""},null,{"$f":"IFERROR(VLOOKUP(E150,Participants!$B$3:$C$1002,2,0),\"\")","v":""}]
[null,null,null,{"$f":"IFERROR(VLOOKUP(C151,Participants!$B$3:$C$1002,2,0),\"\")","v":""},null,{"$f":"IFERROR(VLOOKUP(E151,Participants!$B$3:$C$1002,2,0),\"\")","v":""}]
[null,null,null,{"$f":"IFERROR(VLOOKUP(C152,Participants!$B$3:$C$1002,2,0),\"\")","v":""},null,{"$f":"IFERROR(VLOOKUP(E152,Participants!$B$3:$C$1002,2,0),\"\")","v":""}]
[null,null,null,{"$f":"IFERROR(VLOOKUP(C153,Participants!$B$3:$C$1002,2,0),\"\")","v":""},null,{"$f":"IFERROR(VLOOKUP(E153,Participants!$B$3:$C$1002,2,0),\"\")","v":""}]
[null,null,null,{"$f":"IFERROR(VLOOKUP(C154,Participants!$B$3:$C$1002,2,0),\"\")","v":""},null,{"$f":"IFERROR(VLOOKUP(E154,Participants!$B$3:$C$1002,2,0),\"\")","v":""}]
[null,null,null,{"$f":"IFERROR(VLOOKUP(C155,Participants!$B$3:$C$1002,2,0),\"\")","v":""},null,{"$f":"IFERROR(VLOOKUP(E155,Participants!$B$3:$C$1002,2,0),\"\")","v":""}]
[null,null,null,{"$f":"IFERROR(VLOOKUP(C156,Participants!$B$3:$C$1002,2,0),\"\")","v":""},null,{"$f":"IFERROR(VLOOKUP(E156,Participants!$B$3:$C$1002,2,0),\"\")","v":""}]
[null,null,null,{"$f":"IFERROR(VLOOKUP(C157,Participants!$B$3:$C$1002,2,0),\"\")","v":""},null,{"$f":"IFERROR(VLOOKUP(E157,Participants!$B$3:$C$1002,2,0),\"\")","v":""}]
[null,null,null,{"$f":"IFERROR(VLOOKUP(C158,Participants!$B$3:$C$1002,2,0),\"\")","v":""},null,{"$f":"IFERROR(VLOOKUP(E158,Participants!$B$3:$C$1002,2,0),\"\")","v":""}]
[null,null,null,{"$f":"IFERROR(VLOOKUP(C159,Participants!$B$3:$C$1002,2,0),\"\")","v":""},null,{"$f":"IFERROR(VLOOKUP(E159,Participants!$B$3:$C$1002,2,0),\"\")","v":""}]
[null,null,null,{"$f":"IFERROR(VLOOKUP(C160,Participants!$B$3:$C$1002,2,0),\"\")","v":""},null,{"$f":"IFERROR(VLOOKUP(E160,Participants!$B$3:$C$1002,2,0),\"\")","v":""}]
[null,null,null,{"$f":"IFERROR(VLOOKUP(C161,Participants!$B$3:$C$1002,2,0),\"\")","v":""},null,{"$f":"IFERROR(VLOOKUP(E161,Participants!$B$3:$C$1002,2,0),\"\")","v":""}]
[null,null,null,{"$f":"IFERROR(VLOOKUP(C162,Participants!$B$3:$C$1002,2,0),\"\")","v":""},null,{"$f":"IFERROR(VLOOKUP(E162,Participants!$B$3:$C$1002,2,0),\"\")","v":""}]
[null,null,null,{"$f":"IFERROR(VLOOKUP(C163,Participants!$B$3:$C$1002,2,0),\"\")","v":""},null,{"$f":"IFERROR(VLOOKUP(E163,Participants!$B$3:$C$1002,2,0),\"\")","v":""}]
[null,null,null,{"$f":"IFERROR(VLOOKUP(C164,Participants!$B$3:$C$1002,2,0),\"\")","v":""},null,{"$f":"IFERROR(VLOOKUP(E164,Participants!$B$3:$C$1002,2,0),\"\")","v":""}]
[null,null,null,{"$f":"IFERROR(VLOOKUP(C165,Participants!$B$3:$C$1002,2,0),\"\")","v":""},null,{"$f":"IFERROR(VLOOKUP(E165,Participants!$B$3:$C$1002,2,0),\"\")","v":""}]
[null,null,null,{"$f":"IFERROR(VLOOKUP(C166,Participants!$B$3:$C$1002,2,0),\"\")","v":""},null,{"$f":"IFERROR(VLOOKUP(E166,Participants!$B$3:$C$1002,2,0),\"\")","v":""}]
[null,null,null,{"$f":"IFERROR(VLOOKUP(C167,Participants!$B$3:$C$1002,2,0),\"\")","v":""},null,{"$f":"IFERROR(VLOOKUP(E167,Participants!$B$3:$C$1002,2,0),\"\")","v":""}]
[null,null,null,{"$f":"IFERROR(VLOOKUP(C168,Participants!$B$3:$C$1002,2,0),\"\")","v":""},null,{"$f":"IFERROR(VLOOKUP(E168,Participants!$B$3:$C$1002,2,0),\"\")","v":""}]
[null,null,null,{"$f":"IFERROR(VLOOKUP(C169,Participants!$B$3:$C$1002,2,0),\"\")","v":""},null,{"$f":"IFERROR(VLOOKUP(E169,Participants!$B$3:$C$1002,2,0),\"\")","v":""}]
[null,null,null,{"$f":"IFERROR(VLOOKUP(C170,Participants!$B$3:$C$1002,2,0),\"\")","v":""},null,{"$f":"IFERROR(VLOOKUP(E170,Participants!$B$3:$C$1002,2,0),\"\")","v":""}]
[null,null,null,{"$f":"IFERROR(VLOOKUP(C171,Participants!$B$3:$C$1002,2,0),\"\")","v":""},null,{"$f":"IFERROR(VLOOKUP(E171,Participants!$B$3:$C$1002,2,0),\"\")","v":""}]
[null,null,null,{"$f":"IFERROR(VLOOKUP(C172,Participants!$B$3:$C$1002,2,0),\"\")","v":""},null,{"$f":"IFERROR(VLOOKUP(E172,Participants!$B$3:$C$1002,2,0),\"\")","v":""}]
[null,null,null,{"$f":"IFERROR(VLOOKUP(C173,Participants!$B$3:$C$1002,2,0),\"\")","v":""},null,{"$f":"IFERROR(VLOOKUP(E173,Participants!$B$3:$C$1002,2,0),\"\")","v":""}]
[null,null,null,{"$f":"IFERROR(VLOOKUP(C174,Participants!$B$3:$C$1002,2,0),\"\")","v":""},null,{"$f":"IFERROR(VLOOKUP(E174,Participants!$B$3:$C$1002,2,0),\"\")","v":""}]
[null,null,null,{"$f":"IFERROR(VLOOKUP(C175,Participants!$B$3:$C$1002,2,0),\"\")","v":""},null,{"$f":"IFERROR(VLOOKUP(E175,Participants!$B$3:$C$1002,2,0),\"\")","v":""}]
[null,null,null,{"$f":"IFERROR(VLOOKUP(C176,Participants!$B$3:$C$1002,2,0),\"\")","v":""},null,{"$f":"IFERROR(VLOOKUP(E176,Participants!$B$3:$C$1002,2,0),\"\")","v":""}]
[null,null,null,{"$f":"IFERROR(VLOOKUP(C177,Participants!$B$3:$C$1002,2,0),\"\")","v":""},null,{"$f":"IFERROR(VLOOKUP(E177,Participants!$B$3:$C$1002,2,0),\"\")","v":""}]
[null,null,null,{"$f":"IFERROR(VLOOKUP(C178,Participants!$B$3:$C$1002,2,0),\"\")","v":""},null,{"$f":"IFERROR(VLOOKUP(E178,Participants!$B$3:$C$1002,2,0),\"\")","v":""}]
[null,null,null,{"$f":"IFERROR(VLOOKUP(C179,Participants!$B$3:$C$1002,2,0),\"\")","v":""},null,{"$f":"IFERROR(VLOOKUP(E179,Participants!$B$3:$C$1002,2,0),\"\")","v":""}]
[null,null,null,{"$f":"IFERROR(VLOOKUP(C180,Participants!$B$3:$C$1002,2,0),\"\")","v":""},null,{"$f":"IFERROR(VLOOKUP(E180,Participants!$B$3:$C$1002,2,0),\"\")","v":""}]
[null,null,null,{"$f":"IFERROR(VLOOKUP(C181,Participants!$B$3:$C$1002,2,0),\"\")","v":""},null,{"$f":"IFERROR(VLOOKUP(E181,Participants!$B$3:$C$1002,2,0),\"\")","v":""}]
[null,null,null,{"$f":"IFERROR(VLOOKUP(C182,Participants!$B$3:$C$1002,2,0),\"\")","v":""},null,{"$f":"IFERROR(VLOOKUP(E182,Participants!$B$3:$C$1002,2,0),\"\")","v":""}]
[null,null,null,{"$f":"IFERROR(VLOOKUP(C183,Participants!$B$3:$C$1002,2,0),\"\")","v":""},null,{"$f":"IFERROR(VLOOKUP(E183,Participants!$B$3:$C$1002,2,0),\"\")","v":""}]
[null,null,null,{"$f":"IFERROR(VLOOKUP(C184,Participants!$B$3:$C$1002,2,0),\"\")","v":""},null,{"$f":"IFERROR(VLOOKUP(E184,Participants!$B$3:$C$1002,2,0),\"\")","v":""}]
[null,null,null,{"$f":"IFERROR(VLOOKUP(C185,Participants!$B$3:$C$1002,2,0),\"\")","v":""},null,{"$f":"IFERROR(VLOOKUP(E185,Participants!$B$3:$C$1002,2,0),\"\")","v":""}]
[null,null,null,{"$f":"IFERROR(VLOOKUP(C186,Participants!$B$3:$C$1002,2,0),\"\")","v":""},null,{"$f":"IFERROR(VLOOKUP(E186,Participants!$B$3:$C$1002,2,0),\"\")","v":""}]
[null,null,null,{"$f":"IFERROR(VLOOKUP(C187,Participants!$B$3:$C$1002,2,0),\"\")","v":""},null,{"$f":"IFERROR(VLOOKUP(E187,Participants!$B$3:$C$1002,2,0),\"\")","v":""}]
[null,null,null,{"$f":"IFERROR(VLOOKUP(C188,Participants!$B$3:$C$1002,2,0),\"\")","v":""},null,{"$f":"IFERROR(VLOOKUP(E188,Participants!$B$3:$C$1002,2,0),\"\")","v":""}]
[null,null,null,{"$f":"IFERROR(VLOOKUP(C189,Participants!$B$3:$C$1002,2,0),\"\")","v":""},null,{"$f":"IFERROR(VLOOKUP(E189,Participants!$B$3:$C$1002,2,0),\"\")","v":""}]
[null,null,null,{"$f":"IFERROR(VLOOKUP(C190,Participants!$B$3:$C$1002,2,0),\"\")","v":""},null,{"$f":"IFERROR(VLOOKUP(E190,Participants!$B$3:$C$1002,2,0),\"\")","v":""}]
[null,null,null,{"$f":"IFERROR(VLOOKUP(C191,Participants!$B$3:$C$1002,2,0),\"\")","v":""},null,{"$f":"IFERROR(VLOOKUP(E191,Participants!$B$3:$C$1002,2,0),\"\")","v":""}]
[null,null,null,{"$f":"IFERROR(VLOOKUP(C192,Participants!$B$3:$C$1002,2,0),\"\")","v":""},null,{"$f":"IFERROR(VLOOKUP(E192,Participants!$B$3:$C$1002,2,0),\"\")","v":""}]
[null,null,null,{"$f":"IFERROR(VLOOKUP(C193,Participants!$B$3:$C$1002,2,0),\"\")","v":""},null,{"$f":"IFERROR(VLOOKUP(E193,Participants!$B$3:$C$1002,2,0),\"\")","v":""}]
[null,null,null,{"$f":"IFERROR(VLOOKUP(C194,Participants!$B$3:$C$1002,2,0),\"\")","v":""},null,{"$f":"IFERROR(VLOOKUP(E194,Participants!$B$3:$C$1002,2,0),\"\")","v":""}]
[null,null,null,{"$f":"IFERROR(VLOOKUP(C195,Participants!$B$3:$C$1002,2,0),\"\")","v":""},null,{"$f":"IFERROR(VLOOKUP(E195,Participants!$B$3:$C$1002,2,0),\"\")","v":""}]
[null,null,null,{"$f":"IFERROR(VLOOKUP(C196,Participants!$B$3:$C$1002,2,0),\"\")","v":""},null,{"$f":"IFERROR(VLOOKUP(E196,Participants!$B$3:$C$1002,2,0),\"\")","v":""}]
[null,null,null,{"$f":"IFERROR(VLOOKUP(C197,Participants!$B$3:$C$1002,2,0),\"\")","v":""},null,{"$f":"IFERROR(VLOOKUP(E197,Participants!$B$3:$C$1002,2,0),\"\")","v":""}]
[null,null,null,{"$f":"IFERROR(VLOOKUP(C198,Participants!$B$3:$C$1002,2,0),\"\")","v":""},null,{"$f":"IFERROR(VLOOKUP(E198,Participants!$B$3:$C$1002,2,0),\"\")","v":""}]
[null,null,null,{"$f":"IFERROR(VLOOKUP(C199,Participants!$B$3:$C$1002,2,0),\"\")","v":""},null,{"$f":"IFERROR(VLOOKUP(E199,Participants!$B$3:$C$1002,2,0),\"\")","v":""}]
[null,null,null,{"$f":"IFERROR(VLOOKUP(C200,Participants!$B$3:$C$1002,2,0),\"\")","v":""},null,{"$f":"IFERROR(VLOOKUP(E200,Participants!$B$3:$C$1002,2,0),\"\")","v":""}]
[null,null,null,{"$f":"IFERROR(VLOOKUP(C201,Participants!$B$3:$C$1002,2,0),\"\")","v":""},null,{"$f":"IFERROR(VLOOKUP(E201,Participants!$B$3:$C$1002,2,0),\"\")","v":""}]
[null,null,null,{"$f":"IFERROR(VLOOKUP(C202,Participants!$B$3:$C$1002,2,0),\"\")","v":""},null,{"$f":"IFERROR(VLOOKUP(E202,Participants!$B$3:$C$1002,2,0),\"\")","v":""}]
[null,null,null,{"$f":"IFERROR(VLOOKUP(C203,Participants!$B$3:$C$1002,2,0),\"\")","v":""},null,{"$f":"IFERROR(VLOOKUP(E203,Participants!$B$3:$C$1002,2,0),\"\")","v":""}]
[null,null,null,{"$f":"IFERROR(VLOOKUP(C204,Participants!$B$3:$C$1002,2,0),\"\")","v":""},null,{"$f":"IFERROR(VLOOKUP(E204,Participants!$B$3:$C$1002,2,0),\"\")","v":""}]
[null,null,null,{"$f":"IFERROR(VLOOKUP(C205,Participants!$B$3:$C$1002,2,0),\"\")","v":""},null,{"$f":"IFERROR(VLOOKUP(E205,Participants!$B$3:$C$1002,2,0),\"\")","v":""}]
[null,null,null,{"$f":"IFERROR(VLOOKUP(C206,Participants!$B$3:$C$1002,2,0),\"\")","v":""},null,{"$f":"IFERROR(VLOOKUP(E206,Participants!$B$3:$C$1002,2,0),\"\")","v":""}]
[null,null,null,{"$f":"IFERROR(VLOOKUP(C207,Participants!$B$3:$C$1002,2,0),\"\")","v":""},null,{"$f":"IFERROR(VLOOKUP(E207,Participants!$B$3:$C$1002,2,0),\"\")","v":""}]
[null,null,null,{"$f":"IFERROR(VLOOKUP(C208,Participants!$B$3:$C$1002,2,0),\"\")","v":""},null,{"$f":"IFERROR(VLOOKUP(E208,Participants!$B$3:$C$1002,2,0),\"\")","v":""}]
[null,null,null,{"$f":"IFERROR(VLOOKUP(C209,Participants!$B$3:$C$1002,2,0),\"\")","v":""},null,{"$f":"IFERROR(VLOOKUP(E209,Participants!$B$3:$C$1002,2,0),\"\")","v":""}]
[null,null,null,{"$f":"IFERROR(VLOOKUP(C210,Participants!$B$3:$C$1002,2,0),\"\")","v":""},null,{"$f":"IFERROR(VLOOKUP(E210,Participants!$B$3:$C$1002,2,0),\"\")","v":""}]
[null,null,null,{"$f":"IFERROR(VLOOKUP(C211,Participants!$B$3:$C$1002,2,0),\"\")","v":""},null,{"$f":"IFERROR(VLOOKUP(E211,Participants!$B$3:$C$1002,2,0),\"\")","v":""}]
[null,null,null,{"$f":"IFERROR(VLOOKUP(C212,Participants!$B$3:$C$1002,2,0),\"\")","v":""},null,{"$f":"IFERROR(VLOOKUP(E212,Participants!$B$3:$C$1002,2,0),\"\")","v":""}]
[null,null,null,{"$f":"IFERROR(VLOOKUP(C213,Participants!$B$3:$C$1002,2,0),\"\")","v":""},null,{"$f":"IFERROR(VLOOKUP(E213,Participants!$B$3:$C$1002,2,0),\"\")","v":""}]
[null,null,null,{"$f":"IFERROR(VLOOKUP(C214,Participants!$B$3:$C$1002,2,0),\"\")","v":""},null,{"$f":"IFERROR(VLOOKUP(E214,Participants!$B$3:$C$1002,2,0),\"\")","v":""}]
[null,null,null,{"$f":"IFERROR(VLOOKUP(C215,Participants!$B$3:$C$1002,2,0),\"\")","v":""},null,{"$f":"IFERROR(VLOOKUP(E215,Participants!$B$3:$C$1002,2,0),\"\")","v":""}]
[null,null,null,{"$f":"IFERROR(VLOOKUP(C216,Participants!$B$3:$C$1002,2,0),\"\")","v":""},null,{"$f":"IFERROR(VLOOKUP(E216,Participants!$B$3:$C$1002,2,0),\"\")","v":""}]
[null,null,null,{"$f":"IFERROR(VLOOKUP(C217,Participants!$B$3:$C$1002,2,0),\"\")","v":""},null,{"$f":"IFERROR(VLOOKUP(E217,Participants!$B$3:$C$1002,2,0),\"\")","v":""}]
[null,null,null,{"$f":"IFERROR(VLOOKUP(C218,Participants!$B$3:$C$1002,2,0),\"\")","v":""},null,{"$f":"IFERROR(VLOOKUP(E218,Participants!$B$3:$C$1002,2,0),\"\")","v":""}]
[null,null,null,{"$f":"IFERROR(VLOOKUP(C219,Participants!$B$3:$C$1002,2,0),\"\")","v":""},null,{"$f":"IFERROR(VLOOKUP(E219,Participants!$B$3:$C$1002,2,0),\"\")","v":""}]
[null,null,null,{"$f":"IFERROR(VLOOKUP(C220,Participants!$B$3:$C$1002,2,0),\"\")","v":""},null,{"$f":"IFERROR(VLOOKUP(E220,Participants!$B$3:$C$1002,2,0),\"\")","v":""}]
[null,null,null,{"$f":"IFERROR(VLOOKUP(C221,Participants!$B$3:$C$1002,2,0),\"\")","v":""},null,{"$f":"IFERROR(VLOOKUP(E221,Participants!$B$3:$C$1002,2,0),\"\")","v":""}]
[null,null,null,{"$f":"IFERROR(VLOOKUP(C222,Participants!$B$3:$C$1002,2,0),\"\")","v":""},null,{"$f":"IFERROR(VLOOKUP(E222,Participants!$B$3:$C$1002,2,0),\"\")","v":""}]
[null,null,null,{"$f":"IFERROR(VLOOKUP(C223,Participants!$B$3:$C$1002,2,0),\"\")","v":""},null,{"$f":"IFERROR(VLOOKUP(E223,Participants!$B$3:$C$1002,2,0),\"\")","v":""}]
[null,null,null,{"$f":"IFERROR(VLOOKUP(C224,Participants!$B$3:$C$1002,2,0),\"\")","v":""},null,{"$f":"IFERROR(VLOOKUP(E224,Participants!$B$3:$C$1002,2,0),\"\")","v":""}]
[null,null,null,{"$f":"IFERROR(VLOOKUP(C225,Participants!$B$3:$C$1002,2,0),\"\")","v":""},null,{"$f":"IFERROR(VLOOKUP(E225,Participants!$B$3:$C$1002,2,0),\"\")","v":""}]
[null,null,null,{"$f":"IFERROR(VLOOKUP(C226,Participants!$B$3:$C$1002,2,0),\"\")","v":""},null,{"$f":"IFERROR(VLOOKUP(E226,Participants!$B$3:$C$1002,2,0),\"\")","v":""}]
[null,null,null,{"$f":"IFERROR(VLOOKUP(C227,Participants!$B$3:$C$1002,2,0),\"\")","v":""},null,{"$f":"IFERROR(VLOOKUP(E227,Participants!$B$3:$C$1002,2,0),\"\")","v":""}]
[null,null,null,{"$f":"IFERROR(VLOOKUP(C228,Participants!$B$3:$C$1002,2,0),\"\")","v":""},null,{"$f":"IFERROR(VLOOKUP(E228,Participants!$B$3:$C$1002,2,0),\"\")","v":""}]
[null,null,null,{"$f":"IFERROR(VLOOKUP(C229,Participants!$B$3:$C$1002,2,0),\"\")","v":""},null,{"$f":"IFERROR(VLOOKUP(E229,Participants!$B$3:$C$1002,2,0),\"\")","v":""}]
[null,null,null,{"$f":"IFERROR(VLOOKUP(C230,Participants!$B$3:$C$1002,2,0),\"\")","v":""},null,{"$f":"IFERROR(VLOOKUP(E230,Participants!$B$3:$C$1002,2,0),\"\")","v":""}]
[null,null,null,{"$f":"IFERROR(VLOOKUP(C231,Participants!$B$3:$C$1002,2,0),\"\")","v":""},null,{"$f":"IFERROR(VLOOKUP(E231,Participants!$B$3:$C$1002,2,0),\"\")","v":""}]
[null,null,null,{"$f":"IFERROR(VLOOKUP(C232,Participants!$B$3:$C$1002,2,0),\"\")","v":""},null,{"$f":"IFERROR(VLOOKUP(E232,Participants!$B$3:$C$1002,2,0),\"\")","v":""}]
[null,null,null,{"$f":"IFERROR(VLOOKUP(C233,Participants!$B$3:$C$1002,2,0),\"\")","v":""},null,{"$f":"IFERROR(VLOOKUP(E233,Participants!$B$3:$C$1002,2,0),\"\")","v":""}]
[null,null,null,{"$f":"IFERROR(VLOOKUP(C234,Participants!$B$3:$C$1002,2,0),\"\")","v":""},null,{"$f":"IFERROR(VLOOKUP(E234,Participants!$B$3:$C$1002,2,0),\"\")","v":""}]
[null,null,null,{"$f":"IFERROR(VLOOKUP(C235,Participants!$B$3:$C$1002,2,0),\"\")","v":""},null,{"$f":"IFERROR(VLOOKUP(E235,Participants!$B$3:$C$1002,2,0),\"\")","v":""}]
[null,null,null,{"$f":"IFERROR(VLOOKUP(C236,Participants!$B$3:$C$1002,2,0),\"\")","v":""},null,{"$f":"IFERROR(VLOOKUP(E236,Participants!$B$3:$C$1002,2,0),\"\")","v":""}]
[null,null,null,{"$f":"IFERROR(VLOOKUP(C237,Participants!$B$3:$C$1002,2,0),\"\")","v":""},null,{"$f":"IFERROR(VLOOKUP(E237,Participants!$B$3:$C$1002,2,0),\"\")","v":""}]
[null,null,null,{"$f":"IFERROR(VLOOKUP(C238,Participants!$B$3:$C$1002,2,0),\"\")","v":""},null,{"$f":"IFERROR(VLOOKUP(E238,Participants!$B$3:$C$1002,2,0),\"\")","v":""}]
[null,null,null,{"$f":"IFERROR(VLOOKUP(C239,Participants!$B$3:$C$1002,2,0),\"\")","v":""},null,{"$f":"IFERROR(VLOOKUP(E239,Participants!$B$3:$C$1002,2,0),\"\")","v":""}]
[null,null,null,{"$f":"IFERROR(VLOOKUP(C240,Participants!$B$3:$C$1002,2,0),\"\")","v":""},null,{"$f":"IFERROR(VLOOKUP(E240,Participants!$B$3:$C$1002,2,0),\"\")","v":""}]
[null,null,null,{"$f":"IFERROR(VLOOKUP(C241,Participants!$B$3:$C$1002,2,0),\"\")","v":""},null,{"$f":"IFERROR(VLOOKUP(E241,Participants!$B$3:$C$1002,2,0),\"\")","v":""}]
[null,null,null,{"$f":"IFERROR(VLOOKUP(C242,Participants!$B$3:$C$1002,2,0),\"\")","v":""},null,{"$f":"IFERROR(VLOOKUP(E242,Participants!$B$3:$C$1002,2,0),\"\")","v":""}]
[null,null,null,{"$f":"IFERROR(VLOOKUP(C243,Participants!$B$3:$C$1002,2,0),\"\")","v":""},null,{"$f":"IFERROR(VLOOKUP(E243,Participants!$B$3:$C$1002,2,0),\"\")","v":""}]
[null,null,null,{"$f":"IFERROR(VLOOKUP(C244,Participants!$B$3:$C$1002,2,0),\"\")","v":""},null,{"$f":"IFERROR(VLOOKUP(E244,Participants!$B$3:$C$1002,2,0),\"\")","v":""}]
[null,null,null,{"$f":"IFERROR(VLOOKUP(C245,Participants!$B$3:$C$1002,2,0),\"\")","v":""},null,{"$f":"IFERROR(VLOOKUP(E245,Participants!$B$3:$C$1002,2,0),\"\")","v":""}]
[null,null,null,{"$f":"IFERROR(VLOOKUP(C246,Participants!$B$3:$C$1002,2,0),\"\")","v":""},null,{"$f":"IFERROR(VLOOKUP(E246,Participants!$B$3:$C$1002,2,0),\"\")","v":""}]
[null,null,null,{"$f":"IFERROR(VLOOKUP(C247,Participants!$B$3:$C$1002,2,0),\"\")","v":""},null,{"$f":"IFERROR(VLOOKUP(E247,Participants!$B$3:$C$1002,2,0),\"\")","v":""}]
[null,null,null,{"$f":"IFERROR(VLOOKUP(C248,Participants!$B$3:$C$1002,2,0),\"\")","v":""},null,{"$f":"IFERROR(VLOOKUP(E248,Participants!$B$3:$C$1002,2,0),\"\")","v":""}]
[null,null,null,{"$f":"IFERROR(VLOOKUP(C249,Participants!$B$3:$C$1002,2,0),\"\")","v":""},null,{"$f":"IFERROR(VLOOKUP(E249,Participants!$B$3:$C$1002,2,0),\"\")","v":""}]
[null,null,null,{"$f":"IFERROR(VLOOKUP(C250,Participants!$B$3:$C$1002,2,0),\"\")","v":""},null,{"$f":"IFERROR(VLOOKUP(E250,Participants!$B$3:$C$1002,2,0),\"\")","v":""}]
[null,null,null,{"$f":"IFERROR(VLOOKUP(C251,Participants!$B$3:$C$1002,2,0),\"\")","v":""},null,{"$f":"IFERROR(VLOOKUP(E251,Participants!$B$3:$C$1002,2,0),\"\")","v":""}]
[null,null,null,{"$f":"IFERROR(VLOOKUP(C252,Participants!$B$3:$C$1002,2,0),\"\")","v":""},null,{"$f":"IFERROR(VLOOKUP(E252,Participants!$B$3:$C$1002,2,0),\"\")","v":""}]
[null,null,null,{"$f":"IFERROR(VLOOKUP(C253,Participants!$B$3:$C$1002,2,0),\"\")","v":""},null,{"$f":"IFERROR(VLOOKUP(E253,Participants!$B$3:$C$1002,2,0),\"\")","v":""}]
[null,null,null,{"$f":"IFERROR(VLOOKUP(C254,Participants!$B$3:$C$1002,2,0),\"\")","v":""},null,{"$f":"IFERROR(VLOOKUP(E254,Participants!$B$3:$C$1002,2,0),\"\")","v":""}]
[null,null,null,{"$f":"IFERROR(VLOOKUP(C255,Participants!$B$3:$C$1002,2,0),\"\")","v":""},null,{"$f":"IFERROR(VLOOKUP(E255,Participants!$B$3:$C$1002,2,0),\"\")","v":""}]
[null,null,null,{"$f":"IFERROR(VLOOKUP(C256,Participants!$B$3:$C$1002,2,0),\"\")","v":""},null,{"$f":"IFERROR(VLOOKUP(E256,Participants!$B$3:$C$1002,2,0),\"\")","v":""}]
[null,null,null,{"$f":"IFERROR(VLOOKUP(C257,Participants!$B$3:$C$1002,2,0),\"\")","v":""},null,{"$f":"IFERROR(VLOOKUP(E257,Participants!$B$3:$C$1002,2,0),\"\")","v":""}]
[null,null,null,{"$f":"IFERROR(VLOOKUP(C258,Participants!$B$3:$C$1002,2,0),\"\")","v":""},null,{"$f":"IFERROR(VLOOKUP(E258,Participants!$B$3:$C$1002,2,0),\"\")","v":""}]
[null,null,null,{"$f":"IFERROR(VLOOKUP(C259,Participants!$B$3:$C$1002,2,0),\"\")","v":""},null,{"$f":"IFERROR(VLOOKUP(E259,Participants!$B$3:$C$1002,2,0),\"\")","v":""}]
[null,null,null,{"$f":"IFERROR(VLOOKUP(C260,Participants!$B$3:$C$1002,2,0),\"\")","v":""},null,{"$f":"IFERROR(VLOOKUP(E260,Participants!$B$3:$C$1002,2,0),\"\")","v":""}]
[null,null,null,{"$f":"IFERROR(VLOOKUP(C261,Participants!$B$3:$C$1002,2,0),\"\")","v":""},null,{"$f":"IFERROR(VLOOKUP(E261,Participants!$B$3:$C$1002,2,0),\"\")","v":""}]
[null,null,null,{"$f":"IFERROR(VLOOKUP(C262,Participants!$B$3:$C$1002,2,0),\"\")","v":""},null,{"$f":"IFERROR(VLOOKUP(E262,Participants!$B$3:$C$1002,2,0),\"\")","v":""}]
[null,null,null,{"$f":"IFERROR(VLOOKUP(C263,Participants!$B$3:$C$1002,2,0),\"\")","v":""},null,{"$f":"IFERROR(VLOOKUP(E263,Participants!$B$3:$C$1002,2,0),\"\")","v":""}]
[null,null,null,{"$f":"IFERROR(VLOOKUP(C264,Participants!$B$3:$C$1002,2,0),\"\")","v":""},null,{"$f":"IFERROR(VLOOKUP(E264,Participants!$B$3:$C$1002,2,0),\"\")","v":""}]
[null,null,null,{"$f":"IFERROR(VLOOKUP(C265,Participants!$B$3:$C$1002,2,0),\"\")","v":""},null,{"$f":"IFERROR(VLOOKUP(E265,Participants!$B$3:$C$1002,2,0),\"\")","v":""}]
[null,null,null,{"$f":"IFERROR(VLOOKUP(C266,Participants!$B$3:$C$1002,2,0),\"\")","v":""},null,{"$f":"IFERROR(VLOOKUP(E266,Participants!$B$3:$C$1002,2,0),\"\")","v":""}]
[null,null,null,{"$f":"IFERROR(VLOOKUP(C267,Participants!$B$3:$C$1002,2,0),\"\")","v":""},null,{"$f":"IFERROR(VLOOKUP(E267,Participants!$B$3:$C$1002,2,0),\"\")","v":""}]
[null,null,null,{"$f":"IFERROR(VLOOKUP(C268,Participants!$B$3:$C$1002,2,0),\"\")","v":""},null,{"$f":"IFERROR(VLOOKUP(E268,Participants!$B$3:$C$1002,2,0),\"\")","v":""}]
[null,null,null,{"$f":"IFERROR(VLOOKUP(C269,Participants!$B$3:$C$1002,2,0),\"\")","v":""},null,{"$f":"IFERROR(VLOOKUP(E269,Participants!$B$3:$C$1002,2,0),\"\")","v":""}]
[null,null,null,{"$f":"IFERROR(VLOOKUP(C270,Participants!$B$3:$C$1002,2,0),\"\")","v":""},null,{"$f":"IFERROR(VLOOKUP(E270,Participants!$B$3:$C$1002,2,0),\"\")","v":""}]
[null,null,null,{"$f":"IFERROR(VLOOKUP(C271,Participants!$B$3:$C$1002,2,0),\"\")","v":""},null,{"$f":"IFERROR(VLOOKUP(E271,Participants!$B$3:$C$1002,2,0),\"\")","v":""}]
[null,null,null,{"$f":"IFERROR(VLOOKUP(C272,Participants!$B$3:$C$1002,2,0),\"\")","v":""},null,{"$f":"IFERROR(VLOOKUP(E272,Participants!$B$3:$C$1002,2,0),\"\")","v":""}]
[null,null,null,{"$f":"IFERROR(VLOOKUP(C273,Participants!$B$3:$C$1002,2,0),\"\")","v":""},null,{"$f":"IFERROR(VLOOKUP(E273,Participants!$B$3:$C$1002,2,0),\"\")","v":""}]
[null,null,null,{"$f":"IFERROR(VLOOKUP(C274,Participants!$B$3:$C$1002,2,0),\"\")","v":""},null,{"$f":"IFERROR(VLOOKUP(E274,Participants!$B$3:$C$1002,2,0),\"\")","v":""}]
[null,null,null,{"$f":"IFERROR(VLOOKUP(C275,Participants!$B$3:$C$1002,2,0),\"\")","v":""},null,{"$f":"IFERROR(VLOOKUP(E275,Participants!$B$3:$C$1002,2,0),\"\")","v":""}]
[null,null,null,{"$f":"IFERROR(VLOOKUP(C276,Participants!$B$3:$C$1002,2,0),\"\")","v":""},null,{"$f":"IFERROR(VLOOKUP(E276,Participants!$B$3:$C$1002,2,0),\"\")","v":""}]
[null,null,null,{"$f":"IFERROR(VLOOKUP(C277,Participants!$B$3:$C$1002,2,0),\"\")","v":""},null,{"$f":"IFERROR(VLOOKUP(E277,Participants!$B$3:$C$1002,2,0),\"\")","v":""}]
[null,null,null,{"$f":"IFERROR(VLOOKUP(C278,Participants!$B$3:$C$1002,2,0),\"\")","v":""},null,{"$f":"IFERROR(VLOOKUP(E278,Participants!$B$3:$C$1002,2,0),\"\")","v":""}]
[null,null,null,{"$f":"IFERROR(VLOOKUP(C279,Participants!$B$3:$C$1002,2,0),\"\")","v":""},null,{"$f":"IFERROR(VLOOKUP(E279,Participants!$B$3:$C$1002,2,0),\"\")","v":""}]
[null,null,null,{"$f":"IFERROR(VLOOKUP(C280,Participants!$B$3:$C$1002,2,0),\"\")","v":""},null,{"$f":"IFERROR(VLOOKUP(E280,Participants!$B$3:$C$1002,2,0),\"\")","v":""}]
[null,null,null,{"$f":"IFERROR(VLOOKUP(C281,Participants!$B$3:$C$1002,2,0),\"\")","v":""},null,{"$f":"IFERROR(VLOOKUP(E281,Participants!$B$3:$C$1002,2,0),\"\")","v":""}]
[null,null,null,{"$f":"IFERROR(VLOOKUP(C282,Participants!$B$3:$C$1002,2,0),\"\")","v":""},null,{"$f":"IFERROR(VLOOKUP(E282,Participants!$B$3:$C$1002,2,0),\"\")","v":""}]
[null,null,null,{"$f":"IFERROR(VLOOKUP(C283,Participants!$B$3:$C$1002,2,0),\"\")","v":""},null,{"$f":"IFERROR(VLOOKUP(E283,Participants!$B$3:$C$1002,2,0),\"\")","v":""}]
[null,null,null,{"$f":"IFERROR(VLOOKUP(C284,Participants!$B$3:$C$1002,2,0),\"\")","v":""},null,{"$f":"IFERROR(VLOOKUP(E284,Participants!$B$3:$C$1002,2,0),\"\")","v":""}]
[null,null,null,{"$f":"IFERROR(VLOOKUP(C285,Participants!$B$3:$C$1002,2,0),\"\")","v":""},null,{"$f":"IFERROR(VLOOKUP(E285,Participants!$B$3:$C$1002,2,0),\"\")","v":""}]
[null,null,null,{"$f":"IFERROR(VLOOKUP(C286,Participants!$B$3:$C$1002,2,0),\"\")","v":""},null,{"$f":"IFERROR(VLOOKUP(E286,Participants!$B$3:$C$1002,2,0),\"\")","v":""}]
[null,null,null,{"$f":"IFERROR(VLOOKUP(C287,Participants!$B$3:$C$1002,2,0),\"\")","v":""},null,{"$f":"IFERROR(VLOOKUP(E287,Participants!$B$3:$C$1002,2,0),\"\")","v":""}]
[null,null,null,{"$f":"IFERROR(VLOOKUP(C288,Participants!$B$3:$C$1002,2,0),\"\")","v":""},null,{"$f":"IFERROR(VLOOKUP(E288,Participants!$B$3:$C$1002,2,0),\"\")","v":""}]
[null,null,null,{"$f":"IFERROR(VLOOKUP(C289,Participants!$B$3:$C$1002,2,0),\"\")","v":""},null,{"$f":"IFERROR(VLOOKUP(E289,Participants!$B$3:$C$1002,2,0),\"\")","v":""}]
[null,null,null,{"$f":"IFERROR(VLOOKUP(C290,Participants!$B$3:$C$1002,2,0),\"\")","v":""},null,{"$f":"IFERROR(VLOOKUP(E290,Participants!$B$3:$C$1002,2,0),\"\")","v":""}]
[null,null,null,{"$f":"IFERROR(VLOOKUP(C291,Participants!$B$3:$C$1002,2,0),\"\")","v":""},null,{"$f":"IFERROR(VLOOKUP(E291,Participants!$B$3:$C$1002,2,0),\"\")","v":""}]
[null,null,null,{"$f":"IFERROR(VLOOKUP(C292,Participants!$B$3:$C$1002,2,0),\"\")","v":""},null,{"$f":"IFERROR(VLOOKUP(E292,Participants!$B$3:$C$1002,2,0),\"\")","v":""}]
[null,null,null,{"$f":"IFERROR(VLOOKUP(C293,Participants!$B$3:$C$1002,2,0),\"\")","v":""},null,{"$f":"IFERROR(VLOOKUP(E293,Participants!$B$3:$C$1002,2,0),\"\")","v":""}]
[null,null,null,{"$f":"IFERROR(VLOOKUP(C294,Participants!$B$3:$C$1002,2,0),\"\")","v":""},null,{"$f":"IFERROR(VLOOKUP(E294,Participants!$B$3:$C$1002,2,0),\"\")","v":""}]
[null,null,null,{"$f":"IFERROR(VLOOKUP(C295,Participants!$B$3:$C$1002,2,0),\"\")","v":""},null,{"$f":"IFERROR(VLOOKUP(E295,Participants!$B$3:$C$1002,2,0),\"\")","v":""}]
[null,null,null,{"$f":"IFERROR(VLOOKUP(C296,Participants!$B$3:$C$1002,2,0),\"\")","v":""},null,{"$f":"IFERROR(VLOOKUP(E296,Participants!$B$3:$C$1002,2,0),\"\")","v":""}]
[null,null,null,{"$f":"IFERROR(VLOOKUP(C297,Participants!$B$3:$C$1002,2,0),\"\")","v":""},null,{"$f":"IFERROR(VLOOKUP(E297,Participants!$B$3:$C$1002,2,0),\"\")","v":""}]
[null,null,null,{"$f":"IFERROR(VLOOKUP(C298,Participants!$B$3:$C$1002,2,0),\"\")","v":""},null,{"$f":"IFERROR(VLOOKUP(E298,Participants!$B$3:$C$1002,2,0),\"\")","v":""}]
[null,null,null,{"$f":"IFERROR(VLOOKUP(C299,Participants!$B$3:$C$1002,2,0),\"\")","v":""},null,{"$f":"IFERROR(VLOOKUP(E299,Participants!$B$3:$C$1002,2,0),\"\")","v":""}]
[null,null,null,{"$f":"IFERROR(VLOOKUP(C300,Participants!$B$3:$C$1002,2,0),\"\")","v":""},null,{"$f":"IFERROR(VLOOKUP(E300,Participants!$B$3:$C$1002,2,0),\"\")","v":""}]
[null,null,null,{"$f":"IFERROR(VLOOKUP(C301,Participants!$B$3:$C$1002,2,0),\"\")","v":""},null,{"$f":"IFERROR(VLOOKUP(E301,Participants!$B$3:$C$1002,2,0),\"\")","v":""}]
[null,null,null,{"$f":"IFERROR(VLOOKUP(C302,Participants!$B$3:$C$1002,2,0),\"\")","v":""},null,{"$f":"IFERROR(VLOOKUP(E302,Participants!$B$3:$C$1002,2,0),\"\")","v":""}]
[null,null,null,{"$f":"IFERROR(VLOOKUP(C303,Participants!$B$3:$C$1002,2,0),\"\")","v":""},null,{"$f":"IFERROR(VLOOKUP(E303,Participants!$B$3:$C$1002,2,0),\"\")","v":""}]
[null,null,null,{"$f":"IFERROR(VLOOKUP(C304,Participants!$B$3:$C$1002,2,0),\"\")","v":""},null,{"$f":"IFERROR(VLOOKUP(E304,Participants!$B$3:$C$1002,2,0),\"\")","v":""}]
[null,null,null,{"$f":"IFERROR(VLOOKUP(C305,Participants!$B$3:$C$1002,2,0),\"\")","v":""},null,{"$f":"IFERROR(VLOOKUP(E305,Participants!$B$3:$C$1002,2,0),\"\")","v":""}]
[null,null,null,{"$f":"IFERROR(VLOOKUP(C306,Participants!$B$3:$C$1002,2,0),\"\")","v":""},null,{"$f":"IFERROR(VLOOKUP(E306,Participants!$B$3:$C$1002,2,0),\"\")","v":""}]
[null,null,null,{"$f":"IFERROR(VLOOKUP(C307,Participants!$B$3:$C$1002,2,0),\"\")","v":""},null,{"$f":"IFERROR(VLOOKUP(E307,Participants!$B$3:$C$1002,2,0),\"\")","v":""}]
[null,null,null,{"$f":"IFERROR(VLOOKUP(C308,Participants!$B$3:$C$1002,2,0),\"\")","v":""},null,{"$f":"IFERROR(VLOOKUP(E308,Participants!$B$3:$C$1002,2,0),\"\")","v":""}]
[null,null,null,{"$f":"IFERROR(VLOOKUP(C309,Participants!$B$3:$C$1002,2,0),\"\")","v":""},null,{"$f":"IFERROR(VLOOKUP(E309,Participants!$B$3:$C$1002,2,0),\"\")","v":""}]
[null,null,null,{"$f":"IFERROR(VLOOKUP(C310,Participants!$B$3:$C$1002,2,0),\"\")","v":""},null,{"$f":"IFERROR(VLOOKUP(E310,Participants!$B$3:$C$1002,2,0),\"\")","v":""}]
[null,null,null,{"$f":"IFERROR(VLOOKUP(C311,Participants!$B$3:$C$1002,2,0),\"\")","v":""},null,{"$f":"IFERROR(VLOOKUP(E311,Participants!$B$3:$C$1002,2,0),\"\")","v":""}]
[null,null,null,{"$f":"IFERROR(VLOOKUP(C312,Participants!$B$3:$C$1002,2,0),\"\")","v":""},null,{"$f":"IFERROR(VLOOKUP(E312,Participants!$B$3:$C$1002,2,0),\"\")","v":""}]
[null,null,null,{"$f":"IFERROR(VLOOKUP(C313,Participants!$B$3:$C$1002,2,0),\"\")","v":""},null,{"$f":"IFERROR(VLOOKUP(E313,Participants!$B$3:$C$1002,2,0),\"\")","v":""}]
[null,null,null,{"$f":"IFERROR(VLOOKUP(C314,Participants!$B$3:$C$1002,2,0),\"\")","v":""},null,{"$f":"IFERROR(VLOOKUP(E314,Participants!$B$3:$C$1002,2,0),\"\")","v":""}]
[null,null,null,{"$f":"IFERROR(VLOOKUP(C315,Participants!$B$3:$C$1002,2,0),\"\")","v":""},null,{"$f":"IFERROR(VLOOKUP(E315,Participants!$B$3:$C$1002,2,0),\"\")","v":""}]
[null,null,null,{"$f":"IFERROR(VLOOKUP(C316,Participants!$B$3:$C$1002,2,0),\"\")","v":""},null,{"$f":"IFERROR(VLOOKUP(E316,Participants!$B$3:$C$1002,2,0),\"\")","v":""}]
[null,null,null,{"$f":"IFERROR(VLOOKUP(C317,Participants!$B$3:$C$1002,2,0),\"\")","v":""},null,{"$f":"IFERROR(VLOOKUP(E317,Participants!$B$3:$C$1002,2,0),\"\")","v":""}]
[null,null,null,{"$f":"IFERROR(VLOOKUP(C318,Participants!$B$3:$C$1002,2,0),\"\")","v":""},null,{"$f":"IFERROR(VLOOKUP(E318,Participants!$B$3:$C$1002,2,0),\"\")","v":""}]
[null,null,null,{"$f":"IFERROR(VLOOKUP(C319,Participants!$B$3:$C$1002,2,0),\"\")","v":""},null,{"$f":"IFERROR(VLOOKUP(E319,Participants!$B$3:$C$1002,2,0),\"\")","v":""}]
[null,null,null,{"$f":"IFERROR(VLOOKUP(C320,Participants!$B$3:$C$1002,2,0),\"\")","v":""},null,{"$f":"IFERROR(VLOOKUP(E320,Participants!$B$3:$C$1002,2,0),\"\")","v":""}]
[null,null,null,{"$f":"IFERROR(VLOOKUP(C321,Participants!$B$3:$C$1002,2,0),\"\")","v":""},null,{"$f":"IFERROR(VLOOKUP(E321,Participants!$B$3:$C$1002,2,0),\"\")","v":""}]
[null,null,null,{"$f":"IFERROR(VLOOKUP(C322,Participants!$B$3:$C$1002,2,0),\"\")","v":""},null,{"$f":"IFERROR(VLOOKUP(E322,Participants!$B$3:$C$1002,2,0),\"\")","v":""}]
[null,null,null,{"$f":"IFERROR(VLOOKUP(C323,Participants!$B$3:$C$1002,2,0),\"\")","v":""},null,{"$f":"IFERROR(VLOOKUP(E323,Participants!$B$3:$C$1002,2,0),\"\")","v":""}]
[null,null,null,{"$f":"IFERROR(VLOOKUP(C324,Participants!$B$3:$C$1002,2,0),\"\")","v":""},null,{"$f":"IFERROR(VLOOKUP(E324,Participants!$B$3:$C$1002,2,0),\"\")","v":""}]
[null,null,null,{"$f":"IFERROR(VLOOKUP(C325,Participants!$B$3:$C$1002,2,0),\"\")","v":""},null,{"$f":"IFERROR(VLOOKUP(E325,Participants!$B$3:$C$1002,2,0),\"\")","v":""}]
[null,null,null,{"$f":"IFERROR(VLOOKUP(C326,Participants!$B$3:$C$1002,2,0),\"\")","v":""},null,{"$f":"IFERROR(VLOOKUP(E326,Participants!$B$3:$C$1002,2,0),\"\")","v":""}]
[null,null,null,{"$f":"IFERROR(VLOOKUP(C327,Participants!$B$3:$C$1002,2,0),\"\")","v":""},null,{"$f":"IFERROR(VLOOKUP(E327,Participants!$B$3:$C$1002,2,0),\"\")","v":""}]
[null,null,null,{"$f":"IFERROR(VLOOKUP(C328,Participants!$B$3:$C$1002,2,0),\"\")","v":""},null,{"$f":"IFERROR(VLOOKUP(E328,Participants!$B$3:$C$1002,2,0),\"\")","v":""}]
[null,null,null,{"$f":"IFERROR(VLOOKUP(C329,Participants!$B$3:$C$1002,2,0),\"\")","v":""},null,{"$f":"IFERROR(VLOOKUP(E329,Participants!$B$3:$C$1002,2,0),\"\")","v":""}]
[null,null,null,{"$f":"IFERROR(VLOOKUP(C330,Participants!$B$3:$C$1002,2,0),\"\")","v":""},null,{"$f":"IFERROR(VLOOKUP(E330,Participants!$B$3:$C$1002,2,0),\"\")","v":""}]
[null,null,null,{"$f":"IFERROR(VLOOKUP(C331,Participants!$B$3:$C$1002,2,0),\"\")","v":""},null,{"$f":"IFERROR(VLOOKUP(E331,Participants!$B$3:$C$1002,2,0),\"\")","v":""}]
[null,null,null,{"$f":"IFERROR(VLOOKUP(C332,Participants!$B$3:$C$1002,2,0),\"\")","v":""},null,{"$f":"IFERROR(VLOOKUP(E332,Participants!$B$3:$C$1002,2,0),\"\")","v":""}]
[null,null,null,{"$f":"IFERROR(VLOOKUP(C333,Participants!$B$3:$C$1002,2,0),\"\")","v":""},null,{"$f":"IFERROR(VLOOKUP(E333,Participants!$B$3:$C$1002,2,0),\"\")","v":""}]
[null,null,null,{"$f":"IFERROR(VLOOKUP(C334,Participants!$B$3:$C$1002,2,0),\"\")","v":""},null,{"$f":"IFERROR(VLOOKUP(E334,Participants!$B$3:$C$1002,2,0),\"\")","v":""}]
[null,null,null,{"$f":"IFERROR(VLOOKUP(C335,Participants!$B$3:$C$1002,2,0),\"\")","v":""},null,{"$f":"IFERROR(VLOOKUP(E335,Participants!$B$3:$C$1002,2,0),\"\")","v":""}]
[null,null,null,{"$f":"IFERROR(VLOOKUP(C336,Participants!$B$3:$C$1002,2,0),\"\")","v":""},null,{"$f":"IFERROR(VLOOKUP(E336,Participants!$B$3:$C$1002,2,0),\"\")","v":""}]
[null,null,null,{"$f":"IFERROR(VLOOKUP(C337,Participants!$B$3:$C$1002,2,0),\"\")","v":""},null,{"$f":"IFERROR(VLOOKUP(E337,Participants!$B$3:$C$1002,2,0),\"\")","v":""}]
[null,null,null,{"$f":"IFERROR(VLOOKUP(C338,Participants!$B$3:$C$1002,2,0),\"\")","v":""},null,{"$f":"IFERROR(VLOOKUP(E338,Participants!$B$3:$C$1002,2,0),\"\")","v":""}]
[null,null,null,{"$f":"IFERROR(VLOOKUP(C339,Participants!$B$3:$C$1002,2,0),\"\")","v":""},null,{"$f":"IFERROR(VLOOKUP(E339,Participants!$B$3:$C$1002,2,0),\"\")","v":""}]
[null,null,null,{"$f":"IFERROR(VLOOKUP(C340,Participants!$B$3:$C$1002,2,0),\"\")","v":""},null,{"$f":"IFERROR(VLOOKUP(E340,Participants!$B$3:$C$1002,2,0),\"\")","v":""}]
[null,null,null,{"$f":"IFERROR(VLOOKUP(C341,Participants!$B$3:$C$1002,2,0),\"\")","v":""},null,{"$f":"IFERROR(VLOOKUP(E341,Participants!$B$3:$C$1002,2,0),\"\")","v":""}]
[null,null,null,{"$f":"IFERROR(VLOOKUP(C342,Participants!$B$3:$C$1002,2,0),\"\")","v":""},null,{"$f":"IFERROR(VLOOKUP(E342,Participants!$B$3:$C$1002,2,0),\"\")","v":""}]
[null,null,null,{"$f":"IFERROR(VLOOKUP(C343,Participants!$B$3:$C$1002,2,0),\"\")","v":""},null,{"$f":"IFERROR(VLOOKUP(E343,Participants!$B$3:$C$1002,2,0),\"\")","v":""}]
[null,null,null,{"$f":"IFERROR(VLOOKUP(C344,Participants!$B$3:$C$1002,2,0),\"\")","v":""},null,{"$f":"IFERROR(VLOOKUP(E344,Participants!$B$3:$C$1002,2,0),\"\")","v":""}]
[null,null,null,{"$f":"IFERROR(VLOOKUP(C345,Participants!$B$3:$C$1002,2,0),\"\")","v":""},null,{"$f":"IFERROR(VLOOKUP(E345,Participants!$B$3:$C$1002,2,0),\"\")","v":""}]
[null,null,null,{"$f":"IFERROR(VLOOKUP(C346,Participants!$B$3:$C$1002,2,0),\"\")","v":""},null,{"$f":"IFERROR(VLOOKUP(E346,Participants!$B$3:$C$1002,2,0),\"\")","v":""}]
[null,null,null,{"$f":"IFERROR(VLOOKUP(C347,Participants!$B$3:$C$1002,2,0),\"\")","v":""},null,{"$f":"IFERROR(VLOOKUP(E347,Participants!$B$3:$C$1002,2,0),\"\")","v":""}]
[null,null,null,{"$f":"IFERROR(VLOOKUP(C348,Participants!$B$3:$C$1002,2,0),\"\")","v":""},null,{"$f":"IFERROR(VLOOKUP(E348,Participants!$B$3:$C$1002,2,0),\"\")","v":""}]
[null,null,null,{"$f":"IFERROR(VLOOKUP(C349,Participants!$B$3:$C$1002,2,0),\"\")","v":""},null,{"$f":"IFERROR(VLOOKUP(E349,Participants!$B$3:$C$1002,2,0),\"\")","v":""}]
[null,null,null,{"$f":"IFERROR(VLOOKUP(C350,Participants!$B$3:$C$1002,2,0),\"\")","v":""},null,{"$f":"IFERROR(VLOOKUP(E350,Participants!$B$3:$C$1002,2,0),\"\")","v":""}]
[null,null,null,{"$f":"IFERROR(VLOOKUP(C351,Participants!$B$3:$C$1002,2,0),\"\")","v":""},null,{"$f":"IFERROR(VLOOKUP(E351,Participants!$B$3:$C$1002,2,0),\"\")","v":""}]
[null,null,null,{"$f":"IFERROR(VLOOKUP(C352,Participants!$B$3:$C$1002,2,0),\"\")","v":""},null,{"$f":"IFERROR(VLOOKUP(E352,Participants!$B$3:$C$1002,2,0),\"\")","v":""}]
[null,null,null,{"$f":"IFERROR(VLOOKUP(C353,Participants!$B$3:$C$1002,2,0),\"\")","v":""},null,{"$f":"IFERROR(VLOOKUP(E353,Participants!$B$3:$C$1002,2,0),\"\")","v":""}]
[null,null,null,{"$f":"IFERROR(VLOOKUP(C354,Participants!$B$3:$C$1002,2,0),\"\")","v":""},null,{"$f":"IFERROR(VLOOKUP(E354,Participants!$B$3:$C$1002,2,0),\"\")","v":""}]
[null,null,null,{"$f":"IFERROR(VLOOKUP(C355,Participants!$B$3:$C$1002,2,0),\"\")","v":""},null,{"$f":"IFERROR(VLOOKUP(E355,Participants!$B$3:$C$1002,2,0),\"\")","v":""}]
[null,null,null,{"$f":"IFERROR(VLOOKUP(C356,Participants!$B$3:$C$1002,2,0),\"\")","v":""},null,{"$f":"IFERROR(VLOOKUP(E356,Participants!$B$3:$C$1002,2,0),\"\")","v":""}]
[null,null,null,{"$f":"IFERROR(VLOOKUP(C357,Participants!$B$3:$C$1002,2,0),\"\")","v":""},null,{"$f":"IFERROR(VLOOKUP(E357,Participants!$B$3:$C$1002,2,0),\"\")","v":""}]
[null,null,null,{"$f":"IFERROR(VLOOKUP(C358,Participants!$B$3:$C$1002,2,0),\"\")","v":""},null,{"$f":"IFERROR(VLOOKUP(E358,Participants!$B$3:$C$1002,2,0),\"\")","v":""}]
[null,null,null,{"$f":"IFERROR(VLOOKUP(C359,Participants!$B$3:$C$1002,2,0),\"\")","v":""},null,{"$f":"IFERROR(VLOOKUP(E359,Participants!$B$3:$C$1002,2,0),\"\")","v":""}]
[null,null,null,{"$f":"IFERROR(VLOOKUP(C360,Participants!$B$3:$C$1002,2,0),\"\")","v":""},null,{"$f":"IFERROR(VLOOKUP(E360,Participants!$B$3:$C$1002,2,0),\"\")","v":""}]
[null,null,null,{"$f":"IFERROR(VLOOKUP(C361,Participants!$B$3:$C$1002,2,0),\"\")","v":""},null,{"$f":"IFERROR(VLOOKUP(E361,Participants!$B$3:$C$1002,2,0),\"\")","v":""}]
[null,null,null,{"$f":"IFERROR(VLOOKUP(C362,Participants!$B$3:$C$1002,2,0),\"\")","v":""},null,{"$f":"IFERROR(VLOOKUP(E362,Participants!$B$3:$C$1002,2,0),\"\")","v":""}]
[null,null,null,{"$f":"IFERROR(VLOOKUP(C363,Participants!$B$3:$C$1002,2,0),\"\")","v":""},null,{"$f":"IFERROR(VLOOKUP(E363,Participants!$B$3:$C$1002,2,0),\"\")","v":""}]
[null,null,null,{"$f":"IFERROR(VLOOKUP(C364,Participants!$B$3:$C$1002,2,0),\"\")","v":""},null,{"$f":"IFERROR(VLOOKUP(E364,Participants!$B$3:$C$1002,2,0),\"\")","v":""}]
[null,null,null,{"$f":"IFERROR(VLOOKUP(C365,Participants!$B$3:$C$1002,2,0),\"\")","v":""},null,{"$f":"IFERROR(VLOOKUP(E365,Participants!$B$3:$C$1002,2,0),\"\")","v":""}]
[null,null,null,{"$f":"IFERROR(VLOOKUP(C366,Participants!$B$3:$C$1002,2,0),\"\")","v":""},null,{"$f":"IFERROR(VLOOKUP(E366,Participants!$B$3:$C$1002,2,0),\"\")","v":""}]
[null,null,null,{"$f":"IFERROR(VLOOKUP(C367,Participants!$B$3:$C$1002,2,0),\"\")","v":""},null,{"$f":"IFERROR(VLOOKUP(E367,Participants!$B$3:$C$1002,2,0),\"\")","v":""}]
[null,null,null,{"$f":"IFERROR(VLOOKUP(C368,Participants!$B$3:$C$1002,2,0),\"\")","v":""},null,{"$f":"IFERROR(VLOOKUP(E368,Participants!$B$3:$C$1002,2,0),\"\")","v":""}]
[null,null,null,{"$f":"IFERROR(VLOOKUP(C369,Participants!$B$3:$C$1002,2,0),\"\")","v":""},null,{"$f":"IFERROR(VLOOKUP(E369,Participants!$B$3:$C$1002,2,0),\"\")","v":""}]
[null,null,null,{"$f":"IFERROR(VLOOKUP(C370,Participants!$B$3:$C$1002,2,0),\"\")","v":""},null,{"$f":"IFERROR(VLOOKUP(E370,Participants!$B$3:$C$1002,2,0),\"\")","v":""}]
[null,null,null,{"$f":"IFERROR(VLOOKUP(C371,Participants!$B$3:$C$1002,2,0),\"\")","v":""},null,{"$f":"IFERROR(VLOOKUP(E371,Participants!$B$3:$C$1002,2,0),\"\")","v":""}]
[null,null,null,{"$f":"IFERROR(VLOOKUP(C372,Participants!$B$3:$C$1002,2,0),\"\")","v":""},null,{"$f":"IFERROR(VLOOKUP(E372,Participants!$B$3:$C$1002,2,0),\"\")","v":""}]
[null,null,null,{"$f":"IFERROR(VLOOKUP(C373,Participants!$B$3:$C$1002,2,0),\"\")","v":""},null,{"$f":"IFERROR(VLOOKUP(E373,Participants!$B$3:$C$1002,2,0),\"\")","v":""}]
[null,null,null,{"$f":"IFERROR(VLOOKUP(C374,Participants!$B$3:$C$1002,2,0),\"\")","v":""},null,{"$f":"IFERROR(VLOOKUP(E374,Participants!$B$3:$C$1002,2,0),\"\")","v":""}]
[null,null,null,{"$f":"IFERROR(VLOOKUP(C375,Participants!$B$3:$C$1002,2,0),\"\")","v":""},null,{"$f":"IFERROR(VLOOKUP(E375,Participants!$B$3:$C$1002,2,0),\"\")","v":""}]
[null,null,null,{"$f":"IFERROR(VLOOKUP(C376,Participants!$B$3:$C$1002,2,0),\"\")","v":""},null,{"$f":"IFERROR(VLOOKUP(E376,Participants!$B$3:$C$1002,2,0),\"\")","v":""}]
[null,null,null,{"$f":"IFERROR(VLOOKUP(C377,Participants!$B$3:$C$1002,2,0),\"\")","v":""},null,{"$f":"IFERROR(VLOOKUP(E377,Participants!$B$3:$C$1002,2,0),\"\")","v":""}]
[null,null,null,{"$f":"IFERROR(VLOOKUP(C378,Participants!$B$3:$C$1002,2,0),\"\")","v":""},null,{"$f":"IFERROR(VLOOKUP(E378,Participants!$B$3:$C$1002,2,0),\"\")","v":""}]
[null,null,null,{"$f":"IFERROR(VLOOKUP(C379,Participants!$B$3:$C$1002,2,0),\"\")","v":""},null,{"$f":"IFERROR(VLOOKUP(E379,Participants!$B$3:$C$1002,2,0),\"\")","v":""}]
[null,null,null,{"$f":"IFERROR(VLOOKUP(C380,Participants!$B$3:$C$1002,2,0),\"\")","v":""},null,{"$f":"IFERROR(VLOOKUP(E380,Participants!$B$3:$C$1002,2,0),\"\")","v":""}]
[null,null,null,{"$f":"IFERROR(VLOOKUP(C381,Participants!$B$3:$C$1002,2,0),\"\")","v":""},null,{"$f":"IFERROR(VLOOKUP(E381,Participants!$B$3:$C$1002,2,0),\"\")","v":""}]
[null,null,null,{"$f":"IFERROR(VLOOKUP(C382,Participants!$B$3:$C$1002,2,0),\"\")","v":""},null,{"$f":"IFERROR(VLOOKUP(E382,Participants!$B$3:$C$1002,2,0),\"\")","v":""}]
[null,null,null,{"$f":"IFERROR(VLOOKUP(C383,Participants!$B$3:$C$1002,2,0),\"\")","v":""},null,{"$f":"IFERROR(VLOOKUP(E383,Participants!$B$3:$C$1002,2,0),\"\")","v":""}]
[null,null,null,{"$f":"IFERROR(VLOOKUP(C384,Participants!$B$3:$C$1002,2,0),\"\")","v":""},null,{"$f":"IFERROR(VLOOKUP(E384,Participants!$B$3:$C$1002,2,0),\"\")","v":""}]
[null,null,null,{"$f":"IFERROR(VLOOKUP(C385,Participants!$B$3:$C$1002,2,0),\"\")","v":""},null,{"$f":"IFERROR(VLOOKUP(E385,Participants!$B$3:$C$1002,2,0),\"\")","v":""}]
[null,null,null,{"$f":"IFERROR(VLOOKUP(C386,Participants!$B$3:$C$1002,2,0),\"\")","v":""},null,{"$f":"IFERROR(VLOOKUP(E386,Participants!$B$3:$C$1002,2,0),\"\")","v":""}]
[null,null,null,{"$f":"IFERROR(VLOOKUP(C387,Participants!$B$3:$C$1002,2,0),\"\")","v":""},null,{"$f":"IFERROR(VLOOKUP(E387,Participants!$B$3:$C$1002,2,0),\"\")","v":""}]
[null,null,null,{"$f":"IFERROR(VLOOKUP(C388,Participants!$B$3:$C$1002,2,0),\"\")","v":""},null,{"$f":"IFERROR(VLOOKUP(E388,Participants!$B$3:$C$1002,2,0),\"\")","v":""}]
[null,null,null,{"$f":"IFERROR(VLOOKUP(C389,Participants!$B$3:$C$1002,2,0),\"\")","v":""},null,{"$f":"IFERROR(VLOOKUP(E389,Participants!$B$3:$C$1002,2,0),\"\")","v":""}]
[null,null,null,{"$f":"IFERROR(VLOOKUP(C390,Participants!$B$3:$C$1002,2,0),\"\")","v":""},null,{"$f":"IFERROR(VLOOKUP(E390,Participants!$B$3:$C$1002,2,0),\"\")","v":""}]
[null,null,null,{"$f":"IFERROR(VLOOKUP(C391,Participants!$B$3:$C$1002,2,0),\"\")","v":""},null,{"$f":"IFERROR(VLOOKUP(E391,Participants!$B$3:$C$1002,2,0),\"\")","v":""}]
[null,null,null,{"$f":"IFERROR(VLOOKUP(C392,Participants!$B$3:$C$1002,2,0),\"\")","v":""},null,{"$f":"IFERROR(VLOOKUP(E392,Participants!$B$3:$C$1002,2,0),\"\")","v":""}]
[null,null,null,{"$f":"IFERROR(VLOOKUP(C393,Participants!$B$3:$C$1002,2,0),\"\")","v":""},null,{"$f":"IFERROR(VLOOKUP(E393,Participants!$B$3:$C$1002,2,0),\"\")","v":""}]
[null,null,null,{"$f":"IFERROR(VLOOKUP(C394,Participants!$B$3:$C$1002,2,0),\"\")","v":""},null,{"$f":"IFERROR(VLOOKUP(E394,Participants!$B$3:$C$1002,2,0),\"\")","v":""}]
[null,null,null,{"$f":"IFERROR(VLOOKUP(C395,Participants!$B$3:$C$1002,2,0),\"\")","v":""},null,{"$f":"IFERROR(VLOOKUP(E395,Participants!$B$3:$C$1002,2,0),\"\")","v":""}]
[null,null,null,{"$f":"IFERROR(VLOOKUP(C396,Participants!$B$3:$C$1002,2,0),\"\")","v":""},null,{"$f":"IFERROR(VLOOKUP(E396,Participants!$B$3:$C$1002,2,0),\"\")","v":""}]
[null,null,null,{"$f":"IFERROR(VLOOKUP(C397,Participants!$B$3:$C$1002,2,0),\"\")","v":""},null,{"$f":"IFERROR(VLOOKUP(E397,Participants!$B$3:$C$1002,2,0),\"\")","v":""}]
[null,null,null,{"$f":"IFERROR(VLOOKUP(C398,Participants!$B$3:$C$1002,2,0),\"\")","v":""},null,{"$f":"IFERROR(VLOOKUP(E398,Participants!$B$3:$C$1002,2,0),\"\")","v":""}]
[null,null,null,{"$f":"IFERROR(VLOOKUP(C399,Participants!$B$3:$C$1002,2,0),\"\")","v":""},null,{"$f":"IFERROR(VLOOKUP(E399,Participants!$B$3:$C$1002,2,0),\"\")","v":""}]
[null,null,null,{"$f":"IFERROR(VLOOKUP(C400,Participants!$B$3:$C$1002,2,0),\"\")","v":""},null,{"$f":"IFERROR(VLOOKUP(E400,Participants!$B$3:$C$1002,2,0),\"\")","v":""}]
[null,null,null,{"$f":"IFERROR(VLOOKUP(C401,Participants!$B$3:$C$1002,2,0),\"\")","v":""},null,{"$f":"IFERROR(VLOOKUP(E401,Participants!$B$3:$C$1002,2,0),\"\")","v":""}]
[null,null,null,{"$f":"IFERROR(VLOOKUP(C402,Participants!$B$3:$C$1002,2,0),\"\")","v":""},null,{"$f":"IFERROR(VLOOKUP(E402,Participants!$B$3:$C$1002,2,0),\"\")","v":""}]
[null,null,null,{"$f":"IFERROR(VLOOKUP(C403,Participants!$B$3:$C$1002,2,0),\"\")","v":""},null,{"$f":"IFERROR(VLOOKUP(E403,Participants!$B$3:$C$1002,2,0),\"\")","v":""}]
[null,null,null,{"$f":"IFERROR(VLOOKUP(C404,Participants!$B$3:$C$1002,2,0),\"\")","v":""},null,{"$f":"IFERROR(VLOOKUP(E404,Participants!$B$3:$C$1002,2,0),\"\")","v":""}]
[null,null,null,{"$f":"IFERROR(VLOOKUP(C405,Participants!$B$3:$C$1002,2,0),\"\")","v":""},null,{"$f":"IFERROR(VLOOKUP(E405,Participants!$B$3:$C$1002,2,0),\"\")","v":""}]
[null,null,null,{"$f":"IFERROR(VLOOKUP(C406,Participants!$B$3:$C$1002,2,0),\"\")","v":""},null,{"$f":"IFERROR(VLOOKUP(E406,Participants!$B$3:$C$1002,2,0),\"\")","v":""}]
[null,null,null,{"$f":"IFERROR(VLOOKUP(C407,Participants!$B$3:$C$1002,2,0),\"\")","v":""},null,{"$f":"IFERROR(VLOOKUP(E407,Participants!$B$3:$C$1002,2,0),\"\")","v":""}]
[null,null,null,{"$f":"IFERROR(VLOOKUP(C408,Participants!$B$3:$C$1002,2,0),\"\")","v":""},null,{"$f":"IFERROR(VLOOKUP(E408,Participants!$B$3:$C$1002,2,0),\"\")","v":""}]
[null,null,null,{"$f":"IFERROR(VLOOKUP(C409,Participants!$B$3:$C$1002,2,0),\"\")","v":""},null,{"$f":"IFERROR(VLOOKUP(E409,Participants!$B$3:$C$1002,2,0),\"\")","v":""}]
[null,null,null,{"$f":"IFERROR(VLOOKUP(C410,Participants!$B$3:$C$1002,2,0),\"\")","v":""},null,{"$f":"IFERROR(VLOOKUP(E410,Participants!$B$3:$C$1002,2,0),\"\")","v":""}]
[null,null,null,{"$f":"IFERROR(VLOOKUP(C411,Participants!$B$3:$C$1002,2,0),\"\")","v":""},null,{"$f":"IFERROR(VLOOKUP(E411,Participants!$B$3:$C$1002,2,0),\"\")","v":""}]
[null,null,null,{"$f":"IFERROR(VLOOKUP(C412,Participants!$B$3:$C$1002,2,0),\"\")","v":""},null,{"$f":"IFERROR(VLOOKUP(E412,Participants!$B$3:$C$1002,2,0),\"\")","v":""}]
[null,null,null,{"$f":"IFERROR(VLOOKUP(C413,Participants!$B$3:$C$1002,2,0),\"\")","v":""},null,{"$f":"IFERROR(VLOOKUP(E413,Participants!$B$3:$C$1002,2,0),\"\")","v":""}]
[null,null,null,{"$f":"IFERROR(VLOOKUP(C414,Participants!$B$3:$C$1002,2,0),\"\")","v":""},null,{"$f":"IFERROR(VLOOKUP(E414,Participants!$B$3:$C$1002,2,0),\"\")","v":""}]
[null,null,null,{"$f":"IFERROR(VLOOKUP(C415,Participants!$B$3:$C$1002,2,0),\"\")","v":""},null,{"$f":"IFERROR(VLOOKUP(E415,Participants!$B$3:$C$1002,2,0),\"\")","v":""}]
[null,null,null,{"$f":"IFERROR(VLOOKUP(C416,Participants!$B$3:$C$1002,2,0),\"\")","v":""},null,{"$f":"IFERROR(VLOOKUP(E416,Participants!$B$3:$C$1002,2,0),\"\")","v":""}]
[null,null,null,{"$f":"IFERROR(VLOOKUP(C417,Participants!$B$3:$C$1002,2,0),\"\")","v":""},null,{"$f":"IFERROR(VLOOKUP(E417,Participants!$B$3:$C$1002,2,0),\"\")","v":""}]
[null,null,null,{"$f":"IFERROR(VLOOKUP(C418,Participants!$B$3:$C$1002,2,0),\"\")","v":""},null,{"$f":"IFERROR(VLOOKUP(E418,Participants!$B$3:$C$1002,2,0),\"\")","v":""}]
[null,null,null,{"$f":"IFERROR(VLOOKUP(C419,Participants!$B$3:$C$1002,2,0),\"\")","v":""},null,{"$f":"IFERROR(VLOOKUP(E419,Participants!$B$3:$C$1002,2,0),\"\")","v":""}]
[null,null,null,{"$f":"IFERROR(VLOOKUP(C420,Participants!$B$3:$C$1002,2,0),\"\")","v":""},null,{"$f":"IFERROR(VLOOKUP(E420,Participants!$B$3:$C$1002,2,0),\"\")","v":""}]
[null,null,null,{"$f":"IFERROR(VLOOKUP(C421,Participants!$B$3:$C$1002,2,0),\"\")","v":""},null,{"$f":"IFERROR(VLOOKUP(E421,Participants!$B$3:$C$1002,2,0),\"\")","v":""}]
[null,null,null,{"$f":"IFERROR(VLOOKUP(C422,Participants!$B$3:$C$1002,2,0),\"\")","v":""},null,{"$f":"IFERROR(VLOOKUP(E422,Participants!$B$3:$C$1002,2,0),\"\")","v":""}]
[null,null,null,{"$f":"IFERROR(VLOOKUP(C423,Participants!$B$3:$C$1002,2,0),\"\")","v":""},null,{"$f":"IFERROR(VLOOKUP(E423,Participants!$B$3:$C$1002,2,0),\"\")","v":""}]
[null,null,null,{"$f":"IFERROR(VLOOKUP(C424,Participants!$B$3:$C$1002,2,0),\"\")","v":""},null,{"$f":"IFERROR(VLOOKUP(E424,Participants!$B$3:$C$1002,2,0),\"\")","v":""}]
[null,null,null,{"$f":"IFERROR(VLOOKUP(C425,Participants!$B$3:$C$1002,2,0),\"\")","v":""},null,{"$f":"IFERROR(VLOOKUP(E425,Participants!$B$3:$C$1002,2,0),\"\")","v":""}]
[null,null,null,{"$f":"IFERROR(VLOOKUP(C426,Participants!$B$3:$C$1002,2,0),\"\")","v":""},null,{"$f":"IFERROR(VLOOKUP(E426,Participants!$B$3:$C$1002,2,0),\"\")","v":""}]
[null,null,null,{"$f":"IFERROR(VLOOKUP(C427,Participants!$B$3:$C$1002,2,0),\"\")","v":""},null,{"$f":"IFERROR(VLOOKUP(E427,Participants!$B$3:$C$1002,2,0),\"\")","v":""}]
[null,null,null,{"$f":"IFERROR(VLOOKUP(C428,Participants!$B$3:$C$1002,2,0),\"\")","v":""},null,{"$f":"IFERROR(VLOOKUP(E428,Participants!$B$3:$C$1002,2,0),\"\")","v":""}]
[null,null,null,{"$f":"IFERROR(VLOOKUP(C429,Participants!$B$3:$C$1002,2,0),\"\")","v":""},null,{"$f":"IFERROR(VLOOKUP(E429,Participants!$B$3:$C$1002,2,0),\"\")","v":""}]
[null,null,null,{"$f":"IFERROR(VLOOKUP(C430,Participants!$B$3:$C$1002,2,0),\"\")","v":""},null,{"$f":"IFERROR(VLOOKUP(E430,Participants!$B$3:$C$1002,2,0),\"\")","v":""}]
[null,null,null,{"$f":"IFERROR(VLOOKUP(C431,Participants!$B$3:$C$1002,2,0),\"\")","v":""},null,{"$f":"IFERROR(VLOOKUP(E431,Participants!$B$3:$C$1002,2,0),\"\")","v":""}]
[null,null,null,{"$f":"IFERROR(VLOOKUP(C432,Participants!$B$3:$C$1002,2,0),\"\")","v":""},null,{"$f":"IFERROR(VLOOKUP(E432,Participants!$B$3:$C$1002,2,0),\"\")","v":""}]
[null,null,null,{"$f":"IFERROR(VLOOKUP(C433,Participants!$B$3:$C$1002,2,0),\"\")","v":""},null,{"$f":"IFERROR(VLOOKUP(E433,Participants!$B$3:$C$1002,2,0),\"\")","v":""}]
[null,null,null,{"$f":"IFERROR(VLOOKUP(C434,Participants!$B$3:$C$1002,2,0),\"\")","v":""},null,{"$f":"IFERROR(VLOOKUP(E434,Participants!$B$3:$C$1002,2,0),\"\")","v":""}]
[null,null,null,{"$f":"IFERROR(VLOOKUP(C435,Participants!$B$3:$C$1002,2,0),\"\")","v":""},null,{"$f":"IFERROR(VLOOKUP(E435,Participants!$B$3:$C$1002,2,0),\"\")","v":""}]
[null,null,null,{"$f":"IFERROR(VLOOKUP(C436,Participants!$B$3:$C$1002,2,0),\"\")","v":""},null,{"$f":"IFERROR(VLOOKUP(E436,Participants!$B$3:$C$1002,2,0),\"\")","v":""}]
[null,null,null,{"$f":"IFERROR(VLOOKUP(C437,Participants!$B$3:$C$1002,2,0),\"\")","v":""},null,{"$f":"IFERROR(VLOOKUP(E437,Participants!$B$3:$C$1002,2,0),\"\")","v":""}]
[null,null,null,{"$f":"IFERROR(VLOOKUP(C438,Participants!$B$3:$C$1002,2,0),\"\")","v":""},null,{"$f":"IFERROR(VLOOKUP(E438,Participants!$B$3:$C$1002,2,0),\"\")","v":""}]
[null,null,null,{"$f":"IFERROR(VLOOKUP(C439,Participants!$B$3:$C$1002,2,0),\"\")","v":""},null,{"$f":"IFERROR(VLOOKUP(E439,Participants!$B$3:$C$1002,2,0),\"\")","v":""}]
[null,null,null,{"$f":"IFERROR(VLOOKUP(C440,Participants!$B$3:$C$1002,2,0),\"\")","v":""},null,{"$f":"IFERROR(VLOOKUP(E440,Participants!$B$3:$C$1002,2,0),\"\")","v":""}]
[null,null,null,{"$f":"IFERROR(VLOOKUP(C441,Participants!$B$3:$C$1002,2,0),\"\")","v":""},null,{"$f":"IFERROR(VLOOKUP(E441,Participants!$B$3:$C$1002,2,0),\"\")","v":""}]
[null,null,null,{"$f":"IFERROR(VLOOKUP(C442,Participants!$B$3:$C$1002,2,0),\"\")","v":""},null,{"$f":"IFERROR(VLOOKUP(E442,Participants!$B$3:$C$1002,2,0),\"\")","v":""}]
[null,null,null,{"$f":"IFERROR(VLOOKUP(C443,Participants!$B$3:$C$1002,2,0),\"\")","v":""},null,{"$f":"IFERROR(VLOOKUP(E443,Participants!$B$3:$C$1002,2,0),\"\")","v":""}]
[null,null,null,{"$f":"IFERROR(VLOOKUP(C444,Participants!$B$3:$C$1002,2,0),\"\")","v":""},null,{"$f":"IFERROR(VLOOKUP(E444,Participants!$B$3:$C$1002,2,0),\"\")","v":""}]
[null,null,null,{"$f":"IFERROR(VLOOKUP(C445,Participants!$B$3:$C$1002,2,0),\"\")","v":""},null,{"$f":"IFERROR(VLOOKUP(E445,Participants!$B$3:$C$1002,2,0),\"\")","v":""}]
[null,null,null,{"$f":"IFERROR(VLOOKUP(C446,Participants!$B$3:$C$1002,2,0),\"\")","v":""},null,{"$f":"IFERROR(VLOOKUP(E446,Participants!$B$3:$C$1002,2,0),\"\")","v":""}]
[null,null,null,{"$f":"IFERROR(VLOOKUP(C447,Participants!$B$3:$C$1002,2,0),\"\")","v":""},null,{"$f":"IFERROR(VLOOKUP(E447,Participants!$B$3:$C$1002,2,0),\"\")","v":""}]
[null,null,null,{"$f":"IFERROR(VLOOKUP(C448,Participants!$B$3:$C$1002,2,0),\"\")","v":""},null,{"$f":"IFERROR(VLOOKUP(E448,Participants!$B$3:$C$1002,2,0),\"\")","v":""}]
[null,null,null,{"$f":"IFERROR(VLOOKUP(C449,Participants!$B$3:$C$1002,2,0),\"\")","v":""},null,{"$f":"IFERROR(VLOOKUP(E449,Participants!$B$3:$C$1002,2,0),\"\")","v":""}]
[null,null,null,{"$f":"IFERROR(VLOOKUP(C450,Participants!$B$3:$C$1002,2,0),\"\")","v":""},null,{"$f":"IFERROR(VLOOKUP(E450,Participants!$B$3:$C$1002,2,0),\"\")","v":""}]
[null,null,null,{"$f":"IFERROR(VLOOKUP(C451,Participants!$B$3:$C$1002,2,0),\"\")","v":""},null,{"$f":"IFERROR(VLOOKUP(E451,Participants!$B$3:$C$1002,2,0),\"\")","v":""}]
[null,null,null,{"$f":"IFERROR(VLOOKUP(C452,Participants!$B$3:$C$1002,2,0),\"\")","v":""},null,{"$f":"IFERROR(VLOOKUP(E452,Participants!$B$3:$C$1002,2,0),\"\")","v":""}]
[null,null,null,{"$f":"IFERROR(VLOOKUP(C453,Participants!$B$3:$C$1002,2,0),\"\")","v":""},null,{"$f":"IFERROR(VLOOKUP(E453,Participants!$B$3:$C$1002,2,0),\"\")","v":""}]
[null,null,null,{"$f":"IFERROR(VLOOKUP(C454,Participants!$B$3:$C$1002,2,0),\"\")","v":""},null,{"$f":"IFERROR(VLOOKUP(E454,Participants!$B$3:$C$1002,2,0),\"\")","v":""}]
[null,null,null,{"$f":"IFERROR(VLOOKUP(C455,Participants!$B$3:$C$1002,2,0),\"\")","v":""},null,{"$f":"IFERROR(VLOOKUP(E455,Participants!$B$3:$C$1002,2,0),\"\")","v":""}]
[null,null,null,{"$f":"IFERROR(VLOOKUP(C456,Participants!$B$3:$C$1002,2,0),\"\")","v":""},null,{"$f":"IFERROR(VLOOKUP(E456,Participants!$B$3:$C$1002,2,0),\"\")","v":""}]
[null,null,null,{"$f":"IFERROR(VLOOKUP(C457,Participants!$B$3:$C$1002,2,0),\"\")","v":""},null,{"$f":"IFERROR(VLOOKUP(E457,Participants!$B$3:$C$1002,2,0),\"\")","v":""}]
[null,null,null,{"$f":"IFERROR(VLOOKUP(C458,Participants!$B$3:$C$1002,2,0),\"\")","v":""},null,{"$f":"IFERROR(VLOOKUP(E458,Participants!$B$3:$C$1002,2,0),\"\")","v":""}]
[null,null,null,{"$f":"IFERROR(VLOOKUP(C459,Participants!$B$3:$C$1002,2,0),\"\")","v":""},null,{"$f":"IFERROR(VLOOKUP(E459,Participants!$B$3:$C$1002,2,0),\"\")","v":""}]
[null,null,null,{"$f":"IFERROR(VLOOKUP(C460,Participants!$B$3:$C$1002,2,0),\"\")","v":""},null,{"$f":"IFERROR(VLOOKUP(E460,Participants!$B$3:$C$1002,2,0),\"\")","v":""}]
[null,null,null,{"$f":"IFERROR(VLOOKUP(C461,Participants!$B$3:$C$1002,2,0),\"\")","v":""},null,{"$f":"IFERROR(VLOOKUP(E461,Participants!$B$3:$C$1002,2,0),\"\")","v":""}]
[null,null,null,{"$f":"IFERROR(VLOOKUP(C462,Participants!$B$3:$C$1002,2,0),\"\")","v":""},null,{"$f":"IFERROR(VLOOKUP(E462,Participants!$B$3:$C$1002,2,0),\"\")","v":""}]
[null,null,null,{"$f":"IFERROR(VLOOKUP(C463,Participants!$B$3:$C$1002,2,0),\"\")","v":""},null,{"$f":"IFERROR(VLOOKUP(E463,Participants!$B$3:$C$1002,2,0),\"\")","v":""}]
[null,null,null,{"$f":"IFERROR(VLOOKUP(C464,Participants!$B$3:$C$1002,2,0),\"\")","v":""},null,{"$f":"IFERROR(VLOOKUP(E464,Participants!$B$3:$C$1002,2,0),\"\")","v":""}]
[null,null,null,{"$f":"IFERROR(VLOOKUP(C465,Participants!$B$3:$C$1002,2,0),\"\")","v":""},null,{"$f":"IFERROR(VLOOKUP(E465,Participants!$B$3:$C$1002,2,0),\"\")","v":""}]
[null,null,null,{"$f":"IFERROR(VLOOKUP(C466,Participants!$B$3:$C$1002,2,0),\"\")","v":""},null,{"$f":"IFERROR(VLOOKUP(E466,Participants!$B$3:$C$1002,2,0),\"\")","v":""}]
[null,null,null,{"$f":"IFERROR(VLOOKUP(C467,Participants!$B$3:$C$1002,2,0),\"\")","v":""},null,{"$f":"IFERROR(VLOOKUP(E467,Participants!$B$3:$C$1002,2,0),\"\")","v":""}]
[null,null,null,{"$f":"IFERROR(VLOOKUP(C468,Participants!$B$3:$C$1002,2,0),\"\")","v":""},null,{"$f":"IFERROR(VLOOKUP(E468,Participants!$B$3:$C$1002,2,0),\"\")","v":""}]
[null,null,null,{"$f":"IFERROR(VLOOKUP(C469,Participants!$B$3:$C$1002,2,0),\"\")","v":""},null,{"$f":"IFERROR(VLOOKUP(E469,Participants!$B$3:$C$1002,2,0),\"\")","v":""}]
[null,null,null,{"$f":"IFERROR(VLOOKUP(C470,Participants!$B$3:$C$1002,2,0),\"\")","v":""},null,{"$f":"IFERROR(VLOOKUP(E470,Participants!$B$3:$C$1002,2,0),\"\")","v":""}]
[null,null,null,{"$f":"IFERROR(VLOOKUP(C471,Participants!$B$3:$C$1002,2,0),\"\")","v":""},null,{"$f":"IFERROR(VLOOKUP(E471,Participants!$B$3:$C$1002,2,0),\"\")","v":""}]
[null,null,null,{"$f":"IFERROR(VLOOKUP(C472,Participants!$B$3:$C$1002,2,0),\"\")","v":""},null,{"$f":"IFERROR(VLOOKUP(E472,Participants!$B$3:$C$1002,2,0),\"\")","v":""}]
[null,null,null,{"$f":"IFERROR(VLOOKUP(C473,Participants!$B$3:$C$1002,2,0),\"\")","v":""},null,{"$f":"IFERROR(VLOOKUP(E473,Participants!$B$3:$C$1002,2,0),\"\")","v":""}]
[null,null,null,{"$f":"IFERROR(VLOOKUP(C474,Participants!$B$3:$C$1002,2,0),\"\")","v":""},null,{"$f":"IFERROR(VLOOKUP(E474,Participants!$B$3:$C$1002,2,0),\"\")","v":""}]
[null,null,null,{"$f":"IFERROR(VLOOKUP(C475,Participants!$B$3:$C$1002,2,0),\"\")","v":""},null,{"$f":"IFERROR(VLOOKUP(E475,Participants!$B$3:$C$1002,2,0),\"\")","v":""}]
[null,null,null,{"$f":"IFERROR(VLOOKUP(C476,Participants!$B$3:$C$1002,2,0),\"\")","v":""},null,{"$f":"IFERROR(VLOOKUP(E476,Participants!$B$3:$C$1002,2,0),\"\")","v":""}]
[null,null,null,{"$f":"IFERROR(VLOOKUP(C477,Participants!$B$3:$C$1002,2,0),\"\")","v":""},null,{"$f":"IFERROR(VLOOKUP(E477,Participants!$B$3:$C$1002,2,0),\"\")","v":""}]
[null,null,null,{"$f":"IFERROR(VLOOKUP(C478,Participants!$B$3:$C$1002,2,0),\"\")","v":""},null,{"$f":"IFERROR(VLOOKUP(E478,Participants!$B$3:$C$1002,2,0),\"\")","v":""}]
[null,null,null,{"$f":"IFERROR(VLOOKUP(C479,Participants!$B$3:$C$1002,2,0),\"\")","v":""},null,{"$f":"IFERROR(VLOOKUP(E479,Participants!$B$3:$C$1002,2,0),\"\")","v":""}]
[null,null,null,{"$f":"IFERROR(VLOOKUP(C480,Participants!$B$3:$C$1002,2,0),\"\")","v":""},null,{"$f":"IFERROR(VLOOKUP(E480,Participants!$B$3:$C$1002,2,0),\"\")","v":""}]
[null,null,null,{"$f":"IFERROR(VLOOKUP(C481,Participants!$B$3:$C$1002,2,0),\"\")","v":""},null,{"$f":"IFERROR(VLOOKUP(E481,Participants!$B$3:$C$1002,2,0),\"\")","v":""}]
[null,null,null,{"$f":"IFERROR(VLOOKUP(C482,Participants!$B$3:$C$1002,2,0),\"\")","v":""},null,{"$f":"IFERROR(VLOOKUP(E482,Participants!$B$3:$C$1002,2,0),\"\")","v":""}]
[null,null,null,{"$f":"IFERROR(VLOOKUP(C483,Participants!$B$3:$C$1002,2,0),\"\")","v":""},null,{"$f":"IFERROR(VLOOKUP(E483,Participants!$B$3:$C$1002,2,0),\"\")","v":""}]
[null,null,null,{"$f":"IFERROR(VLOOKUP(C484,Participants!$B$3:$C$1002,2,0),\"\")","v":""},null,{"$f":"IFERROR(VLOOKUP(E484,Participants!$B$3:$C$1002,2,0),\"\")","v":""}]
[null,null,null,{"$f":"IFERROR(VLOOKUP(C485,Participants!$B$3:$C$1002,2,0),\"\")","v":""},null,{"$f":"IFERROR(VLOOKUP(E485,Participants!$B$3:$C$1002,2,0),\"\")","v":""}]
[null,null,null,{"$f":"IFERROR(VLOOKUP(C486,Participants!$B$3:$C$1002,2,0),\"\")","v":""},null,{"$f":"IFERROR(VLOOKUP(E486,Participants!$B$3:$C$1002,2,0),\"\")","v":""}]
[null,null,null,{"$f":"IFERROR(VLOOKUP(C487,Participants!$B$3:$C$1002,2,0),\"\")","v":""},null,{"$f":"IFERROR(VLOOKUP(E487,Participants!$B$3:$C$1002,2,0),\"\")","v":""}]
[null,null,null,{"$f":"IFERROR(VLOOKUP(C488,Participants!$B$3:$C$1002,2,0),\"\")","v":""},null,{"$f":"IFERROR(VLOOKUP(E488,Participants!$B$3:$C$1002,2,0),\"\")","v":""}]
[null,null,null,{"$f":"IFERROR(VLOOKUP(C489,Participants!$B$3:$C$1002,2,0),\"\")","v":""},null,{"$f":"IFERROR(VLOOKUP(E489,Participants!$B$3:$C$1002,2,0),\"\")","v":""}]
[null,null,null,{"$f":"IFERROR(VLOOKUP(C490,Participants!$B$3:$C$1002,2,0),\"\")","v":""},null,{"$f":"IFERROR(VLOOKUP(E490,Participants!$B$3:$C$1002,2,0),\"\")","v":""}]
[null,null,null,{"$f":"IFERROR(VLOOKUP(C491,Participants!$B$3:$C$1002,2,0),\"\")","v":""},null,{"$f":"IFERROR(VLOOKUP(E491,Participants!$B$3:$C$1002,2,0),\"\")","v":""}]
[null,null,null,{"$f":"IFERROR(VLOOKUP(C492,Participants!$B$3:$C$1002,2,0),\"\")","v":""},null,{"$f":"IFERROR(VLOOKUP(E492,Participants!$B$3:$C$1002,2,0),\"\")","v":""}]
[null,null,null,{"$f":"IFERROR(VLOOKUP(C493,Participants!$B$3:$C$1002,2,0),\"\")","v":""},null,{"$f":"IFERROR(VLOOKUP(E493,Participants!$B$3:$C$1002,2,0),\"\")","v":""}]
[null,null,null,{"$f":"IFERROR(VLOOKUP(C494,Participants!$B$3:$C$1002,2,0),\"\")","v":""},null,{"$f":"IFERROR(VLOOKUP(E494,Participants!$B$3:$C$1002,2,0),\"\")","v":""}]
[null,null,null,{"$f":"IFERROR(VLOOKUP(C495,Participants!$B$3:$C$1002,2,0),\"\")","v":""},null,{"$f":"IFERROR(VLOOKUP(E495,Participants!$B$3:$C$1002,2,0),\"\")","v":""}]
[null,null,null,{"$f":"IFERROR(VLOOKUP(C496,Participants!$B$3:$C$1002,2,0),\"\")","v":""},null,{"$f":"IFERROR(VLOOKUP(E496,Participants!$B$3:$C$1002,2,0),\"\")","v":""}]
[null,null,null,{"$f":"IFERROR(VLOOKUP(C497,Participants!$B$3:$C$1002,2,0),\"\")","v":""},null,{"$f":"IFERROR(VLOOKUP(E497,Participants!$B$3:$C$1002,2,0),\"\")","v":""}]
[null,null,null,{"$f":"IFERROR(VLOOKUP(C498,Participants!$B$3:$C$1002,2,0),\"\")","v":""},null,{"$f":"IFERROR(VLOOKUP(E498,Participants!$B$3:$C$1002,2,0),\"\")","v":""}]
[null,null,null,{"$f":"IFERROR(VLOOKUP(C499,Participants!$B$3:$C$1002,2,0),\"\")","v":""},null,{"$f":"IFERROR(VLOOKUP(E499,Participants!$B$3:$C$1002,2,0),\"\")","v":""}]
[null,null,null,{"$f":"IFERROR(VLOOKUP(C500,Participants!$B$3:$C$1002,2,0),\"\")","v":""},null,{"$f":"IFERROR(VLOOKUP(E500,Participants!$B$3:$C$1002,2,0),\"\")","v":""}]
[null,null,null,{"$f":"IFERROR(VLOOKUP(C501,Participants!$B$3:$C$1002,2,0),\"\")","v":""},null,{"$f":"IFERROR(VLOOKUP(E501,Participants!$B$3:$C$1002,2,0),\"\")","v":""}]
[null,null,null,{"$f":"IFERROR(VLOOKUP(C502,Participants!$B$3:$C$1002,2,0),\"\")","v":""},null,{"$f":"IFERROR(VLOOKUP(E502,Participants!$B$3:$C$1002,2,0),\"\")","v":""}]
[null,null,null,{"$f":"IFERROR(VLOOKUP(C503,Participants!$B$3:$C$1002,2,0),\"\")","v":""},null,{"$f":"IFERROR(VLOOKUP(E503,Participants!$B$3:$C$1002,2,0),\"\")","v":""}]
[null,null,null,{"$f":"IFERROR(VLOOKUP(C504,Participants!$B$3:$C$1002,2,0),\"\")","v":""},null,{"$f":"IFERROR(VLOOKUP(E504,Participants!$B$3:$C$1002,2,0),\"\")","v":""}]
[null,null,null,{"$f":"IFERROR(VLOOKUP(C505,Participants!$B$3:$C$1002,2,0),\"\")","v":""},null,{"$f":"IFERROR(VLOOKUP(E505,Participants!$B$3:$C$1002,2,0),\"\")","v":""}]
[null,null,null,{"$f":"IFERROR(VLOOKUP(C506,Participants!$B$3:$C$1002,2,0),\"\")","v":""},null,{"$f":"IFERROR(VLOOKUP(E506,Participants!$B$3:$C$1002,2,0),\"\")","v":""}]
[null,null,null,{"$f":"IFERROR(VLOOKUP(C507,Participants!$B$3:$C$1002,2,0),\"\")","v":""},null,{"$f":"IFERROR(VLOOKUP(E507,Participants!$B$3:$C$1002,2,0),\"\")","v":""}]
[null,null,null,{"$f":"IFERROR(VLOOKUP(C508,Participants!$B$3:$C$1002,2,0),\"\")","v":""},null,{"$f":"IFERROR(VLOOKUP(E508,Participants!$B$3:$C$1002,2,0),\"\")","v":""}]
[null,null,null,{"$f":"IFERROR(VLOOKUP(C509,Participants!$B$3:$C$1002,2,0),\"\")","v":""},null,{"$f":"IFERROR(VLOOKUP(E509,Participants!$B$3:$C$1002,2,0),\"\")","v":""}]
[null,null,null,{"$f":"IFERROR(VLOOKUP(C510,Participants!$B$3:$C$1002,2,0),\"\")","v":""},null,{"$f":"IFERROR(VLOOKUP(E510,Participants!$B$3:$C$1002,2,0),\"\")","v":""}]
[null,null,null,{"$f":"IFERROR(VLOOKUP(C511,Participants!$B$3:$C$1002,2,0),\"\")","v":""},null,{"$f":"IFERROR(VLOOKUP(E511,Participants!$B$3:$C$1002,2,0),\"\")","v":""}]
[null,null,null,{"$f":"IFERROR(VLOOKUP(C512,Participants!$B$3:$C$1002,2,0),\"\")","v":""},null,{"$f":"IFERROR(VLOOKUP(E512,Participants!$B$3:$C$1002,2,0),\"\")","v":""}]
[null,null,null,{"$f":"IFERROR(VLOOKUP(C513,Participants!$B$3:$C$1002,2,0),\"\")","v":""},null,{"$f":"IFERROR(VLOOKUP(E513,Participants!$B$3:$C$1002,2,0),\"\")","v":""}]
[null,null,null,{"$f":"IFERROR(VLOOKUP(C514,Participants!$B$3:$C$1002,2,0),\"\")","v":""},null,{"$f":"IFERROR(VLOOKUP(E514,Participants!$B$3:$C$1002,2,0),\"\")","v":""}]
[null,null,null,{"$f":"IFERROR(VLOOKUP(C515,Participants!$B$3:$C$1002,2,0),\"\")","v":""},null,{"$f":"IFERROR(VLOOKUP(E515,Participants!$B$3:$C$1002,2,0),\"\")","v":""}]
[null,null,null,{"$f":"IFERROR(VLOOKUP(C516,Participants!$B$3:$C$1002,2,0),\"\")","v":""},null,{"$f":"IFERROR(VLOOKUP(E516,Participants!$B$3:$C$1002,2,0),\"\")","v":""}]
[null,null,null,{"$f":"IFERROR(VLOOKUP(C517,Participants!$B$3:$C$1002,2,0),\"\")","v":""},null,{"$f":"IFERROR(VLOOKUP(E517,Participants!$B$3:$C$1002,2,0),\"\")","v":""}]
[null,null,null,{"$f":"IFERROR(VLOOKUP(C518,Participants!$B$3:$C$1002,2,0),\"\")","v":""},null,{"$f":"IFERROR(VLOOKUP(E518,Participants!$B$3:$C$1002,2,0),\"\")","v":""}]
[null,null,null,{"$f":"IFERROR(VLOOKUP(C519,Participants!$B$3:$C$1002,2,0),\"\")","v":""},null,{"$f":"IFERROR(VLOOKUP(E519,Participants!$B$3:$C$1002,2,0),\"\")","v":""}]
[null,null,null,{"$f":"IFERROR(VLOOKUP(C520,Participants!$B$3:$C$1002,2,0),\"\")","v":""},null,{"$f":"IFERROR(VLOOKUP(E520,Participants!$B$3:$C$1002,2,0),\"\")","v":""}]
[null,null,null,{"$f":"IFERROR(VLOOKUP(C521,Participants!$B$3:$C$1002,2,0),\"\")","v":""},null,{"$f":"IFERROR(VLOOKUP(E521,Participants!$B$3:$C$1002,2,0),\"\")","v":""}]
[null,null,null,{"$f":"IFERROR(VLOOKUP(C522,Participants!$B$3:$C$1002,2,0),\"\")","v":""},null,{"$f":"IFERROR(VLOOKUP(E522,Participants!$B$3:$C$1002,2,0),\"\")","v":""}]
[null,null,null,{"$f":"IFERROR(VLOOKUP(C523,Participants!$B$3:$C$1002,2,0),\"\")","v":""},null,{"$f":"IFERROR(VLOOKUP(E523,Participants!$B$3:$C$1002,2,0),\"\")","v":""}]
[null,null,null,{"$f":"IFERROR(VLOOKUP(C524,Participants!$B$3:$C$1002,2,0),\"\")","v":""},null,{"$f":"IFERROR(VLOOKUP(E524,Participants!$B$3:$C$1002,2,0),\"\")","v":""}]
[null,null,null,{"$f":"IFERROR(VLOOKUP(C525,Participants!$B$3:$C$1002,2,0),\"\")","v":""},null,{"$f":"IFERROR(VLOOKUP(E525,Participants!$B$3:$C$1002,2,0),\"\")","v":""}]
[null,null,null,{"$f":"IFERROR(VLOOKUP(C526,Participants!$B$3:$C$1002,2,0),\"\")","v":""},null,{"$f":"IFERROR(VLOOKUP(E526,Participants!$B$3:$C$1002,2,0),\"\")","v":""}]
[null,null,null,{"$f":"IFERROR(VLOOKUP(C527,Participants!$B$3:$C$1002,2,0),\"\")","v":""},null,{"$f":"IFERROR(VLOOKUP(E527,Participants!$B$3:$C$1002,2,0),\"\")","v":""}]
[null,null,null,{"$f":"IFERROR(VLOOKUP(C528,Participants!$B$3:$C$1002,2,0),\"\")","v":""},null,{"$f":"IFERROR(VLOOKUP(E528,Participants!$B$3:$C$1002,2,0),\"\")","v":""}]
[null,null,null,{"$f":"IFERROR(VLOOKUP(C529,Participants!$B$3:$C$1002,2,0),\"\")","v":""},null,{"$f":"IFERROR(VLOOKUP(E529,Participants!$B$3:$C$1002,2,0),\"\")","v":""}]
[null,null,null,{"$f":"IFERROR(VLOOKUP(C530,Participants!$B$3:$C$1002,2,0),\"\")","v":""},null,{"$f":"IFERROR(VLOOKUP(E530,Participants!$B$3:$C$1002,2,0),\"\")","v":""}]
[null,null,null,{"$f":"IFERROR(VLOOKUP(C531,Participants!$B$3:$C$1002,2,0),\"\")","v":""},null,{"$f":"IFERROR(VLOOKUP(E531,Participants!$B$3:$C$1002,2,0),\"\")","v":""}]
[null,null,null,{"$f":"IFERROR(VLOOKUP(C532,Participants!$B$3:$C$1002,2,0),\"\")","v":""},null,{"$f":"IFERROR(VLOOKUP(E532,Participants!$B$3:$C$1002,2,0),\"\")","v":""}]
[null,null,null,{"$f":"IFERROR(VLOOKUP(C533,Participants!$B$3:$C$1002,2,0),\"\")","v":""},null,{"$f":"IFERROR(VLOOKUP(E533,Participants!$B$3:$C$1002,2,0),\"\")","v":""}]
[null,null,null,{"$f":"IFERROR(VLOOKUP(C534,Participants!$B$3:$C$1002,2,0),\"\")","v":""},null,{"$f":"IFERROR(VLOOKUP(E534,Participants!$B$3:$C$1002,2,0),\"\")","v":""}]
[null,null,null,{"$f":"IFERROR(VLOOKUP(C535,Participants!$B$3:$C$1002,2,0),\"\")","v":""},null,{"$f":"IFERROR(VLOOKUP(E535,Participants!$B$3:$C$1002,2,0),\"\")","v":""}]
[null,null,null,{"$f":"IFERROR(VLOOKUP(C536,Participants!$B$3:$C$1002,2,0),\"\")","v":""},null,{"$f":"IFERROR(VLOOKUP(E536,Participants!$B$3:$C$1002,2,0),\"\")","v":""}]
[null,null,null,{"$f":"IFERROR(VLOOKUP(C537,Participants!$B$3:$C$1002,2,0),\"\")","v":""},null,{"$f":"IFERROR(VLOOKUP(E537,Participants!$B$3:$C$1002,2,0),\"\")","v":""}]
[null,null,null,{"$f":"IFERROR(VLOOKUP(C538,Participants!$B$3:$C$1002,2,0),\"\")","v":""},null,{"$f":"IFERROR(VLOOKUP(E538,Participants!$B$3:$C$1002,2,0),\"\")","v":""}]
[null,null,null,{"$f":"IFERROR(VLOOKUP(C539,Participants!$B$3:$C$1002,2,0),\"\")","v":""},null,{"$f":"IFERROR(VLOOKUP(E539,Participants!$B$3:$C$1002,2,0),\"\")","v":""}]
[null,null,null,{"$f":"IFERROR(VLOOKUP(C540,Participants!$B$3:$C$1002,2,0),\"\")","v":""},null,{"$f":"IFERROR(VLOOKUP(E540,Participants!$B$3:$C$1002,2,0),\"\")","v":""}]
[null,null,null,{"$f":"IFERROR(VLOOKUP(C541,Participants!$B$3:$C$1002,2,0),\"\")","v":""},null,{"$f":"IFERROR(VLOOKUP(E541,Participants!$B$3:$C$1002,2,0),\"\")","v":""}]
[null,null,null,{"$f":"IFERROR(VLOOKUP(C542,Participants!$B$3:$C$1002,2,0),\"\")","v":""},null,{"$f":"IFERROR(VLOOKUP(E542,Participants!$B$3:$C$1002,2,0),\"\")","v":""}]
[null,null,null,{"$f":"IFERROR(VLOOKUP(C543,Participants!$B$3:$C$1002,2,0),\"\")","v":""},null,{"$f":"IFERROR(VLOOKUP(E543,Participants!$B$3:$C$1002,2,0),\"\")","v":""}]
[null,null,null,{"$f":"IFERROR(VLOOKUP(C544,Participants!$B$3:$C$1002,2,0),\"\")","v":""},null,{"$f":"IFERROR(VLOOKUP(E544,Participants!$B$3:$C$1002,2,0),\"\")","v":""}]
[null,null,null,{"$f":"IFERROR(VLOOKUP(C545,Participants!$B$3:$C$1002,2,0),\"\")","v":""},null,{"$f":"IFERROR(VLOOKUP(E545,Participants!$B$3:$C$1002,2,0),\"\")","v":""}]
[null,null,null,{"$f":"IFERROR(VLOOKUP(C546,Participants!$B$3:$C$1002,2,0),\"\")","v":""},null,{"$f":"IFERROR(VLOOKUP(E546,Participants!$B$3:$C$1002,2,0),\"\")","v":""}]
[null,null,null,{"$f":"IFERROR(VLOOKUP(C547,Participants!$B$3:$C$1002,2,0),\"\")","v":""},null,{"$f":"IFERROR(VLOOKUP(E547,Participants!$B$3:$C$1002,2,0),\"\")","v":""}]
[null,null,null,{"$f":"IFERROR(VLOOKUP(C548,Participants!$B$3:$C$1002,2,0),\"\")","v":""},null,{"$f":"IFERROR(VLOOKUP(E548,Participants!$B$3:$C$1002,2,0),\"\")","v":""}]
[null,null,null,{"$f":"IFERROR(VLOOKUP(C549,Participants!$B$3:$C$1002,2,0),\"\")","v":""},null,{"$f":"IFERROR(VLOOKUP(E549,Participants!$B$3:$C$1002,2,0),\"\")","v":""}]
[null,null,null,{"$f":"IFERROR(VLOOKUP(C550,Participants!$B$3:$C$1002,2,0),\"\")","v":""},null,{"$f":"IFERROR(VLOOKUP(E550,Participants!$B$3:$C$1002,2,0),\"\")","v":""}]
[null,null,null,{"$f":"IFERROR(VLOOKUP(C551,Participants!$B$3:$C$1002,2,0),\"\")","v":""},null,{"$f":"IFERROR(VLOOKUP(E551,Participants!$B$3:$C$1002,2,0),\"\")","v":""}]
[null,null,null,{"$f":"IFERROR(VLOOKUP(C552,Participants!$B$3:$C$1002,2,0),\"\")","v":""},null,{"$f":"IFERROR(VLOOKUP(E552,Participants!$B$3:$C$1002,2,0),\"\")","v":""}]
[null,null,null,{"$f":"IFERROR(VLOOKUP(C553,Participants!$B$3:$C$1002,2,0),\"\")","v":""},null,{"$f":"IFERROR(VLOOKUP(E553,Participants!$B$3:$C$1002,2,0),\"\")","v":""}]
[null,null,null,{"$f":"IFERROR(VLOOKUP(C554,Participants!$B$3:$C$1002,2,0),\"\")","v":""},null,{"$f":"IFERROR(VLOOKUP(E554,Participants!$B$3:$C$1002,2,0),\"\")","v":""}]
[null,null,null,{"$f":"IFERROR(VLOOKUP(C555,Participants!$B$3:$C$1002,2,0),\"\")","v":""},null,{"$f":"IFERROR(VLOOKUP(E555,Participants!$B$3:$C$1002,2,0),\"\")","v":""}]
[null,null,null,{"$f":"IFERROR(VLOOKUP(C556,Participants!$B$3:$C$1002,2,0),\"\")","v":""},null,{"$f":"IFERROR(VLOOKUP(E556,Participants!$B$3:$C$1002,2,0),\"\")","v":""}]
[null,null,null,{"$f":"IFERROR(VLOOKUP(C557,Participants!$B$3:$C$1002,2,0),\"\")","v":""},null,{"$f":"IFERROR(VLOOKUP(E557,Participants!$B$3:$C$1002,2,0),\"\")","v":""}]
[null,null,null,{"$f":"IFERROR(VLOOKUP(C558,Participants!$B$3:$C$1002,2,0),\"\")","v":""},null,{"$f":"IFERROR(VLOOKUP(E558,Participants!$B$3:$C$1002,2,0),\"\")","v":""}]
[null,null,null,{"$f":"IFERROR(VLOOKUP(C559,Participants!$B$3:$C$1002,2,0),\"\")","v":""},null,{"$f":"IFERROR(VLOOKUP(E559,Participants!$B$3:$C$1002,2,0),\"\")","v":""}]
[null,null,null,{"$f":"IFERROR(VLOOKUP(C560,Participants!$B$3:$C$1002,2,0),\"\")","v":""},null,{"$f":"IFERROR(VLOOKUP(E560,Participants!$B$3:$C$1002,2,0),\"\")","v":""}]
[null,null,null,{"$f":"IFERROR(VLOOKUP(C561,Participants!$B$3:$C$1002,2,0),\"\")","v":""},null,{"$f":"IFERROR(VLOOKUP(E561,Participants!$B$3:$C$1002,2,0),\"\")","v":""}]
[null,null,null,{"$f":"IFERROR(VLOOKUP(C562,Participants!$B$3:$C$1002,2,0),\"\")","v":""},null,{"$f":"IFERROR(VLOOKUP(E562,Participants!$B$3:$C$1002,2,0),\"\")","v":""}]
[null,null,null,{"$f":"IFERROR(VLOOKUP(C563,Participants!$B$3:$C$1002,2,0),\"\")","v":""},null,{"$f":"IFERROR(VLOOKUP(E563,Participants!$B$3:$C$1002,2,0),\"\")","v":""}]
[null,null,null,{"$f":"IFERROR(VLOOKUP(C564,Participants!$B$3:$C$1002,2,0),\"\")","v":""},null,{"$f":"IFERROR(VLOOKUP(E564,Participants!$B$3:$C$1002,2,0),\"\")","v":""}]
[null,null,null,{"$f":"IFERROR(VLOOKUP(C565,Participants!$B$3:$C$1002,2,0),\"\")","v":""},null,{"$f":"IFERROR(VLOOKUP(E565,Participants!$B$3:$C$1002,2,0),\"\")","v":""}]
[null,null,null,{"$f":"IFERROR(VLOOKUP(C566,Participants!$B$3:$C$1002,2,0),\"\")","v":""},null,{"$f":"IFERROR(VLOOKUP(E566,Participants!$B$3:$C$1002,2,0),\"\")","v":""}]
[null,null,null,{"$f":"IFERROR(VLOOKUP(C567,Participants!$B$3:$C$1002,2,0),\"\")","v":""},null,{"$f":"IFERROR(VLOOKUP(E567,Participants!$B$3:$C$1002,2,0),\"\")","v":""}]
[null,null,null,{"$f":"IFERROR(VLOOKUP(C568,Participants!$B$3:$C$1002,2,0),\"\")","v":""},null,{"$f":"IFERROR(VLOOKUP(E568,Participants!$B$3:$C$1002,2,0),\"\")","v":""}]
[null,null,null,{"$f":"IFERROR(VLOOKUP(C569,Participants!$B$3:$C$1002,2,0),\"\")","v":""},null,{"$f":"IFERROR(VLOOKUP(E569,Participants!$B$3:$C$1002,2,0),\"\")","v":""}]
[null,null,null,{"$f":"IFERROR(VLOOKUP(C570,Participants!$B$3:$C$1002,2,0),\"\")","v":""},null,{"$f":"IFERROR(VLOOKUP(E570,Participants!$B$3:$C$1002,2,0),\"\")","v":""}]
[null,null,null,{"$f":"IFERROR(VLOOKUP(C571,Participants!$B$3:$C$1002,2,0),\"\")","v":""},null,{"$f":"IFERROR(VLOOKUP(E571,Participants!$B$3:$C$1002,2,0),\"\")","v":""}]
[null,null,null,{"$f":"IFERROR(VLOOKUP(C572,Participants!$B$3:$C$1002,2,0),\"\")","v":""},null,{"$f":"IFERROR(VLOOKUP(E572,Participants!$B$3:$C$1002,2,0),\"\")","v":""}]
[null,null,null,{"$f":"IFERROR(VLOOKUP(C573,Participants!$B$3:$C$1002,2,0),\"\")","v":""},null,{"$f":"IFERROR(VLOOKUP(E573,Participants!$B$3:$C$1002,2,0),\"\")","v":""}]
[null,null,null,{"$f":"IFERROR(VLOOKUP(C574,Participants!$B$3:$C$1002,2,0),\"\")","v":""},null,{"$f":"IFERROR(VLOOKUP(E574,Participants!$B$3:$C$1002,2,0),\"\")","v":""}]
[null,null,null,{"$f":"IFERROR(VLOOKUP(C575,Participants!$B$3:$C$1002,2,0),\"\")","v":""},null,{"$f":"IFERROR(VLOOKUP(E575,Participants!$B$3:$C$1002,2,0),\"\")","v":""}]
[null,null,null,{"$f":"IFERROR(VLOOKUP(C576,Participants!$B$3:$C$1002,2,0),\"\")","v":""},null,{"$f":"IFERROR(VLOOKUP(E576,Participants!$B$3:$C$1002,2,0),\"\")","v":""}]
[null,null,null,{"$f":"IFERROR(VLOOKUP(C577,Participants!$B$3:$C$1002,2,0),\"\")","v":""},null,{"$f":"IFERROR(VLOOKUP(E577,Participants!$B$3:$C$1002,2,0),\"\")","v":""}]
[null,null,null,{"$f":"IFERROR(VLOOKUP(C578,Participants!$B$3:$C$1002,2,0),\"\")","v":""},null,{"$f":"IFERROR(VLOOKUP(E578,Participants!$B$3:$C$1002,2,0),\"\")","v":""}]
[null,null,null,{"$f":"IFERROR(VLOOKUP(C579,Participants!$B$3:$C$1002,2,0),\"\")","v":""},null,{"$f":"IFERROR(VLOOKUP(E579,Participants!$B$3:$C$1002,2,0),\"\")","v":""}]
[null,null,null,{"$f":"IFERROR(VLOOKUP(C580,Participants!$B$3:$C$1002,2,0),\"\")","v":""},null,{"$f":"IFERROR(VLOOKUP(E580,Participants!$B$3:$C$1002,2,0),\"\")","v":""}]
[null,null,null,{"$f":"IFERROR(VLOOKUP(C581,Participants!$B$3:$C$1002,2,0),\"\")","v":""},null,{"$f":"IFERROR(VLOOKUP(E581,Participants!$B$3:$C$1002,2,0),\"\")","v":""}]
[null,null,null,{"$f":"IFERROR(VLOOKUP(C582,Participants!$B$3:$C$1002,2,0),\"\")","v":""},null,{"$f":"IFERROR(VLOOKUP(E582,Participants!$B$3:$C$1002,2,0),\"\")","v":""}]
[null,null,null,{"$f":"IFERROR(VLOOKUP(C583,Participants!$B$3:$C$1002,2,0),\"\")","v":""},null,{"$f":"IFERROR(VLOOKUP(E583,Participants!$B$3:$C$1002,2,0),\"\")","v":""}]
[null,null,null,{"$f":"IFERROR(VLOOKUP(C584,Participants!$B$3:$C$1002,2,0),\"\")","v":""},null,{"$f":"IFERROR(VLOOKUP(E584,Participants!$B$3:$C$1002,2,0),\"\")","v":""}]
[null,null,null,{"$f":"IFERROR(VLOOKUP(C585,Participants!$B$3:$C$1002,2,0),\"\")","v":""},null,{"$f":"IFERROR(VLOOKUP(E585,Participants!$B$3:$C$1002,2,0),\"\")","v":""}]
[null,null,null,{"$f":"IFERROR(VLOOKUP(C586,Participants!$B$3:$C$1002,2,0),\"\")","v":""},null,{"$f":"IFERROR(VLOOKUP(E586,Participants!$B$3:$C$1002,2,0),\"\")","v":""}]
[null,null,null,{"$f":"IFERROR(VLOOKUP(C587,Participants!$B$3:$C$1002,2,0),\"\")","v":""},null,{"$f":"IFERROR(VLOOKUP(E587,Participants!$B$3:$C$1002,2,0),\"\")","v":""}]
[null,null,null,{"$f":"IFERROR(VLOOKUP(C588,Participants!$B$3:$C$1002,2,0),\"\")","v":""},null,{"$f":"IFERROR(VLOOKUP(E588,Participants!$B$3:$C$1002,2,0),\"\")","v":""}]
[null,null,null,{"$f":"IFERROR(VLOOKUP(C589,Participants!$B$3:$C$1002,2,0),\"\")","v":""},null,{"$f":"IFERROR(VLOOKUP(E589,Participants!$B$3:$C$1002,2,0),\"\")","v":""}]
[null,null,null,{"$f":"IFERROR(VLOOKUP(C590,Participants!$B$3:$C$1002,2,0),\"\")","v":""},null,{"$f":"IFERROR(VLOOKUP(E590,Participants!$B$3:$C$1002,2,0),\"\")","v":""}]
[null,null,null,{"$f":"IFERROR(VLOOKUP(C591,Participants!$B$3:$C$1002,2,0),\"\")","v":""},null,{"$f":"IFERROR(VLOOKUP(E591,Participants!$B$3:$C$1002,2,0),\"\")","v":""}]
[null,null,null,{"$f":"IFERROR(VLOOKUP(C592,Participants!$B$3:$C$1002,2,0),\"\")","v":""},null,{"$f":"IFERROR(VLOOKUP(E592,Participants!$B$3:$C$1002,2,0),\"\")","v":""}]
[null,null,null,{"$f":"IFERROR(VLOOKUP(C593,Participants!$B$3:$C$1002,2,0),\"\")","v":""},null,{"$f":"IFERROR(VLOOKUP(E593,Participants!$B$3:$C$1002,2,0),\"\")","v":""}]
[null,null,null,{"$f":"IFERROR(VLOOKUP(C594,Participants!$B$3:$C$1002,2,0),\"\")","v":""},null,{"$f":"IFERROR(VLOOKUP(E594,Participants!$B$3:$C$1002,2,0),\"\")","v":""}]
[null,null,null,{"$f":"IFERROR(VLOOKUP(C595,Participants!$B$3:$C$1002,2,0),\"\")","v":""},null,{"$f":"IFERROR(VLOOKUP(E595,Participants!$B$3:$C$1002,2,0),\"\")","v":""}]
[null,null,null,{"$f":"IFERROR(VLOOKUP(C596,Participants!$B$3:$C$1002,2,0),\"\")","v":""},null,{"$f":"IFERROR(VLOOKUP(E596,Participants!$B$3:$C$1002,2,0),\"\")","v":""}]
[null,null,null,{"$f":"IFERROR(VLOOKUP(C597,Participants!$B$3:$C$1002,2,0),\"\")","v":""},null,{"$f":"IFERROR(VLOOKUP(E597,Participants!$B$3:$C$1002,2,0),\"\")","v":""}]
[null,null,null,{"$f":"IFERROR(VLOOKUP(C598,Participants!$B$3:$C$1002,2,0),\"\")","v":""},null,{"$f":"IFERROR(VLOOKUP(E598,Participants!$B$3:$C$1002,2,0),\"\")","v":""}]
[null,null,null,{"$f":"IFERROR(VLOOKUP(C599,Participants!$B$3:$C$1002,2,0),\"\")","v":""},null,{"$f":"IFERROR(VLOOKUP(E599,Participants!$B$3:$C$1002,2,0),\"\")","v":""}]
[null,null,null,{"$f":"IFERROR(VLOOKUP(C600,Participants!$B$3:$C$1002,2,0),\"\")","v":""},null,{"$f":"IFERROR(VLOOKUP(E600,Participants!$B$3:$C$1002,2,0),\"\")","v":""}]
[null,null,null,{"$f":"IFERROR(VLOOKUP(C601,Participants!$B$3:$C$1002,2,0),\"\")","v":""},null,{"$f":"IFERROR(VLOOKUP(E601,Participants!$B$3:$C$1002,2,0),\"\")","v":""}]
[null,null,null,{"$f":"IFERROR(VLOOKUP(C602,Participants!$B$3:$C$1002,2,0),\"\")","v":""},null,{"$f":"IFERROR(VLOOKUP(E602,Participants!$B$3:$C$1002,2,0),\"\")","v":""}]
[null,null,null,{"$f":"IFERROR(VLOOKUP(C603,Participants!$B$3:$C$1002,2,0),\"\")","v":""},null,{"$f":"IFERROR(VLOOKUP(E603,Participants!$B$3:$C$1002,2,0),\"\")","v":""}]
[null,null,null,{"$f":"IFERROR(VLOOKUP(C604,Participants!$B$3:$C$1002,2,0),\"\")","v":""},null,{"$f":"IFERROR(VLOOKUP(E604,Participants!$B$3:$C$1002,2,0),\"\")","v":""}]
[null,null,null,{"$f":"IFERROR(VLOOKUP(C605,Participants!$B$3:$C$1002,2,0),\"\")","v":""},null,{"$f":"IFERROR(VLOOKUP(E605,Participants!$B$3:$C$1002,2,0),\"\")","v":""}]
[null,null,null,{"$f":"IFERROR(VLOOKUP(C606,Participants!$B$3:$C$1002,2,0),\"\")","v":""},null,{"$f":"IFERROR(VLOOKUP(E606,Participants!$B$3:$C$1002,2,0),\"\")","v":""}]
[null,null,null,{"$f":"IFERROR(VLOOKUP(C607,Participants!$B$3:$C$1002,2,0),\"\")","v":""},null,{"$f":"IFERROR(VLOOKUP(E607,Participants!$B$3:$C$1002,2,0),\"\")","v":""}]
[null,null,null,{"$f":"IFERROR(VLOOKUP(C608,Participants!$B$3:$C$1002,2,0),\"\")","v":""},null,{"$f":"IFERROR(VLOOKUP(E608,Participants!$B$3:$C$1002,2,0),\"\")","v":""}]
[null,null,null,{"$f":"IFERROR(VLOOKUP(C609,Participants!$B$3:$C$1002,2,0),\"\")","v":""},null,{"$f":"IFERROR(VLOOKUP(E609,Participants!$B$3:$C$1002,2,0),\"\")","v":""}]
[null,null,null,{"$f":"IFERROR(VLOOKUP(C610,Participants!$B$3:$C$1002,2,0),\"\")","v":""},null,{"$f":"IFERROR(VLOOKUP(E610,Participants!$B$3:$C$1002,2,0),\"\")","v":""}]
[null,null,null,{"$f":"IFERROR(VLOOKUP(C611,Participants!$B$3:$C$1002,2,0),\"\")","v":""},null,{"$f":"IFERROR(VLOOKUP(E611,Participants!$B$3:$C$1002,2,0),\"\")","v":""}]
[null,null,null,{"$f":"IFERROR(VLOOKUP(C612,Participants!$B$3:$C$1002,2,0),\"\")","v":""},null,{"$f":"IFERROR(VLOOKUP(E612,Participants!$B$3:$C$1002,2,0),\"\")","v":""}]
[null,null,null,{"$f":"IFERROR(VLOOKUP(C613,Participants!$B$3:$C$1002,2,0),\"\")","v":""},null,{"$f":"IFERROR(VLOOKUP(E613,Participants!$B$3:$C$1002,2,0),\"\")","v":""}]
[null,null,null,{"$f":"IFERROR(VLOOKUP(C614,Participants!$B$3:$C$1002,2,0),\"\")","v":""},null,{"$f":"IFERROR(VLOOKUP(E614,Participants!$B$3:$C$1002,2,0),\"\")","v":""}]
[null,null,null,{"$f":"IFERROR(VLOOKUP(C615,Participants!$B$3:$C$1002,2,0),\"\")","v":""},null,{"$f":"IFERROR(VLOOKUP(E615,Participants!$B$3:$C$1002,2,0),\"\")","v":""}]
[null,null,null,{"$f":"IFERROR(VLOOKUP(C616,Participants!$B$3:$C$1002,2,0),\"\")","v":""},null,{"$f":"IFERROR(VLOOKUP(E616,Participants!$B$3:$C$1002,2,0),\"\")","v":""}]
[null,null,null,{"$f":"IFERROR(VLOOKUP(C617,Participants!$B$3:$C$1002,2,0),\"\")","v":""},null,{"$f":"IFERROR(VLOOKUP(E617,Participants!$B$3:$C$1002,2,0),\"\")","v":""}]
[null,null,null,{"$f":"IFERROR(VLOOKUP(C618,Participants!$B$3:$C$1002,2,0),\"\")","v":""},null,{"$f":"IFERROR(VLOOKUP(E618,Participants!$B$3:$C$1002,2,0),\"\")","v":""}]
[null,null,null,{"$f":"IFERROR(VLOOKUP(C619,Participants!$B$3:$C$1002,2,0),\"\")","v":""},null,{"$f":"IFERROR(VLOOKUP(E619,Participants!$B$3:$C$1002,2,0),\"\")","v":""}]
[null,null,null,{"$f":"IFERROR(VLOOKUP(C620,Participants!$B$3:$C$1002,2,0),\"\")","v":""},null,{"$f":"IFERROR(VLOOKUP(E620,Participants!$B$3:$C$1002,2,0),\"\")","v":""}]
[null,null,null,{"$f":"IFERROR(VLOOKUP(C621,Participants!$B$3:$C$1002,2,0),\"\")","v":""},null,{"$f":"IFERROR(VLOOKUP(E621,Participants!$B$3:$C$1002,2,0),\"\")","v":""}]
[null,null,null,{"$f":"IFERROR(VLOOKUP(C622,Participants!$B$3:$C$1002,2,0),\"\")","v":""},null,{"$f":"IFERROR(VLOOKUP(E622,Participants!$B$3:$C$1002,2,0),\"\")","v":""}]
[null,null,null,{"$f":"IFERROR(VLOOKUP(C623,Participants!$B$3:$C$1002,2,0),\"\")","v":""},null,{"$f":"IFERROR(VLOOKUP(E623,Participants!$B$3:$C$1002,2,0),\"\")","v":""}]
[null,null,null,{"$f":"IFERROR(VLOOKUP(C624,Participants!$B$3:$C$1002,2,0),\"\")","v":""},null,{"$f":"IFERROR(VLOOKUP(E624,Participants!$B$3:$C$1002,2,0),\"\")","v":""}]
[null,null,null,{"$f":"IFERROR(VLOOKUP(C625,Participants!$B$3:$C$1002,2,0),\"\")","v":""},null,{"$f":"IFERROR(VLOOKUP(E625,Participants!$B$3:$C$1002,2,0),\"\")","v":""}]
[null,null,null,{"$f":"IFERROR(VLOOKUP(C626,Participants!$B$3:$C$1002,2,0),\"\")","v":""},null,{"$f":"IFERROR(VLOOKUP(E626,Participants!$B$3:$C$1002,2,0),\"\")","v":""}]
[null,null,null,{"$f":"IFERROR(VLOOKUP(C627,Participants!$B$3:$C$1002,2,0),\"\")","v":""},null,{"$f":"IFERROR(VLOOKUP(E627,Participants!$B$3:$C$1002,2,0),\"\")","v":""}]
[null,null,null,{"$f":"IFERROR(VLOOKUP(C628,Participants!$B$3:$C$1002,2,0),\"\")","v":""},null,{"$f":"IFERROR(VLOOKUP(E628,Participants!$B$3:$C$1002,2,0),\"\")","v":""}]
[null,null,null,{"$f":"IFERROR(VLOOKUP(C629,Participants!$B$3:$C$1002,2,0),\"\")","v":""},null,{"$f":"IFERROR(VLOOKUP(E629,Participants!$B$3:$C$1002,2,0),\"\")","v":""}]
[null,null,null,{"$f":"IFERROR(VLOOKUP(C630,Participants!$B$3:$C$1002,2,0),\"\")","v":""},null,{"$f":"IFERROR(VLOOKUP(E630,Participants!$B$3:$C$1002,2,0),\"\")","v":""}]
[null,null,null,{"$f":"IFERROR(VLOOKUP(C631,Participants!$B$3:$C$1002,2,0),\"\")","v":""},null,{"$f":"IFERROR(VLOOKUP(E631,Participants!$B$3:$C$1002,2,0),\"\")","v":""}]
[null,null,null,{"$f":"IFERROR(VLOOKUP(C632,Participants!$B$3:$C$1002,2,0),\"\")","v":""},null,{"$f":"IFERROR(VLOOKUP(E632,Participants!$B$3:$C$1002,2,0),\"\")","v":""}]
[null,null,null,{"$f":"IFERROR(VLOOKUP(C633,Participants!$B$3:$C$1002,2,0),\"\")","v":""},null,{"$f":"IFERROR(VLOOKUP(E633,Participants!$B$3:$C$1002,2,0),\"\")","v":""}]
[null,null,null,{"$f":"IFERROR(VLOOKUP(C634,Participants!$B$3:$C$1002,2,0),\"\")","v":""},null,{"$f":"IFERROR(VLOOKUP(E634,Participants!$B$3:$C$1002,2,0),\"\")","v":""}]
[null,null,null,{"$f":"IFERROR(VLOOKUP(C635,Participants!$B$3:$C$1002,2,0),\"\")","v":""},null,{"$f":"IFERROR(VLOOKUP(E635,Participants!$B$3:$C$1002,2,0),\"\")","v":""}]
[null,null,null,{"$f":"IFERROR(VLOOKUP(C636,Participants!$B$3:$C$1002,2,0),\"\")","v":""},null,{"$f":"IFERROR(VLOOKUP(E636,Participants!$B$3:$C$1002,2,0),\"\")","v":""}]
[null,null,null,{"$f":"IFERROR(VLOOKUP(C637,Participants!$B$3:$C$1002,2,0),\"\")","v":""},null,{"$f":"IFERROR(VLOOKUP(E637,Participants!$B$3:$C$1002,2,0),\"\")","v":""}]
[null,null,null,{"$f":"IFERROR(VLOOKUP(C638,Participants!$B$3:$C$1002,2,0),\"\")","v":""},null,{"$f":"IFERROR(VLOOKUP(E638,Participants!$B$3:$C$1002,2,0),\"\")","v":""}]
[null,null,null,{"$f":"IFERROR(VLOOKUP(C639,Participants!$B$3:$C$1002,2,0),\"\")","v":""},null,{"$f":"IFERROR(VLOOKUP(E639,Participants!$B$3:$C$1002,2,0),\"\")","v":""}]
[null,null,null,{"$f":"IFERROR(VLOOKUP(C640,Participants!$B$3:$C$1002,2,0),\"\")","v":""},null,{"$f":"IFERROR(VLOOKUP(E640,Participants!$B$3:$C$1002,2,0),\"\")","v":""}]
[null,null,null,{"$f":"IFERROR(VLOOKUP(C641,Participants!$B$3:$C$1002,2,0),\"\")","v":""},null,{"$f":"IFERROR(VLOOKUP(E641,Participants!$B$3:$C$1002,2,0),\"\")","v":""}]
[null,null,null,{"$f":"IFERROR(VLOOKUP(C642,Participants!$B$3:$C$1002,2,0),\"\")","v":""},null,{"$f":"IFERROR(VLOOKUP(E642,Participants!$B$3:$C$1002,2,0),\"\")","v":""}]
[null,null,null,{"$f":"IFERROR(VLOOKUP(C643,Participants!$B$3:$C$1002,2,0),\"\")","v":""},null,{"$f":"IFERROR(VLOOKUP(E643,Participants!$B$3:$C$1002,2,0),\"\")","v":""}]
[null,null,null,{"$f":"IFERROR(VLOOKUP(C644,Participants!$B$3:$C$1002,2,0),\"\")","v":""},null,{"$f":"IFERROR(VLOOKUP(E644,Participants!$B$3:$C$1002,2,0),\"\")","v":""}]
[null,null,null,{"$f":"IFERROR(VLOOKUP(C645,Participants!$B$3:$C$1002,2,0),\"\")","v":""},null,{"$f":"IFERROR(VLOOKUP(E645,Participants!$B$3:$C$1002,2,0),\"\")","v":""}]
[null,null,null,{"$f":"IFERROR(VLOOKUP(C646,Participants!$B$3:$C$1002,2,0),\"\")","v":""},null,{"$f":"IFERROR(VLOOKUP(E646,Participants!$B$3:$C$1002,2,0),\"\")","v":""}]
[null,null,null,{"$f":"IFERROR(VLOOKUP(C647,Participants!$B$3:$C$1002,2,0),\"\")","v":""},null,{"$f":"IFERROR(VLOOKUP(E647,Participants!$B$3:$C$1002,2,0),\"\")","v":""}]
[null,null,null,{"$f":"IFERROR(VLOOKUP(C648,Participants!$B$3:$C$1002,2,0),\"\")","v":""},null,{"$f":"IFERROR(VLOOKUP(E648,Participants!$B$3:$C$1002,2,0),\"\")","v":""}]
[null,null,null,{"$f":"IFERROR(VLOOKUP(C649,Participants!$B$3:$C$1002,2,0),\"\")","v":""},null,{"$f":"IFERROR(VLOOKUP(E649,Participants!$B$3:$C$1002,2,0),\"\")","v":""}]
[null,null,null,{"$f":"IFERROR(VLOOKUP(C650,Participants!$B$3:$C$1002,2,0),\"\")","v":""},null,{"$f":"IFERROR(VLOOKUP(E650,Participants!$B$3:$C$1002,2,0),\"\")","v":""}]
[null,null,null,{"$f":"IFERROR(VLOOKUP(C651,Participants!$B$3:$C$1002,2,0),\"\")","v":""},null,{"$f":"IFERROR(VLOOKUP(E651,Participants!$B$3:$C$1002,2,0),\"\")","v":""}]
[null,null,null,{"$f":"IFERROR(VLOOKUP(C652,Participants!$B$3:$C$1002,2,0),\"\")","v":""},null,{"$f":"IFERROR(VLOOKUP(E652,Participants!$B$3:$C$1002,2,0),\"\")","v":""}]
[null,null,null,{"$f":"IFERROR(VLOOKUP(C653,Participants!$B$3:$C$1002,2,0),\"\")","v":""},null,{"$f":"IFERROR(VLOOKUP(E653,Participants!$B$3:$C$1002,2,0),\"\")","v":""}]
[null,null,null,{"$f":"IFERROR(VLOOKUP(C654,Participants!$B$3:$C$1002,2,0),\"\")","v":""},null,{"$f":"IFERROR(VLOOKUP(E654,Participants!$B$3:$C$1002,2,0),\"\")","v":""}]
[null,null,null,{"$f":"IFERROR(VLOOKUP(C655,Participants!$B$3:$C$1002,2,0),\"\")","v":""},null,{"$f":"IFERROR(VLOOKUP(E655,Participants!$B$3:$C$1002,2,0),\"\")","v":""}]
[null,null,null,{"$f":"IFERROR(VLOOKUP(C656,Participants!$B$3:$C$1002,2,0),\"\")","v":""},null,{"$f":"IFERROR(VLOOKUP(E656,Participants!$B$3:$C$1002,2,0),\"\")","v":""}]
[null,null,null,{"$f":"IFERROR(VLOOKUP(C657,Participants!$B$3:$C$1002,2,0),\"\")","v":""},null,{"$f":"IFERROR(VLOOKUP(E657,Participants!$B$3:$C$1002,2,0),\"\")","v":""}]
[null,null,null,{"$f":"IFERROR(VLOOKUP(C658,Participants!$B$3:$C$1002,2,0),\"\")","v":""},null,{"$f":"IFERROR(VLOOKUP(E658,Participants!$B$3:$C$1002,2,0),\"\")","v":""}]
[null,null,null,{"$f":"IFERROR(VLOOKUP(C659,Participants!$B$3:$C$1002,2,0),\"\")","v":""},null,{"$f":"IFERROR(VLOOKUP(E659,Participants!$B$3:$C$1002,2,0),\"\")","v":""}]
[null,null,null,{"$f":"IFERROR(VLOOKUP(C660,Participants!$B$3:$C$1002,2,0),\"\")","v":""},null,{"$f":"IFERROR(VLOOKUP(E660,Participants!$B$3:$C$1002,2,0),\"\")","v":""}]
[null,null,null,{"$f":"IFERROR(VLOOKUP(C661,Participants!$B$3:$C$1002,2,0),\"\")","v":""},null,{"$f":"IFERROR(VLOOKUP(E661,Participants!$B$3:$C$1002,2,0),\"\")","v":""}]
[null,null,null,{"$f":"IFERROR(VLOOKUP(C662,Participants!$B$3:$C$1002,2,0),\"\")","v":""},null,{"$f":"IFERROR(VLOOKUP(E662,Participants!$B$3:$C$1002,2,0),\"\")","v":""}]
[null,null,null,{"$f":"IFERROR(VLOOKUP(C663,Participants!$B$3:$C$1002,2,0),\"\")","v":""},null,{"$f":"IFERROR(VLOOKUP(E663,Participants!$B$3:$C$1002,2,0),\"\")","v":""}]
[null,null,null,{"$f":"IFERROR(VLOOKUP(C664,Participants!$B$3:$C$1002,2,0),\"\")","v":""},null,{"$f":"IFERROR(VLOOKUP(E664,Participants!$B$3:$C$1002,2,0),\"\")","v":""}]
[null,null,null,{"$f":"IFERROR(VLOOKUP(C665,Participants!$B$3:$C$1002,2,0),\"\")","v":""},null,{"$f":"IFERROR(VLOOKUP(E665,Participants!$B$3:$C$1002,2,0),\"\")","v":""}]
[null,null,null,{"$f":"IFERROR(VLOOKUP(C666,Participants!$B$3:$C$1002,2,0),\"\")","v":""},null,{"$f":"IFERROR(VLOOKUP(E666,Participants!$B$3:$C$1002,2,0),\"\")","v":""}]
[null,null,null,{"$f":"IFERROR(VLOOKUP(C667,Participants!$B$3:$C$1002,2,0),\"\")","v":""},null,{"$f":"IFERROR(VLOOKUP(E667,Participants!$B$3:$C$1002,2,0),\"\")","v":""}]
[null,null,null,{"$f":"IFERROR(VLOOKUP(C668,Participants!$B$3:$C$1002,2,0),\"\")","v":""},null,{"$f":"IFERROR(VLOOKUP(E668,Participants!$B$3:$C$1002,2,0),\"\")","v":""}]
[null,null,null,{"$f":"IFERROR(VLOOKUP(C669,Participants!$B$3:$C$1002,2,0),\"\")","v":""},null,{"$f":"IFERROR(VLOOKUP(E669,Participants!$B$3:$C$1002,2,0),\"\")","v":""}]
[null,null,null,{"$f":"IFERROR(VLOOKUP(C670,Participants!$B$3:$C$1002,2,0),\"\")","v":""},null,{"$f":"IFERROR(VLOOKUP(E670,Participants!$B$3:$C$1002,2,0),\"\")","v":""}]
[null,null,null,{"$f":"IFERROR(VLOOKUP(C671,Participants!$B$3:$C$1002,2,0),\"\")","v":""},null,{"$f":"IFERROR(VLOOKUP(E671,Participants!$B$3:$C$1002,2,0),\"\")","v":""}]
[null,null,null,{"$f":"IFERROR(VLOOKUP(C672,Participants!$B$3:$C$1002,2,0),\"\")","v":""},null,{"$f":"IFERROR(VLOOKUP(E672,Participants!$B$3:$C$1002,2,0),\"\")","v":""}]
[null,null,null,{"$f":"IFERROR(VLOOKUP(C673,Participants!$B$3:$C$1002,2,0),\"\")","v":""},null,{"$f":"IFERROR(VLOOKUP(E673,Participants!$B$3:$C$1002,2,0),\"\")","v":""}]
[null,null,null,{"$f":"IFERROR(VLOOKUP(C674,Participants!$B$3:$C$1002,2,0),\"\")","v":""},null,{"$f":"IFERROR(VLOOKUP(E674,Participants!$B$3:$C$1002,2,0),\"\")","v":""}]
[null,null,null,{"$f":"IFERROR(VLOOKUP(C675,Participants!$B$3:$C$1002,2,0),\"\")","v":""},null,{"$f":"IFERROR(VLOOKUP(E675,Participants!$B$3:$C$1002,2,0),\"\")","v":""}]
[null,null,null,{"$f":"IFERROR(VLOOKUP(C676,Participants!$B$3:$C$1002,2,0),\"\")","v":""},null,{"$f":"IFERROR(VLOOKUP(E676,Participants!$B$3:$C$1002,2,0),\"\")","v":""}]
[null,null,null,{"$f":"IFERROR(VLOOKUP(C677,Participants!$B$3:$C$1002,2,0),\"\")","v":""},null,{"$f":"IFERROR(VLOOKUP(E677,Participants!$B$3:$C$1002,2,0),\"\")","v":""}]
[null,null,null,{"$f":"IFERROR(VLOOKUP(C678,Participants!$B$3:$C$1002,2,0),\"\")","v":""},null,{"$f":"IFERROR(VLOOKUP(E678,Participants!$B$3:$C$1002,2,0),\"\")","v":""}]
[null,null,null,{"$f":"IFERROR(VLOOKUP(C679,Participants!$B$3:$C$1002,2,0),\"\")","v":""},null,{"$f":"IFERROR(VLOOKUP(E679,Participants!$B$3:$C$1002,2,0),\"\")","v":""}]
[null,null,null,{"$f":"IFERROR(VLOOKUP(C680,Participants!$B$3:$C$1002,2,0),\"\")","v":""},null,{"$f":"IFERROR(VLOOKUP(E680,Participants!$B$3:$C$1002,2,0),\"\")","v":""}]
[null,null,null,{"$f":"IFERROR(VLOOKUP(C681,Participants!$B$3:$C$1002,2,0),\"\")","v":""},null,{"$f":"IFERROR(VLOOKUP(E681,Participants!$B$3:$C$1002,2,0),\"\")","v":""}]
[null,null,null,{"$f":"IFERROR(VLOOKUP(C682,Participants!$B$3:$C$1002,2,0),\"\")","v":""},null,{"$f":"IFERROR(VLOOKUP(E682,Participants!$B$3:$C$1002,2,0),\"\")","v":""}]
[null,null,null,{"$f":"IFERROR(VLOOKUP(C683,Participants!$B$3:$C$1002,2,0),\"\")","v":""},null,{"$f":"IFERROR(VLOOKUP(E683,Participants!$B$3:$C$1002,2,0),\"\")","v":""}]
[null,null,null,{"$f":"IFERROR(VLOOKUP(C684,Participants!$B$3:$C$1002,2,0),\"\")","v":""},null,{"$f":"IFERROR(VLOOKUP(E684,Participants!$B$3:$C$1002,2,0),\"\")","v":""}]
[null,null,null,{"$f":"IFERROR(VLOOKUP(C685,Participants!$B$3:$C$1002,2,0),\"\")","v":""},null,{"$f":"IFERROR(VLOOKUP(E685,Participants!$B$3:$C$1002,2,0),\"\")","v":""}]
[null,null,null,{"$f":"IFERROR(VLOOKUP(C686,Participants!$B$3:$C$1002,2,0),\"\")","v":""},null,{"$f":"IFERROR(VLOOKUP(E686,Participants!$B$3:$C$1002,2,0),\"\")","v":""}]
[null,null,null,{"$f":"IFERROR(VLOOKUP(C687,Participants!$B$3:$C$1002,2,0),\"\")","v":""},null,{"$f":"IFERROR(VLOOKUP(E687,Participants!$B$3:$C$1002,2,0),\"\")","v":""}]
[null,null,null,{"$f":"IFERROR(VLOOKUP(C688,Participants!$B$3:$C$1002,2,0),\"\")","v":""},null,{"$f":"IFERROR(VLOOKUP(E688,Participants!$B$3:$C$1002,2,0),\"\")","v":""}]
[null,null,null,{"$f":"IFERROR(VLOOKUP(C689,Participants!$B$3:$C$1002,2,0),\"\")","v":""},null,{"$f":"IFERROR(VLOOKUP(E689,Participants!$B$3:$C$1002,2,0),\"\")","v":""}]
[null,null,null,{"$f":"IFERROR(VLOOKUP(C690,Participants!$B$3:$C$1002,2,0),\"\")","v":""},null,{"$f":"IFERROR(VLOOKUP(E690,Participants!$B$3:$C$1002,2,0),\"\")","v":""}]
[null,null,null,{"$f":"IFERROR(VLOOKUP(C691,Participants!$B$3:$C$1002,2,0),\"\")","v":""},null,{"$f":"IFERROR(VLOOKUP(E691,Participants!$B$3:$C$1002,2,0),\"\")","v":""}]
[null,null,null,{"$f":"IFERROR(VLOOKUP(C692,Participants!$B$3:$C$1002,2,0),\"\")","v":""},null,{"$f":"IFERROR(VLOOKUP(E692,Participants!$B$3:$C$1002,2,0),\"\")","v":""}]
[null,null,null,{"$f":"IFERROR(VLOOKUP(C693,Participants!$B$3:$C$1002,2,0),\"\")","v":""},null,{"$f":"IFERROR(VLOOKUP(E693,Participants!$B$3:$C$1002,2,0),\"\")","v":""}]
[null,null,null,{"$f":"IFERROR(VLOOKUP(C694,Participants!$B$3:$C$1002,2,0),\"\")","v":""},null,{"$f":"IFERROR(VLOOKUP(E694,Participants!$B$3:$C$1002,2,0),\"\")","v":""}]
[null,null,null,{"$f":"IFERROR(VLOOKUP(C695,Participants!$B$3:$C$1002,2,0),\"\")","v":""},null,{"$f":"IFERROR(VLOOKUP(E695,Participants!$B$3:$C$1002,2,0),\"\")","v":""}]
[null,null,null,{"$f":"IFERROR(VLOOKUP(C696,Participants!$B$3:$C$1002,2,0),\"\")","v":""},null,{"$f":"IFERROR(VLOOKUP(E696,Participants!$B$3:$C$1002,2,0),\"\")","v":""}]
[null,null,null,{"$f":"IFERROR(VLOOKUP(C697,Participants!$B$3:$C$1002,2,0),\"\")","v":""},null,{"$f":"IFERROR(VLOOKUP(E697,Participants!$B$3:$C$1002,2,0),\"\")","v":""}]
[null,null,null,{"$f":"IFERROR(VLOOKUP(C698,Participants!$B$3:$C$1002,2,0),\"\")","v":""},null,{"$f":"IFERROR(VLOOKUP(E698,Participants!$B$3:$C$1002,2,0),\"\")","v":""}]
[null,null,null,{"$f":"IFERROR(VLOOKUP(C699,Participants!$B$3:$C$1002,2,0),\"\")","v":""},null,{"$f":"IFERROR(VLOOKUP(E699,Participants!$B$3:$C$1002,2,0),\"\")","v":""}]
[null,null,null,{"$f":"IFERROR(VLOOKUP(C700,Participants!$B$3:$C$1002,2,0),\"\")","v":""},null,{"$f":"IFERROR(VLOOKUP(E700,Participants!$B$3:$C$1002,2,0),\"\")","v":""}]
[null,null,null,{"$f":"IFERROR(VLOOKUP(C701,Participants!$B$3:$C$1002,2,0),\"\")","v":""},null,{"$f":"IFERROR(VLOOKUP(E701,Participants!$B$3:$C$1002,2,0),\"\")","v":""}]
[null,null,null,{"$f":"IFERROR(VLOOKUP(C702,Participants!$B$3:$C$1002,2,0),\"\")","v":""},null,{"$f":"IFERROR(VLOOKUP(E702,Participants!$B$3:$C$1002,2,0),\"\")","v":""}]
[null,null,null,{"$f":"IFERROR(VLOOKUP(C703,Participants!$B$3:$C$1002,2,0),\"\")","v":""},null,{"$f":"IFERROR(VLOOKUP(E703,Participants!$B$3:$C$1002,2,0),\"\")","v":""}]
[null,null,null,{"$f":"IFERROR(VLOOKUP(C704,Participants!$B$3:$C$1002,2,0),\"\")","v":""},null,{"$f":"IFERROR(VLOOKUP(E704,Participants!$B$3:$C$1002,2,0),\"\")","v":""}]
[null,null,null,{"$f":"IFERROR(VLOOKUP(C705,Participants!$B$3:$C$1002,2,0),\"\")","v":""},null,{"$f":"IFERROR(VLOOKUP(E705,Participants!$B$3:$C$1002,2,0),\"\")","v":""}]
[null,null,null,{"$f":"IFERROR(VLOOKUP(C706,Participants!$B$3:$C$1002,2,0),\"\")","v":""},null,{"$f":"IFERROR(VLOOKUP(E706,Participants!$B$3:$C$1002,2,0),\"\")","v":""}]
[null,null,null,{"$f":"IFERROR(VLOOKUP(C707,Participants!$B$3:$C$1002,2,0),\"\")","v":""},null,{"$f":"IFERROR(VLOOKUP(E707,Participants!$B$3:$C$1002,2,0),\"\")","v":""}]
[null,null,null,{"$f":"IFERROR(VLOOKUP(C708,Participants!$B$3:$C$1002,2,0),\"\")","v":""},null,{"$f":"IFERROR(VLOOKUP(E708,Participants!$B$3:$C$1002,2,0),\"\")","v":""}]
[null,null,null,{"$f":"IFERROR(VLOOKUP(C709,Participants!$B$3:$C$1002,2,0),\"\")","v":""},null,{"$f":"IFERROR(VLOOKUP(E709,Participants!$B$3:$C$1002,2,0),\"\")","v":""}]
[null,null,null,{"$f":"IFERROR(VLOOKUP(C710,Participants!$B$3:$C$1002,2,0),\"\")","v":""},null,{"$f":"IFERROR(VLOOKUP(E710,Participants!$B$3:$C$1002,2,0),\"\")","v":""}]
[null,null,null,{"$f":"IFERROR(VLOOKUP(C711,Participants!$B$3:$C$1002,2,0),\"\")","v":""},null,{"$f":"IFERROR(VLOOKUP(E711,Participants!$B$3:$C$1002,2,0),\"\")","v":""}]
[null,null,null,{"$f":"IFERROR(VLOOKUP(C712,Participants!$B$3:$C$1002,2,0),\"\")","v":""},null,{"$f":"IFERROR(VLOOKUP(E712,Participants!$B$3:$C$1002,2,0),\"\")","v":""}]
[null,null,null,{"$f":"IFERROR(VLOOKUP(C713,Participants!$B$3:$C$1002,2,0),\"\")","v":""},null,{"$f":"IFERROR(VLOOKUP(E713,Participants!$B$3:$C$1002,2,0),\"\")","v":""}]
[null,null,null,{"$f":"IFERROR(VLOOKUP(C714,Participants!$B$3:$C$1002,2,0),\"\")","v":""},null,{"$f":"IFERROR(VLOOKUP(E714,Participants!$B$3:$C$1002,2,0),\"\")","v":""}]
[null,null,null,{"$f":"IFERROR(VLOOKUP(C715,Participants!$B$3:$C$1002,2,0),\"\")","v":""},null,{"$f":"IFERROR(VLOOKUP(E715,Participants!$B$3:$C$1002,2,0),\"\")","v":""}]
[null,null,null,{"$f":"IFERROR(VLOOKUP(C716,Participants!$B$3:$C$1002,2,0),\"\")","v":""},null,{"$f":"IFERROR(VLOOKUP(E716,Participants!$B$3:$C$1002,2,0),\"\")","v":""}]
[null,null,null,{"$f":"IFERROR(VLOOKUP(C717,Participants!$B$3:$C$1002,2,0),\"\")","v":""},null,{"$f":"IFERROR(VLOOKUP(E717,Participants!$B$3:$C$1002,2,0),\"\")","v":""}]
[null,null,null,{"$f":"IFERROR(VLOOKUP(C718,Participants!$B$3:$C$1002,2,0),\"\")","v":""},null,{"$f":"IFERROR(VLOOKUP(E718,Participants!$B$3:$C$1002,2,0),\"\")","v":""}]
[null,null,null,{"$f":"IFERROR(VLOOKUP(C719,Participants!$B$3:$C$1002,2,0),\"\")","v":""},null,{"$f":"IFERROR(VLOOKUP(E719,Participants!$B$3:$C$1002,2,0),\"\")","v":""}]
[null,null,null,{"$f":"IFERROR(VLOOKUP(C720,Participants!$B$3:$C$1002,2,0),\"\")","v":""},null,{"$f":"IFERROR(VLOOKUP(E720,Participants!$B$3:$C$1002,2,0),\"\")","v":""}]
[null,null,null,{"$f":"IFERROR(VLOOKUP(C721,Participants!$B$3:$C$1002,2,0),\"\")","v":""},null,{"$f":"IFERROR(VLOOKUP(E721,Participants!$B$3:$C$1002,2,0),\"\")","v":""}]
[null,null,null,{"$f":"IFERROR(VLOOKUP(C722,Participants!$B$3:$C$1002,2,0),\"\")","v":""},null,{"$f":"IFERROR(VLOOKUP(E722,Participants!$B$3:$C$1002,2,0),\"\")","v":""}]
[null,null,null,{"$f":"IFERROR(VLOOKUP(C723,Participants!$B$3:$C$1002,2,0),\"\")","v":""},null,{"$f":"IFERROR(VLOOKUP(E723,Participants!$B$3:$C$1002,2,0),\"\")","v":""}]
[null,null,null,{"$f":"IFERROR(VLOOKUP(C724,Participants!$B$3:$C$1002,2,0),\"\")","v":""},null,{"$f":"IFERROR(VLOOKUP(E724,Participants!$B$3:$C$1002,2,0),\"\")","v":""}]
[null,null,null,{"$f":"IFERROR(VLOOKUP(C725,Participants!$B$3:$C$1002,2,0),\"\")","v":""},null,{"$f":"IFERROR(VLOOKUP(E725,Participants!$B$3:$C$1002,2,0),\"\")","v":""}]
[null,null,null,{"$f":"IFERROR(VLOOKUP(C726,Participants!$B$3:$C$1002,2,0),\"\")","v":""},null,{"$f":"IFERROR(VLOOKUP(E726,Participants!$B$3:$C$1002,2,0),\"\")","v":""}]
[null,null,null,{"$f":"IFERROR(VLOOKUP(C727,Participants!$B$3:$C$1002,2,0),\"\")","v":""},null,{"$f":"IFERROR(VLOOKUP(E727,Participants!$B$3:$C$1002,2,0),\"\")","v":""}]
[null,null,null,{"$f":"IFERROR(VLOOKUP(C728,Participants!$B$3:$C$1002,2,0),\"\")","v":""},null,{"$f":"IFERROR(VLOOKUP(E728,Participants!$B$3:$C$1002,2,0),\"\")","v":""}]
[null,null,null,{"$f":"IFERROR(VLOOKUP(C729,Participants!$B$3:$C$1002,2,0),\"\")","v":""},null,{"$f":"IFERROR(VLOOKUP(E729,Participants!$B$3:$C$1002,2,0),\"\")","v":""}]
[null,null,null,{"$f":"IFERROR(VLOOKUP(C730,Participants!$B$3:$C$1002,2,0),\"\")","v":""},null,{"$f":"IFERROR(VLOOKUP(E730,Participants!$B$3:$C$1002,2,0),\"\")","v":""}]
[null,null,null,{"$f":"IFERROR(VLOOKUP(C731,Participants!$B$3:$C$1002,2,0),\"\")","v":""},null,{"$f":"IFERROR(VLOOKUP(E731,Participants!$B$3:$C$1002,2,0),\"\")","v":""}]
[null,null,null,{"$f":"IFERROR(VLOOKUP(C732,Participants!$B$3:$C$1002,2,0),\"\")","v":""},null,{"$f":"IFERROR(VLOOKUP(E732,Participants!$B$3:$C$1002,2,0),\"\")","v":""}]
[null,null,null,{"$f":"IFERROR(VLOOKUP(C733,Participants!$B$3:$C$1002,2,0),\"\")","v":""},null,{"$f":"IFERROR(VLOOKUP(E733,Participants!$B$3:$C$1002,2,0),\"\")","v":""}]
[null,null,null,{"$f":"IFERROR(VLOOKUP(C734,Participants!$B$3:$C$1002,2,0),\"\")","v":""},null,{"$f":"IFERROR(VLOOKUP(E734,Participants!$B$3:$C$1002,2,0),\"\")","v":""}]
[null,null,null,{"$f":"IFERROR(VLOOKUP(C735,Participants!$B$3:$C$1002,2,0),\"\")","v":""},null,{"$f":"IFERROR(VLOOKUP(E735,Participants!$B$3:$C$1002,2,0),\"\")","v":""}]
[null,null,null,{"$f":"IFERROR(VLOOKUP(C736,Participants!$B$3:$C$1002,2,0),\"\")","v":""},null,{"$f":"IFERROR(VLOOKUP(E736,Participants!$B$3:$C$1002,2,0),\"\")","v":""}]
[null,null,null,{"$f":"IFERROR(VLOOKUP(C737,Participants!$B$3:$C$1002,2,0),\"\")","v":""},null,{"$f":"IFERROR(VLOOKUP(E737,Participants!$B$3:$C$1002,2,0),\"\")","v":""}]
[null,null,null,{"$f":"IFERROR(VLOOKUP(C738,Participants!$B$3:$C$1002,2,0),\"\")","v":""},null,{"$f":"IFERROR(VLOOKUP(E738,Participants!$B$3:$C$1002,2,0),\"\")","v":""}]
[null,null,null,{"$f":"IFERROR(VLOOKUP(C739,Participants!$B$3:$C$1002,2,0),\"\")","v":""},null,{"$f":"IFERROR(VLOOKUP(E739,Participants!$B$3:$C$1002,2,0),\"\")","v":""}]
[null,null,null,{"$f":"IFERROR(VLOOKUP(C740,Participants!$B$3:$C$1002,2,0),\"\")","v":""},null,{"$f":"IFERROR(VLOOKUP(E740,Participants!$B$3:$C$1002,2,0),\"\")","v":""}]
[null,null,null,{"$f":"IFERROR(VLOOKUP(C741,Participants!$B$3:$C$1002,2,0),\"\")","v":""},null,{"$f":"IFERROR(VLOOKUP(E741,Participants!$B$3:$C$1002,2,0),\"\")","v":""}]
[null,null,null,{"$f":"IFERROR(VLOOKUP(C742,Participants!$B$3:$C$1002,2,0),\"\")","v":""},null,{"$f":"IFERROR(VLOOKUP(E742,Participants!$B$3:$C$1002,2,0),\"\")","v":""}]
[null,null,null,{"$f":"IFERROR(VLOOKUP(C743,Participants!$B$3:$C$1002,2,0),\"\")","v":""},null,{"$f":"IFERROR(VLOOKUP(E743,Participants!$B$3:$C$1002,2,0),\"\")","v":""}]
[null,null,null,{"$f":"IFERROR(VLOOKUP(C744,Participants!$B$3:$C$1002,2,0),\"\")","v":""},null,{"$f":"IFERROR(VLOOKUP(E744,Participants!$B$3:$C$1002,2,0),\"\")","v":""}]
[null,null,null,{"$f":"IFERROR(VLOOKUP(C745,Participants!$B$3:$C$1002,2,0),\"\")","v":""},null,{"$f":"IFERROR(VLOOKUP(E745,Participants!$B$3:$C$1002,2,0),\"\")","v":""}]
[null,null,null,{"$f":"IFERROR(VLOOKUP(C746,Participants!$B$3:$C$1002,2,0),\"\")","v":""},null,{"$f":"IFERROR(VLOOKUP(E746,Participants!$B$3:$C$1002,2,0),\"\")","v":""}]
[null,null,null,{"$f":"IFERROR(VLOOKUP(C747,Participants!$B$3:$C$1002,2,0),\"\")","v":""},null,{"$f":"IFERROR(VLOOKUP(E747,Participants!$B$3:$C$1002,2,0),\"\")","v":""}]
[null,null,null,{"$f":"IFERROR(VLOOKUP(C748,Participants!$B$3:$C$1002,2,0),\"\")","v":""},null,{"$f":"IFERROR(VLOOKUP(E748,Participants!$B$3:$C$1002,2,0),\"\")","v":""}]
[null,null,null,{"$f":"IFERROR(VLOOKUP(C749,Participants!$B$3:$C$1002,2,0),\"\")","v":""},null,{"$f":"IFERROR(VLOOKUP(E749,Participants!$B$3:$C$1002,2,0),\"\")","v":""}]
[null,null,null,{"$f":"IFERROR(VLOOKUP(C750,Participants!$B$3:$C$1002,2,0),\"\")","v":""},null,{"$f":"IFERROR(VLOOKUP(E750,Participants!$B$3:$C$1002,2,0),\"\")","v":""}]
[null,null,null,{"$f":"IFERROR(VLOOKUP(C751,Participants!$B$3:$C$1002,2,0),\"\")","v":""},null,{"$f":"IFERROR(VLOOKUP(E751,Participants!$B$3:$C$1002,2,0),\"\")","v":""}]
[null,null,null,{"$f":"IFERROR(VLOOKUP(C752,Participants!$B$3:$C$1002,2,0),\"\")","v":""},null,{"$f":"IFERROR(VLOOKUP(E752,Participants!$B$3:$C$1002,2,0),\"\")","v":""}]
[null,null,null,{"$f":"IFERROR(VLOOKUP(C753,Participants!$B$3:$C$1002,2,0),\"\")","v":""},null,{"$f":"IFERROR(VLOOKUP(E753,Participants!$B$3:$C$1002,2,0),\"\")","v":""}]
[null,null,null,{"$f":"IFERROR(VLOOKUP(C754,Participants!$B$3:$C$1002,2,0),\"\")","v":""},null,{"$f":"IFERROR(VLOOKUP(E754,Participants!$B$3:$C$1002,2,0),\"\")","v":""}]
[null,null,null,{"$f":"IFERROR(VLOOKUP(C755,Participants!$B$3:$C$1002,2,0),\"\")","v":""},null,{"$f":"IFERROR(VLOOKUP(E755,Participants!$B$3:$C$1002,2,0),\"\")","v":""}]
[null,null,null,{"$f":"IFERROR(VLOOKUP(C756,Participants!$B$3:$C$1002,2,0),\"\")","v":""},null,{"$f":"IFERROR(VLOOKUP(E756,Participants!$B$3:$C$1002,2,0),\"\")","v":""}]
[null,null,null,{"$f":"IFERROR(VLOOKUP(C757,Participants!$B$3:$C$1002,2,0),\"\")","v":""},null,{"$f":"IFERROR(VLOOKUP(E757,Participants!$B$3:$C$1002,2,0),\"\")","v":""}]
[null,null,null,{"$f":"IFERROR(VLOOKUP(C758,Participants!$B$3:$C$1002,2,0),\"\")","v":""},null,{"$f":"IFERROR(VLOOKUP(E758,Participants!$B$3:$C$1002,2,0),\"\")","v":""}]
[null,null,null,{"$f":"IFERROR(VLOOKUP(C759,Participants!$B$3:$C$1002,2,0),\"\")","v":""},null,{"$f":"IFERROR(VLOOKUP(E759,Participants!$B$3:$C$1002,2,0),\"\")","v":""}]
[null,null,null,{"$f":"IFERROR(VLOOKUP(C760,Participants!$B$3:$C$1002,2,0),\"\")","v":""},null,{"$f":"IFERROR(VLOOKUP(E760,Participants!$B$3:$C$1002,2,0),\"\")","v":""}]
[null,null,null,{"$f":"IFERROR(VLOOKUP(C761,Participants!$B$3:$C$1002,2,0),\"\")","v":""},null,{"$f":"IFERROR(VLOOKUP(E761,Participants!$B$3:$C$1002,2,0),\"\")","v":""}]
[null,null,null,{"$f":"IFERROR(VLOOKUP(C762,Participants!$B$3:$C$1002,2,0),\"\")","v":""},null,{"$f":"IFERROR(VLOOKUP(E762,Participants!$B$3:$C$1002,2,0),\"\")","v":""}]
[null,null,null,{"$f":"IFERROR(VLOOKUP(C763,Participants!$B$3:$C$1002,2,0),\"\")","v":""},null,{"$f":"IFERROR(VLOOKUP(E763,Participants!$B$3:$C$1002,2,0),\"\")","v":""}]
[null,null,null,{"$f":"IFERROR(VLOOKUP(C764,Participants!$B$3:$C$1002,2,0),\"\")","v":""},null,{"$f":"IFERROR(VLOOKUP(E764,Participants!$B$3:$C$1002,2,0),\"\")","v":""}]
[null,null,null,{"$f":"IFERROR(VLOOKUP(C765,Participants!$B$3:$C$1002,2,0),\"\")","v":""},null,{"$f":"IFERROR(VLOOKUP(E765,Participants!$B$3:$C$1002,2,0),\"\")","v":""}]
[null,null,null,{"$f":"IFERROR(VLOOKUP(C766,Participants!$B$3:$C$1002,2,0),\"\")","v":""},null,{"$f":"IFERROR(VLOOKUP(E766,Participants!$B$3:$C$1002,2,0),\"\")","v":""}]
[null,null,null,{"$f":"IFERROR(VLOOKUP(C767,Participants!$B$3:$C$1002,2,0),\"\")","v":""},null,{"$f":"IFERROR(VLOOKUP(E767,Participants!$B$3:$C$1002,2,0),\"\")","v":""}]
[null,null,null,{"$f":"IFERROR(VLOOKUP(C768,Participants!$B$3:$C$1002,2,0),\"\")","v":""},null,{"$f":"IFERROR(VLOOKUP(E768,Participants!$B$3:$C$1002,2,0),\"\")","v":""}]
[null,null,null,{"$f":"IFERROR(VLOOKUP(C769,Participants!$B$3:$C$1002,2,0),\"\")","v":""},null,{"$f":"IFERROR(VLOOKUP(E769,Participants!$B$3:$C$1002,2,0),\"\")","v":""}]
[null,null,null,{"$f":"IFERROR(VLOOKUP(C770,Participants!$B$3:$C$1002,2,0),\"\")","v":""},null,{"$f":"IFERROR(VLOOKUP(E770,Participants!$B$3:$C$1002,2,0),\"\")","v":""}]
[null,null,null,{"$f":"IFERROR(VLOOKUP(C771,Participants!$B$3:$C$1002,2,0),\"\")","v":""},null,{"$f":"IFERROR(VLOOKUP(E771,Participants!$B$3:$C$1002,2,0),\"\")","v":""}]
[null,null,null,{"$f":"IFERROR(VLOOKUP(C772,Participants!$B$3:$C$1002,2,0),\"\")","v":""},null,{"$f":"IFERROR(VLOOKUP(E772,Participants!$B$3:$C$1002,2,0),\"\")","v":""}]
[null,null,null,{"$f":"IFERROR(VLOOKUP(C773,Participants!$B$3:$C$1002,2,0),\"\")","v":""},null,{"$f":"IFERROR(VLOOKUP(E773,Participants!$B$3:$C$1002,2,0),\"\")","v":""}]
[null,null,null,{"$f":"IFERROR(VLOOKUP(C774,Participants!$B$3:$C$1002,2,0),\"\")","v":""},null,{"$f":"IFERROR(VLOOKUP(E774,Participants!$B$3:$C$1002,2,0),\"\")","v":""}]
[null,null,null,{"$f":"IFERROR(VLOOKUP(C775,Participants!$B$3:$C$1002,2,0),\"\")","v":""},null,{"$f":"IFERROR(VLOOKUP(E775,Participants!$B$3:$C$1002,2,0),\"\")","v":""}]
[null,null,null,{"$f":"IFERROR(VLOOKUP(C776,Participants!$B$3:$C$1002,2,0),\"\")","v":""},null,{"$f":"IFERROR(VLOOKUP(E776,Participants!$B$3:$C$1002,2,0),\"\")","v":""}]
[null,null,null,{"$f":"IFERROR(VLOOKUP(C777,Participants!$B$3:$C$1002,2,0),\"\")","v":""},null,{"$f":"IFERROR(VLOOKUP(E777,Participants!$B$3:$C$1002,2,0),\"\")","v":""}]
[null,null,null,{"$f":"IFERROR(VLOOKUP(C778,Participants!$B$3:$C$1002,2,0),\"\")","v":""},null,{"$f":"IFERROR(VLOOKUP(E778,Participants!$B$3:$C$1002,2,0),\"\")","v":""}]
[null,null,null,{"$f":"IFERROR(VLOOKUP(C779,Participants!$B$3:$C$1002,2,0),\"\")","v":""},null,{"$f":"IFERROR(VLOOKUP(E779,Participants!$B$3:$C$1002,2,0),\"\")","v":""}]
[null,null,null,{"$f":"IFERROR(VLOOKUP(C780,Participants!$B$3:$C$1002,2,0),\"\")","v":""},null,{"$f":"IFERROR(VLOOKUP(E780,Participants!$B$3:$C$1002,2,0),\"\")","v":""}]
[null,null,null,{"$f":"IFERROR(VLOOKUP(C781,Participants!$B$3:$C$1002,2,0),\"\")","v":""},null,{"$f":"IFERROR(VLOOKUP(E781,Participants!$B$3:$C$1002,2,0),\"\")","v":""}]
[null,null,null,{"$f":"IFERROR(VLOOKUP(C782,Participants!$B$3:$C$1002,2,0),\"\")","v":""},null,{"$f":"IFERROR(VLOOKUP(E782,Participants!$B$3:$C$1002,2,0),\"\")","v":""}]
[null,null,null,{"$f":"IFERROR(VLOOKUP(C783,Participants!$B$3:$C$1002,2,0),\"\")","v":""},null,{"$f":"IFERROR(VLOOKUP(E783,Participants!$B$3:$C$1002,2,0),\"\")","v":""}]
[null,null,null,{"$f":"IFERROR(VLOOKUP(C784,Participants!$B$3:$C$1002,2,0),\"\")","v":""},null,{"$f":"IFERROR(VLOOKUP(E784,Participants!$B$3:$C$1002,2,0),\"\")","v":""}]
[null,null,null,{"$f":"IFERROR(VLOOKUP(C785,Participants!$B$3:$C$1002,2,0),\"\")","v":""},null,{"$f":"IFERROR(VLOOKUP(E785,Participants!$B$3:$C$1002,2,0),\"\")","v":""}]
[null,null,null,{"$f":"IFERROR(VLOOKUP(C786,Participants!$B$3:$C$1002,2,0),\"\")","v":""},null,{"$f":"IFERROR(VLOOKUP(E786,Participants!$B$3:$C$1002,2,0),\"\")","v":""}]
[null,null,null,{"$f":"IFERROR(VLOOKUP(C787,Participants!$B$3:$C$1002,2,0),\"\")","v":""},null,{"$f":"IFERROR(VLOOKUP(E787,Participants!$B$3:$C$1002,2,0),\"\")","v":""}]
[null,null,null,{"$f":"IFERROR(VLOOKUP(C788,Participants!$B$3:$C$1002,2,0),\"\")","v":""},null,{"$f":"IFERROR(VLOOKUP(E788,Participants!$B$3:$C$1002,2,0),\"\")","v":""}]
[null,null,null,{"$f":"IFERROR(VLOOKUP(C789,Participants!$B$3:$C$1002,2,0),\"\")","v":""},null,{"$f":"IFERROR(VLOOKUP(E789,Participants!$B$3:$C$1002,2,0),\"\")","v":""}]
[null,null,null,{"$f":"IFERROR(VLOOKUP(C790,Participants!$B$3:$C$1002,2,0),\"\")","v":""},null,{"$f":"IFERROR(VLOOKUP(E790,Participants!$B$3:$C$1002,2,0),\"\")","v":""}]
[null,null,null,{"$f":"IFERROR(VLOOKUP(C791,Participants!$B$3:$C$1002,2,0),\"\")","v":""},null,{"$f":"IFERROR(VLOOKUP(E791,Participants!$B$3:$C$1002,2,0),\"\")","v":""}]
[null,null,null,{"$f":"IFERROR(VLOOKUP(C792,Participants!$B$3:$C$1002,2,0),\"\")","v":""},null,{"$f":"IFERROR(VLOOKUP(E792,Participants!$B$3:$C$1002,2,0),\"\")","v":""}]
[null,null,null,{"$f":"IFERROR(VLOOKUP(C793,Participants!$B$3:$C$1002,2,0),\"\")","v":""},null,{"$f":"IFERROR(VLOOKUP(E793,Participants!$B$3:$C$1002,2,0),\"\")","v":""}]
[null,null,null,{"$f":"IFERROR(VLOOKUP(C794,Participants!$B$3:$C$1002,2,0),\"\")","v":""},null,{"$f":"IFERROR(VLOOKUP(E794,Participants!$B$3:$C$1002,2,0),\"\")","v":""}]
[null,null,null,{"$f":"IFERROR(VLOOKUP(C795,Participants!$B$3:$C$1002,2,0),\"\")","v":""},null,{"$f":"IFERROR(VLOOKUP(E795,Participants!$B$3:$C$1002,2,0),\"\")","v":""}]
[null,null,null,{"$f":"IFERROR(VLOOKUP(C796,Participants!$B$3:$C$1002,2,0),\"\")","v":""},null,{"$f":"IFERROR(VLOOKUP(E796,Participants!$B$3:$C$1002,2,0),\"\")","v":""}]
[null,null,null,{"$f":"IFERROR(VLOOKUP(C797,Participants!$B$3:$C$1002,2,0),\"\")","v":""},null,{"$f":"IFERROR(VLOOKUP(E797,Participants!$B$3:$C$1002,2,0),\"\")","v":""}]
[null,null,null,{"$f":"IFERROR(VLOOKUP(C798,Participants!$B$3:$C$1002,2,0),\"\")","v":""},null,{"$f":"IFERROR(VLOOKUP(E798,Participants!$B$3:$C$1002,2,0),\"\")","v":""}]
[null,null,null,{"$f":"IFERROR(VLOOKUP(C799,Participants!$B$3:$C$1002,2,0),\"\")","v":""},null,{"$f":"IFERROR(VLOOKUP(E799,Participants!$B$3:$C$1002,2,0),\"\")","v":""}]
[null,null,null,{"$f":"IFERROR(VLOOKUP(C800,Participants!$B$3:$C$1002,2,0),\"\")","v":""},null,{"$f":"IFERROR(VLOOKUP(E800,Participants!$B$3:$C$1002,2,0),\"\")","v":""}]
[null,null,null,{"$f":"IFERROR(VLOOKUP(C801,Participants!$B$3:$C$1002,2,0),\"\")","v":""},null,{"$f":"IFERROR(VLOOKUP(E801,Participants!$B$3:$C$1002,2,0),\"\")","v":""}]
[null,null,null,{"$f":"IFERROR(VLOOKUP(C802,Participants!$B$3:$C$1002,2,0),\"\")","v":""},null,{"$f":"IFERROR(VLOOKUP(E802,Participants!$B$3:$C$1002,2,0),\"\")","v":""}]
[null,null,null,{"$f":"IFERROR(VLOOKUP(C803,Participants!$B$3:$C$1002,2,0),\"\")","v":""},null,{"$f":"IFERROR(VLOOKUP(E803,Participants!$B$3:$C$1002,2,0),\"\")","v":""}]
[null,null,null,{"$f":"IFERROR(VLOOKUP(C804,Participants!$B$3:$C$1002,2,0),\"\")","v":""},null,{"$f":"IFERROR(VLOOKUP(E804,Participants!$B$3:$C$1002,2,0),\"\")","v":""}]
[null,null,null,{"$f":"IFERROR(VLOOKUP(C805,Participants!$B$3:$C$1002,2,0),\"\")","v":""},null,{"$f":"IFERROR(VLOOKUP(E805,Participants!$B$3:$C$1002,2,0),\"\")","v":""}]
[null,null,null,{"$f":"IFERROR(VLOOKUP(C806,Participants!$B$3:$C$1002,2,0),\"\")","v":""},null,{"$f":"IFERROR(VLOOKUP(E806,Participants!$B$3:$C$1002,2,0),\"\")","v":""}]
[null,null,null,{"$f":"IFERROR(VLOOKUP(C807,Participants!$B$3:$C$1002,2,0),\"\")","v":""},null,{"$f":"IFERROR(VLOOKUP(E807,Participants!$B$3:$C$1002,2,0),\"\")","v":""}]
[null,null,null,{"$f":"IFERROR(VLOOKUP(C808,Participants!$B$3:$C$1002,2,0),\"\")","v":""},null,{"$f":"IFERROR(VLOOKUP(E808,Participants!$B$3:$C$1002,2,0),\"\")","v":""}]
[null,null,null,{"$f":"IFERROR(VLOOKUP(C809,Participants!$B$3:$C$1002,2,0),\"\")","v":""},null,{"$f":"IFERROR(VLOOKUP(E809,Participants!$B$3:$C$1002,2,0),\"\")","v":""}]
[null,null,null,{"$f":"IFERROR(VLOOKUP(C810,Participants!$B$3:$C$1002,2,0),\"\")","v":""},null,{"$f":"IFERROR(VLOOKUP(E810,Participants!$B$3:$C$1002,2,0),\"\")","v":""}]
[null,null,null,{"$f":"IFERROR(VLOOKUP(C811,Participants!$B$3:$C$1002,2,0),\"\")","v":""},null,{"$f":"IFERROR(VLOOKUP(E811,Participants!$B$3:$C$1002,2,0),\"\")","v":""}]
[null,null,null,{"$f":"IFERROR(VLOOKUP(C812,Participants!$B$3:$C$1002,2,0),\"\")","v":""},null,{"$f":"IFERROR(VLOOKUP(E812,Participants!$B$3:$C$1002,2,0),\"\")","v":""}]
[null,null,null,{"$f":"IFERROR(VLOOKUP(C813,Participants!$B$3:$C$1002,2,0),\"\")","v":""},null,{"$f":"IFERROR(VLOOKUP(E813,Participants!$B$3:$C$1002,2,0),\"\")","v":""}]
[null,null,null,{"$f":"IFERROR(VLOOKUP(C814,Participants!$B$3:$C$1002,2,0),\"\")","v":""},null,{"$f":"IFERROR(VLOOKUP(E814,Participants!$B$3:$C$1002,2,0),\"\")","v":""}]
[null,null,null,{"$f":"IFERROR(VLOOKUP(C815,Participants!$B$3:$C$1002,2,0),\"\")","v":""},null,{"$f":"IFERROR(VLOOKUP(E815,Participants!$B$3:$C$1002,2,0),\"\")","v":""}]
[null,null,null,{"$f":"IFERROR(VLOOKUP(C816,Participants!$B$3:$C$1002,2,0),\"\")","v":""},null,{"$f":"IFERROR(VLOOKUP(E816,Participants!$B$3:$C$1002,2,0),\"\")","v":""}]
[null,null,null,{"$f":"IFERROR(VLOOKUP(C817,Participants!$B$3:$C$1002,2,0),\"\")","v":""},null,{"$f":"IFERROR(VLOOKUP(E817,Participants!$B$3:$C$1002,2,0),\"\")","v":""}]
[null,null,null,{"$f":"IFERROR(VLOOKUP(C818,Participants!$B$3:$C$1002,2,0),\"\")","v":""},null,{"$f":"IFERROR(VLOOKUP(E818,Participants!$B$3:$C$1002,2,0),\"\")","v":""}]
[null,null,null,{"$f":"IFERROR(VLOOKUP(C819,Participants!$B$3:$C$1002,2,0),\"\")","v":""},null,{"$f":"IFERROR(VLOOKUP(E819,Participants!$B$3:$C$1002,2,0),\"\")","v":""}]
[null,null,null,{"$f":"IFERROR(VLOOKUP(C820,Participants!$B$3:$C$1002,2,0),\"\")","v":""},null,{"$f":"IFERROR(VLOOKUP(E820,Participants!$B$3:$C$1002,2,0),\"\")","v":""}]
[null,null,null,{"$f":"IFERROR(VLOOKUP(C821,Participants!$B$3:$C$1002,2,0),\"\")","v":""},null,{"$f":"IFERROR(VLOOKUP(E821,Participants!$B$3:$C$1002,2,0),\"\")","v":""}]
[null,null,null,{"$f":"IFERROR(VLOOKUP(C822,Participants!$B$3:$C$1002,2,0),\"\")","v":""},null,{"$f":"IFERROR(VLOOKUP(E822,Participants!$B$3:$C$1002,2,0),\"\")","v":""}]
[null,null,null,{"$f":"IFERROR(VLOOKUP(C823,Participants!$B$3:$C$1002,2,0),\"\")","v":""},null,{"$f":"IFERROR(VLOOKUP(E823,Participants!$B$3:$C$1002,2,0),\"\")","v":""}]
[null,null,null,{"$f":"IFERROR(VLOOKUP(C824,Participants!$B$3:$C$1002,2,0),\"\")","v":""},null,{"$f":"IFERROR(VLOOKUP(E824,Participants!$B$3:$C$1002,2,0),\"\")","v":""}]
[null,null,null,{"$f":"IFERROR(VLOOKUP(C825,Participants!$B$3:$C$1002,2,0),\"\")","v":""},null,{"$f":"IFERROR(VLOOKUP(E825,Participants!$B$3:$C$1002,2,0),\"\")","v":""}]
[null,null,null,{"$f":"IFERROR(VLOOKUP(C826,Participants!$B$3:$C$1002,2,0),\"\")","v":""},null,{"$f":"IFERROR(VLOOKUP(E826,Participants!$B$3:$C$1002,2,0),\"\")","v":""}]
[null,null,null,{"$f":"IFERROR(VLOOKUP(C827,Participants!$B$3:$C$1002,2,0),\"\")","v":""},null,{"$f":"IFERROR(VLOOKUP(E827,Participants!$B$3:$C$1002,2,0),\"\")","v":""}]
[null,null,null,{"$f":"IFERROR(VLOOKUP(C828,Participants!$B$3:$C$1002,2,0),\"\")","v":""},null,{"$f":"IFERROR(VLOOKUP(E828,Participants!$B$3:$C$1002,2,0),\"\")","v":""}]
[null,null,null,{"$f":"IFERROR(VLOOKUP(C829,Participants!$B$3:$C$1002,2,0),\"\")","v":""},null,{"$f":"IFERROR(VLOOKUP(E829,Participants!$B$3:$C$1002,2,0),\"\")","v":""}]
[null,null,null,{"$f":"IFERROR(VLOOKUP(C830,Participants!$B$3:$C$1002,2,0),\"\")","v":""},null,{"$f":"IFERROR(VLOOKUP(E830,Participants!$B$3:$C$1002,2,0),\"\")","v":""}]
[null,null,null,{"$f":"IFERROR(VLOOKUP(C831,Participants!$B$3:$C$1002,2,0),\"\")","v":""},null,{"$f":"IFERROR(VLOOKUP(E831,Participants!$B$3:$C$1002,2,0),\"\")","v":""}]
[null,null,null,{"$f":"IFERROR(VLOOKUP(C832,Participants!$B$3:$C$1002,2,0),\"\")","v":""},null,{"$f":"IFERROR(VLOOKUP(E832,Participants!$B$3:$C$1002,2,0),\"\")","v":""}]
[null,null,null,{"$f":"IFERROR(VLOOKUP(C833,Participants!$B$3:$C$1002,2,0),\"\")","v":""},null,{"$f":"IFERROR(VLOOKUP(E833,Participants!$B$3:$C$1002,2,0),\"\")","v":""}]
[null,null,null,{"$f":"IFERROR(VLOOKUP(C834,Participants!$B$3:$C$1002,2,0),\"\")","v":""},null,{"$f":"IFERROR(VLOOKUP(E834,Participants!$B$3:$C$1002,2,0),\"\")","v":""}]
[null,null,null,{"$f":"IFERROR(VLOOKUP(C835,Participants!$B$3:$C$1002,2,0),\"\")","v":""},null,{"$f":"IFERROR(VLOOKUP(E835,Participants!$B$3:$C$1002,2,0),\"\")","v":""}]
[null,null,null,{"$f":"IFERROR(VLOOKUP(C836,Participants!$B$3:$C$1002,2,0),\"\")","v":""},null,{"$f":"IFERROR(VLOOKUP(E836,Participants!$B$3:$C$1002,2,0),\"\")","v":""}]
[null,null,null,{"$f":"IFERROR(VLOOKUP(C837,Participants!$B$3:$C$1002,2,0),\"\")","v":""},null,{"$f":"IFERROR(VLOOKUP(E837,Participants!$B$3:$C$1002,2,0),\"\")","v":""}]
[null,null,null,{"$f":"IFERROR(VLOOKUP(C838,Participants!$B$3:$C$1002,2,0),\"\")","v":""},null,{"$f":"IFERROR(VLOOKUP(E838,Participants!$B$3:$C$1002,2,0),\"\")","v":""}]
[null,null,null,{"$f":"IFERROR(VLOOKUP(C839,Participants!$B$3:$C$1002,2,0),\"\")","v":""},null,{"$f":"IFERROR(VLOOKUP(E839,Participants!$B$3:$C$1002,2,0),\"\")","v":""}]
[null,null,null,{"$f":"IFERROR(VLOOKUP(C840,Participants!$B$3:$C$1002,2,0),\"\")","v":""},null,{"$f":"IFERROR(VLOOKUP(E840,Participants!$B$3:$C$1002,2,0),\"\")","v":""}]
[null,null,null,{"$f":"IFERROR(VLOOKUP(C841,Participants!$B$3:$C$1002,2,0),\"\")","v":""},null,{"$f":"IFERROR(VLOOKUP(E841,Participants!$B$3:$C$1002,2,0),\"\")","v":""}]
[null,null,null,{"$f":"IFERROR(VLOOKUP(C842,Participants!$B$3:$C$1002,2,0),\"\")","v":""},null,{"$f":"IFERROR(VLOOKUP(E842,Participants!$B$3:$C$1002,2,0),\"\")","v":""}]
[null,null,null,{"$f":"IFERROR(VLOOKUP(C843,Participants!$B$3:$C$1002,2,0),\"\")","v":""},null,{"$f":"IFERROR(VLOOKUP(E843,Participants!$B$3:$C$1002,2,0),\"\")","v":""}]
[null,null,null,{"$f":"IFERROR(VLOOKUP(C844,Participants!$B$3:$C$1002,2,0),\"\")","v":""},null,{"$f":"IFERROR(VLOOKUP(E844,Participants!$B$3:$C$1002,2,0),\"\")","v":""}]
[null,null,null,{"$f":"IFERROR(VLOOKUP(C845,Participants!$B$3:$C$1002,2,0),\"\")","v":""},null,{"$f":"IFERROR(VLOOKUP(E845,Participants!$B$3:$C$1002,2,0),\"\")","v":""}]
[null,null,null,{"$f":"IFERROR(VLOOKUP(C846,Participants!$B$3:$C$1002,2,0),\"\")","v":""},null,{"$f":"IFERROR(VLOOKUP(E846,Participants!$B$3:$C$1002,2,0),\"\")","v":""}]
[null,null,null,{"$f":"IFERROR(VLOOKUP(C847,Participants!$B$3:$C$1002,2,0),\"\")","v":""},null,{"$f":"IFERROR(VLOOKUP(E847,Participants!$B$3:$C$1002,2,0),\"\")","v":""}]
[null,null,null,{"$f":"IFERROR(VLOOKUP(C848,Participants!$B$3:$C$1002,2,0),\"\")","v":""},null,{"$f":"IFERROR(VLOOKUP(E848,Participants!$B$3:$C$1002,2,0),\"\")","v":""}]
[null,null,null,{"$f":"IFERROR(VLOOKUP(C849,Participants!$B$3:$C$1002,2,0),\"\")","v":""},null,{"$f":"IFERROR(VLOOKUP(E849,Participants!$B$3:$C$1002,2,0),\"\")","v":""}]
[null,null,null,{"$f":"IFERROR(VLOOKUP(C850,Participants!$B$3:$C$1002,2,0),\"\")","v":""},null,{"$f":"IFERROR(VLOOKUP(E850,Participants!$B$3:$C$1002,2,0),\"\")","v":""}]
[null,null,null,{"$f":"IFERROR(VLOOKUP(C851,Participants!$B$3:$C$1002,2,0),\"\")","v":""},null,{"$f":"IFERROR(VLOOKUP(E851,Participants!$B$3:$C$1002,2,0),\"\")","v":""}]
[null,null,null,{"$f":"IFERROR(VLOOKUP(C852,Participants!$B$3:$C$1002,2,0),\"\")","v":""},null,{"$f":"IFERROR(VLOOKUP(E852,Participants!$B$3:$C$1002,2,0),\"\")","v":""}]
[null,null,null,{"$f":"IFERROR(VLOOKUP(C853,Participants!$B$3:$C$1002,2,0),\"\")","v":""},null,{"$f":"IFERROR(VLOOKUP(E853,Participants!$B$3:$C$1002,2,0),\"\")","v":""}]
[null,null,null,{"$f":"IFERROR(VLOOKUP(C854,Participants!$B$3:$C$1002,2,0),\"\")","v":""},null,{"$f":"IFERROR(VLOOKUP(E854,Participants!$B$3:$C$1002,2,0),\"\")","v":""}]
[null,null,null,{"$f":"IFERROR(VLOOKUP(C855,Participants!$B$3:$C$1002,2,0),\"\")","v":""},null,{"$f":"IFERROR(VLOOKUP(E855,Participants!$B$3:$C$1002,2,0),\"\")","v":""}]
[null,null,null,{"$f":"IFERROR(VLOOKUP(C856,Participants!$B$3:$C$1002,2,0),\"\")","v":""},null,{"$f":"IFERROR(VLOOKUP(E856,Participants!$B$3:$C$1002,2,0),\"\")","v":""}]
[null,null,null,{"$f":"IFERROR(VLOOKUP(C857,Participants!$B$3:$C$1002,2,0),\"\")","v":""},null,{"$f":"IFERROR(VLOOKUP(E857,Participants!$B$3:$C$1002,2,0),\"\")","v":""}]
[null,null,null,{"$f":"IFERROR(VLOOKUP(C858,Participants!$B$3:$C$1002,2,0),\"\")","v":""},null,{"$f":"IFERROR(VLOOKUP(E858,Participants!$B$3:$C$1002,2,0),\"\")","v":""}]
[null,null,null,{"$f":"IFERROR(VLOOKUP(C859,Participants!$B$3:$C$1002,2,0),\"\")","v":""},null,{"$f":"IFERROR(VLOOKUP(E859,Participants!$B$3:$C$1002,2,0),\"\")","v":""}]
[null,null,null,{"$f":"IFERROR(VLOOKUP(C860,Participants!$B$3:$C$1002,2,0),\"\")","v":""},null,{"$f":"IFERROR(VLOOKUP(E860,Participants!$B$3:$C$1002,2,0),\"\")","v":""}]
[null,null,null,{"$f":"IFERROR(VLOOKUP(C861,Participants!$B$3:$C$1002,2,0),\"\")","v":""},null,{"$f":"IFERROR(VLOOKUP(E861,Participants!$B$3:$C$1002,2,0),\"\")","v":""}]
[null,null,null,{"$f":"IFERROR(VLOOKUP(C862,Participants!$B$3:$C$1002,2,0),\"\")","v":""},null,{"$f":"IFERROR(VLOOKUP(E862,Participants!$B$3:$C$1002,2,0),\"\")","v":""}]
[null,null,null,{"$f":"IFERROR(VLOOKUP(C863,Participants!$B$3:$C$1002,2,0),\"\")","v":""},null,{"$f":"IFERROR(VLOOKUP(E863,Participants!$B$3:$C$1002,2,0),\"\")","v":""}]
[null,null,null,{"$f":"IFERROR(VLOOKUP(C864,Participants!$B$3:$C$1002,2,0),\"\")","v":""},null,{"$f":"IFERROR(VLOOKUP(E864,Participants!$B$3:$C$1002,2,0),\"\")","v":""}]
[null,null,null,{"$f":"IFERROR(VLOOKUP(C865,Participants!$B$3:$C$1002,2,0),\"\")","v":""},null,{"$f":"IFERROR(VLOOKUP(E865,Participants!$B$3:$C$1002,2,0),\"\")","v":""}]
[null,null,null,{"$f":"IFERROR(VLOOKUP(C866,Participants!$B$3:$C$1002,2,0),\"\")","v":""},null,{"$f":"IFERROR(VLOOKUP(E866,Participants!$B$3:$C$1002,2,0),\"\")","v":""}]
[null,null,null,{"$f":"IFERROR(VLOOKUP(C867,Participants!$B$3:$C$1002,2,0),\"\")","v":""},null,{"$f":"IFERROR(VLOOKUP(E867,Participants!$B$3:$C$1002,2,0),\"\")","v":""}]
[null,null,null,{"$f":"IFERROR(VLOOKUP(C868,Participants!$B$3:$C$1002,2,0),\"\")","v":""},null,{"$f":"IFERROR(VLOOKUP(E868,Participants!$B$3:$C$1002,2,0),\"\")","v":""}]
[null,null,null,{"$f":"IFERROR(VLOOKUP(C869,Participants!$B$3:$C$1002,2,0),\"\")","v":""},null,{"$f":"IFERROR(VLOOKUP(E869,Participants!$B$3:$C$1002,2,0),\"\")","v":""}]
[null,null,null,{"$f":"IFERROR(VLOOKUP(C870,Participants!$B$3:$C$1002,2,0),\"\")","v":""},null,{"$f":"IFERROR(VLOOKUP(E870,Participants!$B$3:$C$1002,2,0),\"\")","v":""}]
[null,null,null,{"$f":"IFERROR(VLOOKUP(C871,Participants!$B$3:$C$1002,2,0),\"\")","v":""},null,{"$f":"IFERROR(VLOOKUP(E871,Participants!$B$3:$C$1002,2,0),\"\")","v":""}]
[null,null,null,{"$f":"IFERROR(VLOOKUP(C872,Participants!$B$3:$C$1002,2,0),\"\")","v":""},null,{"$f":"IFERROR(VLOOKUP(E872,Participants!$B$3:$C$1002,2,0),\"\")","v":""}]
[null,null,null,{"$f":"IFERROR(VLOOKUP(C873,Participants!$B$3:$C$1002,2,0),\"\")","v":""},null,{"$f":"IFERROR(VLOOKUP(E873,Participants!$B$3:$C$1002,2,0),\"\")","v":""}]
[null,null,null,{"$f":"IFERROR(VLOOKUP(C874,Participants!$B$3:$C$1002,2,0),\"\")","v":""},null,{"$f":"IFERROR(VLOOKUP(E874,Participants!$B$3:$C$1002,2,0),\"\")","v":""}]
[null,null,null,{"$f":"IFERROR(VLOOKUP(C875,Participants!$B$3:$C$1002,2,0),\"\")","v":""},null,{"$f":"IFERROR(VLOOKUP(E875,Participants!$B$3:$C$1002,2,0),\"\")","v":""}]
[null,null,null,{"$f":"IFERROR(VLOOKUP(C876,Participants!$B$3:$C$1002,2,0),\"\")","v":""},null,{"$f":"IFERROR(VLOOKUP(E876,Participants!$B$3:$C$1002,2,0),\"\")","v":""}]
[null,null,null,{"$f":"IFERROR(VLOOKUP(C877,Participants!$B$3:$C$1002,2,0),\"\")","v":""},null,{"$f":"IFERROR(VLOOKUP(E877,Participants!$B$3:$C$1002,2,0),\"\")","v":""}]
[null,null,null,{"$f":"IFERROR(VLOOKUP(C878,Participants!$B$3:$C$1002,2,0),\"\")","v":""},null,{"$f":"IFERROR(VLOOKUP(E878,Participants!$B$3:$C$1002,2,0),\"\")","v":""}]
[null,null,null,{"$f":"IFERROR(VLOOKUP(C879,Participants!$B$3:$C$1002,2,0),\"\")","v":""},null,{"$f":"IFERROR(VLOOKUP(E879,Participants!$B$3:$C$1002,2,0),\"\")","v":""}]
[null,null,null,{"$f":"IFERROR(VLOOKUP(C880,Participants!$B$3:$C$1002,2,0),\"\")","v":""},null,{"$f":"IFERROR(VLOOKUP(E880,Participants!$B$3:$C$1002,2,0),\"\")","v":""}]
[null,null,null,{"$f":"IFERROR(VLOOKUP(C881,Participants!$B$3:$C$1002,2,0),\"\")","v":""},null,{"$f":"IFERROR(VLOOKUP(E881,Participants!$B$3:$C$1002,2,0),\"\")","v":""}]
[null,null,null,{"$f":"IFERROR(VLOOKUP(C882,Participants!$B$3:$C$1002,2,0),\"\")","v":""},null,{"$f":"IFERROR(VLOOKUP(E882,Participants!$B$3:$C$1002,2,0),\"\")","v":""}]
[null,null,null,{"$f":"IFERROR(VLOOKUP(C883,Participants!$B$3:$C$1002,2,0),\"\")","v":""},null,{"$f":"IFERROR(VLOOKUP(E883,Participants!$B$3:$C$1002,2,0),\"\")","v":""}]
[null,null,null,{"$f":"IFERROR(VLOOKUP(C884,Participants!$B$3:$C$1002,2,0),\"\")","v":""},null,{"$f":"IFERROR(VLOOKUP(E884,Participants!$B$3:$C$1002,2,0),\"\")","v":""}]
[null,null,null,{"$f":"IFERROR(VLOOKUP(C885,Participants!$B$3:$C$1002,2,0),\"\")","v":""},null,{"$f":"IFERROR(VLOOKUP(E885,Participants!$B$3:$C$1002,2,0),\"\")","v":""}]
[null,null,null,{"$f":"IFERROR(VLOOKUP(C886,Participants!$B$3:$C$1002,2,0),\"\")","v":""},null,{"$f":"IFERROR(VLOOKUP(E886,Participants!$B$3:$C$1002,2,0),\"\")","v":""}]
[null,null,null,{"$f":"IFERROR(VLOOKUP(C887,Participants!$B$3:$C$1002,2,0),\"\")","v":""},null,{"$f":"IFERROR(VLOOKUP(E887,Participants!$B$3:$C$1002,2,0),\"\")","v":""}]
[null,null,null,{"$f":"IFERROR(VLOOKUP(C888,Participants!$B$3:$C$1002,2,0),\"\")","v":""},null,{"$f":"IFERROR(VLOOKUP(E888,Participants!$B$3:$C$1002,2,0),\"\")","v":""}]
[null,null,null,{"$f":"IFERROR(VLOOKUP(C889,Participants!$B$3:$C$1002,2,0),\"\")","v":""},null,{"$f":"IFERROR(VLOOKUP(E889,Participants!$B$3:$C$1002,2,0),\"\")","v":""}]
[null,null,null,{"$f":"IFERROR(VLOOKUP(C890,Participants!$B$3:$C$1002,2,0),\"\")","v":""},null,{"$f":"IFERROR(VLOOKUP(E890,Participants!$B$3:$C$1002,2,0),\"\")","v":""}]
[null,null,null,{"$f":"IFERROR(VLOOKUP(C891,Participants!$B$3:$C$1002,2,0),\"\")","v":""},null,{"$f":"IFERROR(VLOOKUP(E891,Participants!$B$3:$C$1002,2,0),\"\")","v":""}]
[null,null,null,{"$f":"IFERROR(VLOOKUP(C892,Participants!$B$3:$C$1002,2,0),\"\")","v":""},null,{"$f":"IFERROR(VLOOKUP(E892,Participants!$B$3:$C$1002,2,0),\"\")","v":""}]
[null,null,null,{"$f":"IFERROR(VLOOKUP(C893,Participants!$B$3:$C$1002,2,0),\"\")","v":""},null,{"$f":"IFERROR(VLOOKUP(E893,Participants!$B$3:$C$1002,2,0),\"\")","v":""}]
[null,null,null,{"$f":"IFERROR(VLOOKUP(C894,Participants!$B$3:$C$1002,2,0),\"\")","v":""},null,{"$f":"IFERROR(VLOOKUP(E894,Participants!$B$3:$C$1002,2,0),\"\")","v":""}]
[null,null,null,{"$f":"IFERROR(VLOOKUP(C895,Participants!$B$3:$C$1002,2,0),\"\")","v":""},null,{"$f":"IFERROR(VLOOKUP(E895,Participants!$B$3:$C$1002,2,0),\"\")","v":""}]
[null,null,null,{"$f":"IFERROR(VLOOKUP(C896,Participants!$B$3:$C$1002,2,0),\"\")","v":""},null,{"$f":"IFERROR(VLOOKUP(E896,Participants!$B$3:$C$1002,2,0),\"\")","v":""}]
[null,null,null,{"$f":"IFERROR(VLOOKUP(C897,Participants!$B$3:$C$1002,2,0),\"\")","v":""},null,{"$f":"IFERROR(VLOOKUP(E897,Participants!$B$3:$C$1002,2,0),\"\")","v":""}]
[null,null,null,{"$f":"IFERROR(VLOOKUP(C898,Participants!$B$3:$C$1002,2,0),\"\")","v":""},null,{"$f":"IFERROR(VLOOKUP(E898,Participants!$B$3:$C$1002,2,0),\"\")","v":""}]
[null,null,null,{"$f":"IFERROR(VLOOKUP(C899,Participants!$B$3:$C$1002,2,0),\"\")","v":""},null,{"$f":"IFERROR(VLOOKUP(E899,Participants!$B$3:$C$1002,2,0),\"\")","v":""}]
[null,null,null,{"$f":"IFERROR(VLOOKUP(C900,Participants!$B$3:$C$1002,2,0),\"\")","v":""},null,{"$f":"IFERROR(VLOOKUP(E900,Participants!$B$3:$C$1002,2,0),\"\")","v":""}]
[null,null,null,{"$f":"IFERROR(VLOOKUP(C901,Participants!$B$3:$C$1002,2,0),\"\")","v":""},null,{"$f":"IFERROR(VLOOKUP(E901,Participants!$B$3:$C$1002,2,0),\"\")","v":""}]
[null,null,null,{"$f":"IFERROR(VLOOKUP(C902,Participants!$B$3:$C$1002,2,0),\"\")","v":""},null,{"$f":"IFERROR(VLOOKUP(E902,Participants!$B$3:$C$1002,2,0),\"\")","v":""}]
[null,null,null,{"$f":"IFERROR(VLOOKUP(C903,Participants!$B$3:$C$1002,2,0),\"\")","v":""},null,{"$f":"IFERROR(VLOOKUP(E903,Participants!$B$3:$C$1002,2,0),\"\")","v":""}]
[null,null,null,{"$f":"IFERROR(VLOOKUP(C904,Participants!$B$3:$C$1002,2,0),\"\")","v":""},null,{"$f":"IFERROR(VLOOKUP(E904,Participants!$B$3:$C$1002,2,0),\"\")","v":""}]
[null,null,null,{"$f":"IFERROR(VLOOKUP(C905,Participants!$B$3:$C$1002,2,0),\"\")","v":""},null,{"$f":"IFERROR(VLOOKUP(E905,Participants!$B$3:$C$1002,2,0),\"\")","v":""}]
[null,null,null,{"$f":"IFERROR(VLOOKUP(C906,Participants!$B$3:$C$1002,2,0),\"\")","v":""},null,{"$f":"IFERROR(VLOOKUP(E906,Participants!$B$3:$C$1002,2,0),\"\")","v":""}]
[null,null,null,{"$f":"IFERROR(VLOOKUP(C907,Participants!$B$3:$C$1002,2,0),\"\")","v":""},null,{"$f":"IFERROR(VLOOKUP(E907,Participants!$B$3:$C$1002,2,0),\"\")","v":""}]
[null,null,null,{"$f":"IFERROR(VLOOKUP(C908,Participants!$B$3:$C$1002,2,0),\"\")","v":""},null,{"$f":"IFERROR(VLOOKUP(E908,Participants!$B$3:$C$1002,2,0),\"\")","v":""}]
[null,null,null,{"$f":"IFERROR(VLOOKUP(C909,Participants!$B$3:$C$1002,2,0),\"\")","v":""},null,{"$f":"IFERROR(VLOOKUP(E909,Participants!$B$3:$C$1002,2,0),\"\")","v":""}]
[null,null,null,{"$f":"IFERROR(VLOOKUP(C910,Participants!$B$3:$C$1002,2,0),\"\")","v":""},null,{"$f":"IFERROR(VLOOKUP(E910,Participants!$B$3:$C$1002,2,0),\"\")","v":""}]
[null,null,null,{"$f":"IFERROR(VLOOKUP(C911,Participants!$B$3:$C$1002,2,0),\"\")","v":""},null,{"$f":"IFERROR(VLOOKUP(E911,Participants!$B$3:$C$1002,2,0),\"\")","v":""}]
[null,null,null,{"$f":"IFERROR(VLOOKUP(C912,Participants!$B$3:$C$1002,2,0),\"\")","v":""},null,{"$f":"IFERROR(VLOOKUP(E912,Participants!$B$3:$C$1002,2,0),\"\")","v":""}]
[null,null,null,{"$f":"IFERROR(VLOOKUP(C913,Participants!$B$3:$C$1002,2,0),\"\")","v":""},null,{"$f":"IFERROR(VLOOKUP(E913,Participants!$B$3:$C$1002,2,0),\"\")","v":""}]
[null,null,null,{"$f":"IFERROR(VLOOKUP(C914,Participants!$B$3:$C$1002,2,0),\"\")","v":""},null,{"$f":"IFERROR(VLOOKUP(E914,Participants!$B$3:$C$1002,2,0),\"\")","v":""}]
[null,null,null,{"$f":"IFERROR(VLOOKUP(C915,Participants!$B$3:$C$1002,2,0),\"\")","v":""},null,{"$f":"IFERROR(VLOOKUP(E915,Participants!$B$3:$C$1002,2,0),\"\")","v":""}]
[null,null,null,{"$f":"IFERROR(VLOOKUP(C916,Participants!$B$3:$C$1002,2,0),\"\")","v":""},null,{"$f":"IFERROR(VLOOKUP(E916,Participants!$B$3:$C$1002,2,0),\"\")","v":""}]
[null,null,null,{"$f":"IFERROR(VLOOKUP(C917,Participants!$B$3:$C$1002,2,0),\"\")","v":""},null,{"$f":"IFERROR(VLOOKUP(E917,Participants!$B$3:$C$1002,2,0),\"\")","v":""}]
[null,null,null,{"$f":"IFERROR(VLOOKUP(C918,Participants!$B$3:$C$1002,2,0),\"\")","v":""},null,{"$f":"IFERROR(VLOOKUP(E918,Participants!$B$3:$C$1002,2,0),\"\")","v":""}]
[null,null,null,{"$f":"IFERROR(VLOOKUP(C919,Participants!$B$3:$C$1002,2,0),\"\")","v":""},null,{"$f":"IFERROR(VLOOKUP(E919,Participants!$B$3:$C$1002,2,0),\"\")","v":""}]
[null,null,null,{"$f":"IFERROR(VLOOKUP(C920,Participants!$B$3:$C$1002,2,0),\"\")","v":""},null,{"$f":"IFERROR(VLOOKUP(E920,Participants!$B$3:$C$1002,2,0),\"\")","v":""}]
[null,null,null,{"$f":"IFERROR(VLOOKUP(C921,Participants!$B$3:$C$1002,2,0),\"\")","v":""},null,{"$f":"IFERROR(VLOOKUP(E921,Participants!$B$3:$C$1002,2,0),\"\")","v":""}]
[null,null,null,{"$f":"IFERROR(VLOOKUP(C922,Participants!$B$3:$C$1002,2,0),\"\")","v":""},null,{"$f":"IFERROR(VLOOKUP(E922,Participants!$B$3:$C$1002,2,0),\"\")","v":""}]
[null,null,null,{"$f":"IFERROR(VLOOKUP(C923,Participants!$B$3:$C$1002,2,0),\"\")","v":""},null,{"$f":"IFERROR(VLOOKUP(E923,Participants!$B$3:$C$1002,2,0),\"\")","v":""}]
[null,null,null,{"$f":"IFERROR(VLOOKUP(C924,Participants!$B$3:$C$1002,2,0),\"\")","v":""},null,{"$f":"IFERROR(VLOOKUP(E924,Participants!$B$3:$C$1002,2,0),\"\")","v":""}]
[null,null,null,{"$f":"IFERROR(VLOOKUP(C925,Participants!$B$3:$C$1002,2,0),\"\")","v":""},null,{"$f":"IFERROR(VLOOKUP(E925,Participants!$B$3:$C$1002,2,0),\"\")","v":""}]
[null,null,null,{"$f":"IFERROR(VLOOKUP(C926,Participants!$B$3:$C$1002,2,0),\"\")","v":""},null,{"$f":"IFERROR(VLOOKUP(E926,Participants!$B$3:$C$1002,2,0),\"\")","v":""}]
[null,null,null,{"$f":"IFERROR(VLOOKUP(C927,Participants!$B$3:$C$1002,2,0),\"\")","v":""},null,{"$f":"IFERROR(VLOOKUP(E927,Participants!$B$3:$C$1002,2,0),\"\")","v":""}]
[null,null,null,{"$f":"IFERROR(VLOOKUP(C928,Participants!$B$3:$C$1002,2,0),\"\")","v":""},null,{"$f":"IFERROR(VLOOKUP(E928,Participants!$B$3:$C$1002,2,0),\"\")","v":""}]
[null,null,null,{"$f":"IFERROR(VLOOKUP(C929,Participants!$B$3:$C$1002,2,0),\"\")","v":""},null,{"$f":"IFERROR(VLOOKUP(E929,Participants!$B$3:$C$1002,2,0),\"\")","v":""}]
[null,null,null,{"$f":"IFERROR(VLOOKUP(C930,Participants!$B$3:$C$1002,2,0),\"\")","v":""},null,{"$f":"IFERROR(VLOOKUP(E930,Participants!$B$3:$C$1002,2,0),\"\")","v":""}]
[null,null,null,{"$f":"IFERROR(VLOOKUP(C931,Participants!$B$3:$C$1002,2,0),\"\")","v":""},null,{"$f":"IFERROR(VLOOKUP(E931,Participants!$B$3:$C$1002,2,0),\"\")","v":""}]
[null,null,null,{"$f":"IFERROR(VLOOKUP(C932,Participants!$B$3:$C$1002,2,0),\"\")","v":""},null,{"$f":"IFERROR(VLOOKUP(E932,Participants!$B$3:$C$1002,2,0),\"\")","v":""}]
[null,null,null,{"$f":"IFERROR(VLOOKUP(C933,Participants!$B$3:$C$1002,2,0),\"\")","v":""},null,{"$f":"IFERROR(VLOOKUP(E933,Participants!$B$3:$C$1002,2,0),\"\")","v":""}]
[null,null,null,{"$f":"IFERROR(VLOOKUP(C934,Participants!$B$3:$C$1002,2,0),\"\")","v":""},null,{"$f":"IFERROR(VLOOKUP(E934,Participants!$B$3:$C$1002,2,0),\"\")","v":""}]
[null,null,null,{"$f":"IFERROR(VLOOKUP(C935,Participants!$B$3:$C$1002,2,0),\"\")","v":""},null,{"$f":"IFERROR(VLOOKUP(E935,Participants!$B$3:$C$1002,2,0),\"\")","v":""}]
[null,null,null,{"$f":"IFERROR(VLOOKUP(C936,Participants!$B$3:$C$1002,2,0),\"\")","v":""},null,{"$f":"IFERROR(VLOOKUP(E936,Participants!$B$3:$C$1002,2,0),\"\")","v":""}]
[null,null,null,{"$f":"IFERROR(VLOOKUP(C937,Participants!$B$3:$C$1002,2,0),\"\")","v":""},null,{"$f":"IFERROR(VLOOKUP(E937,Participants!$B$3:$C$1002,2,0),\"\")","v":""}]
[null,null,null,{"$f":"IFERROR(VLOOKUP(C938,Participants!$B$3:$C$1002,2,0),\"\")","v":""},null,{"$f":"IFERROR(VLOOKUP(E938,Participants!$B$3:$C$1002,2,0),\"\")","v":""}]
[null,null,null,{"$f":"IFERROR(VLOOKUP(C939,Participants!$B$3:$C$1002,2,0),\"\")","v":""},null,{"$f":"IFERROR(VLOOKUP(E939,Participants!$B$3:$C$1002,2,0),\"\")","v":""}]
[null,null,null,{"$f":"IFERROR(VLOOKUP(C940,Participants!$B$3:$C$1002,2,0),\"\")","v":""},null,{"$f":"IFERROR(VLOOKUP(E940,Participants!$B$3:$C$1002,2,0),\"\")","v":""}]
[null,null,null,{"$f":"IFERROR(VLOOKUP(C941,Participants!$B$3:$C$1002,2,0),\"\")","v":""},null,{"$f":"IFERROR(VLOOKUP(E941,Participants!$B$3:$C$1002,2,0),\"\")","v":""}]
[null,null,null,{"$f":"IFERROR(VLOOKUP(C942,Participants!$B$3:$C$1002,2,0),\"\")","v":""},null,{"$f":"IFERROR(VLOOKUP(E942,Participants!$B$3:$C$1002,2,0),\"\")","v":""}]
[null,null,null,{"$f":"IFERROR(VLOOKUP(C943,Participants!$B$3:$C$1002,2,0),\"\")","v":""},null,{"$f":"IFERROR(VLOOKUP(E943,Participants!$B$3:$C$1002,2,0),\"\")","v":""}]
[null,null,null,{"$f":"IFERROR(VLOOKUP(C944,Participants!$B$3:$C$1002,2,0),\"\")","v":""},null,{"$f":"IFERROR(VLOOKUP(E944,Participants!$B$3:$C$1002,2,0),\"\")","v":""}]
[null,null,null,{"$f":"IFERROR(VLOOKUP(C945,Participants!$B$3:$C$1002,2,0),\"\")","v":""},null,{"$f":"IFERROR(VLOOKUP(E945,Participants!$B$3:$C$1002,2,0),\"\")","v":""}]
[null,null,null,{"$f":"IFERROR(VLOOKUP(C946,Participants!$B$3:$C$1002,2,0),\"\")","v":""},null,{"$f":"IFERROR(VLOOKUP(E946,Participants!$B$3:$C$1002,2,0),\"\")","v":""}]
[null,null,null,{"$f":"IFERROR(VLOOKUP(C947,Participants!$B$3:$C$1002,2,0),\"\")","v":""},null,{"$f":"IFERROR(VLOOKUP(E947,Participants!$B$3:$C$1002,2,0),\"\")","v":""}]
[null,null,null,{"$f":"IFERROR(VLOOKUP(C948,Participants!$B$3:$C$1002,2,0),\"\")","v":""},null,{"$f":"IFERROR(VLOOKUP(E948,Participants!$B$3:$C$1002,2,0),\"\")","v":""}]
[null,null,null,{"$f":"IFERROR(VLOOKUP(C949,Participants!$B$3:$C$1002,2,0),\"\")","v":""},null,{"$f":"IFERROR(VLOOKUP(E949,Participants!$B$3:$C$1002,2,0),\"\")","v":""}]
[null,null,null,{"$f":"IFERROR(VLOOKUP(C950,Participants!$B$3:$C$1002,2,0),\"\")","v":""},null,{"$f":"IFERROR(VLOOKUP(E950,Participants!$B$3:$C$1002,2,0),\"\")","v":""}]
[null,null,null,{"$f":"IFERROR(VLOOKUP(C951,Participants!$B$3:$C$1002,2,0),\"\")","v":""},null,{"$f":"IFERROR(VLOOKUP(E951,Participants!$B$3:$C$1002,2,0),\"\")","v":""}]
[null,null,null,{"$f":"IFERROR(VLOOKUP(C952,Participants!$B$3:$C$1002,2,0),\"\")","v":""},null,{"$f":"IFERROR(VLOOKUP(E952,Participants!$B$3:$C$1002,2,0),\"\")","v":""}]
[null,null,null,{"$f":"IFERROR(VLOOKUP(C953,Participants!$B$3:$C$1002,2,0),\"\")","v":""},null,{"$f":"IFERROR(VLOOKUP(E953,Participants!$B$3:$C$1002,2,0),\"\")","v":""}]
[null,null,null,{"$f":"IFERROR(VLOOKUP(C954,Participants!$B$3:$C$1002,2,0),\"\")","v":""},null,{"$f":"IFERROR(VLOOKUP(E954,Participants!$B$3:$C$1002,2,0),\"\")","v":""}]
[null,null,null,{"$f":"IFERROR(VLOOKUP(C955,Participants!$B$3:$C$1002,2,0),\"\")","v":""},null,{"$f":"IFERROR(VLOOKUP(E955,Participants!$B$3:$C$1002,2,0),\"\")","v":""}]
[null,null,null,{"$f":"IFERROR(VLOOKUP(C956,Participants!$B$3:$C$1002,2,0),\"\")","v":""},null,{"$f":"IFERROR(VLOOKUP(E956,Participants!$B$3:$C$1002,2,0),\"\")","v":""}]
[null,null,null,{"$f":"IFERROR(VLOOKUP(C957,Participants!$B$3:$C$1002,2,0),\"\")","v":""},null,{"$f":"IFERROR(VLOOKUP(E957,Participants!$B$3:$C$1002,2,0),\"\")","v":""}]
[null,null,null,{"$f":"IFERROR(VLOOKUP(C958,Participants!$B$3:$C$1002,2,0),\"\")","v":""},null,{"$f":"IFERROR(VLOOKUP(E958,Participants!$B$3:$C$1002,2,0),\"\")","v":""}]
[null,null,null,{"$f":"IFERROR(VLOOKUP(C959,Participants!$B$3:$C$1002,2,0),\"\")","v":""},null,{"$f":"IFERROR(VLOOKUP(E959,Participants!$B$3:$C$1002,2,0),\"\")","v":""}]
[null,null,null,{"$f":"IFERROR(VLOOKUP(C960,Participants!$B$3:$C$1002,2,0),\"\")","v":""},null,{"$f":"IFERROR(VLOOKUP(E960,Participants!$B$3:$C$1002,2,0),\"\")","v":""}]
[null,null,null,{"$f":"IFERROR(VLOOKUP(C961,Participants!$B$3:$C$1002,2,0),\"\")","v":""},null,{"$f":"IFERROR(VLOOKUP(E961,Participants!$B$3:$C$1002,2,0),\"\")","v":""}]
[null,null,null,{"$f":"IFERROR(VLOOKUP(C962,Participants!$B$3:$C$1002,2,0),\"\")","v":""},null,{"$f":"IFERROR(VLOOKUP(E962,Participants!$B$3:$C$1002,2,0),\"\")","v":""}]
[null,null,null,{"$f":"IFERROR(VLOOKUP(C963,Participants!$B$3:$C$1002,2,0),\"\")","v":""},null,{"$f":"IFERROR(VLOOKUP(E963,Participants!$B$3:$C$1002,2,0),\"\")","v":""}]
[null,null,null,{"$f":"IFERROR(VLOOKUP(C964,Participants!$B$3:$C$1002,2,0),\"\")","v":""},null,{"$f":"IFERROR(VLOOKUP(E964,Participants!$B$3:$C$1002,2,0),\"\")","v":""}]
[null,null,null,{"$f":"IFERROR(VLOOKUP(C965,Participants!$B$3:$C$1002,2,0),\"\")","v":""},null,{"$f":"IFERROR(VLOOKUP(E965,Participants!$B$3:$C$1002,2,0),\"\")","v":""}]
[null,null,null,{"$f":"IFERROR(VLOOKUP(C966,Participants!$B$3:$C$1002,2,0),\"\")","v":""},null,{"$f":"IFERROR(VLOOKUP(E966,Participants!$B$3:$C$1002,2,0),\"\")","v":""}]
[null,null,null,{"$f":"IFERROR(VLOOKUP(C967,Participants!$B$3:$C$1002,2,0),\"\")","v":""},null,{"$f":"IFERROR(VLOOKUP(E967,Participants!$B$3:$C$1002,2,0),\"\")","v":""}]
[null,null,null,{"$f":"IFERROR(VLOOKUP(C968,Participants!$B$3:$C$1002,2,0),\"\")","v":""},null,{"$f":"IFERROR(VLOOKUP(E968,Participants!$B$3:$C$1002,2,0),\"\")","v":""}]
[null,null,null,{"$f":"IFERROR(VLOOKUP(C969,Participants!$B$3:$C$1002,2,0),\"\")","v":""},null,{"$f":"IFERROR(VLOOKUP(E969,Participants!$B$3:$C$1002,2,0),\"\")","v":""}]
[null,null,null,{"$f":"IFERROR(VLOOKUP(C970,Participants!$B$3:$C$1002,2,0),\"\")","v":""},null,{"$f":"IFERROR(VLOOKUP(E970,Participants!$B$3:$C$1002,2,0),\"\")","v":""}]
[null,null,null,{"$f":"IFERROR(VLOOKUP(C971,Participants!$B$3:$C$1002,2,0),\"\")","v":""},null,{"$f":"IFERROR(VLOOKUP(E971,Participants!$B$3:$C$1002,2,0),\"\")","v":""}]
[null,null,null,{"$f":"IFERROR(VLOOKUP(C972,Participants!$B$3:$C$1002,2,0),\"\")","v":""},null,{"$f":"IFERROR(VLOOKUP(E972,Participants!$B$3:$C$1002,2,0),\"\")","v":""}]
[null,null,null,{"$f":"IFERROR(VLOOKUP(C973,Participants!$B$3:$C$1002,2,0),\"\")","v":""},null,{"$f":"IFERROR(VLOOKUP(E973,Participants!$B$3:$C$1002,2,0),\"\")","v":""}]
[null,null,null,{"$f":"IFERROR(VLOOKUP(C974,Participants!$B$3:$C$1002,2,0),\"\")","v":""},null,{"$f":"IFERROR(VLOOKUP(E974,Participants!$B$3:$C$1002,2,0),\"\")","v":""}]
[null,null,null,{"$f":"IFERROR(VLOOKUP(C975,Participants!$B$3:$C$1002,2,0),\"\")","v":""},null,{"$f":"IFERROR(VLOOKUP(E975,Participants!$B$3:$C$1002,2,0),\"\")","v":""}]
[null,null,null,{"$f":"IFERROR(VLOOKUP(C976,Participants!$B$3:$C$1002,2,0),\"\")","v":""},null,{"$f":"IFERROR(VLOOKUP(E976,Participants!$B$3:$C$1002,2,0),\"\")","v":""}]
[null,null,null,{"$f":"IFERROR(VLOOKUP(C977,Participants!$B$3:$C$1002,2,0),\"\")","v":""},null,{"$f":"IFERROR(VLOOKUP(E977,Participants!$B$3:$C$1002,2,0),\"\")","v":""}]
[null,null,null,{"$f":"IFERROR(VLOOKUP(C978,Participants!$B$3:$C$1002,2,0),\"\")","v":""},null,{"$f":"IFERROR(VLOOKUP(E978,Participants!$B$3:$C$1002,2,0),\"\")","v":""}]
[null,null,null,{"$f":"IFERROR(VLOOKUP(C979,Participants!$B$3:$C$1002,2,0),\"\")","v":""},null,{"$f":"IFERROR(VLOOKUP(E979,Participants!$B$3:$C$1002,2,0),\"\")","v":""}]
[null,null,null,{"$f":"IFERROR(VLOOKUP(C980,Participants!$B$3:$C$1002,2,0),\"\")","v":""},null,{"$f":"IFERROR(VLOOKUP(E980,Participants!$B$3:$C$1002,2,0),\"\")","v":""}]
[null,null,null,{"$f":"IFERROR(VLOOKUP(C981,Participants!$B$3:$C$1002,2,0),\"\")","v":""},null,{"$f":"IFERROR(VLOOKUP(E981,Participants!$B$3:$C$1002,2,0),\"\")","v":""}]
[null,null,null,{"$f":"IFERROR(VLOOKUP(C982,Participants!$B$3:$C$1002,2,0),\"\")","v":""},null,{"$f":"IFERROR(VLOOKUP(E982,Participants!$B$3:$C$1002,2,0),\"\")","v":""}]
[null,null,null,{"$f":"IFERROR(VLOOKUP(C983,Participants!$B$3:$C$1002,2,0),\"\")","v":""},null,{"$f":"IFERROR(VLOOKUP(E983,Participants!$B$3:$C$1002,2,0),\"\")","v":""}]
[null,null,null,{"$f":"IFERROR(VLOOKUP(C984,Participants!$B$3:$C$1002,2,0),\"\")","v":""},null,{"$f":"IFERROR(VLOOKUP(E984,Participants!$B$3:$C$1002,2,0),\"\")","v":""}]
[null,null,null,{"$f":"IFERROR(VLOOKUP(C985,Participants!$B$3:$C$1002,2,0),\"\")","v":""},null,{"$f":"IFERROR(VLOOKUP(E985,Participants!$B$3:$C$1002,2,0),\"\")","v":""}]
[null,null,null,{"$f":"IFERROR(VLOOKUP(C986,Participants!$B$3:$C$1002,2,0),\"\")","v":""},null,{"$f":"IFERROR(VLOOKUP(E986,Participants!$B$3:$C$1002,2,0),\"\")","v":""}]
[null,null,null,{"$f":"IFERROR(VLOOKUP(C987,Participants!$B$3:$C$1002,2,0),\"\")","v":""},null,{"$f":"IFERROR(VLOOKUP(E987,Participants!$B$3:$C$1002,2,0),\"\")","v":""}]
[null,null,null,{"$f":"IFERROR(VLOOKUP(C988,Participants!$B$3:$C$1002,2,0),\"\")","v":""},null,{"$f":"IFERROR(VLOOKUP(E988,Participants!$B$3:$C$1002,2,0),\"\")","v":""}]
[null,null,null,{"$f":"IFERROR(VLOOKUP(C989,Participants!$B$3:$C$1002,2,0),\"\")","v":""},null,{"$f":"IFERROR(VLOOKUP(E989,Participants!$B$3:$C$1002,2,0),\"\")","v":""}]
[null,null,null,{"$f":"IFERROR(VLOOKUP(C990,Participants!$B$3:$C$1002,2,0),\"\")","v":""},null,{"$f":"IFERROR(VLOOKUP(E990,Participants!$B$3:$C$1002,2,0),\"\")","v":""}]
[null,null,null,{"$f":"IFERROR(VLOOKUP(C991,Participants!$B$3:$C$1002,2,0),\"\")","v":""},null,{"$f":"IFERROR(VLOOKUP(E991,Participants!$B$3:$C$1002,2,0),\"\")","v":""}]
[null,null,null,{"$f":"IFERROR(VLOOKUP(C992,Participants!$B$3:$C$1002,2,0),\"\")","v":""},null,{"$f":"IFERROR(VLOOKUP(E992,Participants!$B$3:$C$1002,2,0),\"\")","v":""}]
[null,null,null,{"$f":"IFERROR(VLOOKUP(C993,Participants!$B$3:$C$1002,2,0),\"\")","v":""},null,{"$f":"IFERROR(VLOOKUP(E993,Participants!$B$3:$C$1002,2,0),\"\")","v":""}]
[null,null,null,{"$f":"IFERROR(VLOOKUP(C994,Participants!$B$3:$C$1002,2,0),\"\")","v":""},null,{"$f":"IFERROR(VLOOKUP(E994,Participants!$B$3:$C$1002,2,0),\"\")","v":""}]
[null,null,null,{"$f":"IFERROR(VLOOKUP(C995,Participants!$B$3:$C$1002,2,0),\"\")","v":""},null,{"$f":"IFERROR(VLOOKUP(E995,Participants!$B$3:$C$1002,2,0),\"\")","v":""}]
[null,null,null,{"$f":"IFERROR(VLOOKUP(C996,Participants!$B$3:$C$1002,2,0),\"\")","v":""},null,{"$f":"IFERROR(VLOOKUP(E996,Participants!$B$3:$C$1002,2,0),\"\")","v":""}]
[null,null,null,{"$f":"IFERROR(VLOOKUP(C997,Participants!$B$3:$C$1002,2,0),\"\")","v":""},null,{"$f":"IFERROR(VLOOKUP(E997,Participants!$B$3:$C$1002,2,0),\"\")","v":""}]
[null,null,null,{"$f":"IFERROR(VLOOKUP(C998,Participants!$B$3:$C$1002,2,0),\"\")","v":""},null,{"$f":"IFERROR(VLOOKUP(E998,Participants!$B$3:$C$1002,2,0),\"\")","v":""}]
[null,null,null,{"$f":"IFERROR(VLOOKUP(C999,Participants!$B$3:$C$1002,2,0),\"\")","v":""},null,{"$f":"IFERROR(VLOOKUP(E999,Participants!$B$3:$C$1002,2,0),\"\")","v":""}]
[null,null,null,{"$f":"IFERROR(VLOOKUP(C1000,Participants!$B$3:$C$1002,2,0),\"\")","v":""},null,{"$f":"IFERROR(VLOOKUP(E1000,Participants!$B$3:$C$1002,2,0),\"\")","v":""}]
[null,null,null,{"$f":"IFERROR(VLOOKUP(C1001,Participants!$B$3:$C$1002,2,0),\"\")","v":""},null,{"$f":"IFERROR(VLOOKUP(E1001,Participants!$B$3:$C$1002,2,0),\"\")","v":""}]
[null,null,null,{"$f":"IFERROR(VLOOKUP(C1002,Participants!$B$3:$C$1002,2,0),\"\")","v":""},null,{"$f":"IFERROR(VLOOKUP(E1002,Participants!$B$3:$C$1002,2,0),\"\")","v":""}]
[null,null,null,{"$f":"IFERROR(VLOOKUP(C1003,Participants!$B$3:$C$1002,2,0),\"\")","v":""},null,{"$f":"IFERROR(VLOOKUP(E1003,Participants!$B$3:$C$1002,2,0),\"\")","v":""}]
[null,null,null,{"$f":"IFERROR(VLOOKUP(C1004,Participants!$B$3:$C$1002,2,0),\"\")","v":""},null,{"$f":"IFERROR(VLOOKUP(E1004,Participants!$B$3:$C$1002,2,0),\"\")","v":""}]
[null,null,null,{"$f":"IFERROR(VLOOKUP(C1005,Participants!$B$3:$C$1002,2,0),\"\")","v":""},null,{"$f":"IFERROR(VLOOKUP(E1005,Participants!$B$3:$C$1002,2,0),\"\")","v":""}]
[null,null,null,{"$f":"IFERROR(VLOOKUP(C1006,Participants!$B$3:$C$1002,2,0),\"\")","v":""},null,{"$f":"IFERROR(VLOOKUP(E1006,Participants!$B$3:$C$1002,2,0),\"\")","v":""}]
[null,null,null,{"$f":"IFERROR(VLOOKUP(C1007,Participants!$B$3:$C$1002,2,0),\"\")","v":""},null,{"$f":"IFERROR(VLOOKUP(E1007,Participants!$B$3:$C$1002,2,0),\"\")","v":""}]
[null,null,null,{"$f":"IFERROR(VLOOKUP(C1008,Participants!$B$3:$C$1002,2,0),\"\")","v":""},null,{"$f":"IFERROR(VLOOKUP(E1008,Participants!$B$3:$C$1002,2,0),\"\")","v":""}]
[null,null,null,{"$f":"IFERROR(VLOOKUP(C1009,Participants!$B$3:$C$1002,2,0),\"\")","v":""},null,{"$f":"IFERROR(VLOOKUP(E1009,Participants!$B$3:$C$1002,2,0),\"\")","v":""}]
[null,null,null,{"$f":"IFERROR(VLOOKUP(C1010,Participants!$B$3:$C$1002,2,0),\"\")","v":""},null,{"$f":"IFERROR(VLOOKUP(E1010,Participants!$B$3:$C$1002,2,0),\"\")","v":""}]
[null,null,null,{"$f":"IFERROR(VLOOKUP(C1011,Participants!$B$3:$C$1002,2,0),\"\")","v":""},null,{"$f":"IFERROR(VLOOKUP(E1011,Participants!$B$3:$C$1002,2,0),\"\")","v":""}]
[null,null,null,{"$f":"IFERROR(VLOOKUP(C1012,Participants!$B$3:$C$1002,2,0),\"\")","v":""},null,{"$f":"IFERROR(VLOOKUP(E1012,Participants!$B$3:$C$1002,2,0),\"\")","v":""}]
[null,null,null,{"$f":"IFERROR(VLOOKUP(C1013,Participants!$B$3:$C$1002,2,0),\"\")","v":""},null,{"$f":"IFERROR(VLOOKUP(E1013,Participants!$B$3:$C$1002,2,0),\"\")","v":""}]
[null,null,null,{"$f":"IFERROR(VLOOKUP(C1014,Participants!$B$3:$C$1002,2,0),\"\")","v":""},null,{"$f":"IFERROR(VLOOKUP(E1014,Participants!$B$3:$C$1002,2,0),\"\")","v":""}]
[null,null,null,{"$f":"IFERROR(VLOOKUP(C1015,Participants!$B$3:$C$1002,2,0),\"\")","v":""},null,{"$f":"IFERROR(VLOOKUP(E1015,Participants!$B$3:$C$1002,2,0),\"\")","v":""}]
[null,null,null,{"$f":"IFERROR(VLOOKUP(C1016,Participants!$B$3:$C$1002,2,0),\"\")","v":""},null,{"$f":"IFERROR(VLOOKUP(E1016,Participants!$B$3:$C$1002,2,0),\"\")","v":""}]
[null,null,null,{"$f":"IFERROR(VLOOKUP(C1017,Participants!$B$3:$C$1002,2,0),\"\")","v":""},null,{"$f":"IFERROR(VLOOKUP(E1017,Participants!$B$3:$C$1002,2,0),\"\")","v":""}]
[null,null,null,{"$f":"IFERROR(VLOOKUP(C1018,Participants!$B$3:$C$1002,2,0),\"\")","v":""},null,{"$f":"IFERROR(VLOOKUP(E1018,Participants!$B$3:$C$1002,2,0),\"\")","v":""}]
[null,null,null,{"$f":"IFERROR(VLOOKUP(C1019,Participants!$B$3:$C$1002,2,0),\"\")","v":""},null,{"$f":"IFERROR(VLOOKUP(E1019,Participants!$B$3:$C$1002,2,0),\"\")","v":""}]
[null,null,null,{"$f":"IFERROR(VLOOKUP(C1020,Participants!$B$3:$C$1002,2,0),\"\")","v":""},null,{"$f":"IFERROR(VLOOKUP(E1020,Participants!$B$3:$C$1002,2,0),\"\")","v":""}]
[null,null,null,{"$f":"IFERROR(VLOOKUP(C1021,Participants!$B$3:$C$1002,2,0),\"\")","v":""},null,{"$f":"IFERROR(VLOOKUP(E1021,Participants!$B$3:$C$1002,2,0),\"\")","v":""}]
[null,null,null,{"$f":"IFERROR(VLOOKUP(C1022,Participants!$B$3:$C$1002,2,0),\"\")","v":""},null,{"$f":"IFERROR(VLOOKUP(E1022,Participants!$B$3:$C$1002,2,0),\"\")","v":""}]
[null,null,null,{"$f":"IFERROR(VLOOKUP(C1023,Participants!$B$3:$C$1002,2,0),\"\")","v":""},null,{"$f":"IFERROR(VLOOKUP(E1023,Participants!$B$3:$C$1002,2,0),\"\")","v":""}]
[null,null,null,{"$f":"IFERROR(VLOOKUP(C1024,Participants!$B$3:$C$1002,2,0),\"\")","v":""},null,{"$f":"IFERROR(VLOOKUP(E1024,Participants!$B$3:$C$1002,2,0),\"\")","v":""}]
[null,null,null,{"$f":"IFERROR(VLOOKUP(C1025,Participants!$B$3:$C$1002,2,0),\"\")","v":""},null,{"$f":"IFERROR(VLOOKUP(E1025,Participants!$B$3:$C$1002,2,0),\"\")","v":""}]
[null,null,null,{"$f":"IFERROR(VLOOKUP(C1026,Participants!$B$3:$C$1002,2,0),\"\")","v":""},null,{"$f":"IFERROR(VLOOKUP(E1026,Participants!$B$3:$C$1002,2,0),\"\")","v":""}]
[null,null,null,{"$f":"IFERROR(VLOOKUP(C1027,Participants!$B$3:$C$1002,2,0),\"\")","v":""},null,{"$f":"IFERROR(VLOOKUP(E1027,Participants!$B$3:$C$1002,2,0),\"\")","v":""}]
[null,null,null,{"$f":"IFERROR(VLOOKUP(C1028,Participants!$B$3:$C$1002,2,0),\"\")","v":""},null,{"$f":"IFERROR(VLOOKUP(E1028,Participants!$B$3:$C$1002,2,0),\"\")","v":""}]
[null,null,null,{"$f":"IFERROR(VLOOKUP(C1029,Participants!$B$3:$C$1002,2,0),\"\")","v":""},null,{"$f":"IFERROR(VLOOKUP(E1029,Participants!$B$3:$C$1002,2,0),\"\")","v":""}]
[null,null,null,{"$f":"IFERROR(VLOOKUP(C1030,Participants!$B$3:$C$1002,2,0),\"\")","v":""},null,{"$f":"IFERROR(VLOOKUP(E1030,Participants!$B$3:$C$1002,2,0),\"\")","v":""}]
[null,null,null,{"$f":"IFERROR(VLOOKUP(C1031,Participants!$B$3:$C$1002,2,0),\"\")","v":""},null,{"$f":"IFERROR(VLOOKUP(E1031,Participants!$B$3:$C$1002,2,0),\"\")","v":""}]
[null,null,null,{"$f":"IFERROR(VLOOKUP(C1032,Participants!$B$3:$C$1002,2,0),\"\")","v":""},null,{"$f":"IFERROR(VLOOKUP(E1032,Participants!$B$3:$C$1002,2,0),\"\")","v":""}]
[null,null,null,{"$f":"IFERROR(VLOOKUP(C1033,Participants!$B$3:$C$1002,2,0),\"\")","v":""},null,{"$f":"IFERROR(VLOOKUP(E1033,Participants!$B$3:$C$1002,2,0),\"\")","v":""}]
[null,null,null,{"$f":"IFERROR(VLOOKUP(C1034,Participants!$B$3:$C$1002,2,0),\"\")","v":""},null,{"$f":"IFERROR(VLOOKUP(E1034,Participants!$B$3:$C$1002,2,0),\"\")","v":""}]
[null,null,null,{"$f":"IFERROR(VLOOKUP(C1035,Participants!$B$3:$C$1002,2,0),\"\")","v":""},null,{"$f":"IFERROR(VLOOKUP(E1035,Participants!$B$3:$C$1002,2,0),\"\")","v":""}]
[null,null,null,{"$f":"IFERROR(VLOOKUP(C1036,Participants!$B$3:$C$1002,2,0),\"\")","v":""},null,{"$f":"IFERROR(VLOOKUP(E1036,Participants!$B$3:$C$1002,2,0),\"\")","v":""}]
[null,null,null,{"$f":"IFERROR(VLOOKUP(C1037,Participants!$B$3:$C$1002,2,0),\"\")","v":""},null,{"$f":"IFERROR(VLOOKUP(E1037,Participants!$B$3:$C$1002,2,0),\"\")","v":""}]
[null,null,null,{"$f":"IFERROR(VLOOKUP(C1038,Participants!$B$3:$C$1002,2,0),\"\")","v":""},null,{"$f":"IFERROR(VLOOKUP(E1038,Participants!$B$3:$C$1002,2,0),\"\")","v":""}]
[null,null,null,{"$f":"IFERROR(VLOOKUP(C1039,Participants!$B$3:$C$1002,2,0),\"\")","v":""},null,{"$f":"IFERROR(VLOOKUP(E1039,Participants!$B$3:$C$1002,2,0),\"\")","v":""}]
[null,null,null,{"$f":"IFERROR(VLOOKUP(C1040,Participants!$B$3:$C$1002,2,0),\"\")","v":""},null,{"$f":"IFERROR(VLOOKUP(E1040,Participants!$B$3:$C$1002,2,0),\"\")","v":""}]
[null,null,null,{"$f":"IFERROR(VLOOKUP(C1041,Participants!$B$3:$C$1002,2,0),\"\")","v":""},null,{"$f":"IFERROR(VLOOKUP(E1041,Participants!$B$3:$C$1002,2,0),\"\")","v":""}]
[null,null,null,{"$f":"IFERROR(VLOOKUP(C1042,Participants!$B$3:$C$1002,2,0),\"\")","v":""},null,{"$f":"IFERROR(VLOOKUP(E1042,Participants!$B$3:$C$1002,2,0),\"\")","v":""}]
[null,null,null,{"$f":"IFERROR(VLOOKUP(C1043,Participants!$B$3:$C$1002,2,0),\"\")","v":""},null,{"$f":"IFERROR(VLOOKUP(E1043,Participants!$B$3:$C$1002,2,0),\"\")","v":""}]
[null,null,null,{"$f":"IFERROR(VLOOKUP(C1044,Participants!$B$3:$C$1002,2,0),\"\")","v":""},null,{"$f":"IFERROR(VLOOKUP(E1044,Participants!$B$3:$C$1002,2,0),\"\")","v":""}]
[null,null,null,{"$f":"IFERROR(VLOOKUP(C1045,Participants!$B$3:$C$1002,2,0),\"\")","v":""},null,{"$f":"IFERROR(VLOOKUP(E1045,Participants!$B$3:$C$1002,2,0),\"\")","v":""}]
[null,null,null,{"$f":"IFERROR(VLOOKUP(C1046,Participants!$B$3:$C$1002,2,0),\"\")","v":""},null,{"$f":"IFERROR(VLOOKUP(E1046,Participants!$B$3:$C$1002,2,0),\"\")","v":""}]
[null,null,null,{"$f":"IFERROR(VLOOKUP(C1047,Participants!$B$3:$C$1002,2,0),\"\")","v":""},null,{"$f":"IFERROR(VLOOKUP(E1047,Participants!$B$3:$C$1002,2,0),\"\")","v":""}]
[null,null,null,{"$f":"IFERROR(VLOOKUP(C1048,Participants!$B$3:$C$1002,2,0),\"\")","v":""},null,{"$f":"IFERROR(VLOOKUP(E1048,Participants!$B$3:$C$1002,2,0),\"\")","v":""}]
[null,null,null,{"$f":"IFERROR(VLOOKUP(C1049,Participants!$B$3:$C$1002,2,0),\"\")","v":""},null,{"$f":"IFERROR(VLOOKUP(E1049,Participants!$B$3:$C$1002,2,0),\"\")","v":""}]
[null,null,null,{"$f":"IFERROR(VLOOKUP(C1050,Participants!$B$3:$C$1002,2,0),\"\")","v":""},null,{"$f":"IFERROR(VLOOKUP(E1050,Participants!$B$3:$C$1002,2,0),\"\")","v":""}]
[null,null,null,{"$f":"IFERROR(VLOOKUP(C1051,Participants!$B$3:$C$1002,2,0),\"\")","v":""},null,{"$f":"IFERROR(VLOOKUP(E1051,Participants!$B$3:$C$1002,2,0),\"\")","v":""}]
[null,null,null,{"$f":"IFERROR(VLOOKUP(C1052,Participants!$B$3:$C$1002,2,0),\"\")","v":""},null,{"$f":"IFERROR(VLOOKUP(E1052,Participants!$B$3:$C$1002,2,0),\"\")","v":""}]
[null,null,null,{"$f":"IFERROR(VLOOKUP(C1053,Participants!$B$3:$C$1002,2,0),\"\")","v":""},null,{"$f":"IFERROR(VLOOKUP(E1053,Participants!$B$3:$C$1002,2,0),\"\")","v":""}]
[null,null,null,{"$f":"IFERROR(VLOOKUP(C1054,Participants!$B$3:$C$1002,2,0),\"\")","v":""},null,{"$f":"IFERROR(VLOOKUP(E1054,Participants!$B$3:$C$1002,2,0),\"\")","v":""}]
[null,null,null,{"$f":"IFERROR(VLOOKUP(C1055,Participants!$B$3:$C$1002,2,0),\"\")","v":""},null,{"$f":"IFERROR(VLOOKUP(E1055,Participants!$B$3:$C$1002,2,0),\"\")","v":""}]
[null,null,null,{"$f":"IFERROR(VLOOKUP(C1056,Participants!$B$3:$C$1002,2,0),\"\")","v":""},null,{"$f":"IFERROR(VLOOKUP(E1056,Participants!$B$3:$C$1002,2,0),\"\")","v":""}]
[null,null,null,{"$f":"IFERROR(VLOOKUP(C1057,Participants!$B$3:$C$1002,2,0),\"\")","v":""},null,{"$f":"IFERROR(VLOOKUP(E1057,Participants!$B$3:$C$1002,2,0),\"\")","v":""}]
[null,null,null,{"$f":"IFERROR(VLOOKUP(C1058,Participants!$B$3:$C$1002,2,0),\"\")","v":""},null,{"$f":"IFERROR(VLOOKUP(E1058,Participants!$B$3:$C$1002,2,0),\"\")","v":""}]
[null,null,null,{"$f":"IFERROR(VLOOKUP(C1059,Participants!$B$3:$C$1002,2,0),\"\")","v":""},null,{"$f":"IFERROR(VLOOKUP(E1059,Participants!$B$3:$C$1002,2,0),\"\")","v":""}]
[null,null,null,{"$f":"IFERROR(VLOOKUP(C1060,Participants!$B$3:$C$1002,2,0),\"\")","v":""},null,{"$f":"IFERROR(VLOOKUP(E1060,Participants!$B$3:$C$1002,2,0),\"\")","v":""}]
[null,null,null,{"$f":"IFERROR(VLOOKUP(C1061,Participants!$B$3:$C$1002,2,0),\"\")","v":""},null,{"$f":"IFERROR(VLOOKUP(E1061,Participants!$B$3:$C$1002,2,0),\"\")","v":""}]
[null,null,null,{"$f":"IFERROR(VLOOKUP(C1062,Participants!$B$3:$C$1002,2,0),\"\")","v":""},null,{"$f":"IFERROR(VLOOKUP(E1062,Participants!$B$3:$C$1002,2,0),\"\")","v":""}]
[null,null,null,{"$f":"IFERROR(VLOOKUP(C1063,Participants!$B$3:$C$1002,2,0),\"\")","v":""},null,{"$f":"IFERROR(VLOOKUP(E1063,Participants!$B$3:$C$1002,2,0),\"\")","v":""}]
[null,null,null,{"$f":"IFERROR(VLOOKUP(C1064,Participants!$B$3:$C$1002,2,0),\"\")","v":""},null,{"$f":"IFERROR(VLOOKUP(E1064,Participants!$B$3:$C$1002,2,0),\"\")","v":""}]
[null,null,null,{"$f":"IFERROR(VLOOKUP(C1065,Participants!$B$3:$C$1002,2,0),\"\")","v":""},null,{"$f":"IFERROR(VLOOKUP(E1065,Participants!$B$3:$C$1002,2,0),\"\")","v":""}]
[null,null,null,{"$f":"IFERROR(VLOOKUP(C1066,Participants!$B$3:$C$1002,2,0),\"\")","v":""},null,{"$f":"IFERROR(VLOOKUP(E1066,Participants!$B$3:$C$1002,2,0),\"\")","v":""}]
[null,null,null,{"$f":"IFERROR(VLOOKUP(C1067,Participants!$B$3:$C$1002,2,0),\"\")","v":""},null,{"$f":"IFERROR(VLOOKUP(E1067,Participants!$B$3:$C$1002,2,0),\"\")","v":""}]
[null,null,null,{"$f":"IFERROR(VLOOKUP(C1068,Participants!$B$3:$C$1002,2,0),\"\")","v":""},null,{"$f":"IFERROR(VLOOKUP(E1068,Participants!$B$3:$C$1002,2,0),\"\")","v":""}]
[null,null,null,{"$f":"IFERROR(VLOOKUP(C1069,Participants!$B$3:$C$1002,2,0),\"\")","v":""},null,{"$f":"IFERROR(VLOOKUP(E1069,Participants!$B$3:$C$1002,2,0),\"\")","v":""}]
[null,null,null,{"$f":"IFERROR(VLOOKUP(C1070,Participants!$B$3:$C$1002,2,0),\"\")","v":""},null,{"$f":"IFERROR(VLOOKUP(E1070,Participants!$B$3:$C$1002,2,0),\"\")","v":""}]
[null,null,null,{"$f":"IFERROR(VLOOKUP(C1071,Participants!$B$3:$C$1002,2,0),\"\")","v":""},null,{"$f":"IFERROR(VLOOKUP(E1071,Participants!$B$3:$C$1002,2,0),\"\")","v":""}]
[null,null,null,{"$f":"IFERROR(VLOOKUP(C1072,Participants!$B$3:$C$1002,2,0),\"\")","v":""},null,{"$f":"IFERROR(VLOOKUP(E1072,Participants!$B$3:$C$1002,2,0),\"\")","v":""}]
[null,null,null,{"$f":"IFERROR(VLOOKUP(C1073,Participants!$B$3:$C$1002,2,0),\"\")","v":""},null,{"$f":"IFERROR(VLOOKUP(E1073,Participants!$B$3:$C$1002,2,0),\"\")","v":""}]
[null,null,null,{"$f":"IFERROR(VLOOKUP(C1074,Participants!$B$3:$C$1002,2,0),\"\")","v":""},null,{"$f":"IFERROR(VLOOKUP(E1074,Participants!$B$3:$C$1002,2,0),\"\")","v":""}]
[null,null,null,{"$f":"IFERROR(VLOOKUP(C1075,Participants!$B$3:$C$1002,2,0),\"\")","v":""},null,{"$f":"IFERROR(VLOOKUP(E1075,Participants!$B$3:$C$1002,2,0),\"\")","v":""}]
[null,null,null,{"$f":"IFERROR(VLOOKUP(C1076,Participants!$B$3:$C$1002,2,0),\"\")","v":""},null,{"$f":"IFERROR(VLOOKUP(E1076,Participants!$B$3:$C$1002,2,0),\"\")","v":""}]
[null,null,null,{"$f":"IFERROR(VLOOKUP(C1077,Participants!$B$3:$C$1002,2,0),\"\")","v":""},null,{"$f":"IFERROR(VLOOKUP(E1077,Participants!$B$3:$C$1002,2,0),\"\")","v":""}]
[null,null,null,{"$f":"IFERROR(VLOOKUP(C1078,Participants!$B$3:$C$1002,2,0),\"\")","v":""},null,{"$f":"IFERROR(VLOOKUP(E1078,Participants!$B$3:$C$1002,2,0),\"\")","v":""}]
[null,null,null,{"$f":"IFERROR(VLOOKUP(C1079,Participants!$B$3:$C$1002,2,0),\"\")","v":""},null,{"$f":"IFERROR(VLOOKUP(E1079,Participants!$B$3:$C$1002,2,0),\"\")","v":""}]
[null,null,null,{"$f":"IFERROR(VLOOKUP(C1080,Participants!$B$3:$C$1002,2,0),\"\")","v":""},null,{"$f":"IFERROR(VLOOKUP(E1080,Participants!$B$3:$C$1002,2,0),\"\")","v":""}]
[null,null,null,{"$f":"IFERROR(VLOOKUP(C1081,Participants!$B$3:$C$1002,2,0),\"\")","v":""},null,{"$f":"IFERROR(VLOOKUP(E1081,Participants!$B$3:$C$1002,2,0),\"\")","v":""}]
[null,null,null,{"$f":"IFERROR(VLOOKUP(C1082,Participants!$B$3:$C$1002,2,0),\"\")","v":""},null,{"$f":"IFERROR(VLOOKUP(E1082,Participants!$B$3:$C$1002,2,0),\"\")","v":""}]
[null,null,null,{"$f":"IFERROR(VLOOKUP(C1083,Participants!$B$3:$C$1002,2,0),\"\")","v":""},null,{"$f":"IFERROR(VLOOKUP(E1083,Participants!$B$3:$C$1002,2,0),\"\")","v":""}]
[null,null,null,{"$f":"IFERROR(VLOOKUP(C1084,Participants!$B$3:$C$1002,2,0),\"\")","v":""},null,{"$f":"IFERROR(VLOOKUP(E1084,Participants!$B$3:$C$1002,2,0),\"\")","v":""}]
[null,null,null,{"$f":"IFERROR(VLOOKUP(C1085,Participants!$B$3:$C$1002,2,0),\"\")","v":""},null,{"$f":"IFERROR(VLOOKUP(E1085,Participants!$B$3:$C$1002,2,0),\"\")","v":""}]
[null,null,null,{"$f":"IFERROR(VLOOKUP(C1086,Participants!$B$3:$C$1002,2,0),\"\")","v":""},null,{"$f":"IFERROR(VLOOKUP(E1086,Participants!$B$3:$C$1002,2,0),\"\")","v":""}]
[null,null,null,{"$f":"IFERROR(VLOOKUP(C1087,Participants!$B$3:$C$1002,2,0),\"\")","v":""},null,{"$f":"IFERROR(VLOOKUP(E1087,Participants!$B$3:$C$1002,2,0),\"\")","v":""}]
[null,null,null,{"$f":"IFERROR(VLOOKUP(C1088,Participants!$B$3:$C$1002,2,0),\"\")","v":""},null,{"$f":"IFERROR(VLOOKUP(E1088,Participants!$B$3:$C$1002,2,0),\"\")","v":""}]
[null,null,null,{"$f":"IFERROR(VLOOKUP(C1089,Participants!$B$3:$C$1002,2,0),\"\")","v":""},null,{"$f":"IFERROR(VLOOKUP(E1089,Participants!$B$3:$C$1002,2,0),\"\")","v":""}]
[null,null,null,{"$f":"IFERROR(VLOOKUP(C1090,Participants!$B$3:$C$1002,2,0),\"\")","v":""},null,{"$f":"IFERROR(VLOOKUP(E1090,Participants!$B$3:$C$1002,2,0),\"\")","v":""}]
[null,null,null,{"$f":"IFERROR(VLOOKUP(C1091,Participants!$B$3:$C$1002,2,0),\"\")","v":""},null,{"$f":"IFERROR(VLOOKUP(E1091,Participants!$B$3:$C$1002,2,0),\"\")","v":""}]
[null,null,null,{"$f":"IFERROR(VLOOKUP(C1092,Participants!$B$3:$C$1002,2,0),\"\")","v":""},null,{"$f":"IFERROR(VLOOKUP(E1092,Participants!$B$3:$C$1002,2,0),\"\")","v":""}]
[null,null,null,{"$f":"IFERROR(VLOOKUP(C1093,Participants!$B$3:$C$1002,2,0),\"\")","v":""},null,{"$f":"IFERROR(VLOOKUP(E1093,Participants!$B$3:$C$1002,2,0),\"\")","v":""}]
[null,null,null,{"$f":"IFERROR(VLOOKUP(C1094,Participants!$B$3:$C$1002,2,0),\"\")","v":""},null,{"$f":"IFERROR(VLOOKUP(E1094,Participants!$B$3:$C$1002,2,0),\"\")","v":""}]
[null,null,null,{"$f":"IFERROR(VLOOKUP(C1095,Participants!$B$3:$C$1002,2,0),\"\")","v":""},null,{"$f":"IFERROR(VLOOKUP(E1095,Participants!$B$3:$C$1002,2,0),\"\")","v":""}]
[null,null,null,{"$f":"IFERROR(VLOOKUP(C1096,Participants!$B$3:$C$1002,2,0),\"\")","v":""},null,{"$f":"IFERROR(VLOOKUP(E1096,Participants!$B$3:$C$1002,2,0),\"\")","v":""}]
[null,null,null,{"$f":"IFERROR(VLOOKUP(C1097,Participants!$B$3:$C$1002,2,0),\"\")","v":""},null,{"$f":"IFERROR(VLOOKUP(E1097,Participants!$B$3:$C$1002,2,0),\"\")","v":""}]
[null,null,null,{"$f":"IFERROR(VLOOKUP(C1098,Participants!$B$3:$C$1002,2,0),\"\")","v":""},null,{"$f":"IFERROR(VLOOKUP(E1098,Participants!$B$3:$C$1002,2,0),\"\")","v":""}]
[null,null,null,{"$f":"IFERROR(VLOOKUP(C1099,Participants!$B$3:$C$1002,2,0),\"\")","v":""},null,{"$f":"IFERROR(VLOOKUP(E1099,Participants!$B$3:$C$1002,2,0),\"\")","v":""}]
[null,null,null,{"$f":"IFERROR(VLOOKUP(C1100,Participants!$B$3:$C$1002,2,0),\"\")","v":""},null,{"$f":"IFERROR(VLOOKUP(E1100,Participants!$B$3:$C$1002,2,0),\"\")","v":""}]
[null,null,null,{"$f":"IFERROR(VLOOKUP(C1101,Participants!$B$3:$C$1002,2,0),\"\")","v":""},null,{"$f":"IFERROR(VLOOKUP(E1101,Participants!$B$3:$C$1002,2,0),\"\")","v":""}]
[null,null,null,{"$f":"IFERROR(VLOOKUP(C1102,Participants!$B$3:$C$1002,2,0),\"\")","v":""},null,{"$f":"IFERROR(VLOOKUP(E1102,Participants!$B$3:$C$1002,2,0),\"\")","v":""}]
[null,null,null,{"$f":"IFERROR(VLOOKUP(C1103,Participants!$B$3:$C$1002,2,0),\"\")","v":""},null,{"$f":"IFERROR(VLOOKUP(E1103,Participants!$B$3:$C$1002,2,0),\"\")","v":""}]
[null,null,null,{"$f":"IFERROR(VLOOKUP(C1104,Participants!$B$3:$C$1002,2,0),\"\")","v":""},null,{"$f":"IFERROR(VLOOKUP(E1104,Participants!$B$3:$C$1002,2,0),\"\")","v":""}]
[null,null,null,{"$f":"IFERROR(VLOOKUP(C1105,Participants!$B$3:$C$1002,2,0),\"\")","v":""},null,{"$f":"IFERROR(VLOOKUP(E1105,Participants!$B$3:$C$1002,2,0),\"\")","v":""}]
[null,null,null,{"$f":"IFERROR(VLOOKUP(C1106,Participants!$B$3:$C$1002,2,0),\"\")","v":""},null,{"$f":"IFERROR(VLOOKUP(E1106,Participants!$B$3:$C$1002,2,0),\"\")","v":""}]
[null,null,null,{"$f":"IFERROR(VLOOKUP(C1107,Participants!$B$3:$C$1002,2,0),\"\")","v":""},null,{"$f":"IFERROR(VLOOKUP(E1107,Participants!$B$3:$C$1002,2,0),\"\")","v":""}]
[null,null,null,{"$f":"IFERROR(VLOOKUP(C1108,Participants!$B$3:$C$1002,2,0),\"\")","v":""},null,{"$f":"IFERROR(VLOOKUP(E1108,Participants!$B$3:$C$1002,2,0),\"\")","v":""}]
[null,null,null,{"$f":"IFERROR(VLOOKUP(C1109,Participants!$B$3:$C$1002,2,0),\"\")","v":""},null,{"$f":"IFERROR(VLOOKUP(E1109,Participants!$B$3:$C$1002,2,0),\"\")","v":""}]
[null,null,null,{"$f":"IFERROR(VLOOKUP(C1110,Participants!$B$3:$C$1002,2,0),\"\")","v":""},null,{"$f":"IFERROR(VLOOKUP(E1110,Participants!$B$3:$C$1002,2,0),\"\")","v":""}]
[null,null,null,{"$f":"IFERROR(VLOOKUP(C1111,Participants!$B$3:$C$1002,2,0),\"\")","v":""},null,{"$f":"IFERROR(VLOOKUP(E1111,Participants!$B$3:$C$1002,2,0),\"\")","v":""}]
[null,null,null,{"$f":"IFERROR(VLOOKUP(C1112,Participants!$B$3:$C$1002,2,0),\"\")","v":""},null,{"$f":"IFERROR(VLOOKUP(E1112,Participants!$B$3:$C$1002,2,0),\"\")","v":""}]
[null,null,null,{"$f":"IFERROR(VLOOKUP(C1113,Participants!$B$3:$C$1002,2,0),\"\")","v":""},null,{"$f":"IFERROR(VLOOKUP(E1113,Participants!$B$3:$C$1002,2,0),\"\")","v":""}]
[null,null,null,{"$f":"IFERROR(VLOOKUP(C1114,Participants!$B$3:$C$1002,2,0),\"\")","v":""},null,{"$f":"IFERROR(VLOOKUP(E1114,Participants!$B$3:$C$1002,2,0),\"\")","v":""}]
[null,null,null,{"$f":"IFERROR(VLOOKUP(C1115,Participants!$B$3:$C$1002,2,0),\"\")","v":""},null,{"$f":"IFERROR(VLOOKUP(E1115,Participants!$B$3:$C$1002,2,0),\"\")","v":""}]
[null,null,null,{"$f":"IFERROR(VLOOKUP(C1116,Participants!$B$3:$C$1002,2,0),\"\")","v":""},null,{"$f":"IFERROR(VLOOKUP(E1116,Participants!$B$3:$C$1002,2,0),\"\")","v":""}]
[null,null,null,{"$f":"IFERROR(VLOOKUP(C1117,Participants!$B$3:$C$1002,2,0),\"\")","v":""},null,{"$f":"IFERROR(VLOOKUP(E1117,Participants!$B$3:$C$1002,2,0),\"\")","v":""}]
[null,null,null,{"$f":"IFERROR(VLOOKUP(C1118,Participants!$B$3:$C$1002,2,0),\"\")","v":""},null,{"$f":"IFERROR(VLOOKUP(E1118,Participants!$B$3:$C$1002,2,0),\"\")","v":""}]
[null,null,null,{"$f":"IFERROR(VLOOKUP(C1119,Participants!$B$3:$C$1002,2,0),\"\")","v":""},null,{"$f":"IFERROR(VLOOKUP(E1119,Participants!$B$3:$C$1002,2,0),\"\")","v":""}]
[null,null,null,{"$f":"IFERROR(VLOOKUP(C1120,Participants!$B$3:$C$1002,2,0),\"\")","v":""},null,{"$f":"IFERROR(VLOOKUP(E1120,Participants!$B$3:$C$1002,2,0),\"\")","v":""}]
[null,null,null,{"$f":"IFERROR(VLOOKUP(C1121,Participants!$B$3:$C$1002,2,0),\"\")","v":""},null,{"$f":"IFERROR(VLOOKUP(E1121,Participants!$B$3:$C$1002,2,0),\"\")","v":""}]
[null,null,null,{"$f":"IFERROR(VLOOKUP(C1122,Participants!$B$3:$C$1002,2,0),\"\")","v":""},null,{"$f":"IFERROR(VLOOKUP(E1122,Participants!$B$3:$C$1002,2,0),\"\")","v":""}]
[null,null,null,{"$f":"IFERROR(VLOOKUP(C1123,Participants!$B$3:$C$1002,2,0),\"\")","v":""},null,{"$f":"IFERROR(VLOOKUP(E1123,Participants!$B$3:$C$1002,2,0),\"\")","v":""}]
[null,null,null,{"$f":"IFERROR(VLOOKUP(C1124,Participants!$B$3:$C$1002,2,0),\"\")","v":""},null,{"$f":"IFERROR(VLOOKUP(E1124,Participants!$B$3:$C$1002,2,0),\"\")","v":""}]
[null,null,null,{"$f":"IFERROR(VLOOKUP(C1125,Participants!$B$3:$C$1002,2,0),\"\")","v":""},null,{"$f":"IFERROR(VLOOKUP(E1125,Participants!$B$3:$C$1002,2,0),\"\")","v":""}]
[null,null,null,{"$f":"IFERROR(VLOOKUP(C1126,Participants!$B$3:$C$1002,2,0),\"\")","v":""},null,{"$f":"IFERROR(VLOOKUP(E1126,Participants!$B$3:$C$1002,2,0),\"\")","v":""}]
[null,null,null,{"$f":"IFERROR(VLOOKUP(C1127,Participants!$B$3:$C$1002,2,0),\"\")","v":""},null,{"$f":"IFERROR(VLOOKUP(E1127,Participants!$B$3:$C$1002,2,0),\"\")","v":""}]
[null,null,null,{"$f":"IFERROR(VLOOKUP(C1128,Participants!$B$3:$C$1002,2,0),\"\")","v":""},null,{"$f":"IFERROR(VLOOKUP(E1128,Participants!$B$3:$C$1002,2,0),\"\")","v":""}]
[null,null,null,{"$f":"IFERROR(VLOOKUP(C1129,Participants!$B$3:$C$1002,2,0),\"\")","v":""},null,{"$f":"IFERROR(VLOOKUP(E1129,Participants!$B$3:$C$1002,2,0),\"\")","v":""}]
[null,null,null,{"$f":"IFERROR(VLOOKUP(C1130,Participants!$B$3:$C$1002,2,0),\"\")","v":""},null,{"$f":"IFERROR(VLOOKUP(E1130,Participants!$B$3:$C$1002,2,0),\"\")","v":""}]
[null,null,null,{"$f":"IFERROR(VLOOKUP(C1131,Participants!$B$3:$C$1002,2,0),\"\")","v":""},null,{"$f":"IFERROR(VLOOKUP(E1131,Participants!$B$3:$C$1002,2,0),\"\")","v":""}]
[null,null,null,{"$f":"IFERROR(VLOOKUP(C1132,Participants!$B$3:$C$1002,2,0),\"\")","v":""},null,{"$f":"IFERROR(VLOOKUP(E1132,Participants!$B$3:$C$1002,2,0),\"\")","v":""}]
[null,null,null,{"$f":"IFERROR(VLOOKUP(C1133,Participants!$B$3:$C$1002,2,0),\"\")","v":""},null,{"$f":"IFERROR(VLOOKUP(E1133,Participants!$B$3:$C$1002,2,0),\"\")","v":""}]
[null,null,null,{"$f":"IFERROR(VLOOKUP(C1134,Participants!$B$3:$C$1002,2,0),\"\")","v":""},null,{"$f":"IFERROR(VLOOKUP(E1134,Participants!$B$3:$C$1002,2,0),\"\")","v":""}]
[null,null,null,{"$f":"IFERROR(VLOOKUP(C1135,Participants!$B$3:$C$1002,2,0),\"\")","v":""},null,{"$f":"IFERROR(VLOOKUP(E1135,Participants!$B$3:$C$1002,2,0),\"\")","v":""}]
[null,null,null,{"$f":"IFERROR(VLOOKUP(C1136,Participants!$B$3:$C$1002,2,0),\"\")","v":""},null,{"$f":"IFERROR(VLOOKUP(E1136,Participants!$B$3:$C$1002,2,0),\"\")","v":""}]
[null,null,null,{"$f":"IFERROR(VLOOKUP(C1137,Participants!$B$3:$C$1002,2,0),\"\")","v":""},null,{"$f":"IFERROR(VLOOKUP(E1137,Participants!$B$3:$C$1002,2,0),\"\")","v":""}]
[null,null,null,{"$f":"IFERROR(VLOOKUP(C1138,Participants!$B$3:$C$1002,2,0),\"\")","v":""},null,{"$f":"IFERROR(VLOOKUP(E1138,Participants!$B$3:$C$1002,2,0),\"\")","v":""}]
[null,null,null,{"$f":"IFERROR(VLOOKUP(C1139,Participants!$B$3:$C$1002,2,0),\"\")","v":""},null,{"$f":"IFERROR(VLOOKUP(E1139,Participants!$B$3:$C$1002,2,0),\"\")","v":""}]
[null,null,null,{"$f":"IFERROR(VLOOKUP(C1140,Participants!$B$3:$C$1002,2,0),\"\")","v":""},null,{"$f":"IFERROR(VLOOKUP(E1140,Participants!$B$3:$C$1002,2,0),\"\")","v":""}]
[null,null,null,{"$f":"IFERROR(VLOOKUP(C1141,Participants!$B$3:$C$1002,2,0),\"\")","v":""},null,{"$f":"IFERROR(VLOOKUP(E1141,Participants!$B$3:$C$1002,2,0),\"\")","v":""}]
[null,null,null,{"$f":"IFERROR(VLOOKUP(C1142,Participants!$B$3:$C$1002,2,0),\"\")","v":""},null,{"$f":"IFERROR(VLOOKUP(E1142,Participants!$B$3:$C$1002,2,0),\"\")","v":""}]
[null,null,null,{"$f":"IFERROR(VLOOKUP(C1143,Participants!$B$3:$C$1002,2,0),\"\")","v":""},null,{"$f":"IFERROR(VLOOKUP(E1143,Participants!$B$3:$C$1002,2,0),\"\")","v":""}]
[null,null,null,{"$f":"IFERROR(VLOOKUP(C1144,Participants!$B$3:$C$1002,2,0),\"\")","v":""},null,{"$f":"IFERROR(VLOOKUP(E1144,Participants!$B$3:$C$1002,2,0),\"\")","v":""}]
[null,null,null,{"$f":"IFERROR(VLOOKUP(C1145,Participants!$B$3:$C$1002,2,0),\"\")","v":""},null,{"$f":"IFERROR(VLOOKUP(E1145,Participants!$B$3:$C$1002,2,0),\"\")","v":""}]
[null,null,null,{"$f":"IFERROR(VLOOKUP(C1146,Participants!$B$3:$C$1002,2,0),\"\")","v":""},null,{"$f":"IFERROR(VLOOKUP(E1146,Participants!$B$3:$C$1002,2,0),\"\")","v":""}]
[null,null,null,{"$f":"IFERROR(VLOOKUP(C1147,Participants!$B$3:$C$1002,2,0),\"\")","v":""},null,{"$f":"IFERROR(VLOOKUP(E1147,Participants!$B$3:$C$1002,2,0),\"\")","v":""}]
[null,null,null,{"$f":"IFERROR(VLOOKUP(C1148,Participants!$B$3:$C$1002,2,0),\"\")","v":""},null,{"$f":"IFERROR(VLOOKUP(E1148,Participants!$B$3:$C$1002,2,0),\"\")","v":""}]
[null,null,null,{"$f":"IFERROR(VLOOKUP(C1149,Participants!$B$3:$C$1002,2,0),\"\")","v":""},null,{"$f":"IFERROR(VLOOKUP(E1149,Participants!$B$3:$C$1002,2,0),\"\")","v":""}]
[null,null,null,{"$f":"IFERROR(VLOOKUP(C1150,Participants!$B$3:$C$1002,2,0),\"\")","v":""},null,{"$f":"IFERROR(VLOOKUP(E1150,Participants!$B$3:$C$1002,2,0),\"\")","v":""}]
[null,null,null,{"$f":"IFERROR(VLOOKUP(C1151,Participants!$B$3:$C$1002,2,0),\"\")","v":""},null,{"$f":"IFERROR(VLOOKUP(E1151,Participants!$B$3:$C$1002,2,0),\"\")","v":""}]
[null,null,null,{"$f":"IFERROR(VLOOKUP(C1152,Participants!$B$3:$C$1002,2,0),\"\")","v":""},null,{"$f":"IFERROR(VLOOKUP(E1152,Participants!$B$3:$C$1002,2,0),\"\")","v":""}]
[null,null,null,{"$f":"IFERROR(VLOOKUP(C1153,Participants!$B$3:$C$1002,2,0),\"\")","v":""},null,{"$f":"IFERROR(VLOOKUP(E1153,Participants!$B$3:$C$1002,2,0),\"\")","v":""}]
[null,null,null,{"$f":"IFERROR(VLOOKUP(C1154,Participants!$B$3:$C$1002,2,0),\"\")","v":""},null,{"$f":"IFERROR(VLOOKUP(E1154,Participants!$B$3:$C$1002,2,0),\"\")","v":""}]
[null,null,null,{"$f":"IFERROR(VLOOKUP(C1155,Participants!$B$3:$C$1002,2,0),\"\")","v":""},null,{"$f":"IFERROR(VLOOKUP(E1155,Participants!$B$3:$C$1002,2,0),\"\")","v":""}]
[null,null,null,{"$f":"IFERROR(VLOOKUP(C1156,Participants!$B$3:$C$1002,2,0),\"\")","v":""},null,{"$f":"IFERROR(VLOOKUP(E1156,Participants!$B$3:$C$1002,2,0),\"\")","v":""}]
[null,null,null,{"$f":"IFERROR(VLOOKUP(C1157,Participants!$B$3:$C$1002,2,0),\"\")","v":""},null,{"$f":"IFERROR(VLOOKUP(E1157,Participants!$B$3:$C$1002,2,0),\"\")","v":""}]
[null,null,null,{"$f":"IFERROR(VLOOKUP(C1158,Participants!$B$3:$C$1002,2,0),\"\")","v":""},null,{"$f":"IFERROR(VLOOKUP(E1158,Participants!$B$3:$C$1002,2,0),\"\")","v":""}]
[null,null,null,{"$f":"IFERROR(VLOOKUP(C1159,Participants!$B$3:$C$1002,2,0),\"\")","v":""},null,{"$f":"IFERROR(VLOOKUP(E1159,Participants!$B$3:$C$1002,2,0),\"\")","v":""}]
[null,null,null,{"$f":"IFERROR(VLOOKUP(C1160,Participants!$B$3:$C$1002,2,0),\"\")","v":""},null,{"$f":"IFERROR(VLOOKUP(E1160,Participants!$B$3:$C$1002,2,0),\"\")","v":""}]
[null,null,null,{"$f":"IFERROR(VLOOKUP(C1161,Participants!$B$3:$C$1002,2,0),\"\")","v":""},null,{"$f":"IFERROR(VLOOKUP(E1161,Participants!$B$3:$C$1002,2,0),\"\")","v":""}]
[null,null,null,{"$f":"IFERROR(VLOOKUP(C1162,Participants!$B$3:$C$1002,2,0),\"\")","v":""},null,{"$f":"IFERROR(VLOOKUP(E1162,Participants!$B$3:$C$1002,2,0),\"\")","v":""}]
[null,null,null,{"$f":"IFERROR(VLOOKUP(C1163,Participants!$B$3:$C$1002,2,0),\"\")","v":""},null,{"$f":"IFERROR(VLOOKUP(E1163,Participants!$B$3:$C$1002,2,0),\"\")","v":""}]
[null,null,null,{"$f":"IFERROR(VLOOKUP(C1164,Participants!$B$3:$C$1002,2,0),\"\")","v":""},null,{"$f":"IFERROR(VLOOKUP(E1164,Participants!$B$3:$C$1002,2,0),\"\")","v":""}]
[null,null,null,{"$f":"IFERROR(VLOOKUP(C1165,Participants!$B$3:$C$1002,2,0),\"\")","v":""},null,{"$f":"IFERROR(VLOOKUP(E1165,Participants!$B$3:$C$1002,2,0),\"\")","v":""}]
[null,null,null,{"$f":"IFERROR(VLOOKUP(C1166,Participants!$B$3:$C$1002,2,0),\"\")","v":""},null,{"$f":"IFERROR(VLOOKUP(E1166,Participants!$B$3:$C$1002,2,0),\"\")","v":""}]
[null,null,null,{"$f":"IFERROR(VLOOKUP(C1167,Participants!$B$3:$C$1002,2,0),\"\")","v":""},null,{"$f":"IFERROR(VLOOKUP(E1167,Participants!$B$3:$C$1002,2,0),\"\")","v":""}]
[null,null,null,{"$f":"IFERROR(VLOOKUP(C1168,Participants!$B$3:$C$1002,2,0),\"\")","v":""},null,{"$f":"IFERROR(VLOOKUP(E1168,Participants!$B$3:$C$1002,2,0),\"\")","v":""}]
[null,null,null,{"$f":"IFERROR(VLOOKUP(C1169,Participants!$B$3:$C$1002,2,0),\"\")","v":""},null,{"$f":"IFERROR(VLOOKUP(E1169,Participants!$B$3:$C$1002,2,0),\"\")","v":""}]
[null,null,null,{"$f":"IFERROR(VLOOKUP(C1170,Participants!$B$3:$C$1002,2,0),\"\")","v":""},null,{"$f":"IFERROR(VLOOKUP(E1170,Participants!$B$3:$C$1002,2,0),\"\")","v":""}]
[null,null,null,{"$f":"IFERROR(VLOOKUP(C1171,Participants!$B$3:$C$1002,2,0),\"\")","v":""},null,{"$f":"IFERROR(VLOOKUP(E1171,Participants!$B$3:$C$1002,2,0),\"\")","v":""}]
[null,null,null,{"$f":"IFERROR(VLOOKUP(C1172,Participants!$B$3:$C$1002,2,0),\"\")","v":""},null,{"$f":"IFERROR(VLOOKUP(E1172,Participants!$B$3:$C$1002,2,0),\"\")","v":""}]
[null,null,null,{"$f":"IFERROR(VLOOKUP(C1173,Participants!$B$3:$C$1002,2,0),\"\")","v":""},null,{"$f":"IFERROR(VLOOKUP(E1173,Participants!$B$3:$C$1002,2,0),\"\")","v":""}]
[null,null,null,{"$f":"IFERROR(VLOOKUP(C1174,Participants!$B$3:$C$1002,2,0),\"\")","v":""},null,{"$f":"IFERROR(VLOOKUP(E1174,Participants!$B$3:$C$1002,2,0),\"\")","v":""}]
[null,null,null,{"$f":"IFERROR(VLOOKUP(C1175,Participants!$B$3:$C$1002,2,0),\"\")","v":""},null,{"$f":"IFERROR(VLOOKUP(E1175,Participants!$B$3:$C$1002,2,0),\"\")","v":""}]
[null,null,null,{"$f":"IFERROR(VLOOKUP(C1176,Participants!$B$3:$C$1002,2,0),\"\")","v":""},null,{"$f":"IFERROR(VLOOKUP(E1176,Participants!$B$3:$C$1002,2,0),\"\")","v":""}]
[null,null,null,{"$f":"IFERROR(VLOOKUP(C1177,Participants!$B$3:$C$1002,2,0),\"\")","v":""},null,{"$f":"IFERROR(VLOOKUP(E1177,Participants!$B$3:$C$1002,2,0),\"\")","v":""}]
[null,null,null,{"$f":"IFERROR(VLOOKUP(C1178,Participants!$B$3:$C$1002,2,0),\"\")","v":""},null,{"$f":"IFERROR(VLOOKUP(E1178,Participants!$B$3:$C$1002,2,0),\"\")","v":""}]
[null,null,null,{"$f":"IFERROR(VLOOKUP(C1179,Participants!$B$3:$C$1002,2,0),\"\")","v":""},null,{"$f":"IFERROR(VLOOKUP(E1179,Participants!$B$3:$C$1002,2,0),\"\")","v":""}]
[null,null,null,{"$f":"IFERROR(VLOOKUP(C1180,Participants!$B$3:$C$1002,2,0),\"\")","v":""},null,{"$f":"IFERROR(VLOOKUP(E1180,Participants!$B$3:$C$1002,2,0),\"\")","v":""}]
[null,null,null,{"$f":"IFERROR(VLOOKUP(C1181,Participants!$B$3:$C$1002,2,0),\"\")","v":""},null,{"$f":"IFERROR(VLOOKUP(E1181,Participants!$B$3:$C$1002,2,0),\"\")","v":""}]
[null,null,null,{"$f":"IFERROR(VLOOKUP(C1182,Participants!$B$3:$C$1002,2,0),\"\")","v":""},null,{"$f":"IFERROR(VLOOKUP(E1182,Participants!$B$3:$C$1002,2,0),\"\")","v":""}]
[null,null,null,{"$f":"IFERROR(VLOOKUP(C1183,Participants!$B$3:$C$1002,2,0),\"\")","v":""},null,{"$f":"IFERROR(VLOOKUP(E1183,Participants!$B$3:$C$1002,2,0),\"\")","v":""}]
[null,null,null,{"$f":"IFERROR(VLOOKUP(C1184,Participants!$B$3:$C$1002,2,0),\"\")","v":""},null,{"$f":"IFERROR(VLOOKUP(E1184,Participants!$B$3:$C$1002,2,0),\"\")","v":""}]
[null,null,null,{"$f":"IFERROR(VLOOKUP(C1185,Participants!$B$3:$C$1002,2,0),\"\")","v":""},null,{"$f":"IFERROR(VLOOKUP(E1185,Participants!$B$3:$C$1002,2,0),\"\")","v":""}]
[null,null,null,{"$f":"IFERROR(VLOOKUP(C1186,Participants!$B$3:$C$1002,2,0),\"\")","v":""},null,{"$f":"IFERROR(VLOOKUP(E1186,Participants!$B$3:$C$1002,2,0),\"\")","v":""}]
[null,null,null,{"$f":"IFERROR(VLOOKUP(C1187,Participants!$B$3:$C$1002,2,0),\"\")","v":""},null,{"$f":"IFERROR(VLOOKUP(E1187,Participants!$B$3:$C$1002,2,0),\"\")","v":""}]
[null,null,null,{"$f":"IFERROR(VLOOKUP(C1188,Participants!$B$3:$C$1002,2,0),\"\")","v":""},null,{"$f":"IFERROR(VLOOKUP(E1188,Participants!$B$3:$C$1002,2,0),\"\")","v":""}]
[null,null,null,{"$f":"IFERROR(VLOOKUP(C1189,Participants!$B$3:$C$1002,2,0),\"\")","v":""},null,{"$f":"IFERROR(VLOOKUP(E1189,Participants!$B$3:$C$1002,2,0),\"\")","v":""}]
[null,null,null,{"$f":"IFERROR(VLOOKUP(C1190,Participants!$B$3:$C$1002,2,0),\"\")","v":""},null,{"$f":"IFERROR(VLOOKUP(E1190,Participants!$B$3:$C$1002,2,0),\"\")","v":""}]
[null,null,null,{"$f":"IFERROR(VLOOKUP(C1191,Participants!$B$3:$C$1002,2,0),\"\")","v":""},null,{"$f":"IFERROR(VLOOKUP(E1191,Participants!$B$3:$C$1002,2,0),\"\")","v":""}]
[null,null,null,{"$f":"IFERROR(VLOOKUP(C1192,Participants!$B$3:$C$1002,2,0),\"\")","v":""},null,{"$f":"IFERROR(VLOOKUP(E1192,Participants!$B$3:$C$1002,2,0),\"\")","v":""}]
[null,null,null,{"$f":"IFERROR(VLOOKUP(C1193,Participants!$B$3:$C$1002,2,0),\"\")","v":""},null,{"$f":"IFERROR(VLOOKUP(E1193,Participants!$B$3:$C$1002,2,0),\"\")","v":""}]
[null,null,null,{"$f":"IFERROR(VLOOKUP(C1194,Participants!$B$3:$C$1002,2,0),\"\")","v":""},null,{"$f":"IFERROR(VLOOKUP(E1194,Participants!$B$3:$C$1002,2,0),\"\")","v":""}]
[null,null,null,{"$f":"IFERROR(VLOOKUP(C1195,Participants!$B$3:$C$1002,2,0),\"\")","v":""},null,{"$f":"IFERROR(VLOOKUP(E1195,Participants!$B$3:$C$1002,2,0),\"\")","v":""}]
[null,null,null,{"$f":"IFERROR(VLOOKUP(C1196,Participants!$B$3:$C$1002,2,0),\"\")","v":""},null,{"$f":"IFERROR(VLOOKUP(E1196,Participants!$B$3:$C$1002,2,0),\"\")","v":""}]
[null,null,null,{"$f":"IFERROR(VLOOKUP(C1197,Participants!$B$3:$C$1002,2,0),\"\")","v":""},null,{"$f":"IFERROR(VLOOKUP(E1197,Participants!$B$3:$C$1002,2,0),\"\")","v":""}]
[null,null,null,{"$f":"IFERROR(VLOOKUP(C1198,Participants!$B$3:$C$1002,2,0),\"\")","v":""},null,{"$f":"IFERROR(VLOOKUP(E1198,Participants!$B$3:$C$1002,2,0),\"\")","v":""}]
[null,null,null,{"$f":"IFERROR(VLOOKUP(C1199,Participants!$B$3:$C$1002,2,0),\"\")","v":""},null,{"$f":"IFERROR(VLOOKUP(E1199,Participants!$B$3:$C$1002,2,0),\"\")","v":""}]
[null,null,null,{"$f":"IFERROR(VLOOKUP(C1200,Participants!$B$3:$C$1002,2,0),\"\")","v":""},null,{"$f":"IFERROR(VLOOKUP(E1200,Participants!$B$3:$C$1002,2,0),\"\")","v":""}]
[null,null,null,{"$f":"IFERROR(VLOOKUP(C1201,Participants!$B$3:$C$1002,2,0),\"\")","v":""},null,{"$f":"IFERROR(VLOOKUP(E1201,Participants!$B$3:$C$1002,2,0),\"\")","v":""}]
[null,null,null,{"$f":"IFERROR(VLOOKUP(C1202,Participants!$B$3:$C$1002,2,0),\"\")","v":""},null,{"$f":"IFERROR(VLOOKUP(E1202,Participants!$B$3:$C$1002,2,0),\"\")","v":""}]
[null,null,null,{"$f":"IFERROR(VLOOKUP(C1203,Participants!$B$3:$C$1002,2,0),\"\")","v":""},null,{"$f":"IFERROR(VLOOKUP(E1203,Participants!$B$3:$C$1002,2,0),\"\")","v":""}]
[null,null,null,{"$f":"IFERROR(VLOOKUP(C1204,Participants!$B$3:$C$1002,2,0),\"\")","v":""},null,{"$f":"IFERROR(VLOOKUP(E1204,Participants!$B$3:$C$1002,2,0),\"\")","v":""}]
[null,null,null,{"$f":"IFERROR(VLOOKUP(C1205,Participants!$B$3:$C$1002,2,0),\"\")","v":""},null,{"$f":"IFERROR(VLOOKUP(E1205,Participants!$B$3:$C$1002,2,0),\"\")","v":""}]
[null,null,null,{"$f":"IFERROR(VLOOKUP(C1206,Participants!$B$3:$C$1002,2,0),\"\")","v":""},null,{"$f":"IFERROR(VLOOKUP(E1206,Participants!$B$3:$C$1002,2,0),\"\")","v":""}]
[null,null,null,{"$f":"IFERROR(VLOOKUP(C1207,Participants!$B$3:$C$1002,2,0),\"\")","v":""},null,{"$f":"IFERROR(VLOOKUP(E1207,Participants!$B$3:$C$1002,2,0),\"\")","v":""}]
[null,null,null,{"$f":"IFERROR(VLOOKUP(C1208,Participants!$B$3:$C$1002,2,0),\"\")","v":""},null,{"$f":"IFERROR(VLOOKUP(E1208,Participants!$B$3:$C$1002,2,0),\"\")","v":""}]
[null,null,null,{"$f":"IFERROR(VLOOKUP(C1209,Participants!$B$3:$C$1002,2,0),\"\")","v":""},null,{"$f":"IFERROR(VLOOKUP(E1209,Participants!$B$3:$C$1002,2,0),\"\")","v":""}]
[null,null,null,{"$f":"IFERROR(VLOOKUP(C1210,Participants!$B$3:$C$1002,2,0),\"\")","v":""},null,{"$f":"IFERROR(VLOOKUP(E1210,Participants!$B$3:$C$1002,2,0),\"\")","v":""}]
[null,null,null,{"$f":"IFERROR(VLOOKUP(C1211,Participants!$B$3:$C$1002,2,0),\"\")","v":""},null,{"$f":"IFERROR(VLOOKUP(E1211,Participants!$B$3:$C$1002,2,0),\"\")","v":""}]
[null,null,null,{"$f":"IFERROR(VLOOKUP(C1212,Participants!$B$3:$C$1002,2,0),\"\")","v":""},null,{"$f":"IFERROR(VLOOKUP(E1212,Participants!$B$3:$C$1002,2,0),\"\")","v":""}]
[null,null,null,{"$f":"IFERROR(VLOOKUP(C1213,Participants!$B$3:$C$1002,2,0),\"\")","v":""},null,{"$f":"IFERROR(VLOOKUP(E1213,Participants!$B$3:$C$1002,2,0),\"\")","v":""}]
[null,null,null,{"$f":"IFERROR(VLOOKUP(C1214,Participants!$B$3:$C$1002,2,0),\"\")","v":""},null,{"$f":"IFERROR(VLOOKUP(E1214,Participants!$B$3:$C$1002,2,0),\"\")","v":""}]
[null,null,null,{"$f":"IFERROR(VLOOKUP(C1215,Participants!$B$3:$C$1002,2,0),\"\")","v":""},null,{"$f":"IFERROR(VLOOKUP(E1215,Participants!$B$3:$C$1002,2,0),\"\")","v":""}]
[null,null,null,{"$f":"IFERROR(VLOOKUP(C1216,Participants!$B$3:$C$1002,2,0),\"\")","v":""},null,{"$f":"IFERROR(VLOOKUP(E1216,Participants!$B$3:$C$1002,2,0),\"\")","v":""}]
[null,null,null,{"$f":"IFERROR(VLOOKUP(C1217,Participants!$B$3:$C$1002,2,0),\"\")","v":""},null,{"$f":"IFERROR(VLOOKUP(E1217,Participants!$B$3:$C$1002,2,0),\"\")","v":""}]
[null,null,null,{"$f":"IFERROR(VLOOKUP(C1218,Participants!$B$3:$C$1002,2,0),\"\")","v":""},null,{"$f":"IFERROR(VLOOKUP(E1218,Participants!$B$3:$C$1002,2,0),\"\")","v":""}]
[null,null,null,{"$f":"IFERROR(VLOOKUP(C1219,Participants!$B$3:$C$1002,2,0),\"\")","v":""},null,{"$f":"IFERROR(VLOOKUP(E1219,Participants!$B$3:$C$1002,2,0),\"\")","v":""}]
[null,null,null,{"$f":"IFERROR(VLOOKUP(C1220,Participants!$B$3:$C$1002,2,0),\"\")","v":""},null,{"$f":"IFERROR(VLOOKUP(E1220,Participants!$B$3:$C$1002,2,0),\"\")","v":""}]
[null,null,null,{"$f":"IFERROR(VLOOKUP(C1221,Participants!$B$3:$C$1002,2,0),\"\")","v":""},null,{"$f":"IFERROR(VLOOKUP(E1221,Participants!$B$3:$C$1002,2,0),\"\")","v":""}]
[null,null,null,{"$f":"IFERROR(VLOOKUP(C1222,Participants!$B$3:$C$1002,2,0),\"\")","v":""},null,{"$f":"IFERROR(VLOOKUP(E1222,Participants!$B$3:$C$1002,2,0),\"\")","v":""}]
[null,null,null,{"$f":"IFERROR(VLOOKUP(C1223,Participants!$B$3:$C$1002,2,0),\"\")","v":""},null,{"$f":"IFERROR(VLOOKUP(E1223,Participants!$B$3:$C$1002,2,0),\"\")","v":""}]
[null,null,null,{"$f":"IFERROR(VLOOKUP(C1224,Participants!$B$3:$C$1002,2,0),\"\")","v":""},null,{"$f":"IFERROR(VLOOKUP(E1224,Participants!$B$3:$C$1002,2,0),\"\")","v":""}]
[null,null,null,{"$f":"IFERROR(VLOOKUP(C1225,Participants!$B$3:$C$1002,2,0),\"\")","v":""},null,{"$f":"IFERROR(VLOOKUP(E1225,Participants!$B$3:$C$1002,2,0),\"\")","v":""}]
[null,null,null,{"$f":"IFERROR(VLOOKUP(C1226,Participants!$B$3:$C$1002,2,0),\"\")","v":""},null,{"$f":"IFERROR(VLOOKUP(E1226,Participants!$B$3:$C$1002,2,0),\"\")","v":""}]
[null,null,null,{"$f":"IFERROR(VLOOKUP(C1227,Participants!$B$3:$C$1002,2,0),\"\")","v":""},null,{"$f":"IFERROR(VLOOKUP(E1227,Participants!$B$3:$C$1002,2,0),\"\")","v":""}]
[null,null,null,{"$f":"IFERROR(VLOOKUP(C1228,Participants!$B$3:$C$1002,2,0),\"\")","v":""},null,{"$f":"IFERROR(VLOOKUP(E1228,Participants!$B$3:$C$1002,2,0),\"\")","v":""}]
[null,null,null,{"$f":"IFERROR(VLOOKUP(C1229,Participants!$B$3:$C$1002,2,0),\"\")","v":""},null,{"$f":"IFERROR(VLOOKUP(E1229,Participants!$B$3:$C$1002,2,0),\"\")","v":""}]
[null,null,null,{"$f":"IFERROR(VLOOKUP(C1230,Participants!$B$3:$C$1002,2,0),\"\")","v":""},null,{"$f":"IFERROR(VLOOKUP(E1230,Participants!$B$3:$C$1002,2,0),\"\")","v":""}]
[null,null,null,{"$f":"IFERROR(VLOOKUP(C1231,Participants!$B$3:$C$1002,2,0),\"\")","v":""},null,{"$f":"IFERROR(VLOOKUP(E1231,Participants!$B$3:$C$1002,2,0),\"\")","v":""}]
[null,null,null,{"$f":"IFERROR(VLOOKUP(C1232,Participants!$B$3:$C$1002,2,0),\"\")","v":""},null,{"$f":"IFERROR(VLOOKUP(E1232,Participants!$B$3:$C$1002,2,0),\"\")","v":""}]
[null,null,null,{"$f":"IFERROR(VLOOKUP(C1233,Participants!$B$3:$C$1002,2,0),\"\")","v":""},null,{"$f":"IFERROR(VLOOKUP(E1233,Participants!$B$3:$C$1002,2,0),\"\")","v":""}]
[null,null,null,{"$f":"IFERROR(VLOOKUP(C1234,Participants!$B$3:$C$1002,2,0),\"\")","v":""},null,{"$f":"IFERROR(VLOOKUP(E1234,Participants!$B$3:$C$1002,2,0),\"\")","v":""}]
[null,null,null,{"$f":"IFERROR(VLOOKUP(C1235,Participants!$B$3:$C$1002,2,0),\"\")","v":""},null,{"$f":"IFERROR(VLOOKUP(E1235,Participants!$B$3:$C$1002,2,0),\"\")","v":""}]
[null,null,null,{"$f":"IFERROR(VLOOKUP(C1236,Participants!$B$3:$C$1002,2,0),\"\")","v":""},null,{"$f":"IFERROR(VLOOKUP(E1236,Participants!$B$3:$C$1002,2,0),\"\")","v":""}]
[null,null,null,{"$f":"IFERROR(VLOOKUP(C1237,Participants!$B$3:$C$1002,2,0),\"\")","v":""},null,{"$f":"IFERROR(VLOOKUP(E1237,Participants!$B$3:$C$1002,2,0),\"\")","v":""}]
[null,null,null,{"$f":"IFERROR(VLOOKUP(C1238,Participants!$B$3:$C$1002,2,0),\"\")","v":""},null,{"$f":"IFERROR(VLOOKUP(E1238,Participants!$B$3:$C$1002,2,0),\"\")","v":""}]
[null,null,null,{"$f":"IFERROR(VLOOKUP(C1239,Participants!$B$3:$C$1002,2,0),\"\")","v":""},null,{"$f":"IFERROR(VLOOKUP(E1239,Participants!$B$3:$C$1002,2,0),\"\")","v":""}]
[null,null,null,{"$f":"IFERROR(VLOOKUP(C1240,Participants!$B$3:$C$1002,2,0),\"\")","v":""},null,{"$f":"IFERROR(VLOOKUP(E1240,Participants!$B$3:$C$1002,2,0),\"\")","v":""}]
[null,null,null,{"$f":"IFERROR(VLOOKUP(C1241,Participants!$B$3:$C$1002,2,0),\"\")","v":""},null,{"$f":"IFERROR(VLOOKUP(E1241,Participants!$B$3:$C$1002,2,0),\"\")","v":""}]
[null,null,null,{"$f":"IFERROR(VLOOKUP(C1242,Participants!$B$3:$C$1002,2,0),\"\")","v":""},null,{"$f":"IFERROR(VLOOKUP(E1242,Participants!$B$3:$C$1002,2,0),\"\")","v":""}]
[null,null,null,{"$f":"IFERROR(VLOOKUP(C1243,Participants!$B$3:$C$1002,2,0),\"\")","v":""},null,{"$f":"IFERROR(VLOOKUP(E1243,Participants!$B$3:$C$1002,2,0),\"\")","v":""}]
[null,null,null,{"$f":"IFERROR(VLOOKUP(C1244,Participants!$B$3:$C$1002,2,0),\"\")","v":""},null,{"$f":"IFERROR(VLOOKUP(E1244,Participants!$B$3:$C$1002,2,0),\"\")","v":""}]
[null,null,null,{"$f":"IFERROR(VLOOKUP(C1245,Participants!$B$3:$C$1002,2,0),\"\")","v":""},null,{"$f":"IFERROR(VLOOKUP(E1245,Participants!$B$3:$C$1002,2,0),\"\")","v":""}]
[null,null,null,{"$f":"IFERROR(VLOOKUP(C1246,Participants!$B$3:$C$1002,2,0),\"\")","v":""},null,{"$f":"IFERROR(VLOOKUP(E1246,Participants!$B$3:$C$1002,2,0),\"\")","v":""}]
[null,null,null,{"$f":"IFERROR(VLOOKUP(C1247,Participants!$B$3:$C$1002,2,0),\"\")","v":""},null,{"$f":"IFERROR(VLOOKUP(E1247,Participants!$B$3:$C$1002,2,0),\"\")","v":""}]
[null,null,null,{"$f":"IFERROR(VLOOKUP(C1248,Participants!$B$3:$C$1002,2,0),\"\")","v":""},null,{"$f":"IFERROR(VLOOKUP(E1248,Participants!$B$3:$C$1002,2,0),\"\")","v":""}]
[null,null,null,{"$f":"IFERROR(VLOOKUP(C1249,Participants!$B$3:$C$1002,2,0),\"\")","v":""},null,{"$f":"IFERROR(VLOOKUP(E1249,Participants!$B$3:$C$1002,2,0),\"\")","v":""}]
[null,null,null,{"$f":"IFERROR(VLOOKUP(C1250,Participants!$B$3:$C$1002,2,0),\"\")","v":""},null,{"$f":"IFERROR(VLOOKUP(E1250,Participants!$B$3:$C$1002,2,0),\"\")","v":""}]
[null,null,null,{"$f":"IFERROR(VLOOKUP(C1251,Participants!$B$3:$C$1002,2,0),\"\")","v":""},null,{"$f":"IFERROR(VLOOKUP(E1251,Participants!$B$3:$C$1002,2,0),\"\")","v":""}]
[null,null,null,{"$f":"IFERROR(VLOOKUP(C1252,Participants!$B$3:$C$1002,2,0),\"\")","v":""},null,{"$f":"IFERROR(VLOOKUP(E1252,Participants!$B$3:$C$1002,2,0),\"\")","v":""}]
[null,null,null,{"$f":"IFERROR(VLOOKUP(C1253,Participants!$B$3:$C$1002,2,0),\"\")","v":""},null,{"$f":"IFERROR(VLOOKUP(E1253,Participants!$B$3:$C$1002,2,0),\"\")","v":""}]
[null,null,null,{"$f":"IFERROR(VLOOKUP(C1254,Participants!$B$3:$C$1002,2,0),\"\")","v":""},null,{"$f":"IFERROR(VLOOKUP(E1254,Participants!$B$3:$C$1002,2,0),\"\")","v":""}]
[null,null,null,{"$f":"IFERROR(VLOOKUP(C1255,Participants!$B$3:$C$1002,2,0),\"\")","v":""},null,{"$f":"IFERROR(VLOOKUP(E1255,Participants!$B$3:$C$1002,2,0),\"\")","v":""}]
[null,null,null,{"$f":"IFERROR(VLOOKUP(C1256,Participants!$B$3:$C$1002,2,0),\"\")","v":""},null,{"$f":"IFERROR(VLOOKUP(E1256,Participants!$B$3:$C$1002,2,0),\"\")","v":""}]
[null,null,null,{"$f":"IFERROR(VLOOKUP(C1257,Participants!$B$3:$C$1002,2,0),\"\")","v":""},null,{"$f":"IFERROR(VLOOKUP(E1257,Participants!$B$3:$C$1002,2,0),\"\")","v":""}]
[null,null,null,{"$f":"IFERROR(VLOOKUP(C1258,Participants!$B$3:$C$1002,2,0),\"\")","v":""},null,{"$f":"IFERROR(VLOOKUP(E1258,Participants!$B$3:$C$1002,2,0),\"\")","v":""}]
[null,null,null,{"$f":"IFERROR(VLOOKUP(C1259,Participants!$B$3:$C$1002,2,0),\"\")","v":""},null,{"$f":"IFERROR(VLOOKUP(E1259,Participants!$B$3:$C$1002,2,0),\"\")","v":""}]
[null,null,null,{"$f":"IFERROR(VLOOKUP(C1260,Participants!$B$3:$C$1002,2,0),\"\")","v":""},null,{"$f":"IFERROR(VLOOKUP(E1260,Participants!$B$3:$C$1002,2,0),\"\")","v":""}]
[null,null,null,{"$f":"IFERROR(VLOOKUP(C1261,Participants!$B$3:$C$1002,2,0),\"\")","v":""},null,{"$f":"IFERROR(VLOOKUP(E1261,Participants!$B$3:$C$1002,2,0),\"\")","v":""}]
[null,null,null,{"$f":"IFERROR(VLOOKUP(C1262,Participants!$B$3:$C$1002,2,0),\"\")","v":""},null,{"$f":"IFERROR(VLOOKUP(E1262,Participants!$B$3:$C$1002,2,0),\"\")","v":""}]
[null,null,null,{"$f":"IFERROR(VLOOKUP(C1263,Participants!$B$3:$C$1002,2,0),\"\")","v":""},null,{"$f":"IFERROR(VLOOKUP(E1263,Participants!$B$3:$C$1002,2,0),\"\")","v":""}]
[null,null,null,{"$f":"IFERROR(VLOOKUP(C1264,Participants!$B$3:$C$1002,2,0),\"\")","v":""},null,{"$f":"IFERROR(VLOOKUP(E1264,Participants!$B$3:$C$1002,2,0),\"\")","v":""}]
[null,null,null,{"$f":"IFERROR(VLOOKUP(C1265,Participants!$B$3:$C$1002,2,0),\"\")","v":""},null,{"$f":"IFERROR(VLOOKUP(E1265,Participants!$B$3:$C$1002,2,0),\"\")","v":""}]
[null,null,null,{"$f":"IFERROR(VLOOKUP(C1266,Participants!$B$3:$C$1002,2,0),\"\")","v":""},null,{"$f":"IFERROR(VLOOKUP(E1266,Participants!$B$3:$C$1002,2,0),\"\")","v":""}]
[null,null,null,{"$f":"IFERROR(VLOOKUP(C1267,Participants!$B$3:$C$1002,2,0),\"\")","v":""},null,{"$f":"IFERROR(VLOOKUP(E1267,Participants!$B$3:$C$1002,2,0),\"\")","v":""}]
[null,null,null,{"$f":"IFERROR(VLOOKUP(C1268,Participants!$B$3:$C$1002,2,0),\"\")","v":""},null,{"$f":"IFERROR(VLOOKUP(E1268,Participants!$B$3:$C$1002,2,0),\"\")","v":""}]
[null,null,null,{"$f":"IFERROR(VLOOKUP(C1269,Participants!$B$3:$C$1002,2,0),\"\")","v":""},null,{"$f":"IFERROR(VLOOKUP(E1269,Participants!$B$3:$C$1002,2,0),\"\")","v":""}]
[null,null,null,{"$f":"IFERROR(VLOOKUP(C1270,Participants!$B$3:$C$1002,2,0),\"\")","v":""},null,{"$f":"IFERROR(VLOOKUP(E1270,Participants!$B$3:$C$1002,2,0),\"\")","v":""}]
[null,null,null,{"$f":"IFERROR(VLOOKUP(C1271,Participants!$B$3:$C$1002,2,0),\"\")","v":""},null,{"$f":"IFERROR(VLOOKUP(E1271,Participants!$B$3:$C$1002,2,0),\"\")","v":""}]
[null,null,null,{"$f":"IFERROR(VLOOKUP(C1272,Participants!$B$3:$C$1002,2,0),\"\")","v":""},null,{"$f":"IFERROR(VLOOKUP(E1272,Participants!$B$3:$C$1002,2,0),\"\")","v":""}]
[null,null,null,{"$f":"IFERROR(VLOOKUP(C1273,Participants!$B$3:$C$1002,2,0),\"\")","v":""},null,{"$f":"IFERROR(VLOOKUP(E1273,Participants!$B$3:$C$1002,2,0),\"\")","v":""}]
[null,null,null,{"$f":"IFERROR(VLOOKUP(C1274,Participants!$B$3:$C$1002,2,0),\"\")","v":""},null,{"$f":"IFERROR(VLOOKUP(E1274,Participants!$B$3:$C$1002,2,0),\"\")","v":""}]
[null,null,null,{"$f":"IFERROR(VLOOKUP(C1275,Participants!$B$3:$C$1002,2,0),\"\")","v":""},null,{"$f":"IFERROR(VLOOKUP(E1275,Participants!$B$3:$C$1002,2,0),\"\")","v":""}]
[null,null,null,{"$f":"IFERROR(VLOOKUP(C1276,Participants!$B$3:$C$1002,2,0),\"\")","v":""},null,{"$f":"IFERROR(VLOOKUP(E1276,Participants!$B$3:$C$1002,2,0),\"\")","v":""}]
[null,null,null,{"$f":"IFERROR(VLOOKUP(C1277,Participants!$B$3:$C$1002,2,0),\"\")","v":""},null,{"$f":"IFERROR(VLOOKUP(E1277,Participants!$B$3:$C$1002,2,0),\"\")","v":""}]
[null,null,null,{"$f":"IFERROR(VLOOKUP(C1278,Participants!$B$3:$C$1002,2,0),\"\")","v":""},null,{"$f":"IFERROR(VLOOKUP(E1278,Participants!$B$3:$C$1002,2,0),\"\")","v":""}]
[null,null,null,{"$f":"IFERROR(VLOOKUP(C1279,Participants!$B$3:$C$1002,2,0),\"\")","v":""},null,{"$f":"IFERROR(VLOOKUP(E1279,Participants!$B$3:$C$1002,2,0),\"\")","v":""}]
[null,null,null,{"$f":"IFERROR(VLOOKUP(C1280,Participants!$B$3:$C$1002,2,0),\"\")","v":""},null,{"$f":"IFERROR(VLOOKUP(E1280,Participants!$B$3:$C$1002,2,0),\"\")","v":""}]
[null,null,null,{"$f":"IFERROR(VLOOKUP(C1281,Participants!$B$3:$C$1002,2,0),\"\")","v":""},null,{"$f":"IFERROR(VLOOKUP(E1281,Participants!$B$3:$C$1002,2,0),\"\")","v":""}]
[null,null,null,{"$f":"IFERROR(VLOOKUP(C1282,Participants!$B$3:$C$1002,2,0),\"\")","v":""},null,{"$f":"IFERROR(VLOOKUP(E1282,Participants!$B$3:$C$1002,2,0),\"\")","v":""}]
[null,null,null,{"$f":"IFERROR(VLOOKUP(C1283,Participants!$B$3:$C$1002,2,0),\"\")","v":""},null,{"$f":"IFERROR(VLOOKUP(E1283,Participants!$B$3:$C$1002,2,0),\"\")","v":""}]
[null,null,null,{"$f":"IFERROR(VLOOKUP(C1284,Participants!$B$3:$C$1002,2,0),\"\")","v":""},null,{"$f":"IFERROR(VLOOKUP(E1284,Participants!$B$3:$C$1002,2,0),\"\")","v":""}]
[null,null,null,{"$f":"IFERROR(VLOOKUP(C1285,Participants!$B$3:$C$1002,2,0),\"\")","v":""},null,{"$f":"IFERROR(VLOOKUP(E1285,Participants!$B$3:$C$1002,2,0),\"\")","v":""}]
[null,null,null,{"$f":"IFERROR(VLOOKUP(C1286,Participants!$B$3:$C$1002,2,0),\"\")","v":""},null,{"$f":"IFERROR(VLOOKUP(E1286,Participants!$B$3:$C$1002,2,0),\"\")","v":""}]
[null,null,null,{"$f":"IFERROR(VLOOKUP(C1287,Participants!$B$3:$C$1002,2,0),\"\")","v":""},null,{"$f":"IFERROR(VLOOKUP(E1287,Participants!$B$3:$C$1002,2,0),\"\")","v":""}]
[null,null,null,{"$f":"IFERROR(VLOOKUP(C1288,Participants!$B$3:$C$1002,2,0),\"\")","v":""},null,{"$f":"IFERROR(VLOOKUP(E1288,Participants!$B$3:$C$1002,2,0),\"\")","v":""}]
[null,null,null,{"$f":"IFERROR(VLOOKUP(C1289,Participants!$B$3:$C$1002,2,0),\"\")","v":""},null,{"$f":"IFERROR(VLOOKUP(E1289,Participants!$B$3:$C$1002,2,0),\"\")","v":""}]
[null,null,null,{"$f":"IFERROR(VLOOKUP(C1290,Participants!$B$3:$C$1002,2,0),\"\")","v":""},null,{"$f":"IFERROR(VLOOKUP(E1290,Participants!$B$3:$C$1002,2,0),\"\")","v":""}]
[null,null,null,{"$f":"IFERROR(VLOOKUP(C1291,Participants!$B$3:$C$1002,2,0),\"\")","v":""},null,{"$f":"IFERROR(VLOOKUP(E1291,Participants!$B$3:$C$1002,2,0),\"\")","v":""}]
[null,null,null,{"$f":"IFERROR(VLOOKUP(C1292,Participants!$B$3:$C$1002,2,0),\"\")","v":""},null,{"$f":"IFERROR(VLOOKUP(E1292,Participants!$B$3:$C$1002,2,0),\"\")","v":""}]
[null,null,null,{"$f":"IFERROR(VLOOKUP(C1293,Participants!$B$3:$C$1002,2,0),\"\")","v":""},null,{"$f":"IFERROR(VLOOKUP(E1293,Participants!$B$3:$C$1002,2,0),\"\")","v":""}]
[null,null,null,{"$f":"IFERROR(VLOOKUP(C1294,Participants!$B$3:$C$1002,2,0),\"\")","v":""},null,{"$f":"IFERROR(VLOOKUP(E1294,Participants!$B$3:$C$1002,2,0),\"\")","v":""}]
[null,null,null,{"$f":"IFERROR(VLOOKUP(C1295,Participants!$B$3:$C$1002,2,0),\"\")","v":""},null,{"$f":"IFERROR(VLOOKUP(E1295,Participants!$B$3:$C$1002,2,0),\"\")","v":""}]
[null,null,null,{"$f":"IFERROR(VLOOKUP(C1296,Participants!$B$3:$C$1002,2,0),\"\")","v":""},null,{"$f":"IFERROR(VLOOKUP(E1296,Participants!$B$3:$C$1002,2,0),\"\")","v":""}]
[null,null,null,{"$f":"IFERROR(VLOOKUP(C1297,Participants!$B$3:$C$1002,2,0),\"\")","v":""},null,{"$f":"IFERROR(VLOOKUP(E1297,Participants!$B$3:$C$1002,2,0),\"\")","v":""}]
[null,null,null,{"$f":"IFERROR(VLOOKUP(C1298,Participants!$B$3:$C$1002,2,0),\"\")","v":""},null,{"$f":"IFERROR(VLOOKUP(E1298,Participants!$B$3:$C$1002,2,0),\"\")","v":""}]
[null,null,null,{"$f":"IFERROR(VLOOKUP(C1299,Participants!$B$3:$C$1002,2,0),\"\")","v":""},null,{"$f":"IFERROR(VLOOKUP(E1299,Participants!$B$3:$C$1002,2,0),\"\")","v":""}]
[null,null,null,{"$f":"IFERROR(VLOOKUP(C1300,Participants!$B$3:$C$1002,2,0),\"\")","v":""},null,{"$f":"IFERROR(VLOOKUP(E1300,Participants!$B$3:$C$1002,2,0),\"\")","v":""}]
[null,null,null,{"$f":"IFERROR(VLOOKUP(C1301,Participants!$B$3:$C$1002,2,0),\"\")","v":""},null,{"$f":"IFERROR(VLOOKUP(E1301,Participants!$B$3:$C$1002,2,0),\"\")","v":""}]
[null,null,null,{"$f":"IFERROR(VLOOKUP(C1302,Participants!$B$3:$C$1002,2,0),\"\")","v":""},null,{"$f":"IFERROR(VLOOKUP(E1302,Participants!$B$3:$C$1002,2,0),\"\")","v":""}]
[null,null,null,{"$f":"IFERROR(VLOOKUP(C1303,Participants!$B$3:$C$1002,2,0),\"\")","v":""},null,{"$f":"IFERROR(VLOOKUP(E1303,Participants!$B$3:$C$1002,2,0),\"\")","v":""}]
[null,null,null,{"$f":"IFERROR(VLOOKUP(C1304,Participants!$B$3:$C$1002,2,0),\"\")","v":""},null,{"$f":"IFERROR(VLOOKUP(E1304,Participants!$B$3:$C$1002,2,0),\"\")","v":""}]
[null,null,null,{"$f":"IFERROR(VLOOKUP(C1305,Participants!$B$3:$C$1002,2,0),\"\")","v":""},null,{"$f":"IFERROR(VLOOKUP(E1305,Participants!$B$3:$C$1002,2,0),\"\")","v":""}]
[null,null,null,{"$f":"IFERROR(VLOOKUP(C1306,Participants!$B$3:$C$1002,2,0),\"\")","v":""},null,{"$f":"IFERROR(VLOOKUP(E1306,Participants!$B$3:$C$1002,2,0),\"\")","v":""}]
[null,null,null,{"$f":"IFERROR(VLOOKUP(C1307,Participants!$B$3:$C$1002,2,0),\"\")","v":""},null,{"$f":"IFERROR(VLOOKUP(E1307,Participants!$B$3:$C$1002,2,0),\"\")","v":""}]
[null,null,null,{"$f":"IFERROR(VLOOKUP(C1308,Participants!$B$3:$C$1002,2,0),\"\")","v":""},null,{"$f":"IFERROR(VLOOKUP(E1308,Participants!$B$3:$C$1002,2,0),\"\")","v":""}]
[null,null,null,{"$f":"IFERROR(VLOOKUP(C1309,Participants!$B$3:$C$1002,2,0),\"\")","v":""},null,{"$f":"IFERROR(VLOOKUP(E1309,Participants!$B$3:$C$1002,2,0),\"\")","v":""}]
[null,null,null,{"$f":"IFERROR(VLOOKUP(C1310,Participants!$B$3:$C$1002,2,0),\"\")","v":""},null,{"$f":"IFERROR(VLOOKUP(E1310,Participants!$B$3:$C$1002,2,0),\"\")","v":""}]
[null,null,null,{"$f":"IFERROR(VLOOKUP(C1311,Participants!$B$3:$C$1002,2,0),\"\")","v":""},null,{"$f":"IFERROR(VLOOKUP(E1311,Participants!$B$3:$C$1002,2,0),\"\")","v":""}]
[null,null,null,{"$f":"IFERROR(VLOOKUP(C1312,Participants!$B$3:$C$1002,2,0),\"\")","v":""},null,{"$f":"IFERROR(VLOOKUP(E1312,Participants!$B$3:$C$1002,2,0),\"\")","v":""}]
[null,null,null,{"$f":"IFERROR(VLOOKUP(C1313,Participants!$B$3:$C$1002,2,0),\"\")","v":""},null,{"$f":"IFERROR(VLOOKUP(E1313,Participants!$B$3:$C$1002,2,0),\"\")","v":""}]
[null,null,null,{"$f":"IFERROR(VLOOKUP(C1314,Participants!$B$3:$C$1002,2,0),\"\")","v":""},null,{"$f":"IFERROR(VLOOKUP(E1314,Participants!$B$3:$C$1002,2,0),\"\")","v":""}]
[null,null,null,{"$f":"IFERROR(VLOOKUP(C1315,Participants!$B$3:$C$1002,2,0),\"\")","v":""},null,{"$f":"IFERROR(VLOOKUP(E1315,Participants!$B$3:$C$1002,2,0),\"\")","v":""}]
[null,null,null,{"$f":"IFERROR(VLOOKUP(C1316,Participants!$B$3:$C$1002,2,0),\"\")","v":""},null,{"$f":"IFERROR(VLOOKUP(E1316,Participants!$B$3:$C$1002,2,0),\"\")","v":""}]
[null,null,null,{"$f":"IFERROR(VLOOKUP(C1317,Participants!$B$3:$C$1002,2,0),\"\")","v":""},null,{"$f":"IFERROR(VLOOKUP(E1317,Participants!$B$3:$C$1002,2,0),\"\")","v":""}]
[null,null,null,{"$f":"IFERROR(VLOOKUP(C1318,Participants!$B$3:$C$1002,2,0),\"\")","v":""},null,{"$f":"IFERROR(VLOOKUP(E1318,Participants!$B$3:$C$1002,2,0),\"\")","v":""}]
[null,null,null,{"$f":"IFERROR(VLOOKUP(C1319,Participants!$B$3:$C$1002,2,0),\"\")","v":""},null,{"$f":"IFERROR(VLOOKUP(E1319,Participants!$B$3:$C$1002,2,0),\"\")","v":""}]
[null,null,null,{"$f":"IFERROR(VLOOKUP(C1320,Participants!$B$3:$C$1002,2,0),\"\")","v":""},null,{"$f":"IFERROR(VLOOKUP(E1320,Participants!$B$3:$C$1002,2,0),\"\")","v":""}]
[null,null,null,{"$f":"IFERROR(VLOOKUP(C1321,Participants!$B$3:$C$1002,2,0),\"\")","v":""},null,{"$f":"IFERROR(VLOOKUP(E1321,Participants!$B$3:$C$1002,2,0),\"\")","v":""}]
[null,null,null,{"$f":"IFERROR(VLOOKUP(C1322,Participants!$B$3:$C$1002,2,0),\"\")","v":""},null,{"$f":"IFERROR(VLOOKUP(E1322,Participants!$B$3:$C$1002,2,0),\"\")","v":""}]
[null,null,null,{"$f":"IFERROR(VLOOKUP(C1323,Participants!$B$3:$C$1002,2,0),\"\")","v":""},null,{"$f":"IFERROR(VLOOKUP(E1323,Participants!$B$3:$C$1002,2,0),\"\")","v":""}]
[null,null,null,{"$f":"IFERROR(VLOOKUP(C1324,Participants!$B$3:$C$1002,2,0),\"\")","v":""},null,{"$f":"IFERROR(VLOOKUP(E1324,Participants!$B$3:$C$1002,2,0),\"\")","v":""}]
[null,null,null,{"$f":"IFERROR(VLOOKUP(C1325,Participants!$B$3:$C$1002,2,0),\"\")","v":""},null,{"$f":"IFERROR(VLOOKUP(E1325,Participants!$B$3:$C$1002,2,0),\"\")","v":""}]
[null,null,null,{"$f":"IFERROR(VLOOKUP(C1326,Participants!$B$3:$C$1002,2,0),\"\")","v":""},null,{"$f":"IFERROR(VLOOKUP(E1326,Participants!$B$3:$C$1002,2,0),\"\")","v":""}]
[null,null,null,{"$f":"IFERROR(VLOOKUP(C1327,Participants!$B$3:$C$1002,2,0),\"\")","v":""},null,{"$f":"IFERROR(VLOOKUP(E1327,Participants!$B$3:$C$1002,2,0),\"\")","v":""}]
[null,null,null,{"$f":"IFERROR(VLOOKUP(C1328,Participants!$B$3:$C$1002,2,0),\"\")","v":""},null,{"$f":"IFERROR(VLOOKUP(E1328,Participants!$B$3:$C$1002,2,0),\"\")","v":""}]
[null,null,null,{"$f":"IFERROR(VLOOKUP(C1329,Participants!$B$3:$C$1002,2,0),\"\")","v":""},null,{"$f":"IFERROR(VLOOKUP(E1329,Participants!$B$3:$C$1002,2,0),\"\")","v":""}]
[null,null,null,{"$f":"IFERROR(VLOOKUP(C1330,Participants!$B$3:$C$1002,2,0),\"\")","v":""},null,{"$f":"IFERROR(VLOOKUP(E1330,Participants!$B$3:$C$1002,2,0),\"\")","v":""}]
[null,null,null,{"$f":"IFERROR(VLOOKUP(C1331,Participants!$B$3:$C$1002,2,0),\"\")","v":""},null,{"$f":"IFERROR(VLOOKUP(E1331,Participants!$B$3:$C$1002,2,0),\"\")","v":""}]
[null,null,null,{"$f":"IFERROR(VLOOKUP(C1332,Participants!$B$3:$C$1002,2,0),\"\")","v":""},null,{"$f":"IFERROR(VLOOKUP(E1332,Participants!$B$3:$C$1002,2,0),\"\")","v":""}]
[null,null,null,{"$f":"IFERROR(VLOOKUP(C1333,Participants!$B$3:$C$1002,2,0),\"\")","v":""},null,{"$f":"IFERROR(VLOOKUP(E1333,Participants!$B$3:$C$1002,2,0),\"\")","v":""}]
[null,null,null,{"$f":"IFERROR(VLOOKUP(C1334,Participants!$B$3:$C$1002,2,0),\"\")","v":""},null,{"$f":"IFERROR(VLOOKUP(E1334,Participants!$B$3:$C$1002,2,0),\"\")","v":""}]
[null,null,null,{"$f":"IFERROR(VLOOKUP(C1335,Participants!$B$3:$C$1002,2,0),\"\")","v":""},null,{"$f":"IFERROR(VLOOKUP(E1335,Participants!$B$3:$C$1002,2,0),\"\")","v":""}]
[null,null,null,{"$f":"IFERROR(VLOOKUP(C1336,Participants!$B$3:$C$1002,2,0),\"\")","v":""},null,{"$f":"IFERROR(VLOOKUP(E1336,Participants!$B$3:$C$1002,2,0),\"\")","v":""}]
[null,null,null,{"$f":"IFERROR(VLOOKUP(C1337,Participants!$B$3:$C$1002,2,0),\"\")","v":""},null,{"$f":"IFERROR(VLOOKUP(E1337,Participants!$B$3:$C$1002,2,0),\"\")","v":""}]
[null,null,null,{"$f":"IFERROR(VLOOKUP(C1338,Participants!$B$3:$C$1002,2,0),\"\")","v":""},null,{"$f":"IFERROR(VLOOKUP(E1338,Participants!$B$3:$C$1002,2,0),\"\")","v":""}]
[null,null,null,{"$f":"IFERROR(VLOOKUP(C1339,Participants!$B$3:$C$1002,2,0),\"\")","v":""},null,{"$f":"IFERROR(VLOOKUP(E1339,Participants!$B$3:$C$1002,2,0),\"\")","v":""}]
[null,null,null,{"$f":"IFERROR(VLOOKUP(C1340,Participants!$B$3:$C$1002,2,0),\"\")","v":""},null,{"$f":"IFERROR(VLOOKUP(E1340,Participants!$B$3:$C$1002,2,0),\"\")","v":""}]
[null,null,null,{"$f":"IFERROR(VLOOKUP(C1341,Participants!$B$3:$C$1002,2,0),\"\")","v":""},null,{"$f":"IFERROR(VLOOKUP(E1341,Participants!$B$3:$C$1002,2,0),\"\")","v":""}]
[null,null,null,{"$f":"IFERROR(VLOOKUP(C1342,Participants!$B$3:$C$1002,2,0),\"\")","v":""},null,{"$f":"IFERROR(VLOOKUP(E1342,Participants!$B$3:$C$1002,2,0),\"\")","v":""}]
[null,null,null,{"$f":"IFERROR(VLOOKUP(C1343,Participants!$B$3:$C$1002,2,0),\"\")","v":""},null,{"$f":"IFERROR(VLOOKUP(E1343,Participants!$B$3:$C$1002,2,0),\"\")","v":""}]
[null,null,null,{"$f":"IFERROR(VLOOKUP(C1344,Participants!$B$3:$C$1002,2,0),\"\")","v":""},null,{"$f":"IFERROR(VLOOKUP(E1344,Participants!$B$3:$C$1002,2,0),\"\")","v":""}]
[null,null,null,{"$f":"IFERROR(VLOOKUP(C1345,Participants!$B$3:$C$1002,2,0),\"\")","v":""},null,{"$f":"IFERROR(VLOOKUP(E1345,Participants!$B$3:$C$1002,2,0),\"\")","v":""}]
[null,null,null,{"$f":"IFERROR(VLOOKUP(C1346,Participants!$B$3:$C$1002,2,0),\"\")","v":""},null,{"$f":"IFERROR(VLOOKUP(E1346,Participants!$B$3:$C$1002,2,0),\"\")","v":""}]
[null,null,null,{"$f":"IFERROR(VLOOKUP(C1347,Participants!$B$3:$C$1002,2,0),\"\")","v":""},null,{"$f":"IFERROR(VLOOKUP(E1347,Participants!$B$3:$C$1002,2,0),\"\")","v":""}]
[null,null,null,{"$f":"IFERROR(VLOOKUP(C1348,Participants!$B$3:$C$1002,2,0),\"\")","v":""},null,{"$f":"IFERROR(VLOOKUP(E1348,Participants!$B$3:$C$1002,2,0),\"\")","v":""}]
[null,null,null,{"$f":"IFERROR(VLOOKUP(C1349,Participants!$B$3:$C$1002,2,0),\"\")","v":""},null,{"$f":"IFERROR(VLOOKUP(E1349,Participants!$B$3:$C$1002,2,0),\"\")","v":""}]
[null,null,null,{"$f":"IFERROR(VLOOKUP(C1350,Participants!$B$3:$C$1002,2,0),\"\")","v":""},null,{"$f":"IFERROR(VLOOKUP(E1350,Participants!$B$3:$C$1002,2,0),\"\")","v":""}]
[null,null,null,{"$f":"IFERROR(VLOOKUP(C1351,Participants!$B$3:$C$1002,2,0),\"\")","v":""},null,{"$f":"IFERROR(VLOOKUP(E1351,Participants!$B$3:$C$1002,2,0),\"\")","v":""}]
[null,null,null,{"$f":"IFERROR(VLOOKUP(C1352,Participants!$B$3:$C$1002,2,0),\"\")","v":""},null,{"$f":"IFERROR(VLOOKUP(E1352,Participants!$B$3:$C$1002,2,0),\"\")","v":""}]
[null,null,null,{"$f":"IFERROR(VLOOKUP(C1353,Participants!$B$3:$C$1002,2,0),\"\")","v":""},null,{"$f":"IFERROR(VLOOKUP(E1353,Participants!$B$3:$C$1002,2,0),\"\")","v":""}]
[null,null,null,{"$f":"IFERROR(VLOOKUP(C1354,Participants!$B$3:$C$1002,2,0),\"\")","v":""},null,{"$f":"IFERROR(VLOOKUP(E1354,Participants!$B$3:$C$1002,2,0),\"\")","v":""}]
[null,null,null,{"$f":"IFERROR(VLOOKUP(C1355,Participants!$B$3:$C$1002,2,0),\"\")","v":""},null,{"$f":"IFERROR(VLOOKUP(E1355,Participants!$B$3:$C$1002,2,0),\"\")","v":""}]
[null,null,null,{"$f":"IFERROR(VLOOKUP(C1356,Participants!$B$3:$C$1002,2,0),\"\")","v":""},null,{"$f":"IFERROR(VLOOKUP(E1356,Participants!$B$3:$C$1002,2,0),\"\")","v":""}]
[null,null,null,{"$f":"IFERROR(VLOOKUP(C1357,Participants!$B$3:$C$1002,2,0),\"\")","v":""},null,{"$f":"IFERROR(VLOOKUP(E1357,Participants!$B$3:$C$1002,2,0),\"\")","v":""}]
[null,null,null,{"$f":"IFERROR(VLOOKUP(C1358,Participants!$B$3:$C$1002,2,0),\"\")","v":""},null,{"$f":"IFERROR(VLOOKUP(E1358,Participants!$B$3:$C$1002,2,0),\"\")","v":""}]
[null,null,null,{"$f":"IFERROR(VLOOKUP(C1359,Participants!$B$3:$C$1002,2,0),\"\")","v":""},null,{"$f":"IFERROR(VLOOKUP(E1359,Participants!$B$3:$C$1002,2,0),\"\")","v":""}]
[null,null,null,{"$f":"IFERROR(VLOOKUP(C1360,Participants!$B$3:$C$1002,2,0),\"\")","v":""},null,{"$f":"IFERROR(VLOOKUP(E1360,Participants!$B$3:$C$1002,2,0),\"\")","v":""}]
[null,null,null,{"$f":"IFERROR(VLOOKUP(C1361,Participants!$B$3:$C$1002,2,0),\"\")","v":""},null,{"$f":"IFERROR(VLOOKUP(E1361,Participants!$B$3:$C$1002,2,0),\"\")","v":""}]
[null,null,null,{"$f":"IFERROR(VLOOKUP(C1362,Participants!$B$3:$C$1002,2,0),\"\")","v":""},null,{"$f":"IFERROR(VLOOKUP(E1362,Participants!$B$3:$C$1002,2,0),\"\")","v":""}]
[null,null,null,{"$f":"IFERROR(VLOOKUP(C1363,Participants!$B$3:$C$1002,2,0),\"\")","v":""},null,{"$f":"IFERROR(VLOOKUP(E1363,Participants!$B$3:$C$1002,2,0),\"\")","v":""}]
[null,null,null,{"$f":"IFERROR(VLOOKUP(C1364,Participants!$B$3:$C$1002,2,0),\"\")","v":""},null,{"$f":"IFERROR(VLOOKUP(E1364,Participants!$B$3:$C$1002,2,0),\"\")","v":""}]
[null,null,null,{"$f":"IFERROR(VLOOKUP(C1365,Participants!$B$3:$C$1002,2,0),\"\")","v":""},null,{"$f":"IFERROR(VLOOKUP(E1365,Participants!$B$3:$C$1002,2,0),\"\")","v":""}]
[null,null,null,{"$f":"IFERROR(VLOOKUP(C1366,Participants!$B$3:$C$1002,2,0),\"\")","v":""},null,{"$f":"IFERROR(VLOOKUP(E1366,Participants!$B$3:$C$1002,2,0),\"\")","v":""}]
[null,null,null,{"$f":"IFERROR(VLOOKUP(C1367,Participants!$B$3:$C$1002,2,0),\"\")","v":""},null,{"$f":"IFERROR(VLOOKUP(E1367,Participants!$B$3:$C$1002,2,0),\"\")","v":""}]
[null,null,null,{"$f":"IFERROR(VLOOKUP(C1368,Participants!$B$3:$C$1002,2,0),\"\")","v":""},null,{"$f":"IFERROR(VLOOKUP(E1368,Participants!$B$3:$C$1002,2,0),\"\")","v":""}]
[null,null,null,{"$f":"IFERROR(VLOOKUP(C1369,Participants!$B$3:$C$1002,2,0),\"\")","v":""},null,{"$f":"IFERROR(VLOOKUP(E1369,Participants!$B$3:$C$1002,2,0),\"\")","v":""}]
[null,null,null,{"$f":"IFERROR(VLOOKUP(C1370,Participants!$B$3:$C$1002,2,0),\"\")","v":""},null,{"$f":"IFERROR(VLOOKUP(E1370,Participants!$B$3:$C$1002,2,0),\"\")","v":""}]
[null,null,null,{"$f":"IFERROR(VLOOKUP(C1371,Participants!$B$3:$C$1002,2,0),\"\")","v":""},null,{"$f":"IFERROR(VLOOKUP(E1371,Participants!$B$3:$C$1002,2,0),\"\")","v":""}]
[null,null,null,{"$f":"IFERROR(VLOOKUP(C1372,Participants!$B$3:$C$1002,2,0),\"\")","v":""},null,{"$f":"IFERROR(VLOOKUP(E1372,Participants!$B$3:$C$1002,2,0),\"\")","v":""}]
[null,null,null,{"$f":"IFERROR(VLOOKUP(C1373,Participants!$B$3:$C$1002,2,0),\"\")","v":""},null,{"$f":"IFERROR(VLOOKUP(E1373,Participants!$B$3:$C$1002,2,0),\"\")","v":""}]
[null,null,null,{"$f":"IFERROR(VLOOKUP(C1374,Participants!$B$3:$C$1002,2,0),\"\")","v":""},null,{"$f":"IFERROR(VLOOKUP(E1374,Participants!$B$3:$C$1002,2,0),\"\")","v":""}]
[null,null,null,{"$f":"IFERROR(VLOOKUP(C1375,Participants!$B$3:$C$1002,2,0),\"\")","v":""},null,{"$f":"IFERROR(VLOOKUP(E1375,Participants!$B$3:$C$1002,2,0),\"\")","v":""}]
[null,null,null,{"$f":"IFERROR(VLOOKUP(C1376,Participants!$B$3:$C$1002,2,0),\"\")","v":""},null,{"$f":"IFERROR(VLOOKUP(E1376,Participants!$B$3:$C$1002,2,0),\"\")","v":""}]
[null,null,null,{"$f":"IFERROR(VLOOKUP(C1377,Participants!$B$3:$C$1002,2,0),\"\")","v":""},null,{"$f":"IFERROR(VLOOKUP(E1377,Participants!$B$3:$C$1002,2,0),\"\")","v":""}]
[null,null,null,{"$f":"IFERROR(VLOOKUP(C1378,Participants!$B$3:$C$1002,2,0),\"\")","v":""},null,{"$f":"IFERROR(VLOOKUP(E1378,Participants!$B$3:$C$1002,2,0),\"\")","v":""}]
[null,null,null,{"$f":"IFERROR(VLOOKUP(C1379,Participants!$B$3:$C$1002,2,0),\"\")","v":""},null,{"$f":"IFERROR(VLOOKUP(E1379,Participants!$B$3:$C$1002,2,0),\"\")","v":""}]
[null,null,null,{"$f":"IFERROR(VLOOKUP(C1380,Participants!$B$3:$C$1002,2,0),\"\")","v":""},null,{"$f":"IFERROR(VLOOKUP(E1380,Participants!$B$3:$C$1002,2,0),\"\")","v":""}]
[null,null,null,{"$f":"IFERROR(VLOOKUP(C1381,Participants!$B$3:$C$1002,2,0),\"\")","v":""},null,{"$f":"IFERROR(VLOOKUP(E1381,Participants!$B$3:$C$1002,2,0),\"\")","v":""}]
[null,null,null,{"$f":"IFERROR(VLOOKUP(C1382,Participants!$B$3:$C$1002,2,0),\"\")","v":""},null,{"$f":"IFERROR(VLOOKUP(E1382,Participants!$B$3:$C$1002,2,0),\"\")","v":""}]
[null,null,null,{"$f":"IFERROR(VLOOKUP(C1383,Participants!$B$3:$C$1002,2,0),\"\")","v":""},null,{"$f":"IFERROR(VLOOKUP(E1383,Participants!$B$3:$C$1002,2,0),\"\")","v":""}]
[null,null,null,{"$f":"IFERROR(VLOOKUP(C1384,Participants!$B$3:$C$1002,2,0),\"\")","v":""},null,{"$f":"IFERROR(VLOOKUP(E1384,Participants!$B$3:$C$1002,2,0),\"\")","v":""}]
[null,null,null,{"$f":"IFERROR(VLOOKUP(C1385,Participants!$B$3:$C$1002,2,0),\"\")","v":""},null,{"$f":"IFERROR(VLOOKUP(E1385,Participants!$B$3:$C$1002,2,0),\"\")","v":""}]
[null,null,null,{"$f":"IFERROR(VLOOKUP(C1386,Participants!$B$3:$C$1002,2,0),\"\")","v":""},null,{"$f":"IFERROR(VLOOKUP(E1386,Participants!$B$3:$C$1002,2,0),\"\")","v":""}]
[null,null,null,{"$f":"IFERROR(VLOOKUP(C1387,Participants!$B$3:$C$1002,2,0),\"\")","v":""},null,{"$f":"IFERROR(VLOOKUP(E1387,Participants!$B$3:$C$1002,2,0),\"\")","v":""}]
[null,null,null,{"$f":"IFERROR(VLOOKUP(C1388,Participants!$B$3:$C$1002,2,0),\"\")","v":""},null,{"$f":"IFERROR(VLOOKUP(E1388,Participants!$B$3:$C$1002,2,0),\"\")","v":""}]
[null,null,null,{"$f":"IFERROR(VLOOKUP(C1389,Participants!$B$3:$C$1002,2,0),\"\")","v":""},null,{"$f":"IFERROR(VLOOKUP(E1389,Participants!$B$3:$C$1002,2,0),\"\")","v":""}]
[null,null,null,{"$f":"IFERROR(VLOOKUP(C1390,Participants!$B$3:$C$1002,2,0),\"\")","v":""},null,{"$f":"IFERROR(VLOOKUP(E1390,Participants!$B$3:$C$1002,2,0),\"\")","v":""}]
[null,null,null,{"$f":"IFERROR(VLOOKUP(C1391,Participants!$B$3:$C$1002,2,0),\"\")","v":""},null,{"$f":"IFERROR(VLOOKUP(E1391,Participants!$B$3:$C$1002,2,0),\"\")","v":""}]
[null,null,null,{"$f":"IFERROR(VLOOKUP(C1392,Participants!$B$3:$C$1002,2,0),\"\")","v":""},null,{"$f":"IFERROR(VLOOKUP(E1392,Participants!$B$3:$C$1002,2,0),\"\")","v":""}]
[null,null,null,{"$f":"IFERROR(VLOOKUP(C1393,Participants!$B$3:$C$1002,2,0),\"\")","v":""},null,{"$f":"IFERROR(VLOOKUP(E1393,Participants!$B$3:$C$1002,2,0),\"\")","v":""}]
[null,null,null,{"$f":"IFERROR(VLOOKUP(C1394,Participants!$B$3:$C$1002,2,0),\"\")","v":""},null,{"$f":"IFERROR(VLOOKUP(E1394,Participants!$B$3:$C$1002,2,0),\"\")","v":""}]
[null,null,null,{"$f":"IFERROR(VLOOKUP(C1395,Participants!$B$3:$C$1002,2,0),\"\")","v":""},null,{"$f":"IFERROR(VLOOKUP(E1395,Participants!$B$3:$C$1002,2,0),\"\")","v":""}]
[null,null,null,{"$f":"IFERROR(VLOOKUP(C1396,Participants!$B$3:$C$1002,2,0),\"\")","v":""},null,{"$f":"IFERROR(VLOOKUP(E1396,Participants!$B$3:$C$1002,2,0),\"\")","v":""}]
[null,null,null,{"$f":"IFERROR(VLOOKUP(C1397,Participants!$B$3:$C$1002,2,0),\"\")","v":""},null,{"$f":"IFERROR(VLOOKUP(E1397,Participants!$B$3:$C$1002,2,0),\"\")","v":""}]
[null,null,null,{"$f":"IFERROR(VLOOKUP(C1398,Participants!$B$3:$C$1002,2,0),\"\")","v":""},null,{"$f":"IFERROR(VLOOKUP(E1398,Participants!$B$3:$C$1002,2,0),\"\")","v":""}]
[null,null,null,{"$f":"IFERROR(VLOOKUP(C1399,Participants!$B$3:$C$1002,2,0),\"\")","v":""},null,{"$f":"IFERROR(VLOOKUP(E1399,Participants!$B$3:$C$1002,2,0),\"\")","v":""}]
[null,null,null,{"$f":"IFERROR(VLOOKUP(C1400,Participants!$B$3:$C$1002,2,0),\"\")","v":""},null,{"$f":"IFERROR(VLOOKUP(E1400,Participants!$B$3:$C$1002,2,0),\"\")","v":""}]
[null,null,null,{"$f":"IFERROR(VLOOKUP(C1401,Participants!$B$3:$C$1002,2,0),\"\")","v":""},null,{"$f":"IFERROR(VLOOKUP(E1401,Participants!$B$3:$C$1002,2,0),\"\")","v":""}]
[null,null,null,{"$f":"IFERROR(VLOOKUP(C1402,Participants!$B$3:$C$1002,2,0),\"\")","v":""},null,{"$f":"IFERROR(VLOOKUP(E1402,Participants!$B$3:$C$1002,2,0),\"\")","v":""}]
[null,null,null,{"$f":"IFERROR(VLOOKUP(C1403,Participants!$B$3:$C$1002,2,0),\"\")","v":""},null,{"$f":"IFERROR(VLOOKUP(E1403,Participants!$B$3:$C$1002,2,0),\"\")","v":""}]
[null,null,null,{"$f":"IFERROR(VLOOKUP(C1404,Participants!$B$3:$C$1002,2,0),\"\")","v":""},null,{"$f":"IFERROR(VLOOKUP(E1404,Participants!$B$3:$C$1002,2,0),\"\")","v":""}]
[null,null,null,{"$f":"IFERROR(VLOOKUP(C1405,Participants!$B$3:$C$1002,2,0),\"\")","v":""},null,{"$f":"IFERROR(VLOOKUP(E1405,Participants!$B$3:$C$1002,2,0),\"\")","v":""}]
[null,null,null,{"$f":"IFERROR(VLOOKUP(C1406,Participants!$B$3:$C$1002,2,0),\"\")","v":""},null,{"$f":"IFERROR(VLOOKUP(E1406,Participants!$B$3:$C$1002,2,0),\"\")","v":""}]
[null,null,null,{"$f":"IFERROR(VLOOKUP(C1407,Participants!$B$3:$C$1002,2,0),\"\")","v":""},null,{"$f":"IFERROR(VLOOKUP(E1407,Participants!$B$3:$C$1002,2,0),\"\")","v":""}]
[null,null,null,{"$f":"IFERROR(VLOOKUP(C1408,Participants!$B$3:$C$1002,2,0),\"\")","v":""},null,{"$f":"IFERROR(VLOOKUP(E1408,Participants!$B$3:$C$1002,2,0),\"\")","v":""}]
[null,null,null,{"$f":"IFERROR(VLOOKUP(C1409,Participants!$B$3:$C$1002,2,0),\"\")","v":""},null,{"$f":"IFERROR(VLOOKUP(E1409,Participants!$B$3:$C$1002,2,0),\"\")","v":""}]
[null,null,null,{"$f":"IFERROR(VLOOKUP(C1410,Participants!$B$3:$C$1002,2,0),\"\")","v":""},null,{"$f":"IFERROR(VLOOKUP(E1410,Participants!$B$3:$C$1002,2,0),\"\")","v":""}]
[null,null,null,{"$f":"IFERROR(VLOOKUP(C1411,Participants!$B$3:$C$1002,2,0),\"\")","v":""},null,{"$f":"IFERROR(VLOOKUP(E1411,Participants!$B$3:$C$1002,2,0),\"\")","v":""}]
[null,null,null,{"$f":"IFERROR(VLOOKUP(C1412,Participants!$B$3:$C$1002,2,0),\"\")","v":""},null,{"$f":"IFERROR(VLOOKUP(E1412,Participants!$B$3:$C$1002,2,0),\"\")","v":""}]
[null,null,null,{"$f":"IFERROR(VLOOKUP(C1413,Participants!$B$3:$C$1002,2,0),\"\")","v":""},null,{"$f":"IFERROR(VLOOKUP(E1413,Participants!$B$3:$C$1002,2,0),\"\")","v":""}]
[null,null,null,{"$f":"IFERROR(VLOOKUP(C1414,Participants!$B$3:$C$1002,2,0),\"\")","v":""},null,{"$f":"IFERROR(VLOOKUP(E1414,Participants!$B$3:$C$1002,2,0),\"\")","v":""}]
[null,null,null,{"$f":"IFERROR(VLOOKUP(C1415,Participants!$B$3:$C$1002,2,0),\"\")","v":""},null,{"$f":"IFERROR(VLOOKUP(E1415,Participants!$B$3:$C$1002,2,0),\"\")","v":""}]
[null,null,null,{"$f":"IFERROR(VLOOKUP(C1416,Participants!$B$3:$C$1002,2,0),\"\")","v":""},null,{"$f":"IFERROR(VLOOKUP(E1416,Participants!$B$3:$C$1002,2,0),\"\")","v":""}]
[null,null,null,{"$f":"IFERROR(VLOOKUP(C1417,Participants!$B$3:$C$1002,2,0),\"\")","v":""},null,{"$f":"IFERROR(VLOOKUP(E1417,Participants!$B$3:$C$1002,2,0),\"\")","v":""}]
[null,null,null,{"$f":"IFERROR(VLOOKUP(C1418,Participants!$B$3:$C$1002,2,0),\"\")","v":""},null,{"$f":"IFERROR(VLOOKUP(E1418,Participants!$B$3:$C$1002,2,0),\"\")","v":""}]
[null,null,null,{"$f":"IFERROR(VLOOKUP(C1419,Participants!$B$3:$C$1002,2,0),\"\")","v":""},null,{"$f":"IFERROR(VLOOKUP(E1419,Participants!$B$3:$C$1002,2,0),\"\")","v":""}]
[null,null,null,{"$f":"IFERROR(VLOOKUP(C1420,Participants!$B$3:$C$1002,2,0),\"\")","v":""},null,{"$f":"IFERROR(VLOOKUP(E1420,Participants!$B$3:$C$1002,2,0),\"\")","v":""}]
[null,null,null,{"$f":"IFERROR(VLOOKUP(C1421,Participants!$B$3:$C$1002,2,0),\"\")","v":""},null,{"$f":"IFERROR(VLOOKUP(E1421,Participants!$B$3:$C$1002,2,0),\"\")","v":""}]
[null,null,null,{"$f":"IFERROR(VLOOKUP(C1422,Participants!$B$3:$C$1002,2,0),\"\")","v":""},null,{"$f":"IFERROR(VLOOKUP(E1422,Participants!$B$3:$C$1002,2,0),\"\")","v":""}]
[null,null,null,{"$f":"IFERROR(VLOOKUP(C1423,Participants!$B$3:$C$1002,2,0),\"\")","v":""},null,{"$f":"IFERROR(VLOOKUP(E1423,Participants!$B$3:$C$1002,2,0),\"\")","v":""}]
[null,null,null,{"$f":"IFERROR(VLOOKUP(C1424,Participants!$B$3:$C$1002,2,0),\"\")","v":""},null,{"$f":"IFERROR(VLOOKUP(E1424,Participants!$B$3:$C$1002,2,0),\"\")","v":""}]
[null,null,null,{"$f":"IFERROR(VLOOKUP(C1425,Participants!$B$3:$C$1002,2,0),\"\")","v":""},null,{"$f":"IFERROR(VLOOKUP(E1425,Participants!$B$3:$C$1002,2,0),\"\")","v":""}]
[null,null,null,{"$f":"IFERROR(VLOOKUP(C1426,Participants!$B$3:$C$1002,2,0),\"\")","v":""},null,{"$f":"IFERROR(VLOOKUP(E1426,Participants!$B$3:$C$1002,2,0),\"\")","v":""}]
[null,null,null,{"$f":"IFERROR(VLOOKUP(C1427,Participants!$B$3:$C$1002,2,0),\"\")","v":""},null,{"$f":"IFERROR(VLOOKUP(E1427,Participants!$B$3:$C$1002,2,0),\"\")","v":""}]
[null,null,null,{"$f":"IFERROR(VLOOKUP(C1428,Participants!$B$3:$C$1002,2,0),\"\")","v":""},null,{"$f":"IFERROR(VLOOKUP(E1428,Participants!$B$3:$C$1002,2,0),\"\")","v":""}]
[null,null,null,{"$f":"IFERROR(VLOOKUP(C1429,Participants!$B$3:$C$1002,2,0),\"\")","v":""},null,{"$f":"IFERROR(VLOOKUP(E1429,Participants!$B$3:$C$1002,2,0),\"\")","v":""}]
[null,null,null,{"$f":"IFERROR(VLOOKUP(C1430,Participants!$B$3:$C$1002,2,0),\"\")","v":""},null,{"$f":"IFERROR(VLOOKUP(E1430,Participants!$B$3:$C$1002,2,0),\"\")","v":""}]
[null,null,null,{"$f":"IFERROR(VLOOKUP(C1431,Participants!$B$3:$C$1002,2,0),\"\")","v":""},null,{"$f":"IFERROR(VLOOKUP(E1431,Participants!$B$3:$C$1002,2,0),\"\")","v":""}]
[null,null,null,{"$f":"IFERROR(VLOOKUP(C1432,Participants!$B$3:$C$1002,2,0),\"\")","v":""},null,{"$f":"IFERROR(VLOOKUP(E1432,Participants!$B$3:$C$1002,2,0),\"\")","v":""}]
[null,null,null,{"$f":"IFERROR(VLOOKUP(C1433,Participants!$B$3:$C$1002,2,0),\"\")","v":""},null,{"$f":"IFERROR(VLOOKUP(E1433,Participants!$B$3:$C$1002,2,0),\"\")","v":""}]
[null,null,null,{"$f":"IFERROR(VLOOKUP(C1434,Participants!$B$3:$C$1002,2,0),\"\")","v":""},null,{"$f":"IFERROR(VLOOKUP(E1434,Participants!$B$3:$C$1002,2,0),\"\")","v":""}]
[null,null,null,{"$f":"IFERROR(VLOOKUP(C1435,Participants!$B$3:$C$1002,2,0),\"\")","v":""},null,{"$f":"IFERROR(VLOOKUP(E1435,Participants!$B$3:$C$1002,2,0),\"\")","v":""}]
[null,null,null,{"$f":"IFERROR(VLOOKUP(C1436,Participants!$B$3:$C$1002,2,0),\"\")","v":""},null,{"$f":"IFERROR(VLOOKUP(E1436,Participants!$B$3:$C$1002,2,0),\"\")","v":""}]
[null,null,null,{"$f":"IFERROR(VLOOKUP(C1437,Participants!$B$3:$C$1002,2,0),\"\")","v":""},null,{"$f":"IFERROR(VLOOKUP(E1437,Participants!$B$3:$C$1002,2,0),\"\")","v":""}]
[null,null,null,{"$f":"IFERROR(VLOOKUP(C1438,Participants!$B$3:$C$1002,2,0),\"\")","v":""},null,{"$f":"IFERROR(VLOOKUP(E1438,Participants!$B$3:$C$1002,2,0),\"\")","v":""}]
[null,null,null,{"$f":"IFERROR(VLOOKUP(C1439,Participants!$B$3:$C$1002,2,0),\"\")","v":""},null,{"$f":"IFERROR(VLOOKUP(E1439,Participants!$B$3:$C$1002,2,0),\"\")","v":""}]
[null,null,null,{"$f":"IFERROR(VLOOKUP(C1440,Participants!$B$3:$C$1002,2,0),\"\")","v":""},null,{"$f":"IFERROR(VLOOKUP(E1440,Participants!$B$3:$C$1002,2,0),\"\")","v":""}]
[null,null,null,{"$f":"IFERROR(VLOOKUP(C1441,Participants!$B$3:$C$1002,2,0),\"\")","v":""},null,{"$f":"IFERROR(VLOOKUP(E1441,Participants!$B$3:$C$1002,2,0),\"\")","v":""}]
[null,null,null,{"$f":"IFERROR(VLOOKUP(C1442,Participants!$B$3:$C$1002,2,0),\"\")","v":""},null,{"$f":"IFERROR(VLOOKUP(E1442,Participants!$B$3:$C$1002,2,0),\"\")","v":""}]
[null,null,null,{"$f":"IFERROR(VLOOKUP(C1443,Participants!$B$3:$C$1002,2,0),\"\")","v":""},null,{"$f":"IFERROR(VLOOKUP(E1443,Participants!$B$3:$C$1002,2,0),\"\")","v":""}]
[null,null,null,{"$f":"IFERROR(VLOOKUP(C1444,Participants!$B$3:$C$1002,2,0),\"\")","v":""},null,{"$f":"IFERROR(VLOOKUP(E1444,Participants!$B$3:$C$1002,2,0),\"\")","v":""}]
[null,null,null,{"$f":"IFERROR(VLOOKUP(C1445,Participants!$B$3:$C$1002,2,0),\"\")","v":""},null,{"$f":"IFERROR(VLOOKUP(E1445,Participants!$B$3:$C$1002,2,0),\"\")","v":""}]
[null,null,null,{"$f":"IFERROR(VLOOKUP(C1446,Participants!$B$3:$C$1002,2,0),\"\")","v":""},null,{"$f":"IFERROR(VLOOKUP(E1446,Participants!$B$3:$C$1002,2,0),\"\")","v":""}]
[null,null,null,{"$f":"IFERROR(VLOOKUP(C1447,Participants!$B$3:$C$1002,2,0),\"\")","v":""},null,{"$f":"IFERROR(VLOOKUP(E1447,Participants!$B$3:$C$1002,2,0),\"\")","v":""}]
[null,null,null,{"$f":"IFERROR(VLOOKUP(C1448,Participants!$B$3:$C$1002,2,0),\"\")","v":""},null,{"$f":"IFERROR(VLOOKUP(E1448,Participants!$B$3:$C$1002,2,0),\"\")","v":""}]
[null,null,null,{"$f":"IFERROR(VLOOKUP(C1449,Participants!$B$3:$C$1002,2,0),\"\")","v":""},null,{"$f":"IFERROR(VLOOKUP(E1449,Participants!$B$3:$C$1002,2,0),\"\")","v":""}]
[null,null,null,{"$f":"IFERROR(VLOOKUP(C1450,Participants!$B$3:$C$1002,2,0),\"\")","v":""},null,{"$f":"IFERROR(VLOOKUP(E1450,Participants!$B$3:$C$1002,2,0),\"\")","v":""}]
[null,null,null,{"$f":"IFERROR(VLOOKUP(C1451,Participants!$B$3:$C$1002,2,0),\"\")","v":""},null,{"$f":"IFERROR(VLOOKUP(E1451,Participants!$B$3:$C$1002,2,0),\"\")","v":""}]
[null,null,null,{"$f":"IFERROR(VLOOKUP(C1452,Participants!$B$3:$C$1002,2,0),\"\")","v":""},null,{"$f":"IFERROR(VLOOKUP(E1452,Participants!$B$3:$C$1002,2,0),\"\")","v":""}]
[null,null,null,{"$f":"IFERROR(VLOOKUP(C1453,Participants!$B$3:$C$1002,2,0),\"\")","v":""},null,{"$f":"IFERROR(VLOOKUP(E1453,Participants!$B$3:$C$1002,2,0),\"\")","v":""}]
[null,null,null,{"$f":"IFERROR(VLOOKUP(C1454,Participants!$B$3:$C$1002,2,0),\"\")","v":""},null,{"$f":"IFERROR(VLOOKUP(E1454,Participants!$B$3:$C$1002,2,0),\"\")","v":""}]
[null,null,null,{"$f":"IFERROR(VLOOKUP(C1455,Participants!$B$3:$C$1002,2,0),\"\")","v":""},null,{"$f":"IFERROR(VLOOKUP(E1455,Participants!$B$3:$C$1002,2,0),\"\")","v":""}]
[null,null,null,{"$f":"IFERROR(VLOOKUP(C1456,Participants!$B$3:$C$1002,2,0),\"\")","v":""},null,{"$f":"IFERROR(VLOOKUP(E1456,Participants!$B$3:$C$1002,2,0),\"\")","v":""}]
[null,null,null,{"$f":"IFERROR(VLOOKUP(C1457,Participants!$B$3:$C$1002,2,0),\"\")","v":""},null,{"$f":"IFERROR(VLOOKUP(E1457,Participants!$B$3:$C$1002,2,0),\"\")","v":""}]
[null,null,null,{"$f":"IFERROR(VLOOKUP(C1458,Participants!$B$3:$C$1002,2,0),\"\")","v":""},null,{"$f":"IFERROR(VLOOKUP(E1458,Participants!$B$3:$C$1002,2,0),\"\")","v":""}]
[null,null,null,{"$f":"IFERROR(VLOOKUP(C1459,Participants!$B$3:$C$1002,2,0),\"\")","v":""},null,{"$f":"IFERROR(VLOOKUP(E1459,Participants!$B$3:$C$1002,2,0),\"\")","v":""}]
[null,null,null,{"$f":"IFERROR(VLOOKUP(C1460,Participants!$B$3:$C$1002,2,0),\"\")","v":""},null,{"$f":"IFERROR(VLOOKUP(E1460,Participants!$B$3:$C$1002,2,0),\"\")","v":""}]
[null,null,null,{"$f":"IFERROR(VLOOKUP(C1461,Participants!$B$3:$C$1002,2,0),\"\")","v":""},null,{"$f":"IFERROR(VLOOKUP(E1461,Participants!$B$3:$C$1002,2,0),\"\")","v":""}]
[null,null,null,{"$f":"IFERROR(VLOOKUP(C1462,Participants!$B$3:$C$1002,2,0),\"\")","v":""},null,{"$f":"IFERROR(VLOOKUP(E1462,Participants!$B$3:$C$1002,2,0),\"\")","v":""}]
[null,null,null,{"$f":"IFERROR(VLOOKUP(C1463,Participants!$B$3:$C$1002,2,0),\"\")","v":""},null,{"$f":"IFERROR(VLOOKUP(E1463,Participants!$B$3:$C$1002,2,0),\"\")","v":""}]
[null,null,null,{"$f":"IFERROR(VLOOKUP(C1464,Participants!$B$3:$C$1002,2,0),\"\")","v":""},null,{"$f":"IFERROR(VLOOKUP(E1464,Participants!$B$3:$C$1002,2,0),\"\")","v":""}]
[null,null,null,{"$f":"IFERROR(VLOOKUP(C1465,Participants!$B$3:$C$1002,2,0),\"\")","v":""},null,{"$f":"IFERROR(VLOOKUP(E1465,Participants!$B$3:$C$1002,2,0),\"\")","v":""}]
[null,null,null,{"$f":"IFERROR(VLOOKUP(C1466,Participants!$B$3:$C$1002,2,0),\"\")","v":""},null,{"$f":"IFERROR(VLOOKUP(E1466,Participants!$B$3:$C$1002,2,0),\"\")","v":""}]
[null,null,null,{"$f":"IFERROR(VLOOKUP(C1467,Participants!$B$3:$C$1002,2,0),\"\")","v":""},null,{"$f":"IFERROR(VLOOKUP(E1467,Participants!$B$3:$C$1002,2,0),\"\")","v":""}]
[null,null,null,{"$f":"IFERROR(VLOOKUP(C1468,Participants!$B$3:$C$1002,2,0),\"\")","v":""},null,{"$f":"IFERROR(VLOOKUP(E1468,Participants!$B$3:$C$1002,2,0),\"\")","v":""}]
[null,null,null,{"$f":"IFERROR(VLOOKUP(C1469,Participants!$B$3:$C$1002,2,0),\"\")","v":""},null,{"$f":"IFERROR(VLOOKUP(E1469,Participants!$B$3:$C$1002,2,0),\"\")","v":""}]
[null,null,null,{"$f":"IFERROR(VLOOKUP(C1470,Participants!$B$3:$C$1002,2,0),\"\")","v":""},null,{"$f":"IFERROR(VLOOKUP(E1470,Participants!$B$3:$C$1002,2,0),\"\")","v":""}]
[null,null,null,{"$f":"IFERROR(VLOOKUP(C1471,Participants!$B$3:$C$1002,2,0),\"\")","v":""},null,{"$f":"IFERROR(VLOOKUP(E1471,Participants!$B$3:$C$1002,2,0),\"\")","v":""}]
[null,null,null,{"$f":"IFERROR(VLOOKUP(C1472,Participants!$B$3:$C$1002,2,0),\"\")","v":""},null,{"$f":"IFERROR(VLOOKUP(E1472,Participants!$B$3:$C$1002,2,0),\"\")","v":""}]
[null,null,null,{"$f":"IFERROR(VLOOKUP(C1473,Participants!$B$3:$C$1002,2,0),\"\")","v":""},null,{"$f":"IFERROR(VLOOKUP(E1473,Participants!$B$3:$C$1002,2,0),\"\")","v":""}]
[null,null,null,{"$f":"IFERROR(VLOOKUP(C1474,Participants!$B$3:$C$1002,2,0),\"\")","v":""},null,{"$f":"IFERROR(VLOOKUP(E1474,Participants!$B$3:$C$1002,2,0),\"\")","v":""}]
[null,null,null,{"$f":"IFERROR(VLOOKUP(C1475,Participants!$B$3:$C$1002,2,0),\"\")","v":""},null,{"$f":"IFERROR(VLOOKUP(E1475,Participants!$B$3:$C$1002,2,0),\"\")","v":""}]
[null,null,null,{"$f":"IFERROR(VLOOKUP(C1476,Participants!$B$3:$C$1002,2,0),\"\")","v":""},null,{"$f":"IFERROR(VLOOKUP(E1476,Participants!$B$3:$C$1002,2,0),\"\")","v":""}]
[null,null,null,{"$f":"IFERROR(VLOOKUP(C1477,Participants!$B$3:$C$1002,2,0),\"\")","v":""},null,{"$f":"IFERROR(VLOOKUP(E1477,Participants!$B$3:$C$1002,2,0),\"\")","v":""}]
[null,null,null,{"$f":"IFERROR(VLOOKUP(C1478,Participants!$B$3:$C$1002,2,0),\"\")","v":""},null,{"$f":"IFERROR(VLOOKUP(E1478,Participants!$B$3:$C$1002,2,0),\"\")","v":""}]
[null,null,null,{"$f":"IFERROR(VLOOKUP(C1479,Participants!$B$3:$C$1002,2,0),\"\")","v":""},null,{"$f":"IFERROR(VLOOKUP(E1479,Participants!$B$3:$C$1002,2,0),\"\")","v":""}]
[null,null,null,{"$f":"IFERROR(VLOOKUP(C1480,Participants!$B$3:$C$1002,2,0),\"\")","v":""},null,{"$f":"IFERROR(VLOOKUP(E1480,Participants!$B$3:$C$1002,2,0),\"\")","v":""}]
[null,null,null,{"$f":"IFERROR(VLOOKUP(C1481,Participants!$B$3:$C$1002,2,0),\"\")","v":""},null,{"$f":"IFERROR(VLOOKUP(E1481,Participants!$B$3:$C$1002,2,0),\"\")","v":""}]
[null,null,null,{"$f":"IFERROR(VLOOKUP(C1482,Participants!$B$3:$C$1002,2,0),\"\")","v":""},null,{"$f":"IFERROR(VLOOKUP(E1482,Participants!$B$3:$C$1002,2,0),\"\")","v":""}]
[null,null,null,{"$f":"IFERROR(VLOOKUP(C1483,Participants!$B$3:$C$1002,2,0),\"\")","v":""},null,{"$f":"IFERROR(VLOOKUP(E1483,Participants!$B$3:$C$1002,2,0),\"\")","v":""}]
[null,null,null,{"$f":"IFERROR(VLOOKUP(C1484,Participants!$B$3:$C$1002,2,0),\"\")","v":""},null,{"$f":"IFERROR(VLOOKUP(E1484,Participants!$B$3:$C$1002,2,0),\"\")","v":""}]
[null,null,null,{"$f":"IFERROR(VLOOKUP(C1485,Participants!$B$3:$C$1002,2,0),\"\")","v":""},null,{"$f":"IFERROR(VLOOKUP(E1485,Participants!$B$3:$C$1002,2,0),\"\")","v":""}]
[null,null,null,{"$f":"IFERROR(VLOOKUP(C1486,Participants!$B$3:$C$1002,2,0),\"\")","v":""},null,{"$f":"IFERROR(VLOOKUP(E1486,Participants!$B$3:$C$1002,2,0),\"\")","v":""}]
[null,null,null,{"$f":"IFERROR(VLOOKUP(C1487,Participants!$B$3:$C$1002,2,0),\"\")","v":""},null,{"$f":"IFERROR(VLOOKUP(E1487,Participants!$B$3:$C$1002,2,0),\"\")","v":""}]
[null,null,null,{"$f":"IFERROR(VLOOKUP(C1488,Participants!$B$3:$C$1002,2,0),\"\")","v":""},null,{"$f":"IFERROR(VLOOKUP(E1488,Participants!$B$3:$C$1002,2,0),\"\")","v":""}]
[null,null,null,{"$f":"IFERROR(VLOOKUP(C1489,Participants!$B$3:$C$1002,2,0),\"\")","v":""},null,{"$f":"IFERROR(VLOOKUP(E1489,Participants!$B$3:$C$1002,2,0),\"\")","v":""}]
[null,null,null,{"$f":"IFERROR(VLOOKUP(C1490,Participants!$B$3:$C$1002,2,0),\"\")","v":""},null,{"$f":"IFERROR(VLOOKUP(E1490,Participants!$B$3:$C$1002,2,0),\"\")","v":""}]
[null,null,null,{"$f":"IFERROR(VLOOKUP(C1491,Participants!$B$3:$C$1002,2,0),\"\")","v":""},null,{"$f":"IFERROR(VLOOKUP(E1491,Participants!$B$3:$C$1002,2,0),\"\")","v":""}]
[null,null,null,{"$f":"IFERROR(VLOOKUP(C1492,Participants!$B$3:$C$1002,2,0),\"\")","v":""},null,{"$f":"IFERROR(VLOOKUP(E1492,Participants!$B$3:$C$1002,2,0),\"\")","v":""}]
[null,null,null,{"$f":"IFERROR(VLOOKUP(C1493,Participants!$B$3:$C$1002,2,0),\"\")","v":""},null,{"$f":"IFERROR(VLOOKUP(E1493,Participants!$B$3:$C$1002,2,0),\"\")","v":""}]
[null,null,null,{"$f":"IFERROR(VLOOKUP(C1494,Participants!$B$3:$C$1002,2,0),\"\")","v":""},null,{"$f":"IFERROR(VLOOKUP(E1494,Participants!$B$3:$C$1002,2,0),\"\")","v":""}]
[null,null,null,{"$f":"IFERROR(VLOOKUP(C1495,Participants!$B$3:$C$1002,2,0),\"\")","v":""},null,{"$f":"IFERROR(VLOOKUP(E1495,Participants!$B$3:$C$1002,2,0),\"\")","v":""}]
[null,null,null,{"$f":"IFERROR(VLOOKUP(C1496,Participants!$B$3:$C$1002,2,0),\"\")","v":""},null,{"$f":"IFERROR(VLOOKUP(E1496,Participants!$B$3:$C$1002,2,0),\"\")","v":""}]
[null,null,null,{"$f":"IFERROR(VLOOKUP(C1497,Participants!$B$3:$C$1002,2,0),\"\")","v":""},null,{"$f":"IFERROR(VLOOKUP(E1497,Participants!$B$3:$C$1002,2,0),\"\")","v":""}]
[null,null,null,{"$f":"IFERROR(VLOOKUP(C1498,Participants!$B$3:$C$1002,2,0),\"\")","v":""},null,{"$f":"IFERROR(VLOOKUP(E1498,Participants!$B$3:$C$1002,2,0),\"\")","v":""}]
[null,null,null,{"$f":"IFERROR(VLOOKUP(C1499,Participants!$B$3:$C$1002,2,0),\"\")","v":""},null,{"$f":"IFERROR(VLOOKUP(E1499,Participants!$B$3:$C$1002,2,0),\"\")","v":""}]
[null,null,null,{"$f":"IFERROR(VLOOKUP(C1500,Participants!$B$3:$C$1002,2,0),\"\")","v":""},null,{"$f":"IFERROR(VLOOKUP(E1500,Participants!$B$3:$C$1002,2,0),\"\")","v":""}]
[null,null,null,{"$f":"IFERROR(VLOOKUP(C1501,Participants!$B$3:$C$1002,2,0),\"\")","v":""},null,{"$f":"IFERROR(VLOOKUP(E1501,Participants!$B$3:$C$1002,2,0),\"\")","v":""}]
[null,null,null,{"$f":"IFERROR(VLOOKUP(C1502,Participants!$B$3:$C$1002,2,0),\"\")","v":""},null,{"$f":"IFERROR(VLOOKUP(E1502,Participants!$B$3:$C$1002,2,0),\"\")","v":""}]
[null,null,null,{"$f":"IFERROR(VLOOKUP(C1503,Participants!$B$3:$C$1002,2,0),\"\")","v":""},null,{"$f":"IFERROR(VLOOKUP(E1503,Participants!$B$3:$C$1002,2,0),\"\")","v":""}]
[null,null,null,{"$f":"IFERROR(VLOOKUP(C1504,Participants!$B$3:$C$1002,2,0),\"\")","v":""},null,{"$f":"IFERROR(VLOOKUP(E1504,Participants!$B$3:$C$1002,2,0),\"\")","v":""}]
[null,null,null,{"$f":"IFERROR(VLOOKUP(C1505,Participants!$B$3:$C$1002,2,0),\"\")","v":""},null,{"$f":"IFERROR(VLOOKUP(E1505,Participants!$B$3:$C$1002,2,0),\"\")","v":""}]
[null,null,null,{"$f":"IFERROR(VLOOKUP(C1506,Participants!$B$3:$C$1002,2,0),\"\")","v":""},null,{"$f":"IFERROR(VLOOKUP(E1506,Participants!$B$3:$C$1002,2,0),\"\")","v":""}]
[null,null,null,{"$f":"IFERROR(VLOOKUP(C1507,Participants!$B$3:$C$1002,2,0),\"\")","v":""},null,{"$f":"IFERROR(VLOOKUP(E1507,Participants!$B$3:$C$1002,2,0),\"\")","v":""}]
[null,null,null,{"$f":"IFERROR(VLOOKUP(C1508,Participants!$B$3:$C$1002,2,0),\"\")","v":""},null,{"$f":"IFERROR(VLOOKUP(E1508,Participants!$B$3:$C$1002,2,0),\"\")","v":""}]
[null,null,null,{"$f":"IFERROR(VLOOKUP(C1509,Participants!$B$3:$C$1002,2,0),\"\")","v":""},null,{"$f":"IFERROR(VLOOKUP(E1509,Participants!$B$3:$C$1002,2,0),\"\")","v":""}]
[null,null,null,{"$f":"IFERROR(VLOOKUP(C1510,Participants!$B$3:$C$1002,2,0),\"\")","v":""},null,{"$f":"IFERROR(VLOOKUP(E1510,Participants!$B$3:$C$1002,2,0),\"\")","v":""}]
[null,null,null,{"$f":"IFERROR(VLOOKUP(C1511,Participants!$B$3:$C$1002,2,0),\"\")","v":""},null,{"$f":"IFERROR(VLOOKUP(E1511,Participants!$B$3:$C$1002,2,0),\"\")","v":""}]
[null,null,null,{"$f":"IFERROR(VLOOKUP(C1512,Participants!$B$3:$C$1002,2,0),\"\")","v":""},null,{"$f":"IFERROR(VLOOKUP(E1512,Participants!$B$3:$C$1002,2,0),\"\")","v":""}]
[null,null,null,{"$f":"IFERROR(VLOOKUP(C1513,Participants!$B$3:$C$1002,2,0),\"\")","v":""},null,{"$f":"IFERROR(VLOOKUP(E1513,Participants!$B$3:$C$1002,2,0),\"\")","v":""}]
[null,null,null,{"$f":"IFERROR(VLOOKUP(C1514,Participants!$B$3:$C$1002,2,0),\"\")","v":""},null,{"$f":"IFERROR(VLOOKUP(E1514,Participants!$B$3:$C$1002,2,0),\"\")","v":""}]
[null,null,null,{"$f":"IFERROR(VLOOKUP(C1515,Participants!$B$3:$C$1002,2,0),\"\")","v":""},null,{"$f":"IFERROR(VLOOKUP(E1515,Participants!$B$3:$C$1002,2,0),\"\")","v":""}]
[null,null,null,{"$f":"IFERROR(VLOOKUP(C1516,Participants!$B$3:$C$1002,2,0),\"\")","v":""},null,{"$f":"IFERROR(VLOOKUP(E1516,Participants!$B$3:$C$1002,2,0),\"\")","v":""}]
[null,null,null,{"$f":"IFERROR(VLOOKUP(C1517,Participants!$B$3:$C$1002,2,0),\"\")","v":""},null,{"$f":"IFERROR(VLOOKUP(E1517,Participants!$B$3:$C$1002,2,0),\"\")","v":""}]
[null,null,null,{"$f":"IFERROR(VLOOKUP(C1518,Participants!$B$3:$C$1002,2,0),\"\")","v":""},null,{"$f":"IFERROR(VLOOKUP(E1518,Participants!$B$3:$C$1002,2,0),\"\")","v":""}]
[null,null,null,{"$f":"IFERROR(VLOOKUP(C1519,Participants!$B$3:$C$1002,2,0),\"\")","v":""},null,{"$f":"IFERROR(VLOOKUP(E1519,Participants!$B$3:$C$1002,2,0),\"\")","v":""}]
[null,null,null,{"$f":"IFERROR(VLOOKUP(C1520,Participants!$B$3:$C$1002,2,0),\"\")","v":""},null,{"$f":"IFERROR(VLOOKUP(E1520,Participants!$B$3:$C$1002,2,0),\"\")","v":""}]
[null,null,null,{"$f":"IFERROR(VLOOKUP(C1521,Participants!$B$3:$C$1002,2,0),\"\")","v":""},null,{"$f":"IFERROR(VLOOKUP(E1521,Participants!$B$3:$C$1002,2,0),\"\")","v":""}]
[null,null,null,{"$f":"IFERROR(VLOOKUP(C1522,Participants!$B$3:$C$1002,2,0),\"\")","v":""},null,{"$f":"IFERROR(VLOOKUP(E1522,Participants!$B$3:$C$1002,2,0),\"\")","v":""}]
[null,null,null,{"$f":"IFERROR(VLOOKUP(C1523,Participants!$B$3:$C$1002,2,0),\"\")","v":""},null,{"$f":"IFERROR(VLOOKUP(E1523,Participants!$B$3:$C$1002,2,0),\"\")","v":""}]
[null,null,null,{"$f":"IFERROR(VLOOKUP(C1524,Participants!$B$3:$C$1002,2,0),\"\")","v":""},null,{"$f":"IFERROR(VLOOKUP(E1524,Participants!$B$3:$C$1002,2,0),\"\")","v":""}]
[null,null,null,{"$f":"IFERROR(VLOOKUP(C1525,Participants!$B$3:$C$1002,2,0),\"\")","v":""},null,{"$f":"IFERROR(VLOOKUP(E1525,Participants!$B$3:$C$1002,2,0),\"\")","v":""}]
[null,null,null,{"$f":"IFERROR(VLOOKUP(C1526,Participants!$B$3:$C$1002,2,0),\"\")","v":""},null,{"$f":"IFERROR(VLOOKUP(E1526,Participants!$B$3:$C$1002,2,0),\"\")","v":""}]
[null,null,null,{"$f":"IFERROR(VLOOKUP(C1527,Participants!$B$3:$C$1002,2,0),\"\")","v":""},null,{"$f":"IFERROR(VLOOKUP(E1527,Participants!$B$3:$C$1002,2,0),\"\")","v":""}]
[null,null,null,{"$f":"IFERROR(VLOOKUP(C1528,Participants!$B$3:$C$1002,2,0),\"\")","v":""},null,{"$f":"IFERROR(VLOOKUP(E1528,Participants!$B$3:$C$1002,2,0),\"\")","v":""}]
[null,null,null,{"$f":"IFERROR(VLOOKUP(C1529,Participants!$B$3:$C$1002,2,0),\"\")","v":""},null,{"$f":"IFERROR(VLOOKUP(E1529,Participants!$B$3:$C$1002,2,0),\"\")","v":""}]
[null,null,null,{"$f":"IFERROR(VLOOKUP(C1530,Participants!$B$3:$C$1002,2,0),\"\")","v":""},null,{"$f":"IFERROR(VLOOKUP(E1530,Participants!$B$3:$C$1002,2,0),\"\")","v":""}]
[null,null,null,{"$f":"IFERROR(VLOOKUP(C1531,Participants!$B$3:$C$1002,2,0),\"\")","v":""},null,{"$f":"IFERROR(VLOOKUP(E1531,Participants!$B$3:$C$1002,2,0),\"\")","v":""}]
[null,null,null,{"$f":"IFERROR(VLOOKUP(C1532,Participants!$B$3:$C$1002,2,0),\"\")","v":""},null,{"$f":"IFERROR(VLOOKUP(E1532,Participants!$B$3:$C$1002,2,0),\"\")","v":""}]
[null,null,null,{"$f":"IFERROR(VLOOKUP(C1533,Participants!$B$3:$C$1002,2,0),\"\")","v":""},null,{"$f":"IFERROR(VLOOKUP(E1533,Participants!$B$3:$C$1002,2,0),\"\")","v":""}]
[null,null,null,{"$f":"IFERROR(VLOOKUP(C1534,Participants!$B$3:$C$1002,2,0),\"\")","v":""},null,{"$f":"IFERROR(VLOOKUP(E1534,Participants!$B$3:$C$1002,2,0),\"\")","v":""}]
[null,null,null,{"$f":"IFERROR(VLOOKUP(C1535,Participants!$B$3:$C$1002,2,0),\"\")","v":""},null,{"$f":"IFERROR(VLOOKUP(E1535,Participants!$B$3:$C$1002,2,0),\"\")","v":""}]
[null,null,null,{"$f":"IFERROR(VLOOKUP(C1536,Participants!$B$3:$C$1002,2,0),\"\")","v":""},null,{"$f":"IFERROR(VLOOKUP(E1536,Participants!$B$3:$C$1002,2,0),\"\")","v":""}]
[null,null,null,{"$f":"IFERROR(VLOOKUP(C1537,Participants!$B$3:$C$1002,2,0),\"\")","v":""},null,{"$f":"IFERROR(VLOOKUP(E1537,Participants!$B$3:$C$1002,2,0),\"\")","v":""}]
[null,null,null,{"$f":"IFERROR(VLOOKUP(C1538,Participants!$B$3:$C$1002,2,0),\"\")","v":""},null,{"$f":"IFERROR(VLOOKUP(E1538,Participants!$B$3:$C$1002,2,0),\"\")","v":""}]
[null,null,null,{"$f":"IFERROR(VLOOKUP(C1539,Participants!$B$3:$C$1002,2,0),\"\")","v":""},null,{"$f":"IFERROR(VLOOKUP(E1539,Participants!$B$3:$C$1002,2,0),\"\")","v":""}]
[null,null,null,{"$f":"IFERROR(VLOOKUP(C1540,Participants!$B$3:$C$1002,2,0),\"\")","v":""},null,{"$f":"IFERROR(VLOOKUP(E1540,Participants!$B$3:$C$1002,2,0),\"\")","v":""}]
[null,null,null,{"$f":"IFERROR(VLOOKUP(C1541,Participants!$B$3:$C$1002,2,0),\"\")","v":""},null,{"$f":"IFERROR(VLOOKUP(E1541,Participants!$B$3:$C$1002,2,0),\"\")","v":""}]
[null,null,null,{"$f":"IFERROR(VLOOKUP(C1542,Participants!$B$3:$C$1002,2,0),\"\")","v":""},null,{"$f":"IFERROR(VLOOKUP(E1542,Participants!$B$3:$C$1002,2,0),\"\")","v":""}]
[null,null,null,{"$f":"IFERROR(VLOOKUP(C1543,Participants!$B$3:$C$1002,2,0),\"\")","v":""},null,{"$f":"IFERROR(VLOOKUP(E1543,Participants!$B$3:$C$1002,2,0),\"\")","v":""}]
[null,null,null,{"$f":"IFERROR(VLOOKUP(C1544,Participants!$B$3:$C$1002,2,0),\"\")","v":""},null,{"$f":"IFERROR(VLOOKUP(E1544,Participants!$B$3:$C$1002,2,0),\"\")","v":""}]
[null,null,null,{"$f":"IFERROR(VLOOKUP(C1545,Participants!$B$3:$C$1002,2,0),\"\")","v":""},null,{"$f":"IFERROR(VLOOKUP(E1545,Participants!$B$3:$C$1002,2,0),\"\")","v":""}]
[null,null,null,{"$f":"IFERROR(VLOOKUP(C1546,Participants!$B$3:$C$1002,2,0),\"\")","v":""},null,{"$f":"IFERROR(VLOOKUP(E1546,Participants!$B$3:$C$1002,2,0),\"\")","v":""}]
[null,null,null,{"$f":"IFERROR(VLOOKUP(C1547,Participants!$B$3:$C$1002,2,0),\"\")","v":""},null,{"$f":"IFERROR(VLOOKUP(E1547,Participants!$B$3:$C$1002,2,0),\"\")","v":""}]
[null,null,null,{"$f":"IFERROR(VLOOKUP(C1548,Participants!$B$3:$C$1002,2,0),\"\")","v":""},null,{"$f":"IFERROR(VLOOKUP(E1548,Participants!$B$3:$C$1002,2,0),\"\")","v":""}]
[null,null,null,{"$f":"IFERROR(VLOOKUP(C1549,Participants!$B$3:$C$1002,2,0),\"\")","v":""},null,{"$f":"IFERROR(VLOOKUP(E1549,Participants!$B$3:$C$1002,2,0),\"\")","v":""}]
[null,null,null,{"$f":"IFERROR(VLOOKUP(C1550,Participants!$B$3:$C$1002,2,0),\"\")","v":""},null,{"$f":"IFERROR(VLOOKUP(E1550,Participants!$B$3:$C$1002,2,0),\"\")","v":""}]
[null,null,null,{"$f":"IFERROR(VLOOKUP(C1551,Participants!$B$3:$C$1002,2,0),\"\")","v":""},null,{"$f":"IFERROR(VLOOKUP(E1551,Participants!$B$3:$C$1002,2,0),\"\")","v":""}]
[null,null,null,{"$f":"IFERROR(VLOOKUP(C1552,Participants!$B$3:$C$1002,2,0),\"\")","v":""},null,{"$f":"IFERROR(VLOOKUP(E1552,Participants!$B$3:$C$1002,2,0),\"\")","v":""}]
[null,null,null,{"$f":"IFERROR(VLOOKUP(C1553,Participants!$B$3:$C$1002,2,0),\"\")","v":""},null,{"$f":"IFERROR(VLOOKUP(E1553,Participants!$B$3:$C$1002,2,0),\"\")","v":""}]
[null,null,null,{"$f":"IFERROR(VLOOKUP(C1554,Participants!$B$3:$C$1002,2,0),\"\")","v":""},null,{"$f":"IFERROR(VLOOKUP(E1554,Participants!$B$3:$C$1002,2,0),\"\")","v":""}]
[null,null,null,{"$f":"IFERROR(VLOOKUP(C1555,Participants!$B$3:$C$1002,2,0),\"\")","v":""},null,{"$f":"IFERROR(VLOOKUP(E1555,Participants!$B$3:$C$1002,2,0),\"\")","v":""}]
[null,null,null,{"$f":"IFERROR(VLOOKUP(C1556,Participants!$B$3:$C$1002,2,0),\"\")","v":""},null,{"$f":"IFERROR(VLOOKUP(E1556,Participants!$B$3:$C$1002,2,0),\"\")","v":""}]
[null,null,null,{"$f":"IFERROR(VLOOKUP(C1557,Participants!$B$3:$C$1002,2,0),\"\")","v":""},null,{"$f":"IFERROR(VLOOKUP(E1557,Participants!$B$3:$C$1002,2,0),\"\")","v":""}]
[null,null,null,{"$f":"IFERROR(VLOOKUP(C1558,Participants!$B$3:$C$1002,2,0),\"\")","v":""},null,{"$f":"IFERROR(VLOOKUP(E1558,Participants!$B$3:$C$1002,2,0),\"\")","v":""}]
[null,null,null,{"$f":"IFERROR(VLOOKUP(C1559,Participants!$B$3:$C$1002,2,0),\"\")","v":""},null,{"$f":"IFERROR(VLOOKUP(E1559,Participants!$B$3:$C$1002,2,0),\"\")","v":""}]
[null,null,null,{"$f":"IFERROR(VLOOKUP(C1560,Participants!$B$3:$C$1002,2,0),\"\")","v":""},null,{"$f":"IFERROR(VLOOKUP(E1560,Participants!$B$3:$C$1002,2,0),\"\")","v":""}]
[null,null,null,{"$f":"IFERROR(VLOOKUP(C1561,Participants!$B$3:$C$1002,2,0),\"\")","v":""},null,{"$f":"IFERROR(VLOOKUP(E1561,Participants!$B$3:$C$1002,2,0),\"\")","v":""}]
[null,null,null,{"$f":"IFERROR(VLOOKUP(C1562,Participants!$B$3:$C$1002,2,0),\"\")","v":""},null,{"$f":"IFERROR(VLOOKUP(E1562,Participants!$B$3:$C$1002,2,0),\"\")","v":""}]
[null,null,null,{"$f":"IFERROR(VLOOKUP(C1563,Participants!$B$3:$C$1002,2,0),\"\")","v":""},null,{"$f":"IFERROR(VLOOKUP(E1563,Participants!$B$3:$C$1002,2,0),\"\")","v":""}]
[null,null,null,{"$f":"IFERROR(VLOOKUP(C1564,Participants!$B$3:$C$1002,2,0),\"\")","v":""},null,{"$f":"IFERROR(VLOOKUP(E1564,Participants!$B$3:$C$1002,2,0),\"\")","v":""}]
[null,null,null,{"$f":"IFERROR(VLOOKUP(C1565,Participants!$B$3:$C$1002,2,0),\"\")","v":""},null,{"$f":"IFERROR(VLOOKUP(E1565,Participants!$B$3:$C$1002,2,0),\"\")","v":""}]
[null,null,null,{"$f":"IFERROR(VLOOKUP(C1566,Participants!$B$3:$C$1002,2,0),\"\")","v":""},null,{"$f":"IFERROR(VLOOKUP(E1566,Participants!$B$3:$C$1002,2,0),\"\")","v":""}]
[null,null,null,{"$f":"IFERROR(VLOOKUP(C1567,Participants!$B$3:$C$1002,2,0),\"\")","v":""},null,{"$f":"IFERROR(VLOOKUP(E1567,Participants!$B$3:$C$1002,2,0),\"\")","v":""}]
[null,null,null,{"$f":"IFERROR(VLOOKUP(C1568,Participants!$B$3:$C$1002,2,0),\"\")","v":""},null,{"$f":"IFERROR(VLOOKUP(E1568,Participants!$B$3:$C$1002,2,0),\"\")","v":""}]
[null,null,null,{"$f":"IFERROR(VLOOKUP(C1569,Participants!$B$3:$C$1002,2,0),\"\")","v":""},null,{"$f":"IFERROR(VLOOKUP(E1569,Participants!$B$3:$C$1002,2,0),\"\")","v":""}]
[null,null,null,{"$f":"IFERROR(VLOOKUP(C1570,Participants!$B$3:$C$1002,2,0),\"\")","v":""},null,{"$f":"IFERROR(VLOOKUP(E1570,Participants!$B$3:$C$1002,2,0),\"\")","v":""}]
[null,null,null,{"$f":"IFERROR(VLOOKUP(C1571,Participants!$B$3:$C$1002,2,0),\"\")","v":""},null,{"$f":"IFERROR(VLOOKUP(E1571,Participants!$B$3:$C$1002,2,0),\"\")","v":""}]
[null,null,null,{"$f":"IFERROR(VLOOKUP(C1572,Participants!$B$3:$C$1002,2,0),\"\")","v":""},null,{"$f":"IFERROR(VLOOKUP(E1572,Participants!$B$3:$C$1002,2,0),\"\")","v":""}]
[null,null,null,{"$f":"IFERROR(VLOOKUP(C1573,Participants!$B$3:$C$1002,2,0),\"\")","v":""},null,{"$f":"IFERROR(VLOOKUP(E1573,Participants!$B$3:$C$1002,2,0),\"\")","v":""}]
[null,null,null,{"$f":"IFERROR(VLOOKUP(C1574,Participants!$B$3:$C$1002,2,0),\"\")","v":""},null,{"$f":"IFERROR(VLOOKUP(E1574,Participants!$B$3:$C$1002,2,0),\"\")","v":""}]
[null,null,null,{"$f":"IFERROR(VLOOKUP(C1575,Participants!$B$3:$C$1002,2,0),\"\")","v":""},null,{"$f":"IFERROR(VLOOKUP(E1575,Participants!$B$3:$C$1002,2,0),\"\")","v":""}]
[null,null,null,{"$f":"IFERROR(VLOOKUP(C1576,Participants!$B$3:$C$1002,2,0),\"\")","v":""},null,{"$f":"IFERROR(VLOOKUP(E1576,Participants!$B$3:$C$1002,2,0),\"\")","v":""}]
[null,null,null,{"$f":"IFERROR(VLOOKUP(C1577,Participants!$B$3:$C$1002,2,0),\"\")","v":""},null,{"$f":"IFERROR(VLOOKUP(E1577,Participants!$B$3:$C$1002,2,0),\"\")","v":""}]
[null,null,null,{"$f":"IFERROR(VLOOKUP(C1578,Participants!$B$3:$C$1002,2,0),\"\")","v":""},null,{"$f":"IFERROR(VLOOKUP(E1578,Participants!$B$3:$C$1002,2,0),\"\")","v":""}]
[null,null,null,{"$f":"IFERROR(VLOOKUP(C1579,Participants!$B$3:$C$1002,2,0),\"\")","v":""},null,{"$f":"IFERROR(VLOOKUP(E1579,Participants!$B$3:$C$1002,2,0),\"\")","v":""}]
[null,null,null,{"$f":"IFERROR(VLOOKUP(C1580,Participants!$B$3:$C$1002,2,0),\"\")","v":""},null,{"$f":"IFERROR(VLOOKUP(E1580,Participants!$B$3:$C$1002,2,0),\"\")","v":""}]
[null,null,null,{"$f":"IFERROR(VLOOKUP(C1581,Participants!$B$3:$C$1002,2,0),\"\")","v":""},null,{"$f":"IFERROR(VLOOKUP(E1581,Participants!$B$3:$C$1002,2,0),\"\")","v":""}]
[null,null,null,{"$f":"IFERROR(VLOOKUP(C1582,Participants!$B$3:$C$1002,2,0),\"\")","v":""},null,{"$f":"IFERROR(VLOOKUP(E1582,Participants!$B$3:$C$1002,2,0),\"\")","v":""}]
[null,null,null,{"$f":"IFERROR(VLOOKUP(C1583,Participants!$B$3:$C$1002,2,0),\"\")","v":""},null,{"$f":"IFERROR(VLOOKUP(E1583,Participants!$B$3:$C$1002,2,0),\"\")","v":""}]
[null,null,null,{"$f":"IFERROR(VLOOKUP(C1584,Participants!$B$3:$C$1002,2,0),\"\")","v":""},null,{"$f":"IFERROR(VLOOKUP(E1584,Participants!$B$3:$C$1002,2,0),\"\")","v":""}]
[null,null,null,{"$f":"IFERROR(VLOOKUP(C1585,Participants!$B$3:$C$1002,2,0),\"\")","v":""},null,{"$f":"IFERROR(VLOOKUP(E1585,Participants!$B$3:$C$1002,2,0),\"\")","v":""}]
[null,null,null,{"$f":"IFERROR(VLOOKUP(C1586,Participants!$B$3:$C$1002,2,0),\"\")","v":""},null,{"$f":"IFERROR(VLOOKUP(E1586,Participants!$B$3:$C$1002,2,0),\"\")","v":""}]
[null,null,null,{"$f":"IFERROR(VLOOKUP(C1587,Participants!$B$3:$C$1002,2,0),\"\")","v":""},null,{"$f":"IFERROR(VLOOKUP(E1587,Participants!$B$3:$C$1002,2,0),\"\")","v":""}]
[null,null,null,{"$f":"IFERROR(VLOOKUP(C1588,Participants!$B$3:$C$1002,2,0),\"\")","v":""},null,{"$f":"IFERROR(VLOOKUP(E1588,Participants!$B$3:$C$1002,2,0),\"\")","v":""}]
[null,null,null,{"$f":"IFERROR(VLOOKUP(C1589,Participants!$B$3:$C$1002,2,0),\"\")","v":""},null,{"$f":"IFERROR(VLOOKUP(E1589,Participants!$B$3:$C$1002,2,0),\"\")","v":""}]
[null,null,null,{"$f":"IFERROR(VLOOKUP(C1590,Participants!$B$3:$C$1002,2,0),\"\")","v":""},null,{"$f":"IFERROR(VLOOKUP(E1590,Participants!$B$3:$C$1002,2,0),\"\")","v":""}]
[null,null,null,{"$f":"IFERROR(VLOOKUP(C1591,Participants!$B$3:$C$1002,2,0),\"\")","v":""},null,{"$f":"IFERROR(VLOOKUP(E1591,Participants!$B$3:$C$1002,2,0),\"\")","v":""}]
[null,null,null,{"$f":"IFERROR(VLOOKUP(C1592,Participants!$B$3:$C$1002,2,0),\"\")","v":""},null,{"$f":"IFERROR(VLOOKUP(E1592,Participants!$B$3:$C$1002,2,0),\"\")","v":""}]
[null,null,null,{"$f":"IFERROR(VLOOKUP(C1593,Participants!$B$3:$C$1002,2,0),\"\")","v":""},null,{"$f":"IFERROR(VLOOKUP(E1593,Participants!$B$3:$C$1002,2,0),\"\")","v":""}]
[null,null,null,{"$f":"IFERROR(VLOOKUP(C1594,Participants!$B$3:$C$1002,2,0),\"\")","v":""},null,{"$f":"IFERROR(VLOOKUP(E1594,Participants!$B$3:$C$1002,2,0),\"\")","v":""}]
[null,null,null,{"$f":"IFERROR(VLOOKUP(C1595,Participants!$B$3:$C$1002,2,0),\"\")","v":""},null,{"$f":"IFERROR(VLOOKUP(E1595,Participants!$B$3:$C$1002,2,0),\"\")","v":""}]
[null,null,null,{"$f":"IFERROR(VLOOKUP(C1596,Participants!$B$3:$C$1002,2,0),\"\")","v":""},null,{"$f":"IFERROR(VLOOKUP(E1596,Participants!$B$3:$C$1002,2,0),\"\")","v":""}]
[null,null,null,{"$f":"IFERROR(VLOOKUP(C1597,Participants!$B$3:$C$1002,2,0),\"\")","v":""},null,{"$f":"IFERROR(VLOOKUP(E1597,Participants!$B$3:$C$1002,2,0),\"\")","v":""}]
[null,null,null,{"$f":"IFERROR(VLOOKUP(C1598,Participants!$B$3:$C$1002,2,0),\"\")","v":""},null,{"$f":"IFERROR(VLOOKUP(E1598,Participants!$B$3:$C$1002,2,0),\"\")","v":""}]
[null,null,null,{"$f":"IFERROR(VLOOKUP(C1599,Participants!$B$3:$C$1002,2,0),\"\")","v":""},null,{"$f":"IFERROR(VLOOKUP(E1599,Participants!$B$3:$C$1002,2,0),\"\")","v":""}]
[null,null,null,{"$f":"IFERROR(VLOOKUP(C1600,Participants!$B$3:$C$1002,2,0),\"\")","v":""},null,{"$f":"IFERROR(VLOOKUP(E1600,Participants!$B$3:$C$1002,2,0),\"\")","v":""}]
[null,null,null,{"$f":"IFERROR(VLOOKUP(C1601,Participants!$B$3:$C$1002,2,0),\"\")","v":""},null,{"$f":"IFERROR(VLOOKUP(E1601,Participants!$B$3:$C$1002,2,0),\"\")","v":""}]
[null,null,null,{"$f":"IFERROR(VLOOKUP(C1602,Participants!$B$3:$C$1002,2,0),\"\")","v":""},null,{"$f":"IFERROR(VLOOKUP(E1602,Participants!$B$3:$C$1002,2,0),\"\")","v":""}]
[null,null,null,{"$f":"IFERROR(VLOOKUP(C1603,Participants!$B$3:$C$1002,2,0),\"\")","v":""},null,{"$f":"IFERROR(VLOOKUP(E1603,Participants!$B$3:$C$1002,2,0),\"\")","v":""}]
[null,null,null,{"$f":"IFERROR(VLOOKUP(C1604,Participants!$B$3:$C$1002,2,0),\"\")","v":""},null,{"$f":"IFERROR(VLOOKUP(E1604,Participants!$B$3:$C$1002,2,0),\"\")","v":""}]
[null,null,null,{"$f":"IFERROR(VLOOKUP(C1605,Participants!$B$3:$C$1002,2,0),\"\")","v":""},null,{"$f":"IFERROR(VLOOKUP(E1605,Participants!$B$3:$C$1002,2,0),\"\")","v":""}]
[null,null,null,{"$f":"IFERROR(VLOOKUP(C1606,Participants!$B$3:$C$1002,2,0),\"\")","v":""},null,{"$f":"IFERROR(VLOOKUP(E1606,Participants!$B$3:$C$1002,2,0),\"\")","v":""}]
[null,null,null,{"$f":"IFERROR(VLOOKUP(C1607,Participants!$B$3:$C$1002,2,0),\"\")","v":""},null,{"$f":"IFERROR(VLOOKUP(E1607,Participants!$B$3:$C$1002,2,0),\"\")","v":""}]
[null,null,null,{"$f":"IFERROR(VLOOKUP(C1608,Participants!$B$3:$C$1002,2,0),\"\")","v":""},null,{"$f":"IFERROR(VLOOKUP(E1608,Participants!$B$3:$C$1002,2,0),\"\")","v":""}]
[null,null,null,{"$f":"IFERROR(VLOOKUP(C1609,Participants!$B$3:$C$1002,2,0),\"\")","v":""},null,{"$f":"IFERROR(VLOOKUP(E1609,Participants!$B$3:$C$1002,2,0),\"\")","v":""}]
[null,null,null,{"$f":"IFERROR(VLOOKUP(C1610,Participants!$B$3:$C$1002,2,0),\"\")","v":""},null,{"$f":"IFERROR(VLOOKUP(E1610,Participants!$B$3:$C$1002,2,0),\"\")","v":""}]
[null,null,null,{"$f":"IFERROR(VLOOKUP(C1611,Participants!$B$3:$C$1002,2,0),\"\")","v":""},null,{"$f":"IFERROR(VLOOKUP(E1611,Participants!$B$3:$C$1002,2,0),\"\")","v":""}]
[null,null,null,{"$f":"IFERROR(VLOOKUP(C1612,Participants!$B$3:$C$1002,2,0),\"\")","v":""},null,{"$f":"IFERROR(VLOOKUP(E1612,Participants!$B$3:$C$1002,2,0),\"\")","v":""}]
[null,null,null,{"$f":"IFERROR(VLOOKUP(C1613,Participants!$B$3:$C$1002,2,0),\"\")","v":""},null,{"$f":"IFERROR(VLOOKUP(E1613,Participants!$B$3:$C$1002,2,0),\"\")","v":""}]
[null,null,null,{"$f":"IFERROR(VLOOKUP(C1614,Participants!$B$3:$C$1002,2,0),\"\")","v":""},null,{"$f":"IFERROR(VLOOKUP(E1614,Participants!$B$3:$C$1002,2,0),\"\")","v":""}]
[null,null,null,{"$f":"IFERROR(VLOOKUP(C1615,Participants!$B$3:$C$1002,2,0),\"\")","v":""},null,{"$f":"IFERROR(VLOOKUP(E1615,Participants!$B$3:$C$1002,2,0),\"\")","v":""}]
[null,null,null,{"$f":"IFERROR(VLOOKUP(C1616,Participants!$B$3:$C$1002,2,0),\"\")","v":""},null,{"$f":"IFERROR(VLOOKUP(E1616,Participants!$B$3:$C$1002,2,0),\"\")","v":""}]
[null,null,null,{"$f":"IFERROR(VLOOKUP(C1617,Participants!$B$3:$C$1002,2,0),\"\")","v":""},null,{"$f":"IFERROR(VLOOKUP(E1617,Participants!$B$3:$C$1002,2,0),\"\")","v":""}]
[null,null,null,{"$f":"IFERROR(VLOOKUP(C1618,Participants!$B$3:$C$1002,2,0),\"\")","v":""},null,{"$f":"IFERROR(VLOOKUP(E1618,Participants!$B$3:$C$1002,2,0),\"\")","v":""}]
[null,null,null,{"$f":"IFERROR(VLOOKUP(C1619,Participants!$B$3:$C$1002,2,0),\"\")","v":""},null,{"$f":"IFERROR(VLOOKUP(E1619,Participants!$B$3:$C$1002,2,0),\"\")","v":""}]
[null,null,null,{"$f":"IFERROR(VLOOKUP(C1620,Participants!$B$3:$C$1002,2,0),\"\")","v":""},null,{"$f":"IFERROR(VLOOKUP(E1620,Participants!$B$3:$C$1002,2,0),\"\")","v":""}]
[null,null,null,{"$f":"IFERROR(VLOOKUP(C1621,Participants!$B$3:$C$1002,2,0),\"\")","v":""},null,{"$f":"IFERROR(VLOOKUP(E1621,Participants!$B$3:$C$1002,2,0),\"\")","v":""}]
[null,null,null,{"$f":"IFERROR(VLOOKUP(C1622,Participants!$B$3:$C$1002,2,0),\"\")","v":""},null,{"$f":"IFERROR(VLOOKUP(E1622,Participants!$B$3:$C$1002,2,0),\"\")","v":""}]
[null,null,null,{"$f":"IFERROR(VLOOKUP(C1623,Participants!$B$3:$C$1002,2,0),\"\")","v":""},null,{"$f":"IFERROR(VLOOKUP(E1623,Participants!$B$3:$C$1002,2,0),\"\")","v":""}]
[null,null,null,{"$f":"IFERROR(VLOOKUP(C1624,Participants!$B$3:$C$1002,2,0),\"\")","v":""},null,{"$f":"IFERROR(VLOOKUP(E1624,Participants!$B$3:$C$1002,2,0),\"\")","v":""}]
[null,null,null,{"$f":"IFERROR(VLOOKUP(C1625,Participants!$B$3:$C$1002,2,0),\"\")","v":""},null,{"$f":"IFERROR(VLOOKUP(E1625,Participants!$B$3:$C$1002,2,0),\"\")","v":""}]
[null,null,null,{"$f":"IFERROR(VLOOKUP(C1626,Participants!$B$3:$C$1002,2,0),\"\")","v":""},null,{"$f":"IFERROR(VLOOKUP(E1626,Participants!$B$3:$C$1002,2,0),\"\")","v":""}]
[null,null,null,{"$f":"IFERROR(VLOOKUP(C1627,Participants!$B$3:$C$1002,2,0),\"\")","v":""},null,{"$f":"IFERROR(VLOOKUP(E1627,Participants!$B$3:$C$1002,2,0),\"\")","v":""}]
[null,null,null,{"$f":"IFERROR(VLOOKUP(C1628,Participants!$B$3:$C$1002,2,0),\"\")","v":""},null,{"$f":"IFERROR(VLOOKUP(E1628,Participants!$B$3:$C$1002,2,0),\"\")","v":""}]
[null,null,null,{"$f":"IFERROR(VLOOKUP(C1629,Participants!$B$3:$C$1002,2,0),\"\")","v":""},null,{"$f":"IFERROR(VLOOKUP(E1629,Participants!$B$3:$C$1002,2,0),\"\")","v":""}]
[null,null,null,{"$f":"IFERROR(VLOOKUP(C1630,Participants!$B$3:$C$1002,2,0),\"\")","v":""},null,{"$f":"IFERROR(VLOOKUP(E1630,Participants!$B$3:$C$1002,2,0),\"\")","v":""}]
[null,null,null,{"$f":"IFERROR(VLOOKUP(C1631,Participants!$B$3:$C$1002,2,0),\"\")","v":""},null,{"$f":"IFERROR(VLOOKUP(E1631,Participants!$B$3:$C$1002,2,0),\"\")","v":""}]
[null,null,null,{"$f":"IFERROR(VLOOKUP(C1632,Participants!$B$3:$C$1002,2,0),\"\")","v":""},null,{"$f":"IFERROR(VLOOKUP(E1632,Participants!$B$3:$C$1002,2,0),\"\")","v":""}]
[null,null,null,{"$f":"IFERROR(VLOOKUP(C1633,Participants!$B$3:$C$1002,2,0),\"\")","v":""},null,{"$f":"IFERROR(VLOOKUP(E1633,Participants!$B$3:$C$1002,2,0),\"\")","v":""}]
[null,null,null,{"$f":"IFERROR(VLOOKUP(C1634,Participants!$B$3:$C$1002,2,0),\"\")","v":""},null,{"$f":"IFERROR(VLOOKUP(E1634,Participants!$B$3:$C$1002,2,0),\"\")","v":""}]
[null,null,null,{"$f":"IFERROR(VLOOKUP(C1635,Participants!$B$3:$C$1002,2,0),\"\")","v":""},null,{"$f":"IFERROR(VLOOKUP(E1635,Participants!$B$3:$C$1002,2,0),\"\")","v":""}]
[null,null,null,{"$f":"IFERROR(VLOOKUP(C1636,Participants!$B$3:$C$1002,2,0),\"\")","v":""},null,{"$f":"IFERROR(VLOOKUP(E1636,Participants!$B$3:$C$1002,2,0),\"\")","v":""}]
[null,null,null,{"$f":"IFERROR(VLOOKUP(C1637,Participants!$B$3:$C$1002,2,0),\"\")","v":""},null,{"$f":"IFERROR(VLOOKUP(E1637,Participants!$B$3:$C$1002,2,0),\"\")","v":""}]
[null,null,null,{"$f":"IFERROR(VLOOKUP(C1638,Participants!$B$3:$C$1002,2,0),\"\")","v":""},null,{"$f":"IFERROR(VLOOKUP(E1638,Participants!$B$3:$C$1002,2,0),\"\")","v":""}]
[null,null,null,{"$f":"IFERROR(VLOOKUP(C1639,Participants!$B$3:$C$1002,2,0),\"\")","v":""},null,{"$f":"IFERROR(VLOOKUP(E1639,Participants!$B$3:$C$1002,2,0),\"\")","v":""}]
[null,null,null,{"$f":"IFERROR(VLOOKUP(C1640,Participants!$B$3:$C$1002,2,0),\"\")","v":""},null,{"$f":"IFERROR(VLOOKUP(E1640,Participants!$B$3:$C$1002,2,0),\"\")","v":""}]
[null,null,null,{"$f":"IFERROR(VLOOKUP(C1641,Participants!$B$3:$C$1002,2,0),\"\")","v":""},null,{"$f":"IFERROR(VLOOKUP(E1641,Participants!$B$3:$C$1002,2,0),\"\")","v":""}]
[null,null,null,{"$f":"IFERROR(VLOOKUP(C1642,Participants!$B$3:$C$1002,2,0),\"\")","v":""},null,{"$f":"IFERROR(VLOOKUP(E1642,Participants!$B$3:$C$1002,2,0),\"\")","v":""}]
[null,null,null,{"$f":"IFERROR(VLOOKUP(C1643,Participants!$B$3:$C$1002,2,0),\"\")","v":""},null,{"$f":"IFERROR(VLOOKUP(E1643,Participants!$B$3:$C$1002,2,0),\"\")","v":""}]
[null,null,null,{"$f":"IFERROR(VLOOKUP(C1644,Participants!$B$3:$C$1002,2,0),\"\")","v":""},null,{"$f":"IFERROR(VLOOKUP(E1644,Participants!$B$3:$C$1002,2,0),\"\")","v":""}]
[null,null,null,{"$f":"IFERROR(VLOOKUP(C1645,Participants!$B$3:$C$1002,2,0),\"\")","v":""},null,{"$f":"IFERROR(VLOOKUP(E1645,Participants!$B$3:$C$1002,2,0),\"\")","v":""}]
[null,null,null,{"$f":"IFERROR(VLOOKUP(C1646,Participants!$B$3:$C$1002,2,0),\"\")","v":""},null,{"$f":"IFERROR(VLOOKUP(E1646,Participants!$B$3:$C$1002,2,0),\"\")","v":""}]
[null,null,null,{"$f":"IFERROR(VLOOKUP(C1647,Participants!$B$3:$C$1002,2,0),\"\")","v":""},null,{"$f":"IFERROR(VLOOKUP(E1647,Participants!$B$3:$C$1002,2,0),\"\")","v":""}]
[null,null,null,{"$f":"IFERROR(VLOOKUP(C1648,Participants!$B$3:$C$1002,2,0),\"\")","v":""},null,{"$f":"IFERROR(VLOOKUP(E1648,Participants!$B$3:$C$1002,2,0),\"\")","v":""}]
[null,null,null,{"$f":"IFERROR(VLOOKUP(C1649,Participants!$B$3:$C$1002,2,0),\"\")","v":""},null,{"$f":"IFERROR(VLOOKUP(E1649,Participants!$B$3:$C$1002,2,0),\"\")","v":""}]
[null,null,null,{"$f":"IFERROR(VLOOKUP(C1650,Participants!$B$3:$C$1002,2,0),\"\")","v":""},null,{"$f":"IFERROR(VLOOKUP(E1650,Participants!$B$3:$C$1002,2,0),\"\")","v":""}]
[null,null,null,{"$f":"IFERROR(VLOOKUP(C1651,Participants!$B$3:$C$1002,2,0),\"\")","v":""},null,{"$f":"IFERROR(VLOOKUP(E1651,Participants!$B$3:$C$1002,2,0),\"\")","v":""}]
[null,null,null,{"$f":"IFERROR(VLOOKUP(C1652,Participants!$B$3:$C$1002,2,0),\"\")","v":""},null,{"$f":"IFERROR(VLOOKUP(E1652,Participants!$B$3:$C$1002,2,0),\"\")","v":""}]
[null,null,null,{"$f":"IFERROR(VLOOKUP(C1653,Participants!$B$3:$C$1002,2,0),\"\")","v":""},null,{"$f":"IFERROR(VLOOKUP(E1653,Participants!$B$3:$C$1002,2,0),\"\")","v":""}]
[null,null,null,{"$f":"IFERROR(VLOOKUP(C1654,Participants!$B$3:$C$1002,2,0),\"\")","v":""},null,{"$f":"IFERROR(VLOOKUP(E1654,Participants!$B$3:$C$1002,2,0),\"\")","v":""}]
[null,null,null,{"$f":"IFERROR(VLOOKUP(C1655,Participants!$B$3:$C$1002,2,0),\"\")","v":""},null,{"$f":"IFERROR(VLOOKUP(E1655,Participants!$B$3:$C$1002,2,0),\"\")","v":""}]
[null,null,null,{"$f":"IFERROR(VLOOKUP(C1656,Participants!$B$3:$C$1002,2,0),\"\")","v":""},null,{"$f":"IFERROR(VLOOKUP(E1656,Participants!$B$3:$C$1002,2,0),\"\")","v":""}]
[null,null,null,{"$f":"IFERROR(VLOOKUP(C1657,Participants!$B$3:$C$1002,2,0),\"\")","v":""},null,{"$f":"IFERROR(VLOOKUP(E1657,Participants!$B$3:$C$1002,2,0),\"\")","v":""}]
[null,null,null,{"$f":"IFERROR(VLOOKUP(C1658,Participants!$B$3:$C$1002,2,0),\"\")","v":""},null,{"$f":"IFERROR(VLOOKUP(E1658,Participants!$B$3:$C$1002,2,0),\"\")","v":""}]
[null,null,null,{"$f":"IFERROR(VLOOKUP(C1659,Participants!$B$3:$C$1002,2,0),\"\")","v":""},null,{"$f":"IFERROR(VLOOKUP(E1659,Participants!$B$3:$C$1002,2,0),\"\")","v":""}]
[null,null,null,{"$f":"IFERROR(VLOOKUP(C1660,Participants!$B$3:$C$1002,2,0),\"\")","v":""},null,{"$f":"IFERROR(VLOOKUP(E1660,Participants!$B$3:$C$1002,2,0),\"\")","v":""}]
[null,null,null,{"$f":"IFERROR(VLOOKUP(C1661,Participants!$B$3:$C$1002,2,0),\"\")","v":""},null,{"$f":"IFERROR(VLOOKUP(E1661,Participants!$B$3:$C$1002,2,0),\"\")","v":""}]
[null,null,null,{"$f":"IFERROR(VLOOKUP(C1662,Participants!$B$3:$C$1002,2,0),\"\")","v":""},null,{"$f":"IFERROR(VLOOKUP(E1662,Participants!$B$3:$C$1002,2,0),\"\")","v":""}]
[null,null,null,{"$f":"IFERROR(VLOOKUP(C1663,Participants!$B$3:$C$1002,2,0),\"\")","v":""},null,{"$f":"IFERROR(VLOOKUP(E1663,Participants!$B$3:$C$1002,2,0),\"\")","v":""}]
[null,null,null,{"$f":"IFERROR(VLOOKUP(C1664,Participants!$B$3:$C$1002,2,0),\"\")","v":""},null,{"$f":"IFERROR(VLOOKUP(E1664,Participants!$B$3:$C$1002,2,0),\"\")","v":""}]
[null,null,null,{"$f":"IFERROR(VLOOKUP(C1665,Participants!$B$3:$C$1002,2,0),\"\")","v":""},null,{"$f":"IFERROR(VLOOKUP(E1665,Participants!$B$3:$C$1002,2,0),\"\")","v":""}]
[null,null,null,{"$f":"IFERROR(VLOOKUP(C1666,Participants!$B$3:$C$1002,2,0),\"\")","v":""},null,{"$f":"IFERROR(VLOOKUP(E1666,Participants!$B$3:$C$1002,2,0),\"\")","v":""}]
[null,null,null,{"$f":"IFERROR(VLOOKUP(C1667,Participants!$B$3:$C$1002,2,0),\"\")","v":""},null,{"$f":"IFERROR(VLOOKUP(E1667,Participants!$B$3:$C$1002,2,0),\"\")","v":""}]
[null,null,null,{"$f":"IFERROR(VLOOKUP(C1668,Participants!$B$3:$C$1002,2,0),\"\")","v":""},null,{"$f":"IFERROR(VLOOKUP(E1668,Participants!$B$3:$C$1002,2,0),\"\")","v":""}]
[null,null,null,{"$f":"IFERROR(VLOOKUP(C1669,Participants!$B$3:$C$1002,2,0),\"\")","v":""},null,{"$f":"IFERROR(VLOOKUP(E1669,Participants!$B$3:$C$1002,2,0),\"\")","v":""}]
[null,null,null,{"$f":"IFERROR(VLOOKUP(C1670,Participants!$B$3:$C$1002,2,0),\"\")","v":""},null,{"$f":"IFERROR(VLOOKUP(E1670,Participants!$B$3:$C$1002,2,0),\"\")","v":""}]
[null,null,null,{"$f":"IFERROR(VLOOKUP(C1671,Participants!$B$3:$C$1002,2,0),\"\")","v":""},null,{"$f":"IFERROR(VLOOKUP(E1671,Participants!$B$3:$C$1002,2,0),\"\")","v":""}]
[null,null,null,{"$f":"IFERROR(VLOOKUP(C1672,Participants!$B$3:$C$1002,2,0),\"\")","v":""},null,{"$f":"IFERROR(VLOOKUP(E1672,Participants!$B$3:$C$1002,2,0),\"\")","v":""}]
[null,null,null,{"$f":"IFERROR(VLOOKUP(C1673,Participants!$B$3:$C$1002,2,0),\"\")","v":""},null,{"$f":"IFERROR(VLOOKUP(E1673,Participants!$B$3:$C$1002,2,0),\"\")","v":""}]
[null,null,null,{"$f":"IFERROR(VLOOKUP(C1674,Participants!$B$3:$C$1002,2,0),\"\")","v":""},null,{"$f":"IFERROR(VLOOKUP(E1674,Participants!$B$3:$C$1002,2,0),\"\")","v":""}]
[null,null,null,{"$f":"IFERROR(VLOOKUP(C1675,Participants!$B$3:$C$1002,2,0),\"\")","v":""},null,{"$f":"IFERROR(VLOOKUP(E1675,Participants!$B$3:$C$1002,2,0),\"\")","v":""}]
[null,null,null,{"$f":"IFERROR(VLOOKUP(C1676,Participants!$B$3:$C$1002,2,0),\"\")","v":""},null,{"$f":"IFERROR(VLOOKUP(E1676,Participants!$B$3:$C$1002,2,0),\"\")","v":""}]
[null,null,null,{"$f":"IFERROR(VLOOKUP(C1677,Participants!$B$3:$C$1002,2,0),\"\")","v":""},null,{"$f":"IFERROR(VLOOKUP(E1677,Participants!$B$3:$C$1002,2,0),\"\")","v":""}]
[null,null,null,{"$f":"IFERROR(VLOOKUP(C1678,Participants!$B$3:$C$1002,2,0),\"\")","v":""},null,{"$f":"IFERROR(VLOOKUP(E1678,Participants!$B$3:$C$1002,2,0),\"\")","v":""}]
[null,null,null,{"$f":"IFERROR(VLOOKUP(C1679,Participants!$B$3:$C$1002,2,0),\"\")","v":""},null,{"$f":"IFERROR(VLOOKUP(E1679,Participants!$B$3:$C$1002,2,0),\"\")","v":""}]
[null,null,null,{"$f":"IFERROR(VLOOKUP(C1680,Participants!$B$3:$C$1002,2,0),\"\")","v":""},null,{"$f":"IFERROR(VLOOKUP(E1680,Participants!$B$3:$C$1002,2,0),\"\")","v":""}]
[null,null,null,{"$f":"IFERROR(VLOOKUP(C1681,Participants!$B$3:$C$1002,2,0),\"\")","v":""},null,{"$f":"IFERROR(VLOOKUP(E1681,Participants!$B$3:$C$1002,2,0),\"\")","v":""}]
[null,null,null,{"$f":"IFERROR(VLOOKUP(C1682,Participants!$B$3:$C$1002,2,0),\"\")","v":""},null,{"$f":"IFERROR(VLOOKUP(E1682,Participants!$B$3:$C$1002,2,0),\"\")","v":""}]
[null,null,null,{"$f":"IFERROR(VLOOKUP(C1683,Participants!$B$3:$C$1002,2,0),\"\")","v":""},null,{"$f":"IFERROR(VLOOKUP(E1683,Participants!$B$3:$C$1002,2,0),\"\")","v":""}]
[null,null,null,{"$f":"IFERROR(VLOOKUP(C1684,Participants!$B$3:$C$1002,2,0),\"\")","v":""},null,{"$f":"IFERROR(VLOOKUP(E1684,Participants!$B$3:$C$1002,2,0),\"\")","v":""}]
[null,null,null,{"$f":"IFERROR(VLOOKUP(C1685,Participants!$B$3:$C$1002,2,0),\"\")","v":""},null,{"$f":"IFERROR(VLOOKUP(E1685,Participants!$B$3:$C$1002,2,0),\"\")","v":""}]
[null,null,null,{"$f":"IFERROR(VLOOKUP(C1686,Participants!$B$3:$C$1002,2,0),\"\")","v":""},null,{"$f":"IFERROR(VLOOKUP(E1686,Participants!$B$3:$C$1002,2,0),\"\")","v":""}]
[null,null,null,{"$f":"IFERROR(VLOOKUP(C1687,Participants!$B$3:$C$1002,2,0),\"\")","v":""},null,{"$f":"IFERROR(VLOOKUP(E1687,Participants!$B$3:$C$1002,2,0),\"\")","v":""}]
[null,null,null,{"$f":"IFERROR(VLOOKUP(C1688,Participants!$B$3:$C$1002,2,0),\"\")","v":""},null,{"$f":"IFERROR(VLOOKUP(E1688,Participants!$B$3:$C$1002,2,0),\"\")","v":""}]
[null,null,null,{"$f":"IFERROR(VLOOKUP(C1689,Participants!$B$3:$C$1002,2,0),\"\")","v":""},null,{"$f":"IFERROR(VLOOKUP(E1689,Participants!$B$3:$C$1002,2,0),\"\")","v":""}]
[null,null,null,{"$f":"IFERROR(VLOOKUP(C1690,Participants!$B$3:$C$1002,2,0),\"\")","v":""},null,{"$f":"IFERROR(VLOOKUP(E1690,Participants!$B$3:$C$1002,2,0),\"\")","v":""}]
[null,null,null,{"$f":"IFERROR(VLOOKUP(C1691,Participants!$B$3:$C$1002,2,0),\"\")","v":""},null,{"$f":"IFERROR(VLOOKUP(E1691,Participants!$B$3:$C$1002,2,0),\"\")","v":""}]
[null,null,null,{"$f":"IFERROR(VLOOKUP(C1692,Participants!$B$3:$C$1002,2,0),\"\")","v":""},null,{"$f":"IFERROR(VLOOKUP(E1692,Participants!$B$3:$C$1002,2,0),\"\")","v":""}]
[null,null,null,{"$f":"IFERROR(VLOOKUP(C1693,Participants!$B$3:$C$1002,2,0),\"\")","v":""},null,{"$f":"IFERROR(VLOOKUP(E1693,Participants!$B$3:$C$1002,2,0),\"\")","v":""}]
[null,null,null,{"$f":"IFERROR(VLOOKUP(C1694,Participants!$B$3:$C$1002,2,0),\"\")","v":""},null,{"$f":"IFERROR(VLOOKUP(E1694,Participants!$B$3:$C$1002,2,0),\"\")","v":""}]
[null,null,null,{"$f":"IFERROR(VLOOKUP(C1695,Participants!$B$3:$C$1002,2,0),\"\")","v":""},null,{"$f":"IFERROR(VLOOKUP(E1695,Participants!$B$3:$C$1002,2,0),\"\")","v":""}]
[null,null,null,{"$f":"IFERROR(VLOOKUP(C1696,Participants!$B$3:$C$1002,2,0),\"\")","v":""},null,{"$f":"IFERROR(VLOOKUP(E1696,Participants!$B$3:$C$1002,2,0),\"\")","v":""}]
[null,null,null,{"$f":"IFERROR(VLOOKUP(C1697,Participants!$B$3:$C$1002,2,0),\"\")","v":""},null,{"$f":"IFERROR(VLOOKUP(E1697,Participants!$B$3:$C$1002,2,0),\"\")","v":""}]
[null,null,null,{"$f":"IFERROR(VLOOKUP(C1698,Participants!$B$3:$C$1002,2,0),\"\")","v":""},null,{"$f":"IFERROR(VLOOKUP(E1698,Participants!$B$3:$C$1002,2,0),\"\")","v":""}]
[null,null,null,{"$f":"IFERROR(VLOOKUP(C1699,Participants!$B$3:$C$1002,2,0),\"\")","v":""},null,{"$f":"IFERROR(VLOOKUP(E1699,Participants!$B$3:$C$1002,2,0),\"\")","v":""}]
[null,null,null,{"$f":"IFERROR(VLOOKUP(C1700,Participants!$B$3:$C$1002,2,0),\"\")","v":""},null,{"$f":"IFERROR(VLOOKUP(E1700,Participants!$B$3:$C$1002,2,0),\"\")","v":""}]
[null,null,null,{"$f":"IFERROR(VLOOKUP(C1701,Participants!$B$3:$C$1002,2,0),\"\")","v":""},null,{"$f":"IFERROR(VLOOKUP(E1701,Participants!$B$3:$C$1002,2,0),\"\")","v":""}]
[null,null,null,{"$f":"IFERROR(VLOOKUP(C1702,Participants!$B$3:$C$1002,2,0),\"\")","v":""},null,{"$f":"IFERROR(VLOOKUP(E1702,Participants!$B$3:$C$1002,2,0),\"\")","v":""}]
[null,null,null,{"$f":"IFERROR(VLOOKUP(C1703,Participants!$B$3:$C$1002,2,0),\"\")","v":""},null,{"$f":"IFERROR(VLOOKUP(E1703,Participants!$B$3:$C$1002,2,0),\"\")","v":""}]
[null,null,null,{"$f":"IFERROR(VLOOKUP(C1704,Participants!$B$3:$C$1002,2,0),\"\")","v":""},null,{"$f":"IFERROR(VLOOKUP(E1704,Participants!$B$3:$C$1002,2,0),\"\")","v":""}]
[null,null,null,{"$f":"IFERROR(VLOOKUP(C1705,Participants!$B$3:$C$1002,2,0),\"\")","v":""},null,{"$f":"IFERROR(VLOOKUP(E1705,Participants!$B$3:$C$1002,2,0),\"\")","v":""}]
[null,null,null,{"$f":"IFERROR(VLOOKUP(C1706,Participants!$B$3:$C$1002,2,0),\"\")","v":""},null,{"$f":"IFERROR(VLOOKUP(E1706,Participants!$B$3:$C$1002,2,0),\"\")","v":""}]
[null,null,null,{"$f":"IFERROR(VLOOKUP(C1707,Participants!$B$3:$C$1002,2,0),\"\")","v":""},null,{"$f":"IFERROR(VLOOKUP(E1707,Participants!$B$3:$C$1002,2,0),\"\")","v":""}]
[null,null,null,{"$f":"IFERROR(VLOOKUP(C1708,Participants!$B$3:$C$1002,2,0),\"\")","v":""},null,{"$f":"IFERROR(VLOOKUP(E1708,Participants!$B$3:$C$1002,2,0),\"\")","v":""}]
[null,null,null,{"$f":"IFERROR(VLOOKUP(C1709,Participants!$B$3:$C$1002,2,0),\"\")","v":""},null,{"$f":"IFERROR(VLOOKUP(E1709,Participants!$B$3:$C$1002,2,0),\"\")","v":""}]
[null,null,null,{"$f":"IFERROR(VLOOKUP(C1710,Participants!$B$3:$C$1002,2,0),\"\")","v":""},null,{"$f":"IFERROR(VLOOKUP(E1710,Participants!$B$3:$C$1002,2,0),\"\")","v":""}]
[null,null,null,{"$f":"IFERROR(VLOOKUP(C1711,Participants!$B$3:$C$1002,2,0),\"\")","v":""},null,{"$f":"IFERROR(VLOOKUP(E1711,Participants!$B$3:$C$1002,2,0),\"\")","v":""}]
[null,null,null,{"$f":"IFERROR(VLOOKUP(C1712,Participants!$B$3:$C$1002,2,0),\"\")","v":""},null,{"$f":"IFERROR(VLOOKUP(E1712,Participants!$B$3:$C$1002,2,0),\"\")","v":""}]
[null,null,null,{"$f":"IFERROR(VLOOKUP(C1713,Participants!$B$3:$C$1002,2,0),\"\")","v":""},null,{"$f":"IFERROR(VLOOKUP(E1713,Participants!$B$3:$C$1002,2,0),\"\")","v":""}]
[null,null,null,{"$f":"IFERROR(VLOOKUP(C1714,Participants!$B$3:$C$1002,2,0),\"\")","v":""},null,{"$f":"IFERROR(VLOOKUP(E1714,Participants!$B$3:$C$1002,2,0),\"\")","v":""}]
[null,null,null,{"$f":"IFERROR(VLOOKUP(C1715,Participants!$B$3:$C$1002,2,0),\"\")","v":""},null,{"$f":"IFERROR(VLOOKUP(E1715,Participants!$B$3:$C$1002,2,0),\"\")","v":""}]
[null,null,null,{"$f":"IFERROR(VLOOKUP(C1716,Participants!$B$3:$C$1002,2,0),\"\")","v":""},null,{"$f":"IFERROR(VLOOKUP(E1716,Participants!$B$3:$C$1002,2,0),\"\")","v":""}]
[null,null,null,{"$f":"IFERROR(VLOOKUP(C1717,Participants!$B$3:$C$1002,2,0),\"\")","v":""},null,{"$f":"IFERROR(VLOOKUP(E1717,Participants!$B$3:$C$1002,2,0),\"\")","v":""}]
[null,null,null,{"$f":"IFERROR(VLOOKUP(C1718,Participants!$B$3:$C$1002,2,0),\"\")","v":""},null,{"$f":"IFERROR(VLOOKUP(E1718,Participants!$B$3:$C$1002,2,0),\"\")","v":""}]
[null,null,null,{"$f":"IFERROR(VLOOKUP(C1719,Participants!$B$3:$C$1002,2,0),\"\")","v":""},null,{"$f":"IFERROR(VLOOKUP(E1719,Participants!$B$3:$C$1002,2,0),\"\")","v":""}]
[null,null,null,{"$f":"IFERROR(VLOOKUP(C1720,Participants!$B$3:$C$1002,2,0),\"\")","v":""},null,{"$f":"IFERROR(VLOOKUP(E1720,Participants!$B$3:$C$1002,2,0),\"\")","v":""}]
[null,null,null,{"$f":"IFERROR(VLOOKUP(C1721,Participants!$B$3:$C$1002,2,0),\"\")","v":""},null,{"$f":"IFERROR(VLOOKUP(E1721,Participants!$B$3:$C$1002,2,0),\"\")","v":""}]
[null,null,null,{"$f":"IFERROR(VLOOKUP(C1722,Participants!$B$3:$C$1002,2,0),\"\")","v":""},null,{"$f":"IFERROR(VLOOKUP(E1722,Participants!$B$3:$C$1002,2,0),\"\")","v":""}]
[null,null,null,{"$f":"IFERROR(VLOOKUP(C1723,Participants!$B$3:$C$1002,2,0),\"\")","v":""},null,{"$f":"IFERROR(VLOOKUP(E1723,Participants!$B$3:$C$1002,2,0),\"\")","v":""}]
[null,null,null,{"$f":"IFERROR(VLOOKUP(C1724,Participants!$B$3:$C$1002,2,0),\"\")","v":""},null,{"$f":"IFERROR(VLOOKUP(E1724,Participants!$B$3:$C$1002,2,0),\"\")","v":""}]
[null,null,null,{"$f":"IFERROR(VLOOKUP(C1725,Participants!$B$3:$C$1002,2,0),\"\")","v":""},null,{"$f":"IFERROR(VLOOKUP(E1725,Participants!$B$3:$C$1002,2,0),\"\")","v":""}]
[null,null,null,{"$f":"IFERROR(VLOOKUP(C1726,Participants!$B$3:$C$1002,2,0),\"\")","v":""},null,{"$f":"IFERROR(VLOOKUP(E1726,Participants!$B$3:$C$1002,2,0),\"\")","v":""}]
[null,null,null,{"$f":"IFERROR(VLOOKUP(C1727,Participants!$B$3:$C$1002,2,0),\"\")","v":""},null,{"$f":"IFERROR(VLOOKUP(E1727,Participants!$B$3:$C$1002,2,0),\"\")","v":""}]
[null,null,null,{"$f":"IFERROR(VLOOKUP(C1728,Participants!$B$3:$C$1002,2,0),\"\")","v":""},null,{"$f":"IFERROR(VLOOKUP(E1728,Participants!$B$3:$C$1002,2,0),\"\")","v":""}]
[null,null,null,{"$f":"IFERROR(VLOOKUP(C1729,Participants!$B$3:$C$1002,2,0),\"\")","v":""},null,{"$f":"IFERROR(VLOOKUP(E1729,Participants!$B$3:$C$1002,2,0),\"\")","v":""}]
[null,null,null,{"$f":"IFERROR(VLOOKUP(C1730,Participants!$B$3:$C$1002,2,0),\"\")","v":""},null,{"$f":"IFERROR(VLOOKUP(E1730,Participants!$B$3:$C$1002,2,0),\"\")","v":""}]
[null,null,null,{"$f":"IFERROR(VLOOKUP(C1731,Participants!$B$3:$C$1002,2,0),\"\")","v":""},null,{"$f":"IFERROR(VLOOKUP(E1731,Participants!$B$3:$C$1002,2,0),\"\")","v":""}]
[null,null,null,{"$f":"IFERROR(VLOOKUP(C1732,Participants!$B$3:$C$1002,2,0),\"\")","v":""},null,{"$f":"IFERROR(VLOOKUP(E1732,Participants!$B$3:$C$1002,2,0),\"\")","v":""}]
[null,null,null,{"$f":"IFERROR(VLOOKUP(C1733,Participants!$B$3:$C$1002,2,0),\"\")","v":""},null,{"$f":"IFERROR(VLOOKUP(E1733,Participants!$B$3:$C$1002,2,0),\"\")","v":""}]
[null,null,null,{"$f":"IFERROR(VLOOKUP(C1734,Participants!$B$3:$C$1002,2,0),\"\")","v":""},null,{"$f":"IFERROR(VLOOKUP(E1734,Participants!$B$3:$C$1002,2,0),\"\")","v":""}]
[null,null,null,{"$f":"IFERROR(VLOOKUP(C1735,Participants!$B$3:$C$1002,2,0),\"\")","v":""},null,{"$f":"IFERROR(VLOOKUP(E1735,Participants!$B$3:$C$1002,2,0),\"\")","v":""}]
[null,null,null,{"$f":"IFERROR(VLOOKUP(C1736,Participants!$B$3:$C$1002,2,0),\"\")","v":""},null,{"$f":"IFERROR(VLOOKUP(E1736,Participants!$B$3:$C$1002,2,0),\"\")","v":""}]
[null,null,null,{"$f":"IFERROR(VLOOKUP(C1737,Participants!$B$3:$C$1002,2,0),\"\")","v":""},null,{"$f":"IFERROR(VLOOKUP(E1737,Participants!$B$3:$C$1002,2,0),\"\")","v":""}]
[null,null,null,{"$f":"IFERROR(VLOOKUP(C1738,Participants!$B$3:$C$1002,2,0),\"\")","v":""},null,{"$f":"IFERROR(VLOOKUP(E1738,Participants!$B$3:$C$1002,2,0),\"\")","v":""}]
[null,null,null,{"$f":"IFERROR(VLOOKUP(C1739,Participants!$B$3:$C$1002,2,0),\"\")","v":""},null,{"$f":"IFERROR(VLOOKUP(E1739,Participants!$B$3:$C$1002,2,0),\"\")","v":""}]
[null,null,null,{"$f":"IFERROR(VLOOKUP(C1740,Participants!$B$3:$C$1002,2,0),\"\")","v":""},null,{"$f":"IFERROR(VLOOKUP(E1740,Participants!$B$3:$C$1002,2,0),\"\")","v":""}]
[null,null,null,{"$f":"IFERROR(VLOOKUP(C1741,Participants!$B$3:$C$1002,2,0),\"\")","v":""},null,{"$f":"IFERROR(VLOOKUP(E1741,Participants!$B$3:$C$1002,2,0),\"\")","v":""}]
[null,null,null,{"$f":"IFERROR(VLOOKUP(C1742,Participants!$B$3:$C$1002,2,0),\"\")","v":""},null,{"$f":"IFERROR(VLOOKUP(E1742,Participants!$B$3:$C$1002,2,0),\"\")","v":""}]
[null,null,null,{"$f":"IFERROR(VLOOKUP(C1743,Participants!$B$3:$C$1002,2,0),\"\")","v":""},null,{"$f":"IFERROR(VLOOKUP(E1743,Participants!$B$3:$C$1002,2,0),\"\")","v":""}]
[null,null,null,{"$f":"IFERROR(VLOOKUP(C1744,Participants!$B$3:$C$1002,2,0),\"\")","v":""},null,{"$f":"IFERROR(VLOOKUP(E1744,Participants!$B$3:$C$1002,2,0),\"\")","v":""}]
[null,null,null,{"$f":"IFERROR(VLOOKUP(C1745,Participants!$B$3:$C$1002,2,0),\"\")","v":""},null,{"$f":"IFERROR(VLOOKUP(E1745,Participants!$B$3:$C$1002,2,0),\"\")","v":""}]
[null,null,null,{"$f":"IFERROR(VLOOKUP(C1746,Participants!$B$3:$C$1002,2,0),\"\")","v":""},null,{"$f":"IFERROR(VLOOKUP(E1746,Participants!$B$3:$C$1002,2,0),\"\")","v":""}]
[null,null,null,{"$f":"IFERROR(VLOOKUP(C1747,Participants!$B$3:$C$1002,2,0),\"\")","v":""},null,{"$f":"IFERROR(VLOOKUP(E1747,Participants!$B$3:$C$1002,2,0),\"\")","v":""}]
[null,null,null,{"$f":"IFERROR(VLOOKUP(C1748,Participants!$B$3:$C$1002,2,0),\"\")","v":""},null,{"$f":"IFERROR(VLOOKUP(E1748,Participants!$B$3:$C$1002,2,0),\"\")","v":""}]
[null,null,null,{"$f":"IFERROR(VLOOKUP(C1749,Participants!$B$3:$C$1002,2,0),\"\")","v":""},null,{"$f":"IFERROR(VLOOKUP(E1749,Participants!$B$3:$C$1002,2,0),\"\")","v":""}]
[null,null,null,{"$f":"IFERROR(VLOOKUP(C1750,Participants!$B$3:$C$1002,2,0),\"\")","v":""},null,{"$f":"IFERROR(VLOOKUP(E1750,Participants!$B$3:$C$1002,2,0),\"\")","v":""}]
[null,null,null,{"$f":"IFERROR(VLOOKUP(C1751,Participants!$B$3:$C$1002,2,0),\"\")","v":""},null,{"$f":"IFERROR(VLOOKUP(E1751,Participants!$B$3:$C$1002,2,0),\"\")","v":""}]
[null,null,null,{"$f":"IFERROR(VLOOKUP(C1752,Participants!$B$3:$C$1002,2,0),\"\")","v":""},null,{"$f":"IFERROR(VLOOKUP(E1752,Participants!$B$3:$C$1002,2,0),\"\")","v":""}]
[null,null,null,{"$f":"IFERROR(VLOOKUP(C1753,Participants!$B$3:$C$1002,2,0),\"\")","v":""},null,{"$f":"IFERROR(VLOOKUP(E1753,Participants!$B$3:$C$1002,2,0),\"\")","v":""}]
[null,null,null,{"$f":"IFERROR(VLOOKUP(C1754,Participants!$B$3:$C$1002,2,0),\"\")","v":""},null,{"$f":"IFERROR(VLOOKUP(E1754,Participants!$B$3:$C$1002,2,0),\"\")","v":""}]
[null,null,null,{"$f":"IFERROR(VLOOKUP(C1755,Participants!$B$3:$C$1002,2,0),\"\")","v":""},null,{"$f":"IFERROR(VLOOKUP(E1755,Participants!$B$3:$C$1002,2,0),\"\")","v":""}]
[null,null,null,{"$f":"IFERROR(VLOOKUP(C1756,Participants!$B$3:$C$1002,2,0),\"\")","v":""},null,{"$f":"IFERROR(VLOOKUP(E1756,Participants!$B$3:$C$1002,2,0),\"\")","v":""}]
[null,null,null,{"$f":"IFERROR(VLOOKUP(C1757,Participants!$B$3:$C$1002,2,0),\"\")","v":""},null,{"$f":"IFERROR(VLOOKUP(E1757,Participants!$B$3:$C$1002,2,0),\"\")","v":""}]
[null,null,null,{"$f":"IFERROR(VLOOKUP(C1758,Participants!$B$3:$C$1002,2,0),\"\")","v":""},null,{"$f":"IFERROR(VLOOKUP(E1758,Participants!$B$3:$C$1002,2,0),\"\")","v":""}]
[null,null,null,{"$f":"IFERROR(VLOOKUP(C1759,Participants!$B$3:$C$1002,2,0),\"\")","v":""},null,{"$f":"IFERROR(VLOOKUP(E1759,Participants!$B$3:$C$1002,2,0),\"\")","v":""}]
[null,null,null,{"$f":"IFERROR(VLOOKUP(C1760,Participants!$B$3:$C$1002,2,0),\"\")","v":""},null,{"$f":"IFERROR(VLOOKUP(E1760,Participants!$B$3:$C$1002,2,0),\"\")","v":""}]
[null,null,null,{"$f":"IFERROR(VLOOKUP(C1761,Participants!$B$3:$C$1002,2,0),\"\")","v":""},null,{"$f":"IFERROR(VLOOKUP(E1761,Participants!$B$3:$C$1002,2,0),\"\")","v":""}]
[null,null,null,{"$f":"IFERROR(VLOOKUP(C1762,Participants!$B$3:$C$1002,2,0),\"\")","v":""},null,{"$f":"IFERROR(VLOOKUP(E1762,Participants!$B$3:$C$1002,2,0),\"\")","v":""}]
[null,null,null,{"$f":"IFERROR(VLOOKUP(C1763,Participants!$B$3:$C$1002,2,0),\"\")","v":""},null,{"$f":"IFERROR(VLOOKUP(E1763,Participants!$B$3:$C$1002,2,0),\"\")","v":""}]
[null,null,null,{"$f":"IFERROR(VLOOKUP(C1764,Participants!$B$3:$C$1002,2,0),\"\")","v":""},null,{"$f":"IFERROR(VLOOKUP(E1764,Participants!$B$3:$C$1002,2,0),\"\")","v":""}]
[null,null,null,{"$f":"IFERROR(VLOOKUP(C1765,Participants!$B$3:$C$1002,2,0),\"\")","v":""},null,{"$f":"IFERROR(VLOOKUP(E1765,Participants!$B$3:$C$1002,2,0),\"\")","v":""}]
[null,null,null,{"$f":"IFERROR(VLOOKUP(C1766,Participants!$B$3:$C$1002,2,0),\"\")","v":""},null,{"$f":"IFERROR(VLOOKUP(E1766,Participants!$B$3:$C$1002,2,0),\"\")","v":""}]
[null,null,null,{"$f":"IFERROR(VLOOKUP(C1767,Participants!$B$3:$C$1002,2,0),\"\")","v":""},null,{"$f":"IFERROR(VLOOKUP(E1767,Participants!$B$3:$C$1002,2,0),\"\")","v":""}]
[null,null,null,{"$f":"IFERROR(VLOOKUP(C1768,Participants!$B$3:$C$1002,2,0),\"\")","v":""},null,{"$f":"IFERROR(VLOOKUP(E1768,Participants!$B$3:$C$1002,2,0),\"\")","v":""}]
[null,null,null,{"$f":"IFERROR(VLOOKUP(C1769,Participants!$B$3:$C$1002,2,0),\"\")","v":""},null,{"$f":"IFERROR(VLOOKUP(E1769,Participants!$B$3:$C$1002,2,0),\"\")","v":""}]
[null,null,null,{"$f":"IFERROR(VLOOKUP(C1770,Participants!$B$3:$C$1002,2,0),\"\")","v":""},null,{"$f":"IFERROR(VLOOKUP(E1770,Participants!$B$3:$C$1002,2,0),\"\")","v":""}]
[null,null,null,{"$f":"IFERROR(VLOOKUP(C1771,Participants!$B$3:$C$1002,2,0),\"\")","v":""},null,{"$f":"IFERROR(VLOOKUP(E1771,Participants!$B$3:$C$1002,2,0),\"\")","v":""}]
[null,null,null,{"$f":"IFERROR(VLOOKUP(C1772,Participants!$B$3:$C$1002,2,0),\"\")","v":""},null,{"$f":"IFERROR(VLOOKUP(E1772,Participants!$B$3:$C$1002,2,0),\"\")","v":""}]
[null,null,null,{"$f":"IFERROR(VLOOKUP(C1773,Participants!$B$3:$C$1002,2,0),\"\")","v":""},null,{"$f":"IFERROR(VLOOKUP(E1773,Participants!$B$3:$C$1002,2,0),\"\")","v":""}]
[null,null,null,{"$f":"IFERROR(VLOOKUP(C1774,Participants!$B$3:$C$1002,2,0),\"\")","v":""},null,{"$f":"IFERROR(VLOOKUP(E1774,Participants!$B$3:$C$1002,2,0),\"\")","v":""}]
[null,null,null,{"$f":"IFERROR(VLOOKUP(C1775,Participants!$B$3:$C$1002,2,0),\"\")","v":""},null,{"$f":"IFERROR(VLOOKUP(E1775,Participants!$B$3:$C$1002,2,0),\"\")","v":""}]
[null,null,null,{"$f":"IFERROR(VLOOKUP(C1776,Participants!$B$3:$C$1002,2,0),\"\")","v":""},null,{"$f":"IFERROR(VLOOKUP(E1776,Participants!$B$3:$C$1002,2,0),\"\")","v":""}]
[null,null,null,{"$f":"IFERROR(VLOOKUP(C1777,Participants!$B$3:$C$1002,2,0),\"\")","v":""},null,{"$f":"IFERROR(VLOOKUP(E1777,Participants!$B$3:$C$1002,2,0),\"\")","v":""}]
[null,null,null,{"$f":"IFERROR(VLOOKUP(C1778,Participants!$B$3:$C$1002,2,0),\"\")","v":""},null,{"$f":"IFERROR(VLOOKUP(E1778,Participants!$B$3:$C$1002,2,0),\"\")","v":""}]
[null,null,null,{"$f":"IFERROR(VLOOKUP(C1779,Participants!$B$3:$C$1002,2,0),\"\")","v":""},null,{"$f":"IFERROR(VLOOKUP(E1779,Participants!$B$3:$C$1002,2,0),\"\")","v":""}]
[null,null,null,{"$f":"IFERROR(VLOOKUP(C1780,Participants!$B$3:$C$1002,2,0),\"\")","v":""},null,{"$f":"IFERROR(VLOOKUP(E1780,Participants!$B$3:$C$1002,2,0),\"\")","v":""}]
[null,null,null,{"$f":"IFERROR(VLOOKUP(C1781,Participants!$B$3:$C$1002,2,0),\"\")","v":""},null,{"$f":"IFERROR(VLOOKUP(E1781,Participants!$B$3:$C$1002,2,0),\"\")","v":""}]
[null,null,null,{"$f":"IFERROR(VLOOKUP(C1782,Participants!$B$3:$C$1002,2,0),\"\")","v":""},null,{"$f":"IFERROR(VLOOKUP(E1782,Participants!$B$3:$C$1002,2,0),\"\")","v":""}]
[null,null,null,{"$f":"IFERROR(VLOOKUP(C1783,Participants!$B$3:$C$1002,2,0),\"\")","v":""},null,{"$f":"IFERROR(VLOOKUP(E1783,Participants!$B$3:$C$1002,2,0),\"\")","v":""}]
[null,null,null,{"$f":"IFERROR(VLOOKUP(C1784,Participants!$B$3:$C$1002,2,0),\"\")","v":""},null,{"$f":"IFERROR(VLOOKUP(E1784,Participants!$B$3:$C$1002,2,0),\"\")","v":""}]
[null,null,null,{"$f":"IFERROR(VLOOKUP(C1785,Participants!$B$3:$C$1002,2,0),\"\")","v":""},null,{"$f":"IFERROR(VLOOKUP(E1785,Participants!$B$3:$C$1002,2,0),\"\")","v":""}]
[null,null,null,{"$f":"IFERROR(VLOOKUP(C1786,Participants!$B$3:$C$1002,2,0),\"\")","v":""},null,{"$f":"IFERROR(VLOOKUP(E1786,Participants!$B$3:$C$1002,2,0),\"\")","v":""}]
[null,null,null,{"$f":"IFERROR(VLOOKUP(C1787,Participants!$B$3:$C$1002,2,0),\"\")","v":""},null,{"$f":"IFERROR(VLOOKUP(E1787,Participants!$B$3:$C$1002,2,0),\"\")","v":""}]
[null,null,null,{"$f":"IFERROR(VLOOKUP(C1788,Participants!$B$3:$C$1002,2,0),\"\")","v":""},null,{"$f":"IFERROR(VLOOKUP(E1788,Participants!$B$3:$C$1002,2,0),\"\")","v":""}]
[null,null,null,{"$f":"IFERROR(VLOOKUP(C1789,Participants!$B$3:$C$1002,2,0),\"\")","v":""},null,{"$f":"IFERROR(VLOOKUP(E1789,Participants!$B$3:$C$1002,2,0),\"\")","v":""}]
[null,null,null,{"$f":"IFERROR(VLOOKUP(C1790,Participants!$B$3:$C$1002,2,0),\"\")","v":""},null,{"$f":"IFERROR(VLOOKUP(E1790,Participants!$B$3:$C$1002,2,0),\"\")","v":""}]
[null,null,null,{"$f":"IFERROR(VLOOKUP(C1791,Participants!$B$3:$C$1002,2,0),\"\")","v":""},null,{"$f":"IFERROR(VLOOKUP(E1791,Participants!$B$3:$C$1002,2,0),\"\")","v":""}]
[null,null,null,{"$f":"IFERROR(VLOOKUP(C1792,Participants!$B$3:$C$1002,2,0),\"\")","v":""},null,{"$f":"IFERROR(VLOOKUP(E1792,Participants!$B$3:$C$1002,2,0),\"\")","v":""}]
[null,null,null,{"$f":"IFERROR(VLOOKUP(C1793,Participants!$B$3:$C$1002,2,0),\"\")","v":""},null,{"$f":"IFERROR(VLOOKUP(E1793,Participants!$B$3:$C$1002,2,0),\"\")","v":""}]
[null,null,null,{"$f":"IFERROR(VLOOKUP(C1794,Participants!$B$3:$C$1002,2,0),\"\")","v":""},null,{"$f":"IFERROR(VLOOKUP(E1794,Participants!$B$3:$C$1002,2,0),\"\")","v":""}]
[null,null,null,{"$f":"IFERROR(VLOOKUP(C1795,Participants!$B$3:$C$1002,2,0),\"\")","v":""},null,{"$f":"IFERROR(VLOOKUP(E1795,Participants!$B$3:$C$1002,2,0),\"\")","v":""}]
[null,null,null,{"$f":"IFERROR(VLOOKUP(C1796,Participants!$B$3:$C$1002,2,0),\"\")","v":""},null,{"$f":"IFERROR(VLOOKUP(E1796,Participants!$B$3:$C$1002,2,0),\"\")","v":""}]
[null,null,null,{"$f":"IFERROR(VLOOKUP(C1797,Participants!$B$3:$C$1002,2,0),\"\")","v":""},null,{"$f":"IFERROR(VLOOKUP(E1797,Participants!$B$3:$C$1002,2,0),\"\")","v":""}]
[null,null,null,{"$f":"IFERROR(VLOOKUP(C1798,Participants!$B$3:$C$1002,2,0),\"\")","v":""},null,{"$f":"IFERROR(VLOOKUP(E1798,Participants!$B$3:$C$1002,2,0),\"\")","v":""}]
[null,null,null,{"$f":"IFERROR(VLOOKUP(C1799,Participants!$B$3:$C$1002,2,0),\"\")","v":""},null,{"$f":"IFERROR(VLOOKUP(E1799,Participants!$B$3:$C$1002,2,0),\"\")","v":""}]
[null,null,null,{"$f":"IFERROR(VLOOKUP(C1800,Participants!$B$3:$C$1002,2,0),\"\")","v":""},null,{"$f":"IFERROR(VLOOKUP(E1800,Participants!$B$3:$C$1002,2,0),\"\")","v":""}]
[null,null,null,{"$f":"IFERROR(VLOOKUP(C1801,Participants!$B$3:$C$1002,2,0),\"\")","v":""},null,{"$f":"IFERROR(VLOOKUP(E1801,Participants!$B$3:$C$1002,2,0),\"\")","v":""}]
[null,null,null,{"$f":"IFERROR(VLOOKUP(C1802,Participants!$B$3:$C$1002,2,0),\"\")","v":""},null,{"$f":"IFERROR(VLOOKUP(E1802,Participants!$B$3:$C$1002,2,0),\"\")","v":""}]
[null,null,null,{"$f":"IFERROR(VLOOKUP(C1803,Participants!$B$3:$C$1002,2,0),\"\")","v":""},null,{"$f":"IFERROR(VLOOKUP(E1803,Participants!$B$3:$C$1002,2,0),\"\")","v":""}]
[null,null,null,{"$f":"IFERROR(VLOOKUP(C1804,Participants!$B$3:$C$1002,2,0),\"\")","v":""},null,{"$f":"IFERROR(VLOOKUP(E1804,Participants!$B$3:$C$1002,2,0),\"\")","v":""}]
[null,null,null,{"$f":"IFERROR(VLOOKUP(C1805,Participants!$B$3:$C$1002,2,0),\"\")","v":""},null,{"$f":"IFERROR(VLOOKUP(E1805,Participants!$B$3:$C$1002,2,0),\"\")","v":""}]
[null,null,null,{"$f":"IFERROR(VLOOKUP(C1806,Participants!$B$3:$C$1002,2,0),\"\")","v":""},null,{"$f":"IFERROR(VLOOKUP(E1806,Participants!$B$3:$C$1002,2,0),\"\")","v":""}]
[null,null,null,{"$f":"IFERROR(VLOOKUP(C1807,Participants!$B$3:$C$1002,2,0),\"\")","v":""},null,{"$f":"IFERROR(VLOOKUP(E1807,Participants!$B$3:$C$1002,2,0),\"\")","v":""}]
[null,null,null,{"$f":"IFERROR(VLOOKUP(C1808,Participants!$B$3:$C$1002,2,0),\"\")","v":""},null,{"$f":"IFERROR(VLOOKUP(E1808,Participants!$B$3:$C$1002,2,0),\"\")","v":""}]
[null,null,null,{"$f":"IFERROR(VLOOKUP(C1809,Participants!$B$3:$C$1002,2,0),\"\")","v":""},null,{"$f":"IFERROR(VLOOKUP(E1809,Participants!$B$3:$C$1002,2,0),\"\")","v":""}]
[null,null,null,{"$f":"IFERROR(VLOOKUP(C1810,Participants!$B$3:$C$1002,2,0),\"\")","v":""},null,{"$f":"IFERROR(VLOOKUP(E1810,Participants!$B$3:$C$1002,2,0),\"\")","v":""}]
[null,null,null,{"$f":"IFERROR(VLOOKUP(C1811,Participants!$B$3:$C$1002,2,0),\"\")","v":""},null,{"$f":"IFERROR(VLOOKUP(E1811,Participants!$B$3:$C$1002,2,0),\"\")","v":""}]
[null,null,null,{"$f":"IFERROR(VLOOKUP(C1812,Participants!$B$3:$C$1002,2,0),\"\")","v":""},null,{"$f":"IFERROR(VLOOKUP(E1812,Participants!$B$3:$C$1002,2,0),\"\")","v":""}]
[null,null,null,{"$f":"IFERROR(VLOOKUP(C1813,Participants!$B$3:$C$1002,2,0),\"\")","v":""},null,{"$f":"IFERROR(VLOOKUP(E1813,Participants!$B$3:$C$1002,2,0),\"\")","v":""}]
[null,null,null,{"$f":"IFERROR(VLOOKUP(C1814,Participants!$B$3:$C$1002,2,0),\"\")","v":""},null,{"$f":"IFERROR(VLOOKUP(E1814,Participants!$B$3:$C$1002,2,0),\"\")","v":""}]
[null,null,null,{"$f":"IFERROR(VLOOKUP(C1815,Participants!$B$3:$C$1002,2,0),\"\")","v":""},null,{"$f":"IFERROR(VLOOKUP(E1815,Participants!$B$3:$C$1002,2,0),\"\")","v":""}]
[null,null,null,{"$f":"IFERROR(VLOOKUP(C1816,Participants!$B$3:$C$1002,2,0),\"\")","v":""},null,{"$f":"IFERROR(VLOOKUP(E1816,Participants!$B$3:$C$1002,2,0),\"\")","v":""}]
[null,null,null,{"$f":"IFERROR(VLOOKUP(C1817,Participants!$B$3:$C$1002,2,0),\"\")","v":""},null,{"$f":"IFERROR(VLOOKUP(E1817,Participants!$B$3:$C$1002,2,0),\"\")","v":""}]
[null,null,null,{"$f":"IFERROR(VLOOKUP(C1818,Participants!$B$3:$C$1002,2,0),\"\")","v":""},null,{"$f":"IFERROR(VLOOKUP(E1818,Participants!$B$3:$C$1002,2,0),\"\")","v":""}]
[null,null,null,{"$f":"IFERROR(VLOOKUP(C1819,Participants!$B$3:$C$1002,2,0),\"\")","v":""},null,{"$f":"IFERROR(VLOOKUP(E1819,Participants!$B$3:$C$1002,2,0),\"\")","v":""}]
[null,null,null,{"$f":"IFERROR(VLOOKUP(C1820,Participants!$B$3:$C$1002,2,0),\"\")","v":""},null,{"$f":"IFERROR(VLOOKUP(E1820,Participants!$B$3:$C$1002,2,0),\"\")","v":""}]
[null,null,null,{"$f":"IFERROR(VLOOKUP(C1821,Participants!$B$3:$C$1002,2,0),\"\")","v":""},null,{"$f":"IFERROR(VLOOKUP(E1821,Participants!$B$3:$C$1002,2,0),\"\")","v":""}]
[null,null,null,{"$f":"IFERROR(VLOOKUP(C1822,Participants!$B$3:$C$1002,2,0),\"\")","v":""},null,{"$f":"IFERROR(VLOOKUP(E1822,Participants!$B$3:$C$1002,2,0),\"\")","v":""}]
[null,null,null,{"$f":"IFERROR(VLOOKUP(C1823,Participants!$B$3:$C$1002,2,0),\"\")","v":""},null,{"$f":"IFERROR(VLOOKUP(E1823,Participants!$B$3:$C$1002,2,0),\"\")","v":""}]
[null,null,null,{"$f":"IFERROR(VLOOKUP(C1824,Participants!$B$3:$C$1002,2,0),\"\")","v":""},null,{"$f":"IFERROR(VLOOKUP(E1824,Participants!$B$3:$C$1002,2,0),\"\")","v":""}]
[null,null,null,{"$f":"IFERROR(VLOOKUP(C1825,Participants!$B$3:$C$1002,2,0),\"\")","v":""},null,{"$f":"IFERROR(VLOOKUP(E1825,Participants!$B$3:$C$1002,2,0),\"\")","v":""}]
[null,null,null,{"$f":"IFERROR(VLOOKUP(C1826,Participants!$B$3:$C$1002,2,0),\"\")","v":""},null,{"$f":"IFERROR(VLOOKUP(E1826,Participants!$B$3:$C$1002,2,0),\"\")","v":""}]
[null,null,null,{"$f":"IFERROR(VLOOKUP(C1827,Participants!$B$3:$C$1002,2,0),\"\")","v":""},null,{"$f":"IFERROR(VLOOKUP(E1827,Participants!$B$3:$C$1002,2,0),\"\")","v":""}]
[null,null,null,{"$f":"IFERROR(VLOOKUP(C1828,Participants!$B$3:$C$1002,2,0),\"\")","v":""},null,{"$f":"IFERROR(VLOOKUP(E1828,Participants!$B$3:$C$1002,2,0),\"\")","v":""}]
[null,null,null,{"$f":"IFERROR(VLOOKUP(C1829,Participants!$B$3:$C$1002,2,0),\"\")","v":""},null,{"$f":"IFERROR(VLOOKUP(E1829,Participants!$B$3:$C$1002,2,0),\"\")","v":""}]
[null,null,null,{"$f":"IFERROR(VLOOKUP(C1830,Participants!$B$3:$C$1002,2,0),\"\")","v":""},null,{"$f":"IFERROR(VLOOKUP(E1830,Participants!$B$3:$C$1002,2,0),\"\")","v":""}]
[null,null,null,{"$f":"IFERROR(VLOOKUP(C1831,Participants!$B$3:$C$1002,2,0),\"\")","v":""},null,{"$f":"IFERROR(VLOOKUP(E1831,Participants!$B$3:$C$1002,2,0),\"\")","v":""}]
[null,null,null,{"$f":"IFERROR(VLOOKUP(C1832,Participants!$B$3:$C$1002,2,0),\"\")","v":""},null,{"$f":"IFERROR(VLOOKUP(E1832,Participants!$B$3:$C$1002,2,0),\"\")","v":""}]
[null,null,null,{"$f":"IFERROR(VLOOKUP(C1833,Participants!$B$3:$C$1002,2,0),\"\")","v":""},null,{"$f":"IFERROR(VLOOKUP(E1833,Participants!$B$3:$C$1002,2,0),\"\")","v":""}]
[null,null,null,{"$f":"IFERROR(VLOOKUP(C1834,Participants!$B$3:$C$1002,2,0),\"\")","v":""},null,{"$f":"IFERROR(VLOOKUP(E1834,Participants!$B$3:$C$1002,2,0),\"\")","v":""}]
[null,null,null,{"$f":"IFERROR(VLOOKUP(C1835,Participants!$B$3:$C$1002,2,0),\"\")","v":""},null,{"$f":"IFERROR(VLOOKUP(E1835,Participants!$B$3:$C$1002,2,0),\"\")","v":""}]
[null,null,null,{"$f":"IFERROR(VLOOKUP(C1836,Participants!$B$3:$C$1002,2,0),\"\")","v":""},null,{"$f":"IFERROR(VLOOKUP(E1836,Participants!$B$3:$C$1002,2,0),\"\")","v":""}]
[null,null,null,{"$f":"IFERROR(VLOOKUP(C1837,Participants!$B$3:$C$1002,2,0),\"\")","v":""},null,{"$f":"IFERROR(VLOOKUP(E1837,Participants!$B$3:$C$1002,2,0),\"\")","v":""}]
[null,null,null,{"$f":"IFERROR(VLOOKUP(C1838,Participants!$B$3:$C$1002,2,0),\"\")","v":""},null,{"$f":"IFERROR(VLOOKUP(E1838,Participants!$B$3:$C$1002,2,0),\"\")","v":""}]
[null,null,null,{"$f":"IFERROR(VLOOKUP(C1839,Participants!$B$3:$C$1002,2,0),\"\")","v":""},null,{"$f":"IFERROR(VLOOKUP(E1839,Participants!$B$3:$C$1002,2,0),\"\")","v":""}]
[null,null,null,{"$f":"IFERROR(VLOOKUP(C1840,Participants!$B$3:$C$1002,2,0),\"\")","v":""},null,{"$f":"IFERROR(VLOOKUP(E1840,Participants!$B$3:$C$1002,2,0),\"\")","v":""}]
[null,null,null,{"$f":"IFERROR(VLOOKUP(C1841,Participants!$B$3:$C$1002,2,0),\"\")","v":""},null,{"$f":"IFERROR(VLOOKUP(E1841,Participants!$B$3:$C$1002,2,0),\"\")","v":""}]
[null,null,null,{"$f":"IFERROR(VLOOKUP(C1842,Participants!$B$3:$C$1002,2,0),\"\")","v":""},null,{"$f":"IFERROR(VLOOKUP(E1842,Participants!$B$3:$C$1002,2,0),\"\")","v":""}]
[null,null,null,{"$f":"IFERROR(VLOOKUP(C1843,Participants!$B$3:$C$1002,2,0),\"\")","v":""},null,{"$f":"IFERROR(VLOOKUP(E1843,Participants!$B$3:$C$1002,2,0),\"\")","v":""}]
[null,null,null,{"$f":"IFERROR(VLOOKUP(C1844,Participants!$B$3:$C$1002,2,0),\"\")","v":""},null,{"$f":"IFERROR(VLOOKUP(E1844,Participants!$B$3:$C$1002,2,0),\"\")","v":""}]
[null,null,null,{"$f":"IFERROR(VLOOKUP(C1845,Participants!$B$3:$C$1002,2,0),\"\")","v":""},null,{"$f":"IFERROR(VLOOKUP(E1845,Participants!$B$3:$C$1002,2,0),\"\")","v":""}]
[null,null,null,{"$f":"IFERROR(VLOOKUP(C1846,Participants!$B$3:$C$1002,2,0),\"\")","v":""},null,{"$f":"IFERROR(VLOOKUP(E1846,Participants!$B$3:$C$1002,2,0),\"\")","v":""}]
[null,null,null,{"$f":"IFERROR(VLOOKUP(C1847,Participants!$B$3:$C$1002,2,0),\"\")","v":""},null,{"$f":"IFERROR(VLOOKUP(E1847,Participants!$B$3:$C$1002,2,0),\"\")","v":""}]
[null,null,null,{"$f":"IFERROR(VLOOKUP(C1848,Participants!$B$3:$C$1002,2,0),\"\")","v":""},null,{"$f":"IFERROR(VLOOKUP(E1848,Participants!$B$3:$C$1002,2,0),\"\")","v":""}]
[null,null,null,{"$f":"IFERROR(VLOOKUP(C1849,Participants!$B$3:$C$1002,2,0),\"\")","v":""},null,{"$f":"IFERROR(VLOOKUP(E1849,Participants!$B$3:$C$1002,2,0),\"\")","v":""}]
[null,null,null,{"$f":"IFERROR(VLOOKUP(C1850,Participants!$B$3:$C$1002,2,0),\"\")","v":""},null,{"$f":"IFERROR(VLOOKUP(E1850,Participants!$B$3:$C$1002,2,0),\"\")","v":""}]
[null,null,null,{"$f":"IFERROR(VLOOKUP(C1851,Participants!$B$3:$C$1002,2,0),\"\")","v":""},null,{"$f":"IFERROR(VLOOKUP(E1851,Participants!$B$3:$C$1002,2,0),\"\")","v":""}]
[null,null,null,{"$f":"IFERROR(VLOOKUP(C1852,Participants!$B$3:$C$1002,2,0),\"\")","v":""},null,{"$f":"IFERROR(VLOOKUP(E1852,Participants!$B$3:$C$1002,2,0),\"\")","v":""}]
[null,null,null,{"$f":"IFERROR(VLOOKUP(C1853,Participants!$B$3:$C$1002,2,0),\"\")","v":""},null,{"$f":"IFERROR(VLOOKUP(E1853,Participants!$B$3:$C$1002,2,0),\"\")","v":""}]
[null,null,null,{"$f":"IFERROR(VLOOKUP(C1854,Participants!$B$3:$C$1002,2,0),\"\")","v":""},null,{"$f":"IFERROR(VLOOKUP(E1854,Participants!$B$3:$C$1002,2,0),\"\")","v":""}]
[null,null,null,{"$f":"IFERROR(VLOOKUP(C1855,Participants!$B$3:$C$1002,2,0),\"\")","v":""},null,{"$f":"IFERROR(VLOOKUP(E1855,Participants!$B$3:$C$1002,2,0),\"\")","v":""}]
[null,null,null,{"$f":"IFERROR(VLOOKUP(C1856,Participants!$B$3:$C$1002,2,0),\"\")","v":""},null,{"$f":"IFERROR(VLOOKUP(E1856,Participants!$B$3:$C$1002,2,0),\"\")","v":""}]
[null,null,null,{"$f":"IFERROR(VLOOKUP(C1857,Participants!$B$3:$C$1002,2,0),\"\")","v":""},null,{"$f":"IFERROR(VLOOKUP(E1857,Participants!$B$3:$C$1002,2,0),\"\")","v":""}]
[null,null,null,{"$f":"IFERROR(VLOOKUP(C1858,Participants!$B$3:$C$1002,2,0),\"\")","v":""},null,{"$f":"IFERROR(VLOOKUP(E1858,Participants!$B$3:$C$1002,2,0),\"\")","v":""}]
[null,null,null,{"$f":"IFERROR(VLOOKUP(C1859,Participants!$B$3:$C$1002,2,0),\"\")","v":""},null,{"$f":"IFERROR(VLOOKUP(E1859,Participants!$B$3:$C$1002,2,0),\"\")","v":""}]
[null,null,null,{"$f":"IFERROR(VLOOKUP(C1860,Participants!$B$3:$C$1002,2,0),\"\")","v":""},null,{"$f":"IFERROR(VLOOKUP(E1860,Participants!$B$3:$C$1002,2,0),\"\")","v":""}]
[null,null,null,{"$f":"IFERROR(VLOOKUP(C1861,Participants!$B$3:$C$1002,2,0),\"\")","v":""},null,{"$f":"IFERROR(VLOOKUP(E1861,Participants!$B$3:$C$1002,2,0),\"\")","v":""}]
[null,null,null,{"$f":"IFERROR(VLOOKUP(C1862,Participants!$B$3:$C$1002,2,0),\"\")","v":""},null,{"$f":"IFERROR(VLOOKUP(E1862,Participants!$B$3:$C$1002,2,0),\"\")","v":""}]
[null,null,null,{"$f":"IFERROR(VLOOKUP(C1863,Participants!$B$3:$C$1002,2,0),\"\")","v":""},null,{"$f":"IFERROR(VLOOKUP(E1863,Participants!$B$3:$C$1002,2,0),\"\")","v":""}]
[null,null,null,{"$f":"IFERROR(VLOOKUP(C1864,Participants!$B$3:$C$1002,2,0),\"\")","v":""},null,{"$f":"IFERROR(VLOOKUP(E1864,Participants!$B$3:$C$1002,2,0),\"\")","v":""}]
[null,null,null,{"$f":"IFERROR(VLOOKUP(C1865,Participants!$B$3:$C$1002,2,0),\"\")","v":""},null,{"$f":"IFERROR(VLOOKUP(E1865,Participants!$B$3:$C$1002,2,0),\"\")","v":""}]
[null,null,null,{"$f":"IFERROR(VLOOKUP(C1866,Participants!$B$3:$C$1002,2,0),\"\")","v":""},null,{"$f":"IFERROR(VLOOKUP(E1866,Participants!$B$3:$C$1002,2,0),\"\")","v":""}]
[null,null,null,{"$f":"IFERROR(VLOOKUP(C1867,Participants!$B$3:$C$1002,2,0),\"\")","v":""},null,{"$f":"IFERROR(VLOOKUP(E1867,Participants!$B$3:$C$1002,2,0),\"\")","v":""}]
[null,null,null,{"$f":"IFERROR(VLOOKUP(C1868,Participants!$B$3:$C$1002,2,0),\"\")","v":""},null,{"$f":"IFERROR(VLOOKUP(E1868,Participants!$B$3:$C$1002,2,0),\"\")","v":""}]
[null,null,null,{"$f":"IFERROR(VLOOKUP(C1869,Participants!$B$3:$C$1002,2,0),\"\")","v":""},null,{"$f":"IFERROR(VLOOKUP(E1869,Participants!$B$3:$C$1002,2,0),\"\")","v":""}]
[null,null,null,{"$f":"IFERROR(VLOOKUP(C1870,Participants!$B$3:$C$1002,2,0),\"\")","v":""},null,{"$f":"IFERROR(VLOOKUP(E1870,Participants!$B$3:$C$1002,2,0),\"\")","v":""}]
[null,null,null,{"$f":"IFERROR(VLOOKUP(C1871,Participants!$B$3:$C$1002,2,0),\"\")","v":""},null,{"$f":"IFERROR(VLOOKUP(E1871,Participants!$B$3:$C$1002,2,0),\"\")","v":""}]
[null,null,null,{"$f":"IFERROR(VLOOKUP(C1872,Participants!$B$3:$C$1002,2,0),\"\")","v":""},null,{"$f":"IFERROR(VLOOKUP(E1872,Participants!$B$3:$C$1002,2,0),\"\")","v":""}]
[null,null,null,{"$f":"IFERROR(VLOOKUP(C1873,Participants!$B$3:$C$1002,2,0),\"\")","v":""},null,{"$f":"IFERROR(VLOOKUP(E1873,Participants!$B$3:$C$1002,2,0),\"\")","v":""}]
[null,null,null,{"$f":"IFERROR(VLOOKUP(C1874,Participants!$B$3:$C$1002,2,0),\"\")","v":""},null,{"$f":"IFERROR(VLOOKUP(E1874,Participants!$B$3:$C$1002,2,0),\"\")","v":""}]
[null,null,null,{"$f":"IFERROR(VLOOKUP(C1875,Participants!$B$3:$C$1002,2,0),\"\")","v":""},null,{"$f":"IFERROR(VLOOKUP(E1875,Participants!$B$3:$C$1002,2,0),\"\")","v":""}]
[null,null,null,{"$f":"IFERROR(VLOOKUP(C1876,Participants!$B$3:$C$1002,2,0),\"\")","v":""},null,{"$f":"IFERROR(VLOOKUP(E1876,Participants!$B$3:$C$1002,2,0),\"\")","v":""}]
[null,null,null,{"$f":"IFERROR(VLOOKUP(C1877,Participants!$B$3:$C$1002,2,0),\"\")","v":""},null,{"$f":"IFERROR(VLOOKUP(E1877,Participants!$B$3:$C$1002,2,0),\"\")","v":""}]
[null,null,null,{"$f":"IFERROR(VLOOKUP(C1878,Participants!$B$3:$C$1002,2,0),\"\")","v":""},null,{"$f":"IFERROR(VLOOKUP(E1878,Participants!$B$3:$C$1002,2,0),\"\")","v":""}]
[null,null,null,{"$f":"IFERROR(VLOOKUP(C1879,Participants!$B$3:$C$1002,2,0),\"\")","v":""},null,{"$f":"IFERROR(VLOOKUP(E1879,Participants!$B$3:$C$1002,2,0),\"\")","v":""}]
[null,null,null,{"$f":"IFERROR(VLOOKUP(C1880,Participants!$B$3:$C$1002,2,0),\"\")","v":""},null,{"$f":"IFERROR(VLOOKUP(E1880,Participants!$B$3:$C$1002,2,0),\"\")","v":""}]
[null,null,null,{"$f":"IFERROR(VLOOKUP(C1881,Participants!$B$3:$C$1002,2,0),\"\")","v":""},null,{"$f":"IFERROR(VLOOKUP(E1881,Participants!$B$3:$C$1002,2,0),\"\")","v":""}]
[null,null,null,{"$f":"IFERROR(VLOOKUP(C1882,Participants!$B$3:$C$1002,2,0),\"\")","v":""},null,{"$f":"IFERROR(VLOOKUP(E1882,Participants!$B$3:$C$1002,2,0),\"\")","v":""}]
[null,null,null,{"$f":"IFERROR(VLOOKUP(C1883,Participants!$B$3:$C$1002,2,0),\"\")","v":""},null,{"$f":"IFERROR(VLOOKUP(E1883,Participants!$B$3:$C$1002,2,0),\"\")","v":""}]
[null,null,null,{"$f":"IFERROR(VLOOKUP(C1884,Participants!$B$3:$C$1002,2,0),\"\")","v":""},null,{"$f":"IFERROR(VLOOKUP(E1884,Participants!$B$3:$C$1002,2,0),\"\")","v":""}]
[null,null,null,{"$f":"IFERROR(VLOOKUP(C1885,Participants!$B$3:$C$1002,2,0),\"\")","v":""},null,{"$f":"IFERROR(VLOOKUP(E1885,Participants!$B$3:$C$1002,2,0),\"\")","v":""}]
[null,null,null,{"$f":"IFERROR(VLOOKUP(C1886,Participants!$B$3:$C$1002,2,0),\"\")","v":""},null,{"$f":"IFERROR(VLOOKUP(E1886,Participants!$B$3:$C$1002,2,0),\"\")","v":""}]
[null,null,null,{"$f":"IFERROR(VLOOKUP(C1887,Participants!$B$3:$C$1002,2,0),\"\")","v":""},null,{"$f":"IFERROR(VLOOKUP(E1887,Participants!$B$3:$C$1002,2,0),\"\")","v":""}]
[null,null,null,{"$f":"IFERROR(VLOOKUP(C1888,Participants!$B$3:$C$1002,2,0),\"\")","v":""},null,{"$f":"IFERROR(VLOOKUP(E1888,Participants!$B$3:$C$1002,2,0),\"\")","v":""}]
[null,null,null,{"$f":"IFERROR(VLOOKUP(C1889,Participants!$B$3:$C$1002,2,0),\"\")","v":""},null,{"$f":"IFERROR(VLOOKUP(E1889,Participants!$B$3:$C$1002,2,0),\"\")","v":""}]
[null,null,null,{"$f":"IFERROR(VLOOKUP(C1890,Participants!$B$3:$C$1002,2,0),\"\")","v":""},null,{"$f":"IFERROR(VLOOKUP(E1890,Participants!$B$3:$C$1002,2,0),\"\")","v":""}]
[null,null,null,{"$f":"IFERROR(VLOOKUP(C1891,Participants!$B$3:$C$1002,2,0),\"\")","v":""},null,{"$f":"IFERROR(VLOOKUP(E1891,Participants!$B$3:$C$1002,2,0),\"\")","v":""}]
[null,null,null,{"$f":"IFERROR(VLOOKUP(C1892,Participants!$B$3:$C$1002,2,0),\"\")","v":""},null,{"$f":"IFERROR(VLOOKUP(E1892,Participants!$B$3:$C$1002,2,0),\"\")","v":""}]
[null,null,null,{"$f":"IFERROR(VLOOKUP(C1893,Participants!$B$3:$C$1002,2,0),\"\")","v":""},null,{"$f":"IFERROR(VLOOKUP(E1893,Participants!$B$3:$C$1002,2,0),\"\")","v":""}]
[null,null,null,{"$f":"IFERROR(VLOOKUP(C1894,Participants!$B$3:$C$1002,2,0),\"\")","v":""},null,{"$f":"IFERROR(VLOOKUP(E1894,Participants!$B$3:$C$1002,2,0),\"\")","v":""}]
[null,null,null,{"$f":"IFERROR(VLOOKUP(C1895,Participants!$B$3:$C$1002,2,0),\"\")","v":""},null,{"$f":"IFERROR(VLOOKUP(E1895,Participants!$B$3:$C$1002,2,0),\"\")","v":""}]
[null,null,null,{"$f":"IFERROR(VLOOKUP(C1896,Participants!$B$3:$C$1002,2,0),\"\")","v":""},null,{"$f":"IFERROR(VLOOKUP(E1896,Participants!$B$3:$C$1002,2,0),\"\")","v":""}]
[null,null,null,{"$f":"IFERROR(VLOOKUP(C1897,Participants!$B$3:$C$1002,2,0),\"\")","v":""},null,{"$f":"IFERROR(VLOOKUP(E1897,Participants!$B$3:$C$1002,2,0),\"\")","v":""}]
[null,null,null,{"$f":"IFERROR(VLOOKUP(C1898,Participants!$B$3:$C$1002,2,0),\"\")","v":""},null,{"$f":"IFERROR(VLOOKUP(E1898,Participants!$B$3:$C$1002,2,0),\"\")","v":""}]
[null,null,null,{"$f":"IFERROR(VLOOKUP(C1899,Participants!$B$3:$C$1002,2,0),\"\")","v":""},null,{"$f":"IFERROR(VLOOKUP(E1899,Participants!$B$3:$C$1002,2,0),\"\")","v":""}]
[null,null,null,{"$f":"IFERROR(VLOOKUP(C1900,Participants!$B$3:$C$1002,2,0),\"\")","v":""},null,{"$f":"IFERROR(VLOOKUP(E1900,Participants!$B$3:$C$1002,2,0),\"\")","v":""}]
[null,null,null,{"$f":"IFERROR(VLOOKUP(C1901,Participants!$B$3:$C$1002,2,0),\"\")","v":""},null,{"$f":"IFERROR(VLOOKUP(E1901,Participants!$B$3:$C$1002,2,0),\"\")","v":""}]
[null,null,null,{"$f":"IFERROR(VLOOKUP(C1902,Participants!$B$3:$C$1002,2,0),\"\")","v":""},null,{"$f":"IFERROR(VLOOKUP(E1902,Participants!$B$3:$C$1002,2,0),\"\")","v":""}]
[null,null,null,{"$f":"IFERROR(VLOOKUP(C1903,Participants!$B$3:$C$1002,2,0),\"\")","v":""},null,{"$f":"IFERROR(VLOOKUP(E1903,Participants!$B$3:$C$1002,2,0),\"\")","v":""}]
[null,null,null,{"$f":"IFERROR(VLOOKUP(C1904,Participants!$B$3:$C$1002,2,0),\"\")","v":""},null,{"$f":"IFERROR(VLOOKUP(E1904,Participants!$B$3:$C$1002,2,0),\"\")","v":""}]
[null,null,null,{"$f":"IFERROR(VLOOKUP(C1905,Participants!$B$3:$C$1002,2,0),\"\")","v":""},null,{"$f":"IFERROR(VLOOKUP(E1905,Participants!$B$3:$C$1002,2,0),\"\")","v":""}]
[null,null,null,{"$f":"IFERROR(VLOOKUP(C1906,Participants!$B$3:$C$1002,2,0),\"\")","v":""},null,{"$f":"IFERROR(VLOOKUP(E1906,Participants!$B$3:$C$1002,2,0),\"\")","v":""}]
[null,null,null,{"$f":"IFERROR(VLOOKUP(C1907,Participants!$B$3:$C$1002,2,0),\"\")","v":""},null,{"$f":"IFERROR(VLOOKUP(E1907,Participants!$B$3:$C$1002,2,0),\"\")","v":""}]
[null,null,null,{"$f":"IFERROR(VLOOKUP(C1908,Participants!$B$3:$C$1002,2,0),\"\")","v":""},null,{"$f":"IFERROR(VLOOKUP(E1908,Participants!$B$3:$C$1002,2,0),\"\")","v":""}]
[null,null,null,{"$f":"IFERROR(VLOOKUP(C1909,Participants!$B$3:$C$1002,2,0),\"\")","v":""},null,{"$f":"IFERROR(VLOOKUP(E1909,Participants!$B$3:$C$1002,2,0),\"\")","v":""}]
[null,null,null,{"$f":"IFERROR(VLOOKUP(C1910,Participants!$B$3:$C$1002,2,0),\"\")","v":""},null,{"$f":"IFERROR(VLOOKUP(E1910,Participants!$B$3:$C$1002,2,0),\"\")","v":""}]
[null,null,null,{"$f":"IFERROR(VLOOKUP(C1911,Participants!$B$3:$C$1002,2,0),\"\")","v":""},null,{"$f":"IFERROR(VLOOKUP(E1911,Participants!$B$3:$C$1002,2,0),\"\")","v":""}]
[null,null,null,{"$f":"IFERROR(VLOOKUP(C1912,Participants!$B$3:$C$1002,2,0),\"\")","v":""},null,{"$f":"IFERROR(VLOOKUP(E1912,Participants!$B$3:$C$1002,2,0),\"\")","v":""}]
[null,null,null,{"$f":"IFERROR(VLOOKUP(C1913,Participants!$B$3:$C$1002,2,0),\"\")","v":""},null,{"$f":"IFERROR(VLOOKUP(E1913,Participants!$B$3:$C$1002,2,0),\"\")","v":""}]
[null,null,null,{"$f":"IFERROR(VLOOKUP(C1914,Participants!$B$3:$C$1002,2,0),\"\")","v":""},null,{"$f":"IFERROR(VLOOKUP(E1914,Participants!$B$3:$C$1002,2,0),\"\")","v":""}]
[null,null,null,{"$f":"IFERROR(VLOOKUP(C1915,Participants!$B$3:$C$1002,2,0),\"\")","v":""},null,{"$f":"IFERROR(VLOOKUP(E1915,Participants!$B$3:$C$1002,2,0),\"\")","v":""}]
[null,null,null,{"$f":"IFERROR(VLOOKUP(C1916,Participants!$B$3:$C$1002,2,0),\"\")","v":""},null,{"$f":"IFERROR(VLOOKUP(E1916,Participants!$B$3:$C$1002,2,0),\"\")","v":""}]
[null,null,null,{"$f":"IFERROR(VLOOKUP(C1917,Participants!$B$3:$C$1002,2,0),\"\")","v":""},null,{"$f":"IFERROR(VLOOKUP(E1917,Participants!$B$3:$C$1002,2,0),\"\")","v":""}]
[null,null,null,{"$f":"IFERROR(VLOOKUP(C1918,Participants!$B$3:$C$1002,2,0),\"\")","v":""},null,{"$f":"IFERROR(VLOOKUP(E1918,Participants!$B$3:$C$1002,2,0),\"\")","v":""}]
[null,null,null,{"$f":"IFERROR(VLOOKUP(C1919,Participants!$B$3:$C$1002,2,0),\"\")","v":""},null,{"$f":"IFERROR(VLOOKUP(E1919,Participants!$B$3:$C$1002,2,0),\"\")","v":""}]
[null,null,null,{"$f":"IFERROR(VLOOKUP(C1920,Participants!$B$3:$C$1002,2,0),\"\")","v":""},null,{"$f":"IFERROR(VLOOKUP(E1920,Participants!$B$3:$C$1002,2,0),\"\")","v":""}]
[null,null,null,{"$f":"IFERROR(VLOOKUP(C1921,Participants!$B$3:$C$1002,2,0),\"\")","v":""},null,{"$f":"IFERROR(VLOOKUP(E1921,Participants!$B$3:$C$1002,2,0),\"\")","v":""}]
[null,null,null,{"$f":"IFERROR(VLOOKUP(C1922,Participants!$B$3:$C$1002,2,0),\"\")","v":""},null,{"$f":"IFERROR(VLOOKUP(E1922,Participants!$B$3:$C$1002,2,0),\"\")","v":""}]
[null,null,null,{"$f":"IFERROR(VLOOKUP(C1923,Participants!$B$3:$C$1002,2,0),\"\")","v":""},null,{"$f":"IFERROR(VLOOKUP(E1923,Participants!$B$3:$C$1002,2,0),\"\")","v":""}]
[null,null,null,{"$f":"IFERROR(VLOOKUP(C1924,Participants!$B$3:$C$1002,2,0),\"\")","v":""},null,{"$f":"IFERROR(VLOOKUP(E1924,Participants!$B$3:$C$1002,2,0),\"\")","v":""}]
[null,null,null,{"$f":"IFERROR(VLOOKUP(C1925,Participants!$B$3:$C$1002,2,0),\"\")","v":""},null,{"$f":"IFERROR(VLOOKUP(E1925,Participants!$B$3:$C$1002,2,0),\"\")","v":""}]
[null,null,null,{"$f":"IFERROR(VLOOKUP(C1926,Participants!$B$3:$C$1002,2,0),\"\")","v":""},null,{"$f":"IFERROR(VLOOKUP(E1926,Participants!$B$3:$C$1002,2,0),\"\")","v":""}]
[null,null,null,{"$f":"IFERROR(VLOOKUP(C1927,Participants!$B$3:$C$1002,2,0),\"\")","v":""},null,{"$f":"IFERROR(VLOOKUP(E1927,Participants!$B$3:$C$1002,2,0),\"\")","v":""}]
[null,null,null,{"$f":"IFERROR(VLOOKUP(C1928,Participants!$B$3:$C$1002,2,0),\"\")","v":""},null,{"$f":"IFERROR(VLOOKUP(E1928,Participants!$B$3:$C$1002,2,0),\"\")","v":""}]
[null,null,null,{"$f":"IFERROR(VLOOKUP(C1929,Participants!$B$3:$C$1002,2,0),\"\")","v":""},null,{"$f":"IFERROR(VLOOKUP(E1929,Participants!$B$3:$C$1002,2,0),\"\")","v":""}]
[null,null,null,{"$f":"IFERROR(VLOOKUP(C1930,Participants!$B$3:$C$1002,2,0),\"\")","v":""},null,{"$f":"IFERROR(VLOOKUP(E1930,Participants!$B$3:$C$1002,2,0),\"\")","v":""}]
[null,null,null,{"$f":"IFERROR(VLOOKUP(C1931,Participants!$B$3:$C$1002,2,0),\"\")","v":""},null,{"$f":"IFERROR(VLOOKUP(E1931,Participants!$B$3:$C$1002,2,0),\"\")","v":""}]
[null,null,null,{"$f":"IFERROR(VLOOKUP(C1932,Participants!$B$3:$C$1002,2,0),\"\")","v":""},null,{"$f":"IFERROR(VLOOKUP(E1932,Participants!$B$3:$C$1002,2,0),\"\")","v":""}]
[null,null,null,{"$f":"IFERROR(VLOOKUP(C1933,Participants!$B$3:$C$1002,2,0),\"\")","v":""},null,{"$f":"IFERROR(VLOOKUP(E1933,Participants!$B$3:$C$1002,2,0),\"\")","v":""}]
[null,null,null,{"$f":"IFERROR(VLOOKUP(C1934,Participants!$B$3:$C$1002,2,0),\"\")","v":""},null,{"$f":"IFERROR(VLOOKUP(E1934,Participants!$B$3:$C$1002,2,0),\"\")","v":""}]
[null,null,null,{"$f":"IFERROR(VLOOKUP(C1935,Participants!$B$3:$C$1002,2,0),\"\")","v":""},null,{"$f":"IFERROR(VLOOKUP(E1935,Participants!$B$3:$C$1002,2,0),\"\")","v":""}]
[null,null,null,{"$f":"IFERROR(VLOOKUP(C1936,Participants!$B$3:$C$1002,2,0),\"\")","v":""},null,{"$f":"IFERROR(VLOOKUP(E1936,Participants!$B$3:$C$1002,2,0),\"\")","v":""}]
[null,null,null,{"$f":"IFERROR(VLOOKUP(C1937,Participants!$B$3:$C$1002,2,0),\"\")","v":""},null,{"$f":"IFERROR(VLOOKUP(E1937,Participants!$B$3:$C$1002,2,0),\"\")","v":""}]
[null,null,null,{"$f":"IFERROR(VLOOKUP(C1938,Participants!$B$3:$C$1002,2,0),\"\")","v":""},null,{"$f":"IFERROR(VLOOKUP(E1938,Participants!$B$3:$C$1002,2,0),\"\")","v":""}]
[null,null,null,{"$f":"IFERROR(VLOOKUP(C1939,Participants!$B$3:$C$1002,2,0),\"\")","v":""},null,{"$f":"IFERROR(VLOOKUP(E1939,Participants!$B$3:$C$1002,2,0),\"\")","v":""}]
[null,null,null,{"$f":"IFERROR(VLOOKUP(C1940,Participants!$B$3:$C$1002,2,0),\"\")","v":""},null,{"$f":"IFERROR(VLOOKUP(E1940,Participants!$B$3:$C$1002,2,0),\"\")","v":""}]
[null,null,null,{"$f":"IFERROR(VLOOKUP(C1941,Participants!$B$3:$C$1002,2,0),\"\")","v":""},null,{"$f":"IFERROR(VLOOKUP(E1941,Participants!$B$3:$C$1002,2,0),\"\")","v":""}]
[null,null,null,{"$f":"IFERROR(VLOOKUP(C1942,Participants!$B$3:$C$1002,2,0),\"\")","v":""},null,{"$f":"IFERROR(VLOOKUP(E1942,Participants!$B$3:$C$1002,2,0),\"\")","v":""}]
[null,null,null,{"$f":"IFERROR(VLOOKUP(C1943,Participants!$B$3:$C$1002,2,0),\"\")","v":""},null,{"$f":"IFERROR(VLOOKUP(E1943,Participants!$B$3:$C$1002,2,0),\"\")","v":""}]
[null,null,null,{"$f":"IFERROR(VLOOKUP(C1944,Participants!$B$3:$C$1002,2,0),\"\")","v":""},null,{"$f":"IFERROR(VLOOKUP(E1944,Participants!$B$3:$C$1002,2,0),\"\")","v":""}]
[null,null,null,{"$f":"IFERROR(VLOOKUP(C1945,Participants!$B$3:$C$1002,2,0),\"\")","v":""},null,{"$f":"IFERROR(VLOOKUP(E1945,Participants!$B$3:$C$1002,2,0),\"\")","v":""}]
[null,null,null,{"$f":"IFERROR(VLOOKUP(C1946,Participants!$B$3:$C$1002,2,0),\"\")","v":""},null,{"$f":"IFERROR(VLOOKUP(E1946,Participants!$B$3:$C$1002,2,0),\"\")","v":""}]
[null,null,null,{"$f":"IFERROR(VLOOKUP(C1947,Participants!$B$3:$C$1002,2,0),\"\")","v":""},null,{"$f":"IFERROR(VLOOKUP(E1947,Participants!$B$3:$C$1002,2,0),\"\")","v":""}]
[null,null,null,{"$f":"IFERROR(VLOOKUP(C1948,Participants!$B$3:$C$1002,2,0),\"\")","v":""},null,{"$f":"IFERROR(VLOOKUP(E1948,Participants!$B$3:$C$1002,2,0),\"\")","v":""}]
[null,null,null,{"$f":"IFERROR(VLOOKUP(C1949,Participants!$B$3:$C$1002,2,0),\"\")","v":""},null,{"$f":"IFERROR(VLOOKUP(E1949,Participants!$B$3:$C$1002,2,0),\"\")","v":""}]
[null,null,null,{"$f":"IFERROR(VLOOKUP(C1950,Participants!$B$3:$C$1002,2,0),\"\")","v":""},null,{"$f":"IFERROR(VLOOKUP(E1950,Participants!$B$3:$C$1002,2,0),\"\")","v":""}]
[null,null,null,{"$f":"IFERROR(VLOOKUP(C1951,Participants!$B$3:$C$1002,2,0),\"\")","v":""},null,{"$f":"IFERROR(VLOOKUP(E1951,Participants!$B$3:$C$1002,2,0),\"\")","v":""}]
[null,null,null,{"$f":"IFERROR(VLOOKUP(C1952,Participants!$B$3:$C$1002,2,0),\"\")","v":""},null,{"$f":"IFERROR(VLOOKUP(E1952,Participants!$B$3:$C$1002,2,0),\"\")","v":""}]
[null,null,null,{"$f":"IFERROR(VLOOKUP(C1953,Participants!$B$3:$C$1002,2,0),\"\")","v":""},null,{"$f":"IFERROR(VLOOKUP(E1953,Participants!$B$3:$C$1002,2,0),\"\")","v":""}]
[null,null,null,{"$f":"IFERROR(VLOOKUP(C1954,Participants!$B$3:$C$1002,2,0),\"\")","v":""},null,{"$f":"IFERROR(VLOOKUP(E1954,Participants!$B$3:$C$1002,2,0),\"\")","v":""}]
[null,null,null,{"$f":"IFERROR(VLOOKUP(C1955,Participants!$B$3:$C$1002,2,0),\"\")","v":""},null,{"$f":"IFERROR(VLOOKUP(E1955,Participants!$B$3:$C$1002,2,0),\"\")","v":""}]
[null,null,null,{"$f":"IFERROR(VLOOKUP(C1956,Participants!$B$3:$C$1002,2,0),\"\")","v":""},null,{"$f":"IFERROR(VLOOKUP(E1956,Participants!$B$3:$C$1002,2,0),\"\")","v":""}]
[null,null,null,{"$f":"IFERROR(VLOOKUP(C1957,Participants!$B$3:$C$1002,2,0),\"\")","v":""},null,{"$f":"IFERROR(VLOOKUP(E1957,Participants!$B$3:$C$1002,2,0),\"\")","v":""}]
[null,null,null,{"$f":"IFERROR(VLOOKUP(C1958,Participants!$B$3:$C$1002,2,0),\"\")","v":""},null,{"$f":"IFERROR(VLOOKUP(E1958,Participants!$B$3:$C$1002,2,0),\"\")","v":""}]
[null,null,null,{"$f":"IFERROR(VLOOKUP(C1959,Participants!$B$3:$C$1002,2,0),\"\")","v":""},null,{"$f":"IFERROR(VLOOKUP(E1959,Participants!$B$3:$C$1002,2,0),\"\")","v":""}]
[null,null,null,{"$f":"IFERROR(VLOOKUP(C1960,Participants!$B$3:$C$1002,2,0),\"\")","v":""},null,{"$f":"IFERROR(VLOOKUP(E1960,Participants!$B$3:$C$1002,2,0),\"\")","v":""}]
[null,null,null,{"$f":"IFERROR(VLOOKUP(C1961,Participants!$B$3:$C$1002,2,0),\"\")","v":""},null,{"$f":"IFERROR(VLOOKUP(E1961,Participants!$B$3:$C$1002,2,0),\"\")","v":""}]
[null,null,null,{"$f":"IFERROR(VLOOKUP(C1962,Participants!$B$3:$C$1002,2,0),\"\")","v":""},null,{"$f":"IFERROR(VLOOKUP(E1962,Participants!$B$3:$C$1002,2,0),\"\")","v":""}]
[null,null,null,{"$f":"IFERROR(VLOOKUP(C1963,Participants!$B$3:$C$1002,2,0),\"\")","v":""},null,{"$f":"IFERROR(VLOOKUP(E1963,Participants!$B$3:$C$1002,2,0),\"\")","v":""}]
[null,null,null,{"$f":"IFERROR(VLOOKUP(C1964,Participants!$B$3:$C$1002,2,0),\"\")","v":""},null,{"$f":"IFERROR(VLOOKUP(E1964,Participants!$B$3:$C$1002,2,0),\"\")","v":""}]
[null,null,null,{"$f":"IFERROR(VLOOKUP(C1965,Participants!$B$3:$C$1002,2,0),\"\")","v":""},null,{"$f":"IFERROR(VLOOKUP(E1965,Participants!$B$3:$C$1002,2,0),\"\")","v":""}]
[null,null,null,{"$f":"IFERROR(VLOOKUP(C1966,Participants!$B$3:$C$1002,2,0),\"\")","v":""},null,{"$f":"IFERROR(VLOOKUP(E1966,Participants!$B$3:$C$1002,2,0),\"\")","v":""}]
[null,null,null,{"$f":"IFERROR(VLOOKUP(C1967,Participants!$B$3:$C$1002,2,0),\"\")","v":""},null,{"$f":"IFERROR(VLOOKUP(E1967,Participants!$B$3:$C$1002,2,0),\"\")","v":""}]
[null,null,null,{"$f":"IFERROR(VLOOKUP(C1968,Participants!$B$3:$C$1002,2,0),\"\")","v":""},null,{"$f":"IFERROR(VLOOKUP(E1968,Participants!$B$3:$C$1002,2,0),\"\")","v":""}]
[null,null,null,{"$f":"IFERROR(VLOOKUP(C1969,Participants!$B$3:$C$1002,2,0),\"\")","v":""},null,{"$f":"IFERROR(VLOOKUP(E1969,Participants!$B$3:$C$1002,2,0),\"\")","v":""}]
[null,null,null,{"$f":"IFERROR(VLOOKUP(C1970,Participants!$B$3:$C$1002,2,0),\"\")","v":""},null,{"$f":"IFERROR(VLOOKUP(E1970,Participants!$B$3:$C$1002,2,0),\"\")","v":""}]
[null,null,null,{"$f":"IFERROR(VLOOKUP(C1971,Participants!$B$3:$C$1002,2,0),\"\")","v":""},null,{"$f":"IFERROR(VLOOKUP(E1971,Participants!$B$3:$C$1002,2,0),\"\")","v":""}]
[null,null,null,{"$f":"IFERROR(VLOOKUP(C1972,Participants!$B$3:$C$1002,2,0),\"\")","v":""},null,{"$f":"IFERROR(VLOOKUP(E1972,Participants!$B$3:$C$1002,2,0),\"\")","v":""}]
[null,null,null,{"$f":"IFERROR(VLOOKUP(C1973,Participants!$B$3:$C$1002,2,0),\"\")","v":""},null,{"$f":"IFERROR(VLOOKUP(E1973,Participants!$B$3:$C$1002,2,0),\"\")","v":""}]
[null,null,null,{"$f":"IFERROR(VLOOKUP(C1974,Participants!$B$3:$C$1002,2,0),\"\")","v":""},null,{"$f":"IFERROR(VLOOKUP(E1974,Participants!$B$3:$C$1002,2,0),\"\")","v":""}]
[null,null,null,{"$f":"IFERROR(VLOOKUP(C1975,Participants!$B$3:$C$1002,2,0),\"\")","v":""},null,{"$f":"IFERROR(VLOOKUP(E1975,Participants!$B$3:$C$1002,2,0),\"\")","v":""}]
[null,null,null,{"$f":"IFERROR(VLOOKUP(C1976,Participants!$B$3:$C$1002,2,0),\"\")","v":""},null,{"$f":"IFERROR(VLOOKUP(E1976,Participants!$B$3:$C$1002,2,0),\"\")","v":""}]
[null,null,null,{"$f":"IFERROR(VLOOKUP(C1977,Participants!$B$3:$C$1002,2,0),\"\")","v":""},null,{"$f":"IFERROR(VLOOKUP(E1977,Participants!$B$3:$C$1002,2,0),\"\")","v":""}]
[null,null,null,{"$f":"IFERROR(VLOOKUP(C1978,Participants!$B$3:$C$1002,2,0),\"\")","v":""},null,{"$f":"IFERROR(VLOOKUP(E1978,Participants!$B$3:$C$1002,2,0),\"\")","v":""}]
[null,null,null,{"$f":"IFERROR(VLOOKUP(C1979,Participants!$B$3:$C$1002,2,0),\"\")","v":""},null,{"$f":"IFERROR(VLOOKUP(E1979,Participants!$B$3:$C$1002,2,0),\"\")","v":""}]
[null,null,null,{"$f":"IFERROR(VLOOKUP(C1980,Participants!$B$3:$C$1002,2,0),\"\")","v":""},null,{"$f":"IFERROR(VLOOKUP(E1980,Participants!$B$3:$C$1002,2,0),\"\")","v":""}]
[null,null,null,{"$f":"IFERROR(VLOOKUP(C1981,Participants!$B$3:$C$1002,2,0),\"\")","v":""},null,{"$f":"IFERROR(VLOOKUP(E1981,Participants!$B$3:$C$1002,2,0),\"\")","v":""}]
[null,null,null,{"$f":"IFERROR(VLOOKUP(C1982,Participants!$B$3:$C$1002,2,0),\"\")","v":""},null,{"$f":"IFERROR(VLOOKUP(E1982,Participants!$B$3:$C$1002,2,0),\"\")","v":""}]
[null,null,null,{"$f":"IFERROR(VLOOKUP(C1983,Participants!$B$3:$C$1002,2,0),\"\")","v":""},null,{"$f":"IFERROR(VLOOKUP(E1983,Participants!$B$3:$C$1002,2,0),\"\")","v":""}]
[null,null,null,{"$f":"IFERROR(VLOOKUP(C1984,Participants!$B$3:$C$1002,2,0),\"\")","v":""},null,{"$f":"IFERROR(VLOOKUP(E1984,Participants!$B$3:$C$1002,2,0),\"\")","v":""}]
[null,null,null,{"$f":"IFERROR(VLOOKUP(C1985,Participants!$B$3:$C$1002,2,0),\"\")","v":""},null,{"$f":"IFERROR(VLOOKUP(E1985,Participants!$B$3:$C$1002,2,0),\"\")","v":""}]
[null,null,null,{"$f":"IFERROR(VLOOKUP(C1986,Participants!$B$3:$C$1002,2,0),\"\")","v":""},null,{"$f":"IFERROR(VLOOKUP(E1986,Participants!$B$3:$C$1002,2,0),\"\")","v":""}]
[null,null,null,{"$f":"IFERROR(VLOOKUP(C1987,Participants!$B$3:$C$1002,2,0),\"\")","v":""},null,{"$f":"IFERROR(VLOOKUP(E1987,Participants!$B$3:$C$1002,2,0),\"\")","v":""}]
[null,null,null,{"$f":"IFERROR(VLOOKUP(C1988,Participants!$B$3:$C$1002,2,0),\"\")","v":""},null,{"$f":"IFERROR(VLOOKUP(E1988,Participants!$B$3:$C$1002,2,0),\"\")","v":""}]
[null,null,null,{"$f":"IFERROR(VLOOKUP(C1989,Participants!$B$3:$C$1002,2,0),\"\")","v":""},null,{"$f":"IFERROR(VLOOKUP(E1989,Participants!$B$3:$C$1002,2,0),\"\")","v":""}]
[null,null,null,{"$f":"IFERROR(VLOOKUP(C1990,Participants!$B$3:$C$1002,2,0),\"\")","v":""},null,{"$f":"IFERROR(VLOOKUP(E1990,Participants!$B$3:$C$1002,2,0),\"\")","v":""}]
[null,null,null,{"$f":"IFERROR(VLOOKUP(C1991,Participants!$B$3:$C$1002,2,0),\"\")","v":""},null,{"$f":"IFERROR(VLOOKUP(E1991,Participants!$B$3:$C$1002,2,0),\"\")","v":""}]
[null,null,null,{"$f":"IFERROR(VLOOKUP(C1992,Participants!$B$3:$C$1002,2,0),\"\")","v":""},null,{"$f":"IFERROR(VLOOKUP(E1992,Participants!$B$3:$C$1002,2,0),\"\")","v":""}]
[null,null,null,{"$f":"IFERROR(VLOOKUP(C1993,Participants!$B$3:$C$1002,2,0),\"\")","v":""},null,{"$f":"IFERROR(VLOOKUP(E1993,Participants!$B$3:$C$1002,2,0),\"\")","v":""}]
[null,null,null,{"$f":"IFERROR(VLOOKUP(C1994,Participants!$B$3:$C$1002,2,0),\"\")","v":""},null,{"$f":"IFERROR(VLOOKUP(E1994,Participants!$B$3:$C$1002,2,0),\"\")","v":""}]
[null,null,null,{"$f":"IFERROR(VLOOKUP(C1995,Participants!$B$3:$C$1002,2,0),\"\")","v":""},null,{"$f":"IFERROR(VLOOKUP(E1995,Participants!$B$3:$C$1002,2,0),\"\")","v":""}]
[null,null,null,{"$f":"IFERROR(VLOOKUP(C1996,Participants!$B$3:$C$1002,2,0),\"\")","v":""},null,{"$f":"IFERROR(VLOOKUP(E1996,Participants!$B$3:$C$1002,2,0),\"\")","v":""}]
[null,null,null,{"$f":"IFERROR(VLOOKUP(C1997,Participants!$B$3:$C$1002,2,0),\"\")","v":""},null,{"$f":"IFERROR(VLOOKUP(E1997,Participants!$B$3:$C$1002,2,0),\"\")","v":""}]
[null,null,null,{"$f":"IFERROR(VLOOKUP(C1998,Participants!$B$3:$C$1002,2,0),\"\")","v":""},null,{"$f":"IFERROR(VLOOKUP(E1998,Participants!$B$3:$C$1002,2,0),\"\")","v":""}]
[null,null,null,{"$f":"IFERROR(VLOOKUP(C1999,Participants!$B$3:$C$1002,2,0),\"\")","v":""},null,{"$f":"IFERROR(VLOOKUP(E1999,Participants!$B$3:$C$1002,2,0),\"\")","v":""}]
[null,null,null,{"$f":"IFERROR(VLOOKUP(C2000,Participants!$B$3:$C$1002,2,0),\"\")","v":""},null,{"$f":"IFERROR(VLOOKUP(E2000,Participants!$B$3:$C$1002,2,0),\"\")","v":""}]
[null,null,null,{"$f":"IFERROR(VLOOKUP(C2001,Participants!$B$3:$C$1002,2,0),\"\")","v":""},null,{"$f":"IFERROR(VLOOKUP(E2001,Participants!$B$3:$C$1002,2,0),\"\")","v":""}]
[null,null,null,{"$f":"IFERROR(VLOOKUP(C2002,Participants!$B$3:$C$1002,2,0),\"\")","v":""},null,{"$f":"IFERROR(VLOOKUP(E2002,Participants!$B$3:$C$1002,2,0),\"\")","v":""}]
[null,null,null,{"$f":"IFERROR(VLOOKUP(C2003,Participants!$B$3:$C$1002,2,0),\"\")","v":""},null,{"$f":"IFERROR(VLOOKUP(E2003,Participants!$B$3:$C$1002,2,0),\"\")","v":""}]

{"sheet":"28.03.2023","index":3,"n_rows":2003,"n_cols":17,"rows_kept":2003,"cut":false,"hidden":false,"merged":[[0,8,2,8],[0,9,2,9],[0,10,2,10],[2,6,2,7]]}
[null,{"$f":"Sprache!$E$11","v":"Rangliste"},null,{"$f":"Sprache!$E$12","v":"Altes Datum:"},null,{"$f":"Sprache!$E$13","v":"Neues Datum:"},null,null,{"$f":"Sprache!$E$20","v":"Wichtung"},{"$f":"Sprache!$E$21","v":"Elfmetersch."},{"$f":"Sprache!$E$22","v":"KO-Runde"}]
[null,{"$f":"Sprache!$E$14","v":"Spiele"},null,"2022-12-22","\u009e","2023-03-28",null,null,null,null,null,null,"Neue Rangliste"]
[null,{"$f":"Sprache!$E$16","v":"Datum"},{"$f":"Sprache!$E$17","v":"ID 1"},null,{"$f":"Sprache!$E$18","v":"ID 2"},null,{"$f":"Sprache!$E$19","v":"Ergebnis"},null,null,null,null,null,"Rang","Name","Verein","Punkte","+/-"]
[null,"2023-03-23","E3",{"$f":"IFERROR(VLOOKUP(C4,Participants!$B$3:$C$1002,2,0),\"\")","v":"Deutschland"},"C3",{"$f":"IFERROR(VLOOKUP(E4,Participants!$B$3:$C$1002,2,0),\"\")","v":"Mexiko"},2,2,10,null,null,null,1,"Brasilien",null,1840.8182497794046,0]
[null,"2023-03-25","D1",{"$f":"IFERROR(VLOOKUP(C5,Participants!$B$3:$C$1002,2,0),\"\")","v":"Frankreich"},"G3",{"$f":"IFERROR(VLOOKUP(E5,Participants!$B$3:$C$1002,2,0),\"\")","v":"Schweiz"},3,1,10,null,null,null,2,"Argentinien",null,1837.7343303226655,0]
[null,"2023-03-26","B1",{"$f":"IFERROR(VLOOKUP(C6,Participants!$B$3:$C$1002,2,0),\"\")","v":"England"},"H1",{"$f":"IFERROR(VLOOKUP(E6,Participants!$B$3:$C$1002,2,0),\"\")","v":"Portugal"},2,0,10,null,null,null,3,"Frankreich",null,1826.7135737147623,3.466836446899606]
[null,null,null,{"$f":"IFERROR(VLOOKUP(C7,Participants!$B$3:$C$1002,2,0),\"\")","v":""},null,{"$f":"IFERROR(VLOOKUP(E7,Participants!$B$3:$C$1002,2,0),\"\")","v":""},null,null,null,null,null,null,4,"Belgien",null,1784.5833793496768,0]
[null,null,null,{"$f":"IFERROR(VLOOKUP(C8,Participants!$B$3:$C$1002,2,0),\"\")","v":""},null,{"$f":"IFERROR(VLOOKUP(E8,Participants!$B$3:$C$1002,2,0),\"\")","v":""},null,null,null,null,null,null,5,"England",null,1778.4451396723948,4.3038309998707973]
[null,null,null,{"$f":"IFERROR(VLOOKUP(C9,Participants!$B$3:$C$1002,2,0),\"\")","v":""},null,{"$f":"IFERROR(VLOOKUP(E9,Participants!$B$3:$C$1002,2,0),\"\")","v":""},null,null,null,null,null,null,6,"Niederlande",null,1740.6487785894392,0]
[null,null,null,{"$f":"IFERROR(VLOOKUP(C10,Participants!$B$3:$C$1002,2,0),\"\")","v":""},null,{"$f":"IFERROR(VLOOKUP(E10,Participants!$B$3:$C$1002,2,0),\"\")","v":""},null,null,null,null,null,null,7,"Kroatien",null,1726.5261155167407,0]
[null,null,null,{"$f":"IFERROR(VLOOKUP(C11,Participants!$B$3:$C$1002,2,0),\"\")","v":""},null,{"$f":"IFERROR(VLOOKUP(E11,Participants!$B$3:$C$1002,2,0),\"\")","v":""},null,null,null,null,null,null,8,"Portugal",null,1696.800883742741,-4.3038309998707973]
[null,null,null,{"$f":"IFERROR(VLOOKUP(C12,Participants!$B$3:$C$1002,2,0),\"\")","v":""},null,{"$f":"IFERROR(VLOOKUP(E12,Participants!$B$3:$C$1002,2,0),\"\")","v":""},null,null,null,null,null,null,9,"Spanien",null,1692.6875513100958,0]
[null,null,null,{"$f":"IFERROR(VLOOKUP(C13,Participants!$B$3:$C$1002,2,0),\"\")","v":""},null,{"$f":"IFERROR(VLOOKUP(E13,Participants!$B$3:$C$1002,2,0),\"\")","v":""},null,null,null,null,null,null,10,"Marokko",null,1671.1804237792071,0]
[null,null,null,{"$f":"IFERROR(VLOOKUP(C14,Participants!$B$3:$C$1002,2,0),\"\")","v":""},null,{"$f":"IFERROR(VLOOKUP(E14,Participants!$B$3:$C$1002,2,0),\"\")","v":""},null,null,null,null,null,null,11,"Schweiz",null,1654.665794669274,-3.466836446899606]
[null,null,null,{"$f":"IFERROR(VLOOKUP(C15,Participants!$B$3:$C$1002,2,0),\"\")","v":""},null,{"$f":"IFERROR(VLOOKUP(E15,Participants!$B$3:$C$1002,2,0),\"\")","v":""},null,null,null,null,null,null,12,"USA",null,1652.7103236326968,0]
[null,null,null,{"$f":"IFERROR(VLOOKUP(C16,Participants!$B$3:$C$1002,2,0),\"\")","v":""},null,{"$f":"IFERROR(VLOOKUP(E16,Participants!$B$3:$C$1002,2,0),\"\")","v":""},null,null,null,null,null,null,13,"Deutschland",null,1645.8922305255576,-8.4444183693449304E-2]
[null,null,null,{"$f":"IFERROR(VLOOKUP(C17,Participants!$B$3:$C$1002,2,0),\"\")","v":""},null,{"$f":"IFERROR(VLOOKUP(E17,Participants!$B$3:$C$1002,2,0),\"\")","v":""},null,null,null,null,null,null,14,"Mexiko",null,1637.258607585957,8.4444183693449304E-2]
[null,null,null,{"$f":"IFERROR(VLOOKUP(C18,Participants!$B$3:$C$1002,2,0),\"\")","v":""},null,{"$f":"IFERROR(VLOOKUP(E18,Participants!$B$3:$C$1002,2,0),\"\")","v":""},null,null,null,null,null,null,15,"Uruguay",null,1627.1475472750744,0]
[null,null,null,{"$f":"IFERROR(VLOOKUP(C19,Participants!$B$3:$C$1002,2,0),\"\")","v":""},null,{"$f":"IFERROR(VLOOKUP(E19,Participants!$B$3:$C$1002,2,0),\"\")","v":""},null,null,null,null,null,null,16,"Dänemark",null,1608.113005179637,0]
[null,null,null,{"$f":"IFERROR(VLOOKUP(C20,Participants!$B$3:$C$1002,2,0),\"\")","v":""},null,{"$f":"IFERROR(VLOOKUP(E20,Participants!$B$3:$C$1002,2,0),\"\")","v":""},null,null,null,null,null,null,17,"Senegal",null,1603.6426538698399,0]
[null,null,null,{"$f":"IFERROR(VLOOKUP(C21,Participants!$B$3:$C$1002,2,0),\"\")","v":""},null,{"$f":"IFERROR(VLOOKUP(E21,Participants!$B$3:$C$1002,2,0),\"\")","v":""},null,null,null,null,null,null,18,"Japan",null,1595.2735498829391,0]
[null,null,null,{"$f":"IFERROR(VLOOKUP(C22,Participants!$B$3:$C$1002,2,0),\"\")","v":""},null,{"$f":"IFERROR(VLOOKUP(E22,Participants!$B$3:$C$1002,2,0),\"\")","v":""},null,null,null,null,null,null,19,"Polen",null,1557.8649270928411,0]
[null,null,null,{"$f":"IFERROR(VLOOKUP(C23,Participants!$B$3:$C$1002,2,0),\"\")","v":""},null,{"$f":"IFERROR(VLOOKUP(E23,Participants!$B$3:$C$1002,2,0),\"\")","v":""},null,null,null,null,null,null,20,"IR Iran",null,1551.1598670925353,0]
[null,null,null,{"$f":"IFERROR(VLOOKUP(C24,Participants!$B$3:$C$1002,2,0),\"\")","v":""},null,{"$f":"IFERROR(VLOOKUP(E24,Participants!$B$3:$C$1002,2,0),\"\")","v":""},null,null,null,null,null,null,21,"Republik Korea",null,1537.6940853063384,0]
[null,null,null,{"$f":"IFERROR(VLOOKUP(C25,Participants!$B$3:$C$1002,2,0),\"\")","v":""},null,{"$f":"IFERROR(VLOOKUP(E25,Participants!$B$3:$C$1002,2,0),\"\")","v":""},null,null,null,null,null,null,22,"Australien",null,1533.9695399163395,0]
[null,null,null,{"$f":"IFERROR(VLOOKUP(C26,Participants!$B$3:$C$1002,2,0),\"\")","v":""},null,{"$f":"IFERROR(VLOOKUP(E26,Participants!$B$3:$C$1002,2,0),\"\")","v":""},null,null,null,null,null,null,23,"Wales",null,1530.249706846158,0]
[null,null,null,{"$f":"IFERROR(VLOOKUP(C27,Participants!$B$3:$C$1002,2,0),\"\")","v":""},null,{"$f":"IFERROR(VLOOKUP(E27,Participants!$B$3:$C$1002,2,0),\"\")","v":""},null,null,null,null,null,null,24,"Tunesien",null,1526.2009853978452,0]
[null,null,null,{"$f":"IFERROR(VLOOKUP(C28,Participants!$B$3:$C$1002,2,0),\"\")","v":""},null,{"$f":"IFERROR(VLOOKUP(E28,Participants!$B$3:$C$1002,2,0),\"\")","v":""},null,null,null,null,null,null,25,"Serbien",null,1525.5535582737702,0]
[null,null,null,{"$f":"IFERROR(VLOOKUP(C29,Participants!$B$3:$C$1002,2,0),\"\")","v":""},null,{"$f":"IFERROR(VLOOKUP(E29,Participants!$B$3:$C$1002,2,0),\"\")","v":""},null,null,null,null,null,null,26,"Kamerun",null,1500.1138938162321,0]
[null,null,null,{"$f":"IFERROR(VLOOKUP(C30,Participants!$B$3:$C$1002,2,0),\"\")","v":""},null,{"$f":"IFERROR(VLOOKUP(E30,Participants!$B$3:$C$1002,2,0),\"\")","v":""},null,null,null,null,null,null,27,"Costa Rica",null,1498.0991626264918,0]
[null,null,null,{"$f":"IFERROR(VLOOKUP(C31,Participants!$B$3:$C$1002,2,0),\"\")","v":""},null,{"$f":"IFERROR(VLOOKUP(E31,Participants!$B$3:$C$1002,2,0),\"\")","v":""},null,null,null,null,null,null,28,"Ecuador",null,1477.4336325277422,0]
[null,null,null,{"$f":"IFERROR(VLOOKUP(C32,Participants!$B$3:$C$1002,2,0),\"\")","v":""},null,{"$f":"IFERROR(VLOOKUP(E32,Participants!$B$3:$C$1002,2,0),\"\")","v":""},null,null,null,null,null,null,29,"Saudiarabien",null,1438.2395693909043,0]
[null,null,null,{"$f":"IFERROR(VLOOKUP(C33,Participants!$B$3:$C$1002,2,0),\"\")","v":""},null,{"$f":"IFERROR(VLOOKUP(E33,Participants!$B$3:$C$1002,2,0),\"\")","v":""},null,null,null,null,null,null,30,"Kanada",null,1429.863744647593,0]
[null,null,null,{"$f":"IFERROR(VLOOKUP(C34,Participants!$B$3:$C$1002,2,0),\"\")","v":""},null,{"$f":"IFERROR(VLOOKUP(E34,Participants!$B$3:$C$1002,2,0),\"\")","v":""},null,null,null,null,null,null,31,"Ghana",null,1396.718497492644,0]
[null,null,null,{"$f":"IFERROR(VLOOKUP(C35,Participants!$B$3:$C$1002,2,0),\"\")","v":""},null,{"$f":"IFERROR(VLOOKUP(E35,Participants!$B$3:$C$1002,2,0),\"\")","v":""},null,null,null,null,null,null,32,"Katar",null,1386.2015665539955,0]
[null,null,null,{"$f":"IFERROR(VLOOKUP(C36,Participants!$B$3:$C$1002,2,0),\"\")","v":""},null,{"$f":"IFERROR(VLOOKUP(E36,Participants!$B$3:$C$1002,2,0),\"\")","v":""}]
[null,null,null,{"$f":"IFERROR(VLOOKUP(C37,Participants!$B$3:$C$1002,2,0),\"\")","v":""},null,{"$f":"IFERROR(VLOOKUP(E37,Participants!$B$3:$C$1002,2,0),\"\")","v":""}]
[null,null,null,{"$f":"IFERROR(VLOOKUP(C38,Participants!$B$3:$C$1002,2,0),\"\")","v":""},null,{"$f":"IFERROR(VLOOKUP(E38,Participants!$B$3:$C$1002,2,0),\"\")","v":""}]
[null,null,null,{"$f":"IFERROR(VLOOKUP(C39,Participants!$B$3:$C$1002,2,0),\"\")","v":""},null,{"$f":"IFERROR(VLOOKUP(E39,Participants!$B$3:$C$1002,2,0),\"\")","v":""}]
[null,null,null,{"$f":"IFERROR(VLOOKUP(C40,Participants!$B$3:$C$1002,2,0),\"\")","v":""},null,{"$f":"IFERROR(VLOOKUP(E40,Participants!$B$3:$C$1002,2,0),\"\")","v":""}]
[null,null,null,{"$f":"IFERROR(VLOOKUP(C41,Participants!$B$3:$C$1002,2,0),\"\")","v":""},null,{"$f":"IFERROR(VLOOKUP(E41,Participants!$B$3:$C$1002,2,0),\"\")","v":""}]
[null,null,null,{"$f":"IFERROR(VLOOKUP(C42,Participants!$B$3:$C$1002,2,0),\"\")","v":""},null,{"$f":"IFERROR(VLOOKUP(E42,Participants!$B$3:$C$1002,2,0),\"\")","v":""}]
[null,null,null,{"$f":"IFERROR(VLOOKUP(C43,Participants!$B$3:$C$1002,2,0),\"\")","v":""},null,{"$f":"IFERROR(VLOOKUP(E43,Participants!$B$3:$C$1002,2,0),\"\")","v":""}]
[null,null,null,{"$f":"IFERROR(VLOOKUP(C44,Participants!$B$3:$C$1002,2,0),\"\")","v":""},null,{"$f":"IFERROR(VLOOKUP(E44,Participants!$B$3:$C$1002,2,0),\"\")","v":""}]
[null,null,null,{"$f":"IFERROR(VLOOKUP(C45,Participants!$B$3:$C$1002,2,0),\"\")","v":""},null,{"$f":"IFERROR(VLOOKUP(E45,Participants!$B$3:$C$1002,2,0),\"\")","v":""}]
[null,null,null,{"$f":"IFERROR(VLOOKUP(C46,Participants!$B$3:$C$1002,2,0),\"\")","v":""},null,{"$f":"IFERROR(VLOOKUP(E46,Participants!$B$3:$C$1002,2,0),\"\")","v":""}]
[null,null,null,{"$f":"IFERROR(VLOOKUP(C47,Participants!$B$3:$C$1002,2,0),\"\")","v":""},null,{"$f":"IFERROR(VLOOKUP(E47,Participants!$B$3:$C$1002,2,0),\"\")","v":""}]
[null,null,null,{"$f":"IFERROR(VLOOKUP(C48,Participants!$B$3:$C$1002,2,0),\"\")","v":""},null,{"$f":"IFERROR(VLOOKUP(E48,Participants!$B$3:$C$1002,2,0),\"\")","v":""}]
[null,null,null,{"$f":"IFERROR(VLOOKUP(C49,Participants!$B$3:$C$1002,2,0),\"\")","v":""},null,{"$f":"IFERROR(VLOOKUP(E49,Participants!$B$3:$C$1002,2,0),\"\")","v":""}]
[null,null,null,{"$f":"IFERROR(VLOOKUP(C50,Participants!$B$3:$C$1002,2,0),\"\")","v":""},null,{"$f":"IFERROR(VLOOKUP(E50,Participants!$B$3:$C$1002,2,0),\"\")","v":""}]
[null,null,null,{"$f":"IFERROR(VLOOKUP(C51,Participants!$B$3:$C$1002,2,0),\"\")","v":""},null,{"$f":"IFERROR(VLOOKUP(E51,Participants!$B$3:$C$1002,2,0),\"\")","v":""}]
[null,null,null,{"$f":"IFERROR(VLOOKUP(C52,Participants!$B$3:$C$1002,2,0),\"\")","v":""},null,{"$f":"IFERROR(VLOOKUP(E52,Participants!$B$3:$C$1002,2,0),\"\")","v":""}]
[null,null,null,{"$f":"IFERROR(VLOOKUP(C53,Participants!$B$3:$C$1002,2,0),\"\")","v":""},null,{"$f":"IFERROR(VLOOKUP(E53,Participants!$B$3:$C$1002,2,0),\"\")","v":""}]
[null,null,null,{"$f":"IFERROR(VLOOKUP(C54,Participants!$B$3:$C$1002,2,0),\"\")","v":""},null,{"$f":"IFERROR(VLOOKUP(E54,Participants!$B$3:$C$1002,2,0),\"\")","v":""}]
[null,null,null,{"$f":"IFERROR(VLOOKUP(C55,Participants!$B$3:$C$1002,2,0),\"\")","v":""},null,{"$f":"IFERROR(VLOOKUP(E55,Participants!$B$3:$C$1002,2,0),\"\")","v":""}]
[null,null,null,{"$f":"IFERROR(VLOOKUP(C56,Participants!$B$3:$C$1002,2,0),\"\")","v":""},null,{"$f":"IFERROR(VLOOKUP(E56,Participants!$B$3:$C$1002,2,0),\"\")","v":""}]
[null,null,null,{"$f":"IFERROR(VLOOKUP(C57,Participants!$B$3:$C$1002,2,0),\"\")","v":""},null,{"$f":"IFERROR(VLOOKUP(E57,Participants!$B$3:$C$1002,2,0),\"\")","v":""}]
[null,null,null,{"$f":"IFERROR(VLOOKUP(C58,Participants!$B$3:$C$1002,2,0),\"\")","v":""},null,{"$f":"IFERROR(VLOOKUP(E58,Participants!$B$3:$C$1002,2,0),\"\")","v":""}]
[null,null,null,{"$f":"IFERROR(VLOOKUP(C59,Participants!$B$3:$C$1002,2,0),\"\")","v":""},null,{"$f":"IFERROR(VLOOKUP(E59,Participants!$B$3:$C$1002,2,0),\"\")","v":""}]
[null,null,null,{"$f":"IFERROR(VLOOKUP(C60,Participants!$B$3:$C$1002,2,0),\"\")","v":""},null,{"$f":"IFERROR(VLOOKUP(E60,Participants!$B$3:$C$1002,2,0),\"\")","v":""}]
[null,null,null,{"$f":"IFERROR(VLOOKUP(C61,Participants!$B$3:$C$1002,2,0),\"\")","v":""},null,{"$f":"IFERROR(VLOOKUP(E61,Participants!$B$3:$C$1002,2,0),\"\")","v":""}]
[null,null,null,{"$f":"IFERROR(VLOOKUP(C62,Participants!$B$3:$C$1002,2,0),\"\")","v":""},null,{"$f":"IFERROR(VLOOKUP(E62,Participants!$B$3:$C$1002,2,0),\"\")","v":""}]
[null,null,null,{"$f":"IFERROR(VLOOKUP(C63,Participants!$B$3:$C$1002,2,0),\"\")","v":""},null,{"$f":"IFERROR(VLOOKUP(E63,Participants!$B$3:$C$1002,2,0),\"\")","v":""}]
[null,null,null,{"$f":"IFERROR(VLOOKUP(C64,Participants!$B$3:$C$1002,2,0),\"\")","v":""},null,{"$f":"IFERROR(VLOOKUP(E64,Participants!$B$3:$C$1002,2,0),\"\")","v":""}]
[null,null,null,{"$f":"IFERROR(VLOOKUP(C65,Participants!$B$3:$C$1002,2,0),\"\")","v":""},null,{"$f":"IFERROR(VLOOKUP(E65,Participants!$B$3:$C$1002,2,0),\"\")","v":""}]
[null,null,null,{"$f":"IFERROR(VLOOKUP(C66,Participants!$B$3:$C$1002,2,0),\"\")","v":""},null,{"$f":"IFERROR(VLOOKUP(E66,Participants!$B$3:$C$1002,2,0),\"\")","v":""}]
[null,null,null,{"$f":"IFERROR(VLOOKUP(C67,Participants!$B$3:$C$1002,2,0),\"\")","v":""},null,{"$f":"IFERROR(VLOOKUP(E67,Participants!$B$3:$C$1002,2,0),\"\")","v":""}]
[null,null,null,{"$f":"IFERROR(VLOOKUP(C68,Participants!$B$3:$C$1002,2,0),\"\")","v":""},null,{"$f":"IFERROR(VLOOKUP(E68,Participants!$B$3:$C$1002,2,0),\"\")","v":""}]
[null,null,null,{"$f":"IFERROR(VLOOKUP(C69,Participants!$B$3:$C$1002,2,0),\"\")","v":""},null,{"$f":"IFERROR(VLOOKUP(E69,Participants!$B$3:$C$1002,2,0),\"\")","v":""}]
[null,null,null,{"$f":"IFERROR(VLOOKUP(C70,Participants!$B$3:$C$1002,2,0),\"\")","v":""},null,{"$f":"IFERROR(VLOOKUP(E70,Participants!$B$3:$C$1002,2,0),\"\")","v":""}]
[null,null,null,{"$f":"IFERROR(VLOOKUP(C71,Participants!$B$3:$C$1002,2,0),\"\")","v":""},null,{"$f":"IFERROR(VLOOKUP(E71,Participants!$B$3:$C$1002,2,0),\"\")","v":""}]
[null,null,null,{"$f":"IFERROR(VLOOKUP(C72,Participants!$B$3:$C$1002,2,0),\"\")","v":""},null,{"$f":"IFERROR(VLOOKUP(E72,Participants!$B$3:$C$1002,2,0),\"\")","v":""}]
[null,null,null,{"$f":"IFERROR(VLOOKUP(C73,Participants!$B$3:$C$1002,2,0),\"\")","v":""},null,{"$f":"IFERROR(VLOOKUP(E73,Participants!$B$3:$C$1002,2,0),\"\")","v":""}]
[null,null,null,{"$f":"IFERROR(VLOOKUP(C74,Participants!$B$3:$C$1002,2,0),\"\")","v":""},null,{"$f":"IFERROR(VLOOKUP(E74,Participants!$B$3:$C$1002,2,0),\"\")","v":""}]
[null,null,null,{"$f":"IFERROR(VLOOKUP(C75,Participants!$B$3:$C$1002,2,0),\"\")","v":""},null,{"$f":"IFERROR(VLOOKUP(E75,Participants!$B$3:$C$1002,2,0),\"\")","v":""}]
[null,null,null,{"$f":"IFERROR(VLOOKUP(C76,Participants!$B$3:$C$1002,2,0),\"\")","v":""},null,{"$f":"IFERROR(VLOOKUP(E76,Participants!$B$3:$C$1002,2,0),\"\")","v":""}]
[null,null,null,{"$f":"IFERROR(VLOOKUP(C77,Participants!$B$3:$C$1002,2,0),\"\")","v":""},null,{"$f":"IFERROR(VLOOKUP(E77,Participants!$B$3:$C$1002,2,0),\"\")","v":""}]
[null,null,null,{"$f":"IFERROR(VLOOKUP(C78,Participants!$B$3:$C$1002,2,0),\"\")","v":""},null,{"$f":"IFERROR(VLOOKUP(E78,Participants!$B$3:$C$1002,2,0),\"\")","v":""}]
[null,null,null,{"$f":"IFERROR(VLOOKUP(C79,Participants!$B$3:$C$1002,2,0),\"\")","v":""},null,{"$f":"IFERROR(VLOOKUP(E79,Participants!$B$3:$C$1002,2,0),\"\")","v":""}]
[null,null,null,{"$f":"IFERROR(VLOOKUP(C80,Participants!$B$3:$C$1002,2,0),\"\")","v":""},null,{"$f":"IFERROR(VLOOKUP(E80,Participants!$B$3:$C$1002,2,0),\"\")","v":""}]
[null,null,null,{"$f":"IFERROR(VLOOKUP(C81,Participants!$B$3:$C$1002,2,0),\"\")","v":""},null,{"$f":"IFERROR(VLOOKUP(E81,Participants!$B$3:$C$1002,2,0),\"\")","v":""}]
[null,null,null,{"$f":"IFERROR(VLOOKUP(C82,Participants!$B$3:$C$1002,2,0),\"\")","v":""},null,{"$f":"IFERROR(VLOOKUP(E82,Participants!$B$3:$C$1002,2,0),\"\")","v":""}]
[null,null,null,{"$f":"IFERROR(VLOOKUP(C83,Participants!$B$3:$C$1002,2,0),\"\")","v":""},null,{"$f":"IFERROR(VLOOKUP(E83,Participants!$B$3:$C$1002,2,0),\"\")","v":""}]
[null,null,null,{"$f":"IFERROR(VLOOKUP(C84,Participants!$B$3:$C$1002,2,0),\"\")","v":""},null,{"$f":"IFERROR(VLOOKUP(E84,Participants!$B$3:$C$1002,2,0),\"\")","v":""}]
[null,null,null,{"$f":"IFERROR(VLOOKUP(C85,Participants!$B$3:$C$1002,2,0),\"\")","v":""},null,{"$f":"IFERROR(VLOOKUP(E85,Participants!$B$3:$C$1002,2,0),\"\")","v":""}]
[null,null,null,{"$f":"IFERROR(VLOOKUP(C86,Participants!$B$3:$C$1002,2,0),\"\")","v":""},null,{"$f":"IFERROR(VLOOKUP(E86,Participants!$B$3:$C$1002,2,0),\"\")","v":""}]
[null,null,null,{"$f":"IFERROR(VLOOKUP(C87,Participants!$B$3:$C$1002,2,0),\"\")","v":""},null,{"$f":"IFERROR(VLOOKUP(E87,Participants!$B$3:$C$1002,2,0),\"\")","v":""}]
[null,null,null,{"$f":"IFERROR(VLOOKUP(C88,Participants!$B$3:$C$1002,2,0),\"\")","v":""},null,{"$f":"IFERROR(VLOOKUP(E88,Participants!$B$3:$C$1002,2,0),\"\")","v":""}]
[null,null,null,{"$f":"IFERROR(VLOOKUP(C89,Participants!$B$3:$C$1002,2,0),\"\")","v":""},null,{"$f":"IFERROR(VLOOKUP(E89,Participants!$B$3:$C$1002,2,0),\"\")","v":""}]
[null,null,null,{"$f":"IFERROR(VLOOKUP(C90,Participants!$B$3:$C$1002,2,0),\"\")","v":""},null,{"$f":"IFERROR(VLOOKUP(E90,Participants!$B$3:$C$1002,2,0),\"\")","v":""}]
[null,null,null,{"$f":"IFERROR(VLOOKUP(C91,Participants!$B$3:$C$1002,2,0),\"\")","v":""},null,{"$f":"IFERROR(VLOOKUP(E91,Participants!$B$3:$C$1002,2,0),\"\")","v":""}]
[null,null,null,{"$f":"IFERROR(VLOOKUP(C92,Participants!$B$3:$C$1002,2,0),\"\")","v":""},null,{"$f":"IFERROR(VLOOKUP(E92,Participants!$B$3:$C$1002,2,0),\"\")","v":""}]
[null,null,null,{"$f":"IFERROR(VLOOKUP(C93,Participants!$B$3:$C$1002,2,0),\"\")","v":""},null,{"$f":"IFERROR(VLOOKUP(E93,Participants!$B$3:$C$1002,2,0),\"\")","v":""}]
[null,null,null,{"$f":"IFERROR(VLOOKUP(C94,Participants!$B$3:$C$1002,2,0),\"\")","v":""},null,{"$f":"IFERROR(VLOOKUP(E94,Participants!$B$3:$C$1002,2,0),\"\")","v":""}]
[null,null,null,{"$f":"IFERROR(VLOOKUP(C95,Participants!$B$3:$C$1002,2,0),\"\")","v":""},null,{"$f":"IFERROR(VLOOKUP(E95,Participants!$B$3:$C$1002,2,0),\"\")","v":""}]
[null,null,null,{"$f":"IFERROR(VLOOKUP(C96,Participants!$B$3:$C$1002,2,0),\"\")","v":""},null,{"$f":"IFERROR(VLOOKUP(E96,Participants!$B$3:$C$1002,2,0),\"\")","v":""}]
[null,null,null,{"$f":"IFERROR(VLOOKUP(C97,Participants!$B$3:$C$1002,2,0),\"\")","v":""},null,{"$f":"IFERROR(VLOOKUP(E97,Participants!$B$3:$C$1002,2,0),\"\")","v":""}]
[null,null,null,{"$f":"IFERROR(VLOOKUP(C98,Participants!$B$3:$C$1002,2,0),\"\")","v":""},null,{"$f":"IFERROR(VLOOKUP(E98,Participants!$B$3:$C$1002,2,0),\"\")","v":""}]
[null,null,null,{"$f":"IFERROR(VLOOKUP(C99,Participants!$B$3:$C$1002,2,0),\"\")","v":""},null,{"$f":"IFERROR(VLOOKUP(E99,Participants!$B$3:$C$1002,2,0),\"\")","v":""}]
[null,null,null,{"$f":"IFERROR(VLOOKUP(C100,Participants!$B$3:$C$1002,2,0),\"\")","v":""},null,{"$f":"IFERROR(VLOOKUP(E100,Participants!$B$3:$C$1002,2,0),\"\")","v":""}]
[null,null,null,{"$f":"IFERROR(VLOOKUP(C101,Participants!$B$3:$C$1002,2,0),\"\")","v":""},null,{"$f":"IFERROR(VLOOKUP(E101,Participants!$B$3:$C$1002,2,0),\"\")","v":""}]
[null,null,null,{"$f":"IFERROR(VLOOKUP(C102,Participants!$B$3:$C$1002,2,0),\"\")","v":""},null,{"$f":"IFERROR(VLOOKUP(E102,Participants!$B$3:$C$1002,2,0),\"\")","v":""}]
[null,null,null,{"$f":"IFERROR(VLOOKUP(C103,Participants!$B$3:$C$1002,2,0),\"\")","v":""},null,{"$f":"IFERROR(VLOOKUP(E103,Participants!$B$3:$C$1002,2,0),\"\")","v":""}]
[null,null,null,{"$f":"IFERROR(VLOOKUP(C104,Participants!$B$3:$C$1002,2,0),\"\")","v":""},null,{"$f":"IFERROR(VLOOKUP(E104,Participants!$B$3:$C$1002,2,0),\"\")","v":""}]
[null,null,null,{"$f":"IFERROR(VLOOKUP(C105,Participants!$B$3:$C$1002,2,0),\"\")","v":""},null,{"$f":"IFERROR(VLOOKUP(E105,Participants!$B$3:$C$1002,2,0),\"\")","v":""}]
[null,null,null,{"$f":"IFERROR(VLOOKUP(C106,Participants!$B$3:$C$1002,2,0),\"\")","v":""},null,{"$f":"IFERROR(VLOOKUP(E106,Participants!$B$3:$C$1002,2,0),\"\")","v":""}]
[null,null,null,{"$f":"IFERROR(VLOOKUP(C107,Participants!$B$3:$C$1002,2,0),\"\")","v":""},null,{"$f":"IFERROR(VLOOKUP(E107,Participants!$B$3:$C$1002,2,0),\"\")","v":""}]
[null,null,null,{"$f":"IFERROR(VLOOKUP(C108,Participants!$B$3:$C$1002,2,0),\"\")","v":""},null,{"$f":"IFERROR(VLOOKUP(E108,Participants!$B$3:$C$1002,2,0),\"\")","v":""}]
[null,null,null,{"$f":"IFERROR(VLOOKUP(C109,Participants!$B$3:$C$1002,2,0),\"\")","v":""},null,{"$f":"IFERROR(VLOOKUP(E109,Participants!$B$3:$C$1002,2,0),\"\")","v":""}]
[null,null,null,{"$f":"IFERROR(VLOOKUP(C110,Participants!$B$3:$C$1002,2,0),\"\")","v":""},null,{"$f":"IFERROR(VLOOKUP(E110,Participants!$B$3:$C$1002,2,0),\"\")","v":""}]
[null,null,null,{"$f":"IFERROR(VLOOKUP(C111,Participants!$B$3:$C$1002,2,0),\"\")","v":""},null,{"$f":"IFERROR(VLOOKUP(E111,Participants!$B$3:$C$1002,2,0),\"\")","v":""}]
[null,null,null,{"$f":"IFERROR(VLOOKUP(C112,Participants!$B$3:$C$1002,2,0),\"\")","v":""},null,{"$f":"IFERROR(VLOOKUP(E112,Participants!$B$3:$C$1002,2,0),\"\")","v":""}]
[null,null,null,{"$f":"IFERROR(VLOOKUP(C113,Participants!$B$3:$C$1002,2,0),\"\")","v":""},null,{"$f":"IFERROR(VLOOKUP(E113,Participants!$B$3:$C$1002,2,0),\"\")","v":""}]
[null,null,null,{"$f":"IFERROR(VLOOKUP(C114,Participants!$B$3:$C$1002,2,0),\"\")","v":""},null,{"$f":"IFERROR(VLOOKUP(E114,Participants!$B$3:$C$1002,2,0),\"\")","v":""}]
[null,null,null,{"$f":"IFERROR(VLOOKUP(C115,Participants!$B$3:$C$1002,2,0),\"\")","v":""},null,{"$f":"IFERROR(VLOOKUP(E115,Participants!$B$3:$C$1002,2,0),\"\")","v":""}]
[null,null,null,{"$f":"IFERROR(VLOOKUP(C116,Participants!$B$3:$C$1002,2,0),\"\")","v":""},null,{"$f":"IFERROR(VLOOKUP(E116,Participants!$B$3:$C$1002,2,0),\"\")","v":""}]
[null,null,null,{"$f":"IFERROR(VLOOKUP(C117,Participants!$B$3:$C$1002,2,0),\"\")","v":""},null,{"$f":"IFERROR(VLOOKUP(E117,Participants!$B$3:$C$1002,2,0),\"\")","v":""}]
[null,null,null,{"$f":"IFERROR(VLOOKUP(C118,Participants!$B$3:$C$1002,2,0),\"\")","v":""},null,{"$f":"IFERROR(VLOOKUP(E118,Participants!$B$3:$C$1002,2,0),\"\")","v":""}]
[null,null,null,{"$f":"IFERROR(VLOOKUP(C119,Participants!$B$3:$C$1002,2,0),\"\")","v":""},null,{"$f":"IFERROR(VLOOKUP(E119,Participants!$B$3:$C$1002,2,0),\"\")","v":""}]
[null,null,null,{"$f":"IFERROR(VLOOKUP(C120,Participants!$B$3:$C$1002,2,0),\"\")","v":""},null,{"$f":"IFERROR(VLOOKUP(E120,Participants!$B$3:$C$1002,2,0),\"\")","v":""}]
[null,null,null,{"$f":"IFERROR(VLOOKUP(C121,Participants!$B$3:$C$1002,2,0),\"\")","v":""},null,{"$f":"IFERROR(VLOOKUP(E121,Participants!$B$3:$C$1002,2,0),\"\")","v":""}]
[null,null,null,{"$f":"IFERROR(VLOOKUP(C122,Participants!$B$3:$C$1002,2,0),\"\")","v":""},null,{"$f":"IFERROR(VLOOKUP(E122,Participants!$B$3:$C$1002,2,0),\"\")","v":""}]
[null,null,null,{"$f":"IFERROR(VLOOKUP(C123,Participants!$B$3:$C$1002,2,0),\"\")","v":""},null,{"$f":"IFERROR(VLOOKUP(E123,Participants!$B$3:$C$1002,2,0),\"\")","v":""}]
[null,null,null,{"$f":"IFERROR(VLOOKUP(C124,Participants!$B$3:$C$1002,2,0),\"\")","v":""},null,{"$f":"IFERROR(VLOOKUP(E124,Participants!$B$3:$C$1002,2,0),\"\")","v":""}]
[null,null,null,{"$f":"IFERROR(VLOOKUP(C125,Participants!$B$3:$C$1002,2,0),\"\")","v":""},null,{"$f":"IFERROR(VLOOKUP(E125,Participants!$B$3:$C$1002,2,0),\"\")","v":""}]
[null,null,null,{"$f":"IFERROR(VLOOKUP(C126,Participants!$B$3:$C$1002,2,0),\"\")","v":""},null,{"$f":"IFERROR(VLOOKUP(E126,Participants!$B$3:$C$1002,2,0),\"\")","v":""}]
[null,null,null,{"$f":"IFERROR(VLOOKUP(C127,Participants!$B$3:$C$1002,2,0),\"\")","v":""},null,{"$f":"IFERROR(VLOOKUP(E127,Participants!$B$3:$C$1002,2,0),\"\")","v":""}]
[null,null,null,{"$f":"IFERROR(VLOOKUP(C128,Participants!$B$3:$C$1002,2,0),\"\")","v":""},null,{"$f":"IFERROR(VLOOKUP(E128,Participants!$B$3:$C$1002,2,0),\"\")","v":""}]
[null,null,null,{"$f":"IFERROR(VLOOKUP(C129,Participants!$B$3:$C$1002,2,0),\"\")","v":""},null,{"$f":"IFERROR(VLOOKUP(E129,Participants!$B$3:$C$1002,2,0),\"\")","v":""}]
[null,null,null,{"$f":"IFERROR(VLOOKUP(C130,Participants!$B$3:$C$1002,2,0),\"\")","v":""},null,{"$f":"IFERROR(VLOOKUP(E130,Participants!$B$3:$C$1002,2,0),\"\")","v":""}]
[null,null,null,{"$f":"IFERROR(VLOOKUP(C131,Participants!$B$3:$C$1002,2,0),\"\")","v":""},null,{"$f":"IFERROR(VLOOKUP(E131,Participants!$B$3:$C$1002,2,0),\"\")","v":""}]
[null,null,null,{"$f":"IFERROR(VLOOKUP(C132,Participants!$B$3:$C$1002,2,0),\"\")","v":""},null,{"$f":"IFERROR(VLOOKUP(E132,Participants!$B$3:$C$1002,2,0),\"\")","v":""}]
[null,null,null,{"$f":"IFERROR(VLOOKUP(C133,Participants!$B$3:$C$1002,2,0),\"\")","v":""},null,{"$f":"IFERROR(VLOOKUP(E133,Participants!$B$3:$C$1002,2,0),\"\")","v":""}]
[null,null,null,{"$f":"IFERROR(VLOOKUP(C134,Participants!$B$3:$C$1002,2,0),\"\")","v":""},null,{"$f":"IFERROR(VLOOKUP(E134,Participants!$B$3:$C$1002,2,0),\"\")","v":""}]
[null,null,null,{"$f":"IFERROR(VLOOKUP(C135,Participants!$B$3:$C$1002,2,0),\"\")","v":""},null,{"$f":"IFERROR(VLOOKUP(E135,Participants!$B$3:$C$1002,2,0),\"\")","v":""}]
[null,null,null,{"$f":"IFERROR(VLOOKUP(C136,Participants!$B$3:$C$1002,2,0),\"\")","v":""},null,{"$f":"IFERROR(VLOOKUP(E136,Participants!$B$3:$C$1002,2,0),\"\")","v":""}]
[null,null,null,{"$f":"IFERROR(VLOOKUP(C137,Participants!$B$3:$C$1002,2,0),\"\")","v":""},null,{"$f":"IFERROR(VLOOKUP(E137,Participants!$B$3:$C$1002,2,0),\"\")","v":""}]
[null,null,null,{"$f":"IFERROR(VLOOKUP(C138,Participants!$B$3:$C$1002,2,0),\"\")","v":""},null,{"$f":"IFERROR(VLOOKUP(E138,Participants!$B$3:$C$1002,2,0),\"\")","v":""}]
[null,null,null,{"$f":"IFERROR(VLOOKUP(C139,Participants!$B$3:$C$1002,2,0),\"\")","v":""},null,{"$f":"IFERROR(VLOOKUP(E139,Participants!$B$3:$C$1002,2,0),\"\")","v":""}]
[null,null,null,{"$f":"IFERROR(VLOOKUP(C140,Participants!$B$3:$C$1002,2,0),\"\")","v":""},null,{"$f":"IFERROR(VLOOKUP(E140,Participants!$B$3:$C$1002,2,0),\"\")","v":""}]
[null,null,null,{"$f":"IFERROR(VLOOKUP(C141,Participants!$B$3:$C$1002,2,0),\"\")","v":""},null,{"$f":"IFERROR(VLOOKUP(E141,Participants!$B$3:$C$1002,2,0),\"\")","v":""}]
[null,null,null,{"$f":"IFERROR(VLOOKUP(C142,Participants!$B$3:$C$1002,2,0),\"\")","v":""},null,{"$f":"IFERROR(VLOOKUP(E142,Participants!$B$3:$C$1002,2,0),\"\")","v":""}]
[null,null,null,{"$f":"IFERROR(VLOOKUP(C143,Participants!$B$3:$C$1002,2,0),\"\")","v":""},null,{"$f":"IFERROR(VLOOKUP(E143,Participants!$B$3:$C$1002,2,0),\"\")","v":""}]
[null,null,null,{"$f":"IFERROR(VLOOKUP(C144,Participants!$B$3:$C$1002,2,0),\"\")","v":""},null,{"$f":"IFERROR(VLOOKUP(E144,Participants!$B$3:$C$1002,2,0),\"\")","v":""}]
[null,null,null,{"$f":"IFERROR(VLOOKUP(C145,Participants!$B$3:$C$1002,2,0),\"\")","v":""},null,{"$f":"IFERROR(VLOOKUP(E145,Participants!$B$3:$C$1002,2,0),\"\")","v":""}]
[null,null,null,{"$f":"IFERROR(VLOOKUP(C146,Participants!$B$3:$C$1002,2,0),\"\")","v":""},null,{"$f":"IFERROR(VLOOKUP(E146,Participants!$B$3:$C$1002,2,0),\"\")","v":""}]
[null,null,null,{"$f":"IFERROR(VLOOKUP(C147,Participants!$B$3:$C$1002,2,0),\"\")","v":""},null,{"$f":"IFERROR(VLOOKUP(E147,Participants!$B$3:$C$1002,2,0),\"\")","v":""}]
[null,null,null,{"$f":"IFERROR(VLOOKUP(C148,Participants!$B$3:$C$1002,2,0),\"\")","v":""},null,{"$f":"IFERROR(VLOOKUP(E148,Participants!$B$3:$C$1002,2,0),\"\")","v":""}]
[null,null,null,{"$f":"IFERROR(VLOOKUP(C149,Participants!$B$3:$C$1002,2,0),\"\")","v":""},null,{"$f":"IFERROR(VLOOKUP(E149,Participants!$B$3:$C$1002,2,0),\"\")","v":""}]
[null,null,null,{"$f":"IFERROR(VLOOKUP(C150,Participants!$B$3:$C$1002,2,0),\"\")","v":""},null,{"$f":"IFERROR(VLOOKUP(E150,Participants!$B$3:$C$1002,2,0),\"\")","v":""}]
[null,null,null,{"$f":"IFERROR(VLOOKUP(C151,Participants!$B$3:$C$1002,2,0),\"\")","v":""},null,{"$f":"IFERROR(VLOOKUP(E151,Participants!$B$3:$C$1002,2,0),\"\")","v":""}]
[null,null,null,{"$f":"IFERROR(VLOOKUP(C152,Participants!$B$3:$C$1002,2,0),\"\")","v":""},null,{"$f":"IFERROR(VLOOKUP(E152,Participants!$B$3:$C$1002,2,0),\"\")","v":""}]
[null,null,null,{"$f":"IFERROR(VLOOKUP(C153,Participants!$B$3:$C$1002,2,0),\"\")","v":""},null,{"$f":"IFERROR(VLOOKUP(E153,Participants!$B$3:$C$1002,2,0),\"\")","v":""}]
[null,null,null,{"$f":"IFERROR(VLOOKUP(C154,Participants!$B$3:$C$1002,2,0),\"\")","v":""},null,{"$f":"IFERROR(VLOOKUP(E154,Participants!$B$3:$C$1002,2,0),\"\")","v":""}]
[null,null,null,{"$f":"IFERROR(VLOOKUP(C155,Participants!$B$3:$C$1002,2,0),\"\")","v":""},null,{"$f":"IFERROR(VLOOKUP(E155,Participants!$B$3:$C$1002,2,0),\"\")","v":""}]
[null,null,null,{"$f":"IFERROR(VLOOKUP(C156,Participants!$B$3:$C$1002,2,0),\"\")","v":""},null,{"$f":"IFERROR(VLOOKUP(E156,Participants!$B$3:$C$1002,2,0),\"\")","v":""}]
[null,null,null,{"$f":"IFERROR(VLOOKUP(C157,Participants!$B$3:$C$1002,2,0),\"\")","v":""},null,{"$f":"IFERROR(VLOOKUP(E157,Participants!$B$3:$C$1002,2,0),\"\")","v":""}]
[null,null,null,{"$f":"IFERROR(VLOOKUP(C158,Participants!$B$3:$C$1002,2,0),\"\")","v":""},null,{"$f":"IFERROR(VLOOKUP(E158,Participants!$B$3:$C$1002,2,0),\"\")","v":""}]
[null,null,null,{"$f":"IFERROR(VLOOKUP(C159,Participants!$B$3:$C$1002,2,0),\"\")","v":""},null,{"$f":"IFERROR(VLOOKUP(E159,Participants!$B$3:$C$1002,2,0),\"\")","v":""}]
[null,null,null,{"$f":"IFERROR(VLOOKUP(C160,Participants!$B$3:$C$1002,2,0),\"\")","v":""},null,{"$f":"IFERROR(VLOOKUP(E160,Participants!$B$3:$C$1002,2,0),\"\")","v":""}]
[null,null,null,{"$f":"IFERROR(VLOOKUP(C161,Participants!$B$3:$C$1002,2,0),\"\")","v":""},null,{"$f":"IFERROR(VLOOKUP(E161,Participants!$B$3:$C$1002,2,0),\"\")","v":""}]
[null,null,null,{"$f":"IFERROR(VLOOKUP(C162,Participants!$B$3:$C$1002,2,0),\"\")","v":""},null,{"$f":"IFERROR(VLOOKUP(E162,Participants!$B$3:$C$1002,2,0),\"\")","v":""}]
[null,null,null,{"$f":"IFERROR(VLOOKUP(C163,Participants!$B$3:$C$1002,2,0),\"\")","v":""},null,{"$f":"IFERROR(VLOOKUP(E163,Participants!$B$3:$C$1002,2,0),\"\")","v":""}]
[null,null,null,{"$f":"IFERROR(VLOOKUP(C164,Participants!$B$3:$C$1002,2,0),\"\")","v":""},null,{"$f":"IFERROR(VLOOKUP(E164,Participants!$B$3:$C$1002,2,0),\"\")","v":""}]
[null,null,null,{"$f":"IFERROR(VLOOKUP(C165,Participants!$B$3:$C$1002,2,0),\"\")","v":""},null,{"$f":"IFERROR(VLOOKUP(E165,Participants!$B$3:$C$1002,2,0),\"\")","v":""}]
[null,null,null,{"$f":"IFERROR(VLOOKUP(C166,Participants!$B$3:$C$1002,2,0),\"\")","v":""},null,{"$f":"IFERROR(VLOOKUP(E166,Participants!$B$3:$C$1002,2,0),\"\")","v":""}]
[null,null,null,{"$f":"IFERROR(VLOOKUP(C167,Participants!$B$3:$C$1002,2,0),\"\")","v":""},null,{"$f":"IFERROR(VLOOKUP(E167,Participants!$B$3:$C$1002,2,0),\"\")","v":""}]
[null,null,null,{"$f":"IFERROR(VLOOKUP(C168,Participants!$B$3:$C$1002,2,0),\"\")","v":""},null,{"$f":"IFERROR(VLOOKUP(E168,Participants!$B$3:$C$1002,2,0),\"\")","v":""}]
[null,null,null,{"$f":"IFERROR(VLOOKUP(C169,Participants!$B$3:$C$1002,2,0),\"\")","v":""},null,{"$f":"IFERROR(VLOOKUP(E169,Participants!$B$3:$C$1002,2,0),\"\")","v":""}]
[null,null,null,{"$f":"IFERROR(VLOOKUP(C170,Participants!$B$3:$C$1002,2,0),\"\")","v":""},null,{"$f":"IFERROR(VLOOKUP(E170,Participants!$B$3:$C$1002,2,0),\"\")","v":""}]
[null,null,null,{"$f":"IFERROR(VLOOKUP(C171,Participants!$B$3:$C$1002,2,0),\"\")","v":""},null,{"$f":"IFERROR(VLOOKUP(E171,Participants!$B$3:$C$1002,2,0),\"\")","v":""}]
[null,null,null,{"$f":"IFERROR(VLOOKUP(C172,Participants!$B$3:$C$1002,2,0),\"\")","v":""},null,{"$f":"IFERROR(VLOOKUP(E172,Participants!$B$3:$C$1002,2,0),\"\")","v":""}]
[null,null,null,{"$f":"IFERROR(VLOOKUP(C173,Participants!$B$3:$C$1002,2,0),\"\")","v":""},null,{"$f":"IFERROR(VLOOKUP(E173,Participants!$B$3:$C$1002,2,0),\"\")","v":""}]
[null,null,null,{"$f":"IFERROR(VLOOKUP(C174,Participants!$B$3:$C$1002,2,0),\"\")","v":""},null,{"$f":"IFERROR(VLOOKUP(E174,Participants!$B$3:$C$1002,2,0),\"\")","v":""}]
[null,null,null,{"$f":"IFERROR(VLOOKUP(C175,Participants!$B$3:$C$1002,2,0),\"\")","v":""},null,{"$f":"IFERROR(VLOOKUP(E175,Participants!$B$3:$C$1002,2,0),\"\")","v":""}]
[null,null,null,{"$f":"IFERROR(VLOOKUP(C176,Participants!$B$3:$C$1002,2,0),\"\")","v":""},null,{"$f":"IFERROR(VLOOKUP(E176,Participants!$B$3:$C$1002,2,0),\"\")","v":""}]
[null,null,null,{"$f":"IFERROR(VLOOKUP(C177,Participants!$B$3:$C$1002,2,0),\"\")","v":""},null,{"$f":"IFERROR(VLOOKUP(E177,Participants!$B$3:$C$1002,2,0),\"\")","v":""}]
[null,null,null,{"$f":"IFERROR(VLOOKUP(C178,Participants!$B$3:$C$1002,2,0),\"\")","v":""},null,{"$f":"IFERROR(VLOOKUP(E178,Participants!$B$3:$C$1002,2,0),\"\")","v":""}]
[null,null,null,{"$f":"IFERROR(VLOOKUP(C179,Participants!$B$3:$C$1002,2,0),\"\")","v":""},null,{"$f":"IFERROR(VLOOKUP(E179,Participants!$B$3:$C$1002,2,0),\"\")","v":""}]
[null,null,null,{"$f":"IFERROR(VLOOKUP(C180,Participants!$B$3:$C$1002,2,0),\"\")","v":""},null,{"$f":"IFERROR(VLOOKUP(E180,Participants!$B$3:$C$1002,2,0),\"\")","v":""}]
[null,null,null,{"$f":"IFERROR(VLOOKUP(C181,Participants!$B$3:$C$1002,2,0),\"\")","v":""},null,{"$f":"IFERROR(VLOOKUP(E181,Participants!$B$3:$C$1002,2,0),\"\")","v":""}]
[null,null,null,{"$f":"IFERROR(VLOOKUP(C182,Participants!$B$3:$C$1002,2,0),\"\")","v":""},null,{"$f":"IFERROR(VLOOKUP(E182,Participants!$B$3:$C$1002,2,0),\"\")","v":""}]
[null,null,null,{"$f":"IFERROR(VLOOKUP(C183,Participants!$B$3:$C$1002,2,0),\"\")","v":""},null,{"$f":"IFERROR(VLOOKUP(E183,Participants!$B$3:$C$1002,2,0),\"\")","v":""}]
[null,null,null,{"$f":"IFERROR(VLOOKUP(C184,Participants!$B$3:$C$1002,2,0),\"\")","v":""},null,{"$f":"IFERROR(VLOOKUP(E184,Participants!$B$3:$C$1002,2,0),\"\")","v":""}]
[null,null,null,{"$f":"IFERROR(VLOOKUP(C185,Participants!$B$3:$C$1002,2,0),\"\")","v":""},null,{"$f":"IFERROR(VLOOKUP(E185,Participants!$B$3:$C$1002,2,0),\"\")","v":""}]
[null,null,null,{"$f":"IFERROR(VLOOKUP(C186,Participants!$B$3:$C$1002,2,0),\"\")","v":""},null,{"$f":"IFERROR(VLOOKUP(E186,Participants!$B$3:$C$1002,2,0),\"\")","v":""}]
[null,null,null,{"$f":"IFERROR(VLOOKUP(C187,Participants!$B$3:$C$1002,2,0),\"\")","v":""},null,{"$f":"IFERROR(VLOOKUP(E187,Participants!$B$3:$C$1002,2,0),\"\")","v":""}]
[null,null,null,{"$f":"IFERROR(VLOOKUP(C188,Participants!$B$3:$C$1002,2,0),\"\")","v":""},null,{"$f":"IFERROR(VLOOKUP(E188,Participants!$B$3:$C$1002,2,0),\"\")","v":""}]
[null,null,null,{"$f":"IFERROR(VLOOKUP(C189,Participants!$B$3:$C$1002,2,0),\"\")","v":""},null,{"$f":"IFERROR(VLOOKUP(E189,Participants!$B$3:$C$1002,2,0),\"\")","v":""}]
[null,null,null,{"$f":"IFERROR(VLOOKUP(C190,Participants!$B$3:$C$1002,2,0),\"\")","v":""},null,{"$f":"IFERROR(VLOOKUP(E190,Participants!$B$3:$C$1002,2,0),\"\")","v":""}]
[null,null,null,{"$f":"IFERROR(VLOOKUP(C191,Participants!$B$3:$C$1002,2,0),\"\")","v":""},null,{"$f":"IFERROR(VLOOKUP(E191,Participants!$B$3:$C$1002,2,0),\"\")","v":""}]
[null,null,null,{"$f":"IFERROR(VLOOKUP(C192,Participants!$B$3:$C$1002,2,0),\"\")","v":""},null,{"$f":"IFERROR(VLOOKUP(E192,Participants!$B$3:$C$1002,2,0),\"\")","v":""}]
[null,null,null,{"$f":"IFERROR(VLOOKUP(C193,Participants!$B$3:$C$1002,2,0),\"\")","v":""},null,{"$f":"IFERROR(VLOOKUP(E193,Participants!$B$3:$C$1002,2,0),\"\")","v":""}]
[null,null,null,{"$f":"IFERROR(VLOOKUP(C194,Participants!$B$3:$C$1002,2,0),\"\")","v":""},null,{"$f":"IFERROR(VLOOKUP(E194,Participants!$B$3:$C$1002,2,0),\"\")","v":""}]
[null,null,null,{"$f":"IFERROR(VLOOKUP(C195,Participants!$B$3:$C$1002,2,0),\"\")","v":""},null,{"$f":"IFERROR(VLOOKUP(E195,Participants!$B$3:$C$1002,2,0),\"\")","v":""}]
[null,null,null,{"$f":"IFERROR(VLOOKUP(C196,Participants!$B$3:$C$1002,2,0),\"\")","v":""},null,{"$f":"IFERROR(VLOOKUP(E196,Participants!$B$3:$C$1002,2,0),\"\")","v":""}]
[null,null,null,{"$f":"IFERROR(VLOOKUP(C197,Participants!$B$3:$C$1002,2,0),\"\")","v":""},null,{"$f":"IFERROR(VLOOKUP(E197,Participants!$B$3:$C$1002,2,0),\"\")","v":""}]
[null,null,null,{"$f":"IFERROR(VLOOKUP(C198,Participants!$B$3:$C$1002,2,0),\"\")","v":""},null,{"$f":"IFERROR(VLOOKUP(E198,Participants!$B$3:$C$1002,2,0),\"\")","v":""}]
[null,null,null,{"$f":"IFERROR(VLOOKUP(C199,Participants!$B$3:$C$1002,2,0),\"\")","v":""},null,{"$f":"IFERROR(VLOOKUP(E199,Participants!$B$3:$C$1002,2,0),\"\")","v":""}]
[null,null,null,{"$f":"IFERROR(VLOOKUP(C200,Participants!$B$3:$C$1002,2,0),\"\")","v":""},null,{"$f":"IFERROR(VLOOKUP(E200,Participants!$B$3:$C$1002,2,0),\"\")","v":""}]
[null,null,null,{"$f":"IFERROR(VLOOKUP(C201,Participants!$B$3:$C$1002,2,0),\"\")","v":""},null,{"$f":"IFERROR(VLOOKUP(E201,Participants!$B$3:$C$1002,2,0),\"\")","v":""}]
[null,null,null,{"$f":"IFERROR(VLOOKUP(C202,Participants!$B$3:$C$1002,2,0),\"\")","v":""},null,{"$f":"IFERROR(VLOOKUP(E202,Participants!$B$3:$C$1002,2,0),\"\")","v":""}]
[null,null,null,{"$f":"IFERROR(VLOOKUP(C203,Participants!$B$3:$C$1002,2,0),\"\")","v":""},null,{"$f":"IFERROR(VLOOKUP(E203,Participants!$B$3:$C$1002,2,0),\"\")","v":""}]
[null,null,null,{"$f":"IFERROR(VLOOKUP(C204,Participants!$B$3:$C$1002,2,0),\"\")","v":""},null,{"$f":"IFERROR(VLOOKUP(E204,Participants!$B$3:$C$1002,2,0),\"\")","v":""}]
[null,null,null,{"$f":"IFERROR(VLOOKUP(C205,Participants!$B$3:$C$1002,2,0),\"\")","v":""},null,{"$f":"IFERROR(VLOOKUP(E205,Participants!$B$3:$C$1002,2,0),\"\")","v":""}]
[null,null,null,{"$f":"IFERROR(VLOOKUP(C206,Participants!$B$3:$C$1002,2,0),\"\")","v":""},null,{"$f":"IFERROR(VLOOKUP(E206,Participants!$B$3:$C$1002,2,0),\"\")","v":""}]
[null,null,null,{"$f":"IFERROR(VLOOKUP(C207,Participants!$B$3:$C$1002,2,0),\"\")","v":""},null,{"$f":"IFERROR(VLOOKUP(E207,Participants!$B$3:$C$1002,2,0),\"\")","v":""}]
[null,null,null,{"$f":"IFERROR(VLOOKUP(C208,Participants!$B$3:$C$1002,2,0),\"\")","v":""},null,{"$f":"IFERROR(VLOOKUP(E208,Participants!$B$3:$C$1002,2,0),\"\")","v":""}]
[null,null,null,{"$f":"IFERROR(VLOOKUP(C209,Participants!$B$3:$C$1002,2,0),\"\")","v":""},null,{"$f":"IFERROR(VLOOKUP(E209,Participants!$B$3:$C$1002,2,0),\"\")","v":""}]
[null,null,null,{"$f":"IFERROR(VLOOKUP(C210,Participants!$B$3:$C$1002,2,0),\"\")","v":""},null,{"$f":"IFERROR(VLOOKUP(E210,Participants!$B$3:$C$1002,2,0),\"\")","v":""}]
[null,null,null,{"$f":"IFERROR(VLOOKUP(C211,Participants!$B$3:$C$1002,2,0),\"\")","v":""},null,{"$f":"IFERROR(VLOOKUP(E211,Participants!$B$3:$C$1002,2,0),\"\")","v":""}]
[null,null,null,{"$f":"IFERROR(VLOOKUP(C212,Participants!$B$3:$C$1002,2,0),\"\")","v":""},null,{"$f":"IFERROR(VLOOKUP(E212,Participants!$B$3:$C$1002,2,0),\"\")","v":""}]
[null,null,null,{"$f":"IFERROR(VLOOKUP(C213,Participants!$B$3:$C$1002,2,0),\"\")","v":""},null,{"$f":"IFERROR(VLOOKUP(E213,Participants!$B$3:$C$1002,2,0),\"\")","v":""}]
[null,null,null,{"$f":"IFERROR(VLOOKUP(C214,Participants!$B$3:$C$1002,2,0),\"\")","v":""},null,{"$f":"IFERROR(VLOOKUP(E214,Participants!$B$3:$C$1002,2,0),\"\")","v":""}]
[null,null,null,{"$f":"IFERROR(VLOOKUP(C215,Participants!$B$3:$C$1002,2,0),\"\")","v":""},null,{"$f":"IFERROR(VLOOKUP(E215,Participants!$B$3:$C$1002,2,0),\"\")","v":""}]
[null,null,null,{"$f":"IFERROR(VLOOKUP(C216,Participants!$B$3:$C$1002,2,0),\"\")","v":""},null,{"$f":"IFERROR(VLOOKUP(E216,Participants!$B$3:$C$1002,2,0),\"\")","v":""}]
[null,null,null,{"$f":"IFERROR(VLOOKUP(C217,Participants!$B$3:$C$1002,2,0),\"\")","v":""},null,{"$f":"IFERROR(VLOOKUP(E217,Participants!$B$3:$C$1002,2,0),\"\")","v":""}]
[null,null,null,{"$f":"IFERROR(VLOOKUP(C218,Participants!$B$3:$C$1002,2,0),\"\")","v":""},null,{"$f":"IFERROR(VLOOKUP(E218,Participants!$B$3:$C$1002,2,0),\"\")","v":""}]
[null,null,null,{"$f":"IFERROR(VLOOKUP(C219,Participants!$B$3:$C$1002,2,0),\"\")","v":""},null,{"$f":"IFERROR(VLOOKUP(E219,Participants!$B$3:$C$1002,2,0),\"\")","v":""}]
[null,null,null,{"$f":"IFERROR(VLOOKUP(C220,Participants!$B$3:$C$1002,2,0),\"\")","v":""},null,{"$f":"IFERROR(VLOOKUP(E220,Participants!$B$3:$C$1002,2,0),\"\")","v":""}]
[null,null,null,{"$f":"IFERROR(VLOOKUP(C221,Participants!$B$3:$C$1002,2,0),\"\")","v":""},null,{"$f":"IFERROR(VLOOKUP(E221,Participants!$B$3:$C$1002,2,0),\"\")","v":""}]
[null,null,null,{"$f":"IFERROR(VLOOKUP(C222,Participants!$B$3:$C$1002,2,0),\"\")","v":""},null,{"$f":"IFERROR(VLOOKUP(E222,Participants!$B$3:$C$1002,2,0),\"\")","v":""}]
[null,null,null,{"$f":"IFERROR(VLOOKUP(C223,Participants!$B$3:$C$1002,2,0),\"\")","v":""},null,{"$f":"IFERROR(VLOOKUP(E223,Participants!$B$3:$C$1002,2,0),\"\")","v":""}]
[null,null,null,{"$f":"IFERROR(VLOOKUP(C224,Participants!$B$3:$C$1002,2,0),\"\")","v":""},null,{"$f":"IFERROR(VLOOKUP(E224,Participants!$B$3:$C$1002,2,0),\"\")","v":""}]
[null,null,null,{"$f":"IFERROR(VLOOKUP(C225,Participants!$B$3:$C$1002,2,0),\"\")","v":""},null,{"$f":"IFERROR(VLOOKUP(E225,Participants!$B$3:$C$1002,2,0),\"\")","v":""}]
[null,null,null,{"$f":"IFERROR(VLOOKUP(C226,Participants!$B$3:$C$1002,2,0),\"\")","v":""},null,{"$f":"IFERROR(VLOOKUP(E226,Participants!$B$3:$C$1002,2,0),\"\")","v":""}]
[null,null,null,{"$f":"IFERROR(VLOOKUP(C227,Participants!$B$3:$C$1002,2,0),\"\")","v":""},null,{"$f":"IFERROR(VLOOKUP(E227,Participants!$B$3:$C$1002,2,0),\"\")","v":""}]
[null,null,null,{"$f":"IFERROR(VLOOKUP(C228,Participants!$B$3:$C$1002,2,0),\"\")","v":""},null,{"$f":"IFERROR(VLOOKUP(E228,Participants!$B$3:$C$1002,2,0),\"\")","v":""}]
[null,null,null,{"$f":"IFERROR(VLOOKUP(C229,Participants!$B$3:$C$1002,2,0),\"\")","v":""},null,{"$f":"IFERROR(VLOOKUP(E229,Participants!$B$3:$C$1002,2,0),\"\")","v":""}]
[null,null,null,{"$f":"IFERROR(VLOOKUP(C230,Participants!$B$3:$C$1002,2,0),\"\")","v":""},null,{"$f":"IFERROR(VLOOKUP(E230,Participants!$B$3:$C$1002,2,0),\"\")","v":""}]
[null,null,null,{"$f":"IFERROR(VLOOKUP(C231,Participants!$B$3:$C$1002,2,0),\"\")","v":""},null,{"$f":"IFERROR(VLOOKUP(E231,Participants!$B$3:$C$1002,2,0),\"\")","v":""}]
[null,null,null,{"$f":"IFERROR(VLOOKUP(C232,Participants!$B$3:$C$1002,2,0),\"\")","v":""},null,{"$f":"IFERROR(VLOOKUP(E232,Participants!$B$3:$C$1002,2,0),\"\")","v":""}]
[null,null,null,{"$f":"IFERROR(VLOOKUP(C233,Participants!$B$3:$C$1002,2,0),\"\")","v":""},null,{"$f":"IFERROR(VLOOKUP(E233,Participants!$B$3:$C$1002,2,0),\"\")","v":""}]
[null,null,null,{"$f":"IFERROR(VLOOKUP(C234,Participants!$B$3:$C$1002,2,0),\"\")","v":""},null,{"$f":"IFERROR(VLOOKUP(E234,Participants!$B$3:$C$1002,2,0),\"\")","v":""}]
[null,null,null,{"$f":"IFERROR(VLOOKUP(C235,Participants!$B$3:$C$1002,2,0),\"\")","v":""},null,{"$f":"IFERROR(VLOOKUP(E235,Participants!$B$3:$C$1002,2,0),\"\")","v":""}]
[null,null,null,{"$f":"IFERROR(VLOOKUP(C236,Participants!$B$3:$C$1002,2,0),\"\")","v":""},null,{"$f":"IFERROR(VLOOKUP(E236,Participants!$B$3:$C$1002,2,0),\"\")","v":""}]
[null,null,null,{"$f":"IFERROR(VLOOKUP(C237,Participants!$B$3:$C$1002,2,0),\"\")","v":""},null,{"$f":"IFERROR(VLOOKUP(E237,Participants!$B$3:$C$1002,2,0),\"\")","v":""}]
[null,null,null,{"$f":"IFERROR(VLOOKUP(C238,Participants!$B$3:$C$1002,2,0),\"\")","v":""},null,{"$f":"IFERROR(VLOOKUP(E238,Participants!$B$3:$C$1002,2,0),\"\")","v":""}]
[null,null,null,{"$f":"IFERROR(VLOOKUP(C239,Participants!$B$3:$C$1002,2,0),\"\")","v":""},null,{"$f":"IFERROR(VLOOKUP(E239,Participants!$B$3:$C$1002,2,0),\"\")","v":""}]
[null,null,null,{"$f":"IFERROR(VLOOKUP(C240,Participants!$B$3:$C$1002,2,0),\"\")","v":""},null,{"$f":"IFERROR(VLOOKUP(E240,Participants!$B$3:$C$1002,2,0),\"\")","v":""}]
[null,null,null,{"$f":"IFERROR(VLOOKUP(C241,Participants!$B$3:$C$1002,2,0),\"\")","v":""},null,{"$f":"IFERROR(VLOOKUP(E241,Participants!$B$3:$C$1002,2,0),\"\")","v":""}]
[null,null,null,{"$f":"IFERROR(VLOOKUP(C242,Participants!$B$3:$C$1002,2,0),\"\")","v":""},null,{"$f":"IFERROR(VLOOKUP(E242,Participants!$B$3:$C$1002,2,0),\"\")","v":""}]
[null,null,null,{"$f":"IFERROR(VLOOKUP(C243,Participants!$B$3:$C$1002,2,0),\"\")","v":""},null,{"$f":"IFERROR(VLOOKUP(E243,Participants!$B$3:$C$1002,2,0),\"\")","v":""}]
[null,null,null,{"$f":"IFERROR(VLOOKUP(C244,Participants!$B$3:$C$1002,2,0),\"\")","v":""},null,{"$f":"IFERROR(VLOOKUP(E244,Participants!$B$3:$C$1002,2,0),\"\")","v":""}]
[null,null,null,{"$f":"IFERROR(VLOOKUP(C245,Participants!$B$3:$C$1002,2,0),\"\")","v":""},null,{"$f":"IFERROR(VLOOKUP(E245,Participants!$B$3:$C$1002,2,0),\"\")","v":""}]
[null,null,null,{"$f":"IFERROR(VLOOKUP(C246,Participants!$B$3:$C$1002,2,0),\"\")","v":""},null,{"$f":"IFERROR(VLOOKUP(E246,Participants!$B$3:$C$1002,2,0),\"\")","v":""}]
[null,null,null,{"$f":"IFERROR(VLOOKUP(C247,Participants!$B$3:$C$1002,2,0),\"\")","v":""},null,{"$f":"IFERROR(VLOOKUP(E247,Participants!$B$3:$C$1002,2,0),\"\")","v":""}]
[null,null,null,{"$f":"IFERROR(VLOOKUP(C248,Participants!$B$3:$C$1002,2,0),\"\")","v":""},null,{"$f":"IFERROR(VLOOKUP(E248,Participants!$B$3:$C$1002,2,0),\"\")","v":""}]
[null,null,null,{"$f":"IFERROR(VLOOKUP(C249,Participants!$B$3:$C$1002,2,0),\"\")","v":""},null,{"$f":"IFERROR(VLOOKUP(E249,Participants!$B$3:$C$1002,2,0),\"\")","v":""}]
[null,null,null,{"$f":"IFERROR(VLOOKUP(C250,Participants!$B$3:$C$1002,2,0),\"\")","v":""},null,{"$f":"IFERROR(VLOOKUP(E250,Participants!$B$3:$C$1002,2,0),\"\")","v":""}]
[null,null,null,{"$f":"IFERROR(VLOOKUP(C251,Participants!$B$3:$C$1002,2,0),\"\")","v":""},null,{"$f":"IFERROR(VLOOKUP(E251,Participants!$B$3:$C$1002,2,0),\"\")","v":""}]
[null,null,null,{"$f":"IFERROR(VLOOKUP(C252,Participants!$B$3:$C$1002,2,0),\"\")","v":""},null,{"$f":"IFERROR(VLOOKUP(E252,Participants!$B$3:$C$1002,2,0),\"\")","v":""}]
[null,null,null,{"$f":"IFERROR(VLOOKUP(C253,Participants!$B$3:$C$1002,2,0),\"\")","v":""},null,{"$f":"IFERROR(VLOOKUP(E253,Participants!$B$3:$C$1002,2,0),\"\")","v":""}]
[null,null,null,{"$f":"IFERROR(VLOOKUP(C254,Participants!$B$3:$C$1002,2,0),\"\")","v":""},null,{"$f":"IFERROR(VLOOKUP(E254,Participants!$B$3:$C$1002,2,0),\"\")","v":""}]
[null,null,null,{"$f":"IFERROR(VLOOKUP(C255,Participants!$B$3:$C$1002,2,0),\"\")","v":""},null,{"$f":"IFERROR(VLOOKUP(E255,Participants!$B$3:$C$1002,2,0),\"\")","v":""}]
[null,null,null,{"$f":"IFERROR(VLOOKUP(C256,Participants!$B$3:$C$1002,2,0),\"\")","v":""},null,{"$f":"IFERROR(VLOOKUP(E256,Participants!$B$3:$C$1002,2,0),\"\")","v":""}]
[null,null,null,{"$f":"IFERROR(VLOOKUP(C257,Participants!$B$3:$C$1002,2,0),\"\")","v":""},null,{"$f":"IFERROR(VLOOKUP(E257,Participants!$B$3:$C$1002,2,0),\"\")","v":""}]
[null,null,null,{"$f":"IFERROR(VLOOKUP(C258,Participants!$B$3:$C$1002,2,0),\"\")","v":""},null,{"$f":"IFERROR(VLOOKUP(E258,Participants!$B$3:$C$1002,2,0),\"\")","v":""}]
[null,null,null,{"$f":"IFERROR(VLOOKUP(C259,Participants!$B$3:$C$1002,2,0),\"\")","v":""},null,{"$f":"IFERROR(VLOOKUP(E259,Participants!$B$3:$C$1002,2,0),\"\")","v":""}]
[null,null,null,{"$f":"IFERROR(VLOOKUP(C260,Participants!$B$3:$C$1002,2,0),\"\")","v":""},null,{"$f":"IFERROR(VLOOKUP(E260,Participants!$B$3:$C$1002,2,0),\"\")","v":""}]
[null,null,null,{"$f":"IFERROR(VLOOKUP(C261,Participants!$B$3:$C$1002,2,0),\"\")","v":""},null,{"$f":"IFERROR(VLOOKUP(E261,Participants!$B$3:$C$1002,2,0),\"\")","v":""}]
[null,null,null,{"$f":"IFERROR(VLOOKUP(C262,Participants!$B$3:$C$1002,2,0),\"\")","v":""},null,{"$f":"IFERROR(VLOOKUP(E262,Participants!$B$3:$C$1002,2,0),\"\")","v":""}]
[null,null,null,{"$f":"IFERROR(VLOOKUP(C263,Participants!$B$3:$C$1002,2,0),\"\")","v":""},null,{"$f":"IFERROR(VLOOKUP(E263,Participants!$B$3:$C$1002,2,0),\"\")","v":""}]
[null,null,null,{"$f":"IFERROR(VLOOKUP(C264,Participants!$B$3:$C$1002,2,0),\"\")","v":""},null,{"$f":"IFERROR(VLOOKUP(E264,Participants!$B$3:$C$1002,2,0),\"\")","v":""}]
[null,null,null,{"$f":"IFERROR(VLOOKUP(C265,Participants!$B$3:$C$1002,2,0),\"\")","v":""},null,{"$f":"IFERROR(VLOOKUP(E265,Participants!$B$3:$C$1002,2,0),\"\")","v":""}]
[null,null,null,{"$f":"IFERROR(VLOOKUP(C266,Participants!$B$3:$C$1002,2,0),\"\")","v":""},null,{"$f":"IFERROR(VLOOKUP(E266,Participants!$B$3:$C$1002,2,0),\"\")","v":""}]
[null,null,null,{"$f":"IFERROR(VLOOKUP(C267,Participants!$B$3:$C$1002,2,0),\"\")","v":""},null,{"$f":"IFERROR(VLOOKUP(E267,Participants!$B$3:$C$1002,2,0),\"\")","v":""}]
[null,null,null,{"$f":"IFERROR(VLOOKUP(C268,Participants!$B$3:$C$1002,2,0),\"\")","v":""},null,{"$f":"IFERROR(VLOOKUP(E268,Participants!$B$3:$C$1002,2,0),\"\")","v":""}]
[null,null,null,{"$f":"IFERROR(VLOOKUP(C269,Participants!$B$3:$C$1002,2,0),\"\")","v":""},null,{"$f":"IFERROR(VLOOKUP(E269,Participants!$B$3:$C$1002,2,0),\"\")","v":""}]
[null,null,null,{"$f":"IFERROR(VLOOKUP(C270,Participants!$B$3:$C$1002,2,0),\"\")","v":""},null,{"$f":"IFERROR(VLOOKUP(E270,Participants!$B$3:$C$1002,2,0),\"\")","v":""}]
[null,null,null,{"$f":"IFERROR(VLOOKUP(C271,Participants!$B$3:$C$1002,2,0),\"\")","v":""},null,{"$f":"IFERROR(VLOOKUP(E271,Participants!$B$3:$C$1002,2,0),\"\")","v":""}]
[null,null,null,{"$f":"IFERROR(VLOOKUP(C272,Participants!$B$3:$C$1002,2,0),\"\")","v":""},null,{"$f":"IFERROR(VLOOKUP(E272,Participants!$B$3:$C$1002,2,0),\"\")","v":""}]
[null,null,null,{"$f":"IFERROR(VLOOKUP(C273,Participants!$B$3:$C$1002,2,0),\"\")","v":""},null,{"$f":"IFERROR(VLOOKUP(E273,Participants!$B$3:$C$1002,2,0),\"\")","v":""}]
[null,null,null,{"$f":"IFERROR(VLOOKUP(C274,Participants!$B$3:$C$1002,2,0),\"\")","v":""},null,{"$f":"IFERROR(VLOOKUP(E274,Participants!$B$3:$C$1002,2,0),\"\")","v":""}]
[null,null,null,{"$f":"IFERROR(VLOOKUP(C275,Participants!$B$3:$C$1002,2,0),\"\")","v":""},null,{"$f":"IFERROR(VLOOKUP(E275,Participants!$B$3:$C$1002,2,0),\"\")","v":""}]
[null,null,null,{"$f":"IFERROR(VLOOKUP(C276,Participants!$B$3:$C$1002,2,0),\"\")","v":""},null,{"$f":"IFERROR(VLOOKUP(E276,Participants!$B$3:$C$1002,2,0),\"\")","v":""}]
[null,null,null,{"$f":"IFERROR(VLOOKUP(C277,Participants!$B$3:$C$1002,2,0),\"\")","v":""},null,{"$f":"IFERROR(VLOOKUP(E277,Participants!$B$3:$C$1002,2,0),\"\")","v":""}]
[null,null,null,{"$f":"IFERROR(VLOOKUP(C278,Participants!$B$3:$C$1002,2,0),\"\")","v":""},null,{"$f":"IFERROR(VLOOKUP(E278,Participants!$B$3:$C$1002,2,0),\"\")","v":""}]
[null,null,null,{"$f":"IFERROR(VLOOKUP(C279,Participants!$B$3:$C$1002,2,0),\"\")","v":""},null,{"$f":"IFERROR(VLOOKUP(E279,Participants!$B$3:$C$1002,2,0),\"\")","v":""}]
[null,null,null,{"$f":"IFERROR(VLOOKUP(C280,Participants!$B$3:$C$1002,2,0),\"\")","v":""},null,{"$f":"IFERROR(VLOOKUP(E280,Participants!$B$3:$C$1002,2,0),\"\")","v":""}]
[null,null,null,{"$f":"IFERROR(VLOOKUP(C281,Participants!$B$3:$C$1002,2,0),\"\")","v":""},null,{"$f":"IFERROR(VLOOKUP(E281,Participants!$B$3:$C$1002,2,0),\"\")","v":""}]
[null,null,null,{"$f":"IFERROR(VLOOKUP(C282,Participants!$B$3:$C$1002,2,0),\"\")","v":""},null,{"$f":"IFERROR(VLOOKUP(E282,Participants!$B$3:$C$1002,2,0),\"\")","v":""}]
[null,null,null,{"$f":"IFERROR(VLOOKUP(C283,Participants!$B$3:$C$1002,2,0),\"\")","v":""},null,{"$f":"IFERROR(VLOOKUP(E283,Participants!$B$3:$C$1002,2,0),\"\")","v":""}]
[null,null,null,{"$f":"IFERROR(VLOOKUP(C284,Participants!$B$3:$C$1002,2,0),\"\")","v":""},null,{"$f":"IFERROR(VLOOKUP(E284,Participants!$B$3:$C$1002,2,0),\"\")","v":""}]
[null,null,null,{"$f":"IFERROR(VLOOKUP(C285,Participants!$B$3:$C$1002,2,0),\"\")","v":""},null,{"$f":"IFERROR(VLOOKUP(E285,Participants!$B$3:$C$1002,2,0),\"\")","v":""}]
[null,null,null,{"$f":"IFERROR(VLOOKUP(C286,Participants!$B$3:$C$1002,2,0),\"\")","v":""},null,{"$f":"IFERROR(VLOOKUP(E286,Participants!$B$3:$C$1002,2,0),\"\")","v":""}]
[null,null,null,{"$f":"IFERROR(VLOOKUP(C287,Participants!$B$3:$C$1002,2,0),\"\")","v":""},null,{"$f":"IFERROR(VLOOKUP(E287,Participants!$B$3:$C$1002,2,0),\"\")","v":""}]
[null,null,null,{"$f":"IFERROR(VLOOKUP(C288,Participants!$B$3:$C$1002,2,0),\"\")","v":""},null,{"$f":"IFERROR(VLOOKUP(E288,Participants!$B$3:$C$1002,2,0),\"\")","v":""}]
[null,null,null,{"$f":"IFERROR(VLOOKUP(C289,Participants!$B$3:$C$1002,2,0),\"\")","v":""},null,{"$f":"IFERROR(VLOOKUP(E289,Participants!$B$3:$C$1002,2,0),\"\")","v":""}]
[null,null,null,{"$f":"IFERROR(VLOOKUP(C290,Participants!$B$3:$C$1002,2,0),\"\")","v":""},null,{"$f":"IFERROR(VLOOKUP(E290,Participants!$B$3:$C$1002,2,0),\"\")","v":""}]
[null,null,null,{"$f":"IFERROR(VLOOKUP(C291,Participants!$B$3:$C$1002,2,0),\"\")","v":""},null,{"$f":"IFERROR(VLOOKUP(E291,Participants!$B$3:$C$1002,2,0),\"\")","v":""}]
[null,null,null,{"$f":"IFERROR(VLOOKUP(C292,Participants!$B$3:$C$1002,2,0),\"\")","v":""},null,{"$f":"IFERROR(VLOOKUP(E292,Participants!$B$3:$C$1002,2,0),\"\")","v":""}]
[null,null,null,{"$f":"IFERROR(VLOOKUP(C293,Participants!$B$3:$C$1002,2,0),\"\")","v":""},null,{"$f":"IFERROR(VLOOKUP(E293,Participants!$B$3:$C$1002,2,0),\"\")","v":""}]
[null,null,null,{"$f":"IFERROR(VLOOKUP(C294,Participants!$B$3:$C$1002,2,0),\"\")","v":""},null,{"$f":"IFERROR(VLOOKUP(E294,Participants!$B$3:$C$1002,2,0),\"\")","v":""}]
[null,null,null,{"$f":"IFERROR(VLOOKUP(C295,Participants!$B$3:$C$1002,2,0),\"\")","v":""},null,{"$f":"IFERROR(VLOOKUP(E295,Participants!$B$3:$C$1002,2,0),\"\")","v":""}]
[null,null,null,{"$f":"IFERROR(VLOOKUP(C296,Participants!$B$3:$C$1002,2,0),\"\")","v":""},null,{"$f":"IFERROR(VLOOKUP(E296,Participants!$B$3:$C$1002,2,0),\"\")","v":""}]
[null,null,null,{"$f":"IFERROR(VLOOKUP(C297,Participants!$B$3:$C$1002,2,0),\"\")","v":""},null,{"$f":"IFERROR(VLOOKUP(E297,Participants!$B$3:$C$1002,2,0),\"\")","v":""}]
[null,null,null,{"$f":"IFERROR(VLOOKUP(C298,Participants!$B$3:$C$1002,2,0),\"\")","v":""},null,{"$f":"IFERROR(VLOOKUP(E298,Participants!$B$3:$C$1002,2,0),\"\")","v":""}]
[null,null,null,{"$f":"IFERROR(VLOOKUP(C299,Participants!$B$3:$C$1002,2,0),\"\")","v":""},null,{"$f":"IFERROR(VLOOKUP(E299,Participants!$B$3:$C$1002,2,0),\"\")","v":""}]
[null,null,null,{"$f":"IFERROR(VLOOKUP(C300,Participants!$B$3:$C$1002,2,0),\"\")","v":""},null,{"$f":"IFERROR(VLOOKUP(E300,Participants!$B$3:$C$1002,2,0),\"\")","v":""}]
[null,null,null,{"$f":"IFERROR(VLOOKUP(C301,Participants!$B$3:$C$1002,2,0),\"\")","v":""},null,{"$f":"IFERROR(VLOOKUP(E301,Participants!$B$3:$C$1002,2,0),\"\")","v":""}]
[null,null,null,{"$f":"IFERROR(VLOOKUP(C302,Participants!$B$3:$C$1002,2,0),\"\")","v":""},null,{"$f":"IFERROR(VLOOKUP(E302,Participants!$B$3:$C$1002,2,0),\"\")","v":""}]
[null,null,null,{"$f":"IFERROR(VLOOKUP(C303,Participants!$B$3:$C$1002,2,0),\"\")","v":""},null,{"$f":"IFERROR(VLOOKUP(E303,Participants!$B$3:$C$1002,2,0),\"\")","v":""}]
[null,null,null,{"$f":"IFERROR(VLOOKUP(C304,Participants!$B$3:$C$1002,2,0),\"\")","v":""},null,{"$f":"IFERROR(VLOOKUP(E304,Participants!$B$3:$C$1002,2,0),\"\")","v":""}]
[null,null,null,{"$f":"IFERROR(VLOOKUP(C305,Participants!$B$3:$C$1002,2,0),\"\")","v":""},null,{"$f":"IFERROR(VLOOKUP(E305,Participants!$B$3:$C$1002,2,0),\"\")","v":""}]
[null,null,null,{"$f":"IFERROR(VLOOKUP(C306,Participants!$B$3:$C$1002,2,0),\"\")","v":""},null,{"$f":"IFERROR(VLOOKUP(E306,Participants!$B$3:$C$1002,2,0),\"\")","v":""}]
[null,null,null,{"$f":"IFERROR(VLOOKUP(C307,Participants!$B$3:$C$1002,2,0),\"\")","v":""},null,{"$f":"IFERROR(VLOOKUP(E307,Participants!$B$3:$C$1002,2,0),\"\")","v":""}]
[null,null,null,{"$f":"IFERROR(VLOOKUP(C308,Participants!$B$3:$C$1002,2,0),\"\")","v":""},null,{"$f":"IFERROR(VLOOKUP(E308,Participants!$B$3:$C$1002,2,0),\"\")","v":""}]
[null,null,null,{"$f":"IFERROR(VLOOKUP(C309,Participants!$B$3:$C$1002,2,0),\"\")","v":""},null,{"$f":"IFERROR(VLOOKUP(E309,Participants!$B$3:$C$1002,2,0),\"\")","v":""}]
[null,null,null,{"$f":"IFERROR(VLOOKUP(C310,Participants!$B$3:$C$1002,2,0),\"\")","v":""},null,{"$f":"IFERROR(VLOOKUP(E310,Participants!$B$3:$C$1002,2,0),\"\")","v":""}]
[null,null,null,{"$f":"IFERROR(VLOOKUP(C311,Participants!$B$3:$C$1002,2,0),\"\")","v":""},null,{"$f":"IFERROR(VLOOKUP(E311,Participants!$B$3:$C$1002,2,0),\"\")","v":""}]
[null,null,null,{"$f":"IFERROR(VLOOKUP(C312,Participants!$B$3:$C$1002,2,0),\"\")","v":""},null,{"$f":"IFERROR(VLOOKUP(E312,Participants!$B$3:$C$1002,2,0),\"\")","v":""}]
[null,null,null,{"$f":"IFERROR(VLOOKUP(C313,Participants!$B$3:$C$1002,2,0),\"\")","v":""},null,{"$f":"IFERROR(VLOOKUP(E313,Participants!$B$3:$C$1002,2,0),\"\")","v":""}]
[null,null,null,{"$f":"IFERROR(VLOOKUP(C314,Participants!$B$3:$C$1002,2,0),\"\")","v":""},null,{"$f":"IFERROR(VLOOKUP(E314,Participants!$B$3:$C$1002,2,0),\"\")","v":""}]
[null,null,null,{"$f":"IFERROR(VLOOKUP(C315,Participants!$B$3:$C$1002,2,0),\"\")","v":""},null,{"$f":"IFERROR(VLOOKUP(E315,Participants!$B$3:$C$1002,2,0),\"\")","v":""}]
[null,null,null,{"$f":"IFERROR(VLOOKUP(C316,Participants!$B$3:$C$1002,2,0),\"\")","v":""},null,{"$f":"IFERROR(VLOOKUP(E316,Participants!$B$3:$C$1002,2,0),\"\")","v":""}]
[null,null,null,{"$f":"IFERROR(VLOOKUP(C317,Participants!$B$3:$C$1002,2,0),\"\")","v":""},null,{"$f":"IFERROR(VLOOKUP(E317,Participants!$B$3:$C$1002,2,0),\"\")","v":""}]
[null,null,null,{"$f":"IFERROR(VLOOKUP(C318,Participants!$B$3:$C$1002,2,0),\"\")","v":""},null,{"$f":"IFERROR(VLOOKUP(E318,Participants!$B$3:$C$1002,2,0),\"\")","v":""}]
[null,null,null,{"$f":"IFERROR(VLOOKUP(C319,Participants!$B$3:$C$1002,2,0),\"\")","v":""},null,{"$f":"IFERROR(VLOOKUP(E319,Participants!$B$3:$C$1002,2,0),\"\")","v":""}]
[null,null,null,{"$f":"IFERROR(VLOOKUP(C320,Participants!$B$3:$C$1002,2,0),\"\")","v":""},null,{"$f":"IFERROR(VLOOKUP(E320,Participants!$B$3:$C$1002,2,0),\"\")","v":""}]
[null,null,null,{"$f":"IFERROR(VLOOKUP(C321,Participants!$B$3:$C$1002,2,0),\"\")","v":""},null,{"$f":"IFERROR(VLOOKUP(E321,Participants!$B$3:$C$1002,2,0),\"\")","v":""}]
[null,null,null,{"$f":"IFERROR(VLOOKUP(C322,Participants!$B$3:$C$1002,2,0),\"\")","v":""},null,{"$f":"IFERROR(VLOOKUP(E322,Participants!$B$3:$C$1002,2,0),\"\")","v":""}]
[null,null,null,{"$f":"IFERROR(VLOOKUP(C323,Participants!$B$3:$C$1002,2,0),\"\")","v":""},null,{"$f":"IFERROR(VLOOKUP(E323,Participants!$B$3:$C$1002,2,0),\"\")","v":""}]
[null,null,null,{"$f":"IFERROR(VLOOKUP(C324,Participants!$B$3:$C$1002,2,0),\"\")","v":""},null,{"$f":"IFERROR(VLOOKUP(E324,Participants!$B$3:$C$1002,2,0),\"\")","v":""}]
[null,null,null,{"$f":"IFERROR(VLOOKUP(C325,Participants!$B$3:$C$1002,2,0),\"\")","v":""},null,{"$f":"IFERROR(VLOOKUP(E325,Participants!$B$3:$C$1002,2,0),\"\")","v":""}]
[null,null,null,{"$f":"IFERROR(VLOOKUP(C326,Participants!$B$3:$C$1002,2,0),\"\")","v":""},null,{"$f":"IFERROR(VLOOKUP(E326,Participants!$B$3:$C$1002,2,0),\"\")","v":""}]
[null,null,null,{"$f":"IFERROR(VLOOKUP(C327,Participants!$B$3:$C$1002,2,0),\"\")","v":""},null,{"$f":"IFERROR(VLOOKUP(E327,Participants!$B$3:$C$1002,2,0),\"\")","v":""}]
[null,null,null,{"$f":"IFERROR(VLOOKUP(C328,Participants!$B$3:$C$1002,2,0),\"\")","v":""},null,{"$f":"IFERROR(VLOOKUP(E328,Participants!$B$3:$C$1002,2,0),\"\")","v":""}]
[null,null,null,{"$f":"IFERROR(VLOOKUP(C329,Participants!$B$3:$C$1002,2,0),\"\")","v":""},null,{"$f":"IFERROR(VLOOKUP(E329,Participants!$B$3:$C$1002,2,0),\"\")","v":""}]
[null,null,null,{"$f":"IFERROR(VLOOKUP(C330,Participants!$B$3:$C$1002,2,0),\"\")","v":""},null,{"$f":"IFERROR(VLOOKUP(E330,Participants!$B$3:$C$1002,2,0),\"\")","v":""}]
[null,null,null,{"$f":"IFERROR(VLOOKUP(C331,Participants!$B$3:$C$1002,2,0),\"\")","v":""},null,{"$f":"IFERROR(VLOOKUP(E331,Participants!$B$3:$C$1002,2,0),\"\")","v":""}]
[null,null,null,{"$f":"IFERROR(VLOOKUP(C332,Participants!$B$3:$C$1002,2,0),\"\")","v":""},null,{"$f":"IFERROR(VLOOKUP(E332,Participants!$B$3:$C$1002,2,0),\"\")","v":""}]
[null,null,null,{"$f":"IFERROR(VLOOKUP(C333,Participants!$B$3:$C$1002,2,0),\"\")","v":""},null,{"$f":"IFERROR(VLOOKUP(E333,Participants!$B$3:$C$1002,2,0),\"\")","v":""}]
[null,null,null,{"$f":"IFERROR(VLOOKUP(C334,Participants!$B$3:$C$1002,2,0),\"\")","v":""},null,{"$f":"IFERROR(VLOOKUP(E334,Participants!$B$3:$C$1002,2,0),\"\")","v":""}]
[null,null,null,{"$f":"IFERROR(VLOOKUP(C335,Participants!$B$3:$C$1002,2,0),\"\")","v":""},null,{"$f":"IFERROR(VLOOKUP(E335,Participants!$B$3:$C$1002,2,0),\"\")","v":""}]
[null,null,null,{"$f":"IFERROR(VLOOKUP(C336,Participants!$B$3:$C$1002,2,0),\"\")","v":""},null,{"$f":"IFERROR(VLOOKUP(E336,Participants!$B$3:$C$1002,2,0),\"\")","v":""}]
[null,null,null,{"$f":"IFERROR(VLOOKUP(C337,Participants!$B$3:$C$1002,2,0),\"\")","v":""},null,{"$f":"IFERROR(VLOOKUP(E337,Participants!$B$3:$C$1002,2,0),\"\")","v":""}]
[null,null,null,{"$f":"IFERROR(VLOOKUP(C338,Participants!$B$3:$C$1002,2,0),\"\")","v":""},null,{"$f":"IFERROR(VLOOKUP(E338,Participants!$B$3:$C$1002,2,0),\"\")","v":""}]
[null,null,null,{"$f":"IFERROR(VLOOKUP(C339,Participants!$B$3:$C$1002,2,0),\"\")","v":""},null,{"$f":"IFERROR(VLOOKUP(E339,Participants!$B$3:$C$1002,2,0),\"\")","v":""}]
[null,null,null,{"$f":"IFERROR(VLOOKUP(C340,Participants!$B$3:$C$1002,2,0),\"\")","v":""},null,{"$f":"IFERROR(VLOOKUP(E340,Participants!$B$3:$C$1002,2,0),\"\")","v":""}]
[null,null,null,{"$f":"IFERROR(VLOOKUP(C341,Participants!$B$3:$C$1002,2,0),\"\")","v":""},null,{"$f":"IFERROR(VLOOKUP(E341,Participants!$B$3:$C$1002,2,0),\"\")","v":""}]
[null,null,null,{"$f":"IFERROR(VLOOKUP(C342,Participants!$B$3:$C$1002,2,0),\"\")","v":""},null,{"$f":"IFERROR(VLOOKUP(E342,Participants!$B$3:$C$1002,2,0),\"\")","v":""}]
[null,null,null,{"$f":"IFERROR(VLOOKUP(C343,Participants!$B$3:$C$1002,2,0),\"\")","v":""},null,{"$f":"IFERROR(VLOOKUP(E343,Participants!$B$3:$C$1002,2,0),\"\")","v":""}]
[null,null,null,{"$f":"IFERROR(VLOOKUP(C344,Participants!$B$3:$C$1002,2,0),\"\")","v":""},null,{"$f":"IFERROR(VLOOKUP(E344,Participants!$B$3:$C$1002,2,0),\"\")","v":""}]
[null,null,null,{"$f":"IFERROR(VLOOKUP(C345,Participants!$B$3:$C$1002,2,0),\"\")","v":""},null,{"$f":"IFERROR(VLOOKUP(E345,Participants!$B$3:$C$1002,2,0),\"\")","v":""}]
[null,null,null,{"$f":"IFERROR(VLOOKUP(C346,Participants!$B$3:$C$1002,2,0),\"\")","v":""},null,{"$f":"IFERROR(VLOOKUP(E346,Participants!$B$3:$C$1002,2,0),\"\")","v":""}]
[null,null,null,{"$f":"IFERROR(VLOOKUP(C347,Participants!$B$3:$C$1002,2,0),\"\")","v":""},null,{"$f":"IFERROR(VLOOKUP(E347,Participants!$B$3:$C$1002,2,0),\"\")","v":""}]
[null,null,null,{"$f":"IFERROR(VLOOKUP(C348,Participants!$B$3:$C$1002,2,0),\"\")","v":""},null,{"$f":"IFERROR(VLOOKUP(E348,Participants!$B$3:$C$1002,2,0),\"\")","v":""}]
[null,null,null,{"$f":"IFERROR(VLOOKUP(C349,Participants!$B$3:$C$1002,2,0),\"\")","v":""},null,{"$f":"IFERROR(VLOOKUP(E349,Participants!$B$3:$C$1002,2,0),\"\")","v":""}]
[null,null,null,{"$f":"IFERROR(VLOOKUP(C350,Participants!$B$3:$C$1002,2,0),\"\")","v":""},null,{"$f":"IFERROR(VLOOKUP(E350,Participants!$B$3:$C$1002,2,0),\"\")","v":""}]
[null,null,null,{"$f":"IFERROR(VLOOKUP(C351,Participants!$B$3:$C$1002,2,0),\"\")","v":""},null,{"$f":"IFERROR(VLOOKUP(E351,Participants!$B$3:$C$1002,2,0),\"\")","v":""}]
[null,null,null,{"$f":"IFERROR(VLOOKUP(C352,Participants!$B$3:$C$1002,2,0),\"\")","v":""},null,{"$f":"IFERROR(VLOOKUP(E352,Participants!$B$3:$C$1002,2,0),\"\")","v":""}]
[null,null,null,{"$f":"IFERROR(VLOOKUP(C353,Participants!$B$3:$C$1002,2,0),\"\")","v":""},null,{"$f":"IFERROR(VLOOKUP(E353,Participants!$B$3:$C$1002,2,0),\"\")","v":""}]
[null,null,null,{"$f":"IFERROR(VLOOKUP(C354,Participants!$B$3:$C$1002,2,0),\"\")","v":""},null,{"$f":"IFERROR(VLOOKUP(E354,Participants!$B$3:$C$1002,2,0),\"\")","v":""}]
[null,null,null,{"$f":"IFERROR(VLOOKUP(C355,Participants!$B$3:$C$1002,2,0),\"\")","v":""},null,{"$f":"IFERROR(VLOOKUP(E355,Participants!$B$3:$C$1002,2,0),\"\")","v":""}]
[null,null,null,{"$f":"IFERROR(VLOOKUP(C356,Participants!$B$3:$C$1002,2,0),\"\")","v":""},null,{"$f":"IFERROR(VLOOKUP(E356,Participants!$B$3:$C$1002,2,0),\"\")","v":""}]
[null,null,null,{"$f":"IFERROR(VLOOKUP(C357,Participants!$B$3:$C$1002,2,0),\"\")","v":""},null,{"$f":"IFERROR(VLOOKUP(E357,Participants!$B$3:$C$1002,2,0),\"\")","v":""}]
[null,null,null,{"$f":"IFERROR(VLOOKUP(C358,Participants!$B$3:$C$1002,2,0),\"\")","v":""},null,{"$f":"IFERROR(VLOOKUP(E358,Participants!$B$3:$C$1002,2,0),\"\")","v":""}]
[null,null,null,{"$f":"IFERROR(VLOOKUP(C359,Participants!$B$3:$C$1002,2,0),\"\")","v":""},null,{"$f":"IFERROR(VLOOKUP(E359,Participants!$B$3:$C$1002,2,0),\"\")","v":""}]
[null,null,null,{"$f":"IFERROR(VLOOKUP(C360,Participants!$B$3:$C$1002,2,0),\"\")","v":""},null,{"$f":"IFERROR(VLOOKUP(E360,Participants!$B$3:$C$1002,2,0),\"\")","v":""}]
[null,null,null,{"$f":"IFERROR(VLOOKUP(C361,Participants!$B$3:$C$1002,2,0),\"\")","v":""},null,{"$f":"IFERROR(VLOOKUP(E361,Participants!$B$3:$C$1002,2,0),\"\")","v":""}]
[null,null,null,{"$f":"IFERROR(VLOOKUP(C362,Participants!$B$3:$C$1002,2,0),\"\")","v":""},null,{"$f":"IFERROR(VLOOKUP(E362,Participants!$B$3:$C$1002,2,0),\"\")","v":""}]
[null,null,null,{"$f":"IFERROR(VLOOKUP(C363,Participants!$B$3:$C$1002,2,0),\"\")","v":""},null,{"$f":"IFERROR(VLOOKUP(E363,Participants!$B$3:$C$1002,2,0),\"\")","v":""}]
[null,null,null,{"$f":"IFERROR(VLOOKUP(C364,Participants!$B$3:$C$1002,2,0),\"\")","v":""},null,{"$f":"IFERROR(VLOOKUP(E364,Participants!$B$3:$C$1002,2,0),\"\")","v":""}]
[null,null,null,{"$f":"IFERROR(VLOOKUP(C365,Participants!$B$3:$C$1002,2,0),\"\")","v":""},null,{"$f":"IFERROR(VLOOKUP(E365,Participants!$B$3:$C$1002,2,0),\"\")","v":""}]
[null,null,null,{"$f":"IFERROR(VLOOKUP(C366,Participants!$B$3:$C$1002,2,0),\"\")","v":""},null,{"$f":"IFERROR(VLOOKUP(E366,Participants!$B$3:$C$1002,2,0),\"\")","v":""}]
[null,null,null,{"$f":"IFERROR(VLOOKUP(C367,Participants!$B$3:$C$1002,2,0),\"\")","v":""},null,{"$f":"IFERROR(VLOOKUP(E367,Participants!$B$3:$C$1002,2,0),\"\")","v":""}]
[null,null,null,{"$f":"IFERROR(VLOOKUP(C368,Participants!$B$3:$C$1002,2,0),\"\")","v":""},null,{"$f":"IFERROR(VLOOKUP(E368,Participants!$B$3:$C$1002,2,0),\"\")","v":""}]
[null,null,null,{"$f":"IFERROR(VLOOKUP(C369,Participants!$B$3:$C$1002,2,0),\"\")","v":""},null,{"$f":"IFERROR(VLOOKUP(E369,Participants!$B$3:$C$1002,2,0),\"\")","v":""}]
[null,null,null,{"$f":"IFERROR(VLOOKUP(C370,Participants!$B$3:$C$1002,2,0),\"\")","v":""},null,{"$f":"IFERROR(VLOOKUP(E370,Participants!$B$3:$C$1002,2,0),\"\")","v":""}]
[null,null,null,{"$f":"IFERROR(VLOOKUP(C371,Participants!$B$3:$C$1002,2,0),\"\")","v":""},null,{"$f":"IFERROR(VLOOKUP(E371,Participants!$B$3:$C$1002,2,0),\"\")","v":""}]
[null,null,null,{"$f":"IFERROR(VLOOKUP(C372,Participants!$B$3:$C$1002,2,0),\"\")","v":""},null,{"$f":"IFERROR(VLOOKUP(E372,Participants!$B$3:$C$1002,2,0),\"\")","v":""}]
[null,null,null,{"$f":"IFERROR(VLOOKUP(C373,Participants!$B$3:$C$1002,2,0),\"\")","v":""},null,{"$f":"IFERROR(VLOOKUP(E373,Participants!$B$3:$C$1002,2,0),\"\")","v":""}]
[null,null,null,{"$f":"IFERROR(VLOOKUP(C374,Participants!$B$3:$C$1002,2,0),\"\")","v":""},null,{"$f":"IFERROR(VLOOKUP(E374,Participants!$B$3:$C$1002,2,0),\"\")","v":""}]
[null,null,null,{"$f":"IFERROR(VLOOKUP(C375,Participants!$B$3:$C$1002,2,0),\"\")","v":""},null,{"$f":"IFERROR(VLOOKUP(E375,Participants!$B$3:$C$1002,2,0),\"\")","v":""}]
[null,null,null,{"$f":"IFERROR(VLOOKUP(C376,Participants!$B$3:$C$1002,2,0),\"\")","v":""},null,{"$f":"IFERROR(VLOOKUP(E376,Participants!$B$3:$C$1002,2,0),\"\")","v":""}]
[null,null,null,{"$f":"IFERROR(VLOOKUP(C377,Participants!$B$3:$C$1002,2,0),\"\")","v":""},null,{"$f":"IFERROR(VLOOKUP(E377,Participants!$B$3:$C$1002,2,0),\"\")","v":""}]
[null,null,null,{"$f":"IFERROR(VLOOKUP(C378,Participants!$B$3:$C$1002,2,0),\"\")","v":""},null,{"$f":"IFERROR(VLOOKUP(E378,Participants!$B$3:$C$1002,2,0),\"\")","v":""}]
[null,null,null,{"$f":"IFERROR(VLOOKUP(C379,Participants!$B$3:$C$1002,2,0),\"\")","v":""},null,{"$f":"IFERROR(VLOOKUP(E379,Participants!$B$3:$C$1002,2,0),\"\")","v":""}]
[null,null,null,{"$f":"IFERROR(VLOOKUP(C380,Participants!$B$3:$C$1002,2,0),\"\")","v":""},null,{"$f":"IFERROR(VLOOKUP(E380,Participants!$B$3:$C$1002,2,0),\"\")","v":""}]
[null,null,null,{"$f":"IFERROR(VLOOKUP(C381,Participants!$B$3:$C$1002,2,0),\"\")","v":""},null,{"$f":"IFERROR(VLOOKUP(E381,Participants!$B$3:$C$1002,2,0),\"\")","v":""}]
[null,null,null,{"$f":"IFERROR(VLOOKUP(C382,Participants!$B$3:$C$1002,2,0),\"\")","v":""},null,{"$f":"IFERROR(VLOOKUP(E382,Participants!$B$3:$C$1002,2,0),\"\")","v":""}]
[null,null,null,{"$f":"IFERROR(VLOOKUP(C383,Participants!$B$3:$C$1002,2,0),\"\")","v":""},null,{"$f":"IFERROR(VLOOKUP(E383,Participants!$B$3:$C$1002,2,0),\"\")","v":""}]
[null,null,null,{"$f":"IFERROR(VLOOKUP(C384,Participants!$B$3:$C$1002,2,0),\"\")","v":""},null,{"$f":"IFERROR(VLOOKUP(E384,Participants!$B$3:$C$1002,2,0),\"\")","v":""}]
[null,null,null,{"$f":"IFERROR(VLOOKUP(C385,Participants!$B$3:$C$1002,2,0),\"\")","v":""},null,{"$f":"IFERROR(VLOOKUP(E385,Participants!$B$3:$C$1002,2,0),\"\")","v":""}]
[null,null,null,{"$f":"IFERROR(VLOOKUP(C386,Participants!$B$3:$C$1002,2,0),\"\")","v":""},null,{"$f":"IFERROR(VLOOKUP(E386,Participants!$B$3:$C$1002,2,0),\"\")","v":""}]
[null,null,null,{"$f":"IFERROR(VLOOKUP(C387,Participants!$B$3:$C$1002,2,0),\"\")","v":""},null,{"$f":"IFERROR(VLOOKUP(E387,Participants!$B$3:$C$1002,2,0),\"\")","v":""}]
[null,null,null,{"$f":"IFERROR(VLOOKUP(C388,Participants!$B$3:$C$1002,2,0),\"\")","v":""},null,{"$f":"IFERROR(VLOOKUP(E388,Participants!$B$3:$C$1002,2,0),\"\")","v":""}]
[null,null,null,{"$f":"IFERROR(VLOOKUP(C389,Participants!$B$3:$C$1002,2,0),\"\")","v":""},null,{"$f":"IFERROR(VLOOKUP(E389,Participants!$B$3:$C$1002,2,0),\"\")","v":""}]
[null,null,null,{"$f":"IFERROR(VLOOKUP(C390,Participants!$B$3:$C$1002,2,0),\"\")","v":""},null,{"$f":"IFERROR(VLOOKUP(E390,Participants!$B$3:$C$1002,2,0),\"\")","v":""}]
[null,null,null,{"$f":"IFERROR(VLOOKUP(C391,Participants!$B$3:$C$1002,2,0),\"\")","v":""},null,{"$f":"IFERROR(VLOOKUP(E391,Participants!$B$3:$C$1002,2,0),\"\")","v":""}]
[null,null,null,{"$f":"IFERROR(VLOOKUP(C392,Participants!$B$3:$C$1002,2,0),\"\")","v":""},null,{"$f":"IFERROR(VLOOKUP(E392,Participants!$B$3:$C$1002,2,0),\"\")","v":""}]
[null,null,null,{"$f":"IFERROR(VLOOKUP(C393,Participants!$B$3:$C$1002,2,0),\"\")","v":""},null,{"$f":"IFERROR(VLOOKUP(E393,Participants!$B$3:$C$1002,2,0),\"\")","v":""}]
[null,null,null,{"$f":"IFERROR(VLOOKUP(C394,Participants!$B$3:$C$1002,2,0),\"\")","v":""},null,{"$f":"IFERROR(VLOOKUP(E394,Participants!$B$3:$C$1002,2,0),\"\")","v":""}]
[null,null,null,{"$f":"IFERROR(VLOOKUP(C395,Participants!$B$3:$C$1002,2,0),\"\")","v":""},null,{"$f":"IFERROR(VLOOKUP(E395,Participants!$B$3:$C$1002,2,0),\"\")","v":""}]
[null,null,null,{"$f":"IFERROR(VLOOKUP(C396,Participants!$B$3:$C$1002,2,0),\"\")","v":""},null,{"$f":"IFERROR(VLOOKUP(E396,Participants!$B$3:$C$1002,2,0),\"\")","v":""}]
[null,null,null,{"$f":"IFERROR(VLOOKUP(C397,Participants!$B$3:$C$1002,2,0),\"\")","v":""},null,{"$f":"IFERROR(VLOOKUP(E397,Participants!$B$3:$C$1002,2,0),\"\")","v":""}]
[null,null,null,{"$f":"IFERROR(VLOOKUP(C398,Participants!$B$3:$C$1002,2,0),\"\")","v":""},null,{"$f":"IFERROR(VLOOKUP(E398,Participants!$B$3:$C$1002,2,0),\"\")","v":""}]
[null,null,null,{"$f":"IFERROR(VLOOKUP(C399,Participants!$B$3:$C$1002,2,0),\"\")","v":""},null,{"$f":"IFERROR(VLOOKUP(E399,Participants!$B$3:$C$1002,2,0),\"\")","v":""}]
[null,null,null,{"$f":"IFERROR(VLOOKUP(C400,Participants!$B$3:$C$1002,2,0),\"\")","v":""},null,{"$f":"IFERROR(VLOOKUP(E400,Participants!$B$3:$C$1002,2,0),\"\")","v":""}]
[null,null,null,{"$f":"IFERROR(VLOOKUP(C401,Participants!$B$3:$C$1002,2,0),\"\")","v":""},null,{"$f":"IFERROR(VLOOKUP(E401,Participants!$B$3:$C$1002,2,0),\"\")","v":""}]
[null,null,null,{"$f":"IFERROR(VLOOKUP(C402,Participants!$B$3:$C$1002,2,0),\"\")","v":""},null,{"$f":"IFERROR(VLOOKUP(E402,Participants!$B$3:$C$1002,2,0),\"\")","v":""}]
[null,null,null,{"$f":"IFERROR(VLOOKUP(C403,Participants!$B$3:$C$1002,2,0),\"\")","v":""},null,{"$f":"IFERROR(VLOOKUP(E403,Participants!$B$3:$C$1002,2,0),\"\")","v":""}]
[null,null,null,{"$f":"IFERROR(VLOOKUP(C404,Participants!$B$3:$C$1002,2,0),\"\")","v":""},null,{"$f":"IFERROR(VLOOKUP(E404,Participants!$B$3:$C$1002,2,0),\"\")","v":""}]
[null,null,null,{"$f":"IFERROR(VLOOKUP(C405,Participants!$B$3:$C$1002,2,0),\"\")","v":""},null,{"$f":"IFERROR(VLOOKUP(E405,Participants!$B$3:$C$1002,2,0),\"\")","v":""}]
[null,null,null,{"$f":"IFERROR(VLOOKUP(C406,Participants!$B$3:$C$1002,2,0),\"\")","v":""},null,{"$f":"IFERROR(VLOOKUP(E406,Participants!$B$3:$C$1002,2,0),\"\")","v":""}]
[null,null,null,{"$f":"IFERROR(VLOOKUP(C407,Participants!$B$3:$C$1002,2,0),\"\")","v":""},null,{"$f":"IFERROR(VLOOKUP(E407,Participants!$B$3:$C$1002,2,0),\"\")","v":""}]
[null,null,null,{"$f":"IFERROR(VLOOKUP(C408,Participants!$B$3:$C$1002,2,0),\"\")","v":""},null,{"$f":"IFERROR(VLOOKUP(E408,Participants!$B$3:$C$1002,2,0),\"\")","v":""}]
[null,null,null,{"$f":"IFERROR(VLOOKUP(C409,Participants!$B$3:$C$1002,2,0),\"\")","v":""},null,{"$f":"IFERROR(VLOOKUP(E409,Participants!$B$3:$C$1002,2,0),\"\")","v":""}]
[null,null,null,{"$f":"IFERROR(VLOOKUP(C410,Participants!$B$3:$C$1002,2,0),\"\")","v":""},null,{"$f":"IFERROR(VLOOKUP(E410,Participants!$B$3:$C$1002,2,0),\"\")","v":""}]
[null,null,null,{"$f":"IFERROR(VLOOKUP(C411,Participants!$B$3:$C$1002,2,0),\"\")","v":""},null,{"$f":"IFERROR(VLOOKUP(E411,Participants!$B$3:$C$1002,2,0),\"\")","v":""}]
[null,null,null,{"$f":"IFERROR(VLOOKUP(C412,Participants!$B$3:$C$1002,2,0),\"\")","v":""},null,{"$f":"IFERROR(VLOOKUP(E412,Participants!$B$3:$C$1002,2,0),\"\")","v":""}]
[null,null,null,{"$f":"IFERROR(VLOOKUP(C413,Participants!$B$3:$C$1002,2,0),\"\")","v":""},null,{"$f":"IFERROR(VLOOKUP(E413,Participants!$B$3:$C$1002,2,0),\"\")","v":""}]
[null,null,null,{"$f":"IFERROR(VLOOKUP(C414,Participants!$B$3:$C$1002,2,0),\"\")","v":""},null,{"$f":"IFERROR(VLOOKUP(E414,Participants!$B$3:$C$1002,2,0),\"\")","v":""}]
[null,null,null,{"$f":"IFERROR(VLOOKUP(C415,Participants!$B$3:$C$1002,2,0),\"\")","v":""},null,{"$f":"IFERROR(VLOOKUP(E415,Participants!$B$3:$C$1002,2,0),\"\")","v":""}]
[null,null,null,{"$f":"IFERROR(VLOOKUP(C416,Participants!$B$3:$C$1002,2,0),\"\")","v":""},null,{"$f":"IFERROR(VLOOKUP(E416,Participants!$B$3:$C$1002,2,0),\"\")","v":""}]
[null,null,null,{"$f":"IFERROR(VLOOKUP(C417,Participants!$B$3:$C$1002,2,0),\"\")","v":""},null,{"$f":"IFERROR(VLOOKUP(E417,Participants!$B$3:$C$1002,2,0),\"\")","v":""}]
[null,null,null,{"$f":"IFERROR(VLOOKUP(C418,Participants!$B$3:$C$1002,2,0),\"\")","v":""},null,{"$f":"IFERROR(VLOOKUP(E418,Participants!$B$3:$C$1002,2,0),\"\")","v":""}]
[null,null,null,{"$f":"IFERROR(VLOOKUP(C419,Participants!$B$3:$C$1002,2,0),\"\")","v":""},null,{"$f":"IFERROR(VLOOKUP(E419,Participants!$B$3:$C$1002,2,0),\"\")","v":""}]
[null,null,null,{"$f":"IFERROR(VLOOKUP(C420,Participants!$B$3:$C$1002,2,0),\"\")","v":""},null,{"$f":"IFERROR(VLOOKUP(E420,Participants!$B$3:$C$1002,2,0),\"\")","v":""}]
[null,null,null,{"$f":"IFERROR(VLOOKUP(C421,Participants!$B$3:$C$1002,2,0),\"\")","v":""},null,{"$f":"IFERROR(VLOOKUP(E421,Participants!$B$3:$C$1002,2,0),\"\")","v":""}]
[null,null,null,{"$f":"IFERROR(VLOOKUP(C422,Participants!$B$3:$C$1002,2,0),\"\")","v":""},null,{"$f":"IFERROR(VLOOKUP(E422,Participants!$B$3:$C$1002,2,0),\"\")","v":""}]
[null,null,null,{"$f":"IFERROR(VLOOKUP(C423,Participants!$B$3:$C$1002,2,0),\"\")","v":""},null,{"$f":"IFERROR(VLOOKUP(E423,Participants!$B$3:$C$1002,2,0),\"\")","v":""}]
[null,null,null,{"$f":"IFERROR(VLOOKUP(C424,Participants!$B$3:$C$1002,2,0),\"\")","v":""},null,{"$f":"IFERROR(VLOOKUP(E424,Participants!$B$3:$C$1002,2,0),\"\")","v":""}]
[null,null,null,{"$f":"IFERROR(VLOOKUP(C425,Participants!$B$3:$C$1002,2,0),\"\")","v":""},null,{"$f":"IFERROR(VLOOKUP(E425,Participants!$B$3:$C$1002,2,0),\"\")","v":""}]
[null,null,null,{"$f":"IFERROR(VLOOKUP(C426,Participants!$B$3:$C$1002,2,0),\"\")","v":""},null,{"$f":"IFERROR(VLOOKUP(E426,Participants!$B$3:$C$1002,2,0),\"\")","v":""}]
[null,null,null,{"$f":"IFERROR(VLOOKUP(C427,Participants!$B$3:$C$1002,2,0),\"\")","v":""},null,{"$f":"IFERROR(VLOOKUP(E427,Participants!$B$3:$C$1002,2,0),\"\")","v":""}]
[null,null,null,{"$f":"IFERROR(VLOOKUP(C428,Participants!$B$3:$C$1002,2,0),\"\")","v":""},null,{"$f":"IFERROR(VLOOKUP(E428,Participants!$B$3:$C$1002,2,0),\"\")","v":""}]
[null,null,null,{"$f":"IFERROR(VLOOKUP(C429,Participants!$B$3:$C$1002,2,0),\"\")","v":""},null,{"$f":"IFERROR(VLOOKUP(E429,Participants!$B$3:$C$1002,2,0),\"\")","v":""}]
[null,null,null,{"$f":"IFERROR(VLOOKUP(C430,Participants!$B$3:$C$1002,2,0),\"\")","v":""},null,{"$f":"IFERROR(VLOOKUP(E430,Participants!$B$3:$C$1002,2,0),\"\")","v":""}]
[null,null,null,{"$f":"IFERROR(VLOOKUP(C431,Participants!$B$3:$C$1002,2,0),\"\")","v":""},null,{"$f":"IFERROR(VLOOKUP(E431,Participants!$B$3:$C$1002,2,0),\"\")","v":""}]
[null,null,null,{"$f":"IFERROR(VLOOKUP(C432,Participants!$B$3:$C$1002,2,0),\"\")","v":""},null,{"$f":"IFERROR(VLOOKUP(E432,Participants!$B$3:$C$1002,2,0),\"\")","v":""}]
[null,null,null,{"$f":"IFERROR(VLOOKUP(C433,Participants!$B$3:$C$1002,2,0),\"\")","v":""},null,{"$f":"IFERROR(VLOOKUP(E433,Participants!$B$3:$C$1002,2,0),\"\")","v":""}]
[null,null,null,{"$f":"IFERROR(VLOOKUP(C434,Participants!$B$3:$C$1002,2,0),\"\")","v":""},null,{"$f":"IFERROR(VLOOKUP(E434,Participants!$B$3:$C$1002,2,0),\"\")","v":""}]
[null,null,null,{"$f":"IFERROR(VLOOKUP(C435,Participants!$B$3:$C$1002,2,0),\"\")","v":""},null,{"$f":"IFERROR(VLOOKUP(E435,Participants!$B$3:$C$1002,2,0),\"\")","v":""}]
[null,null,null,{"$f":"IFERROR(VLOOKUP(C436,Participants!$B$3:$C$1002,2,0),\"\")","v":""},null,{"$f":"IFERROR(VLOOKUP(E436,Participants!$B$3:$C$1002,2,0),\"\")","v":""}]
[null,null,null,{"$f":"IFERROR(VLOOKUP(C437,Participants!$B$3:$C$1002,2,0),\"\")","v":""},null,{"$f":"IFERROR(VLOOKUP(E437,Participants!$B$3:$C$1002,2,0),\"\")","v":""}]
[null,null,null,{"$f":"IFERROR(VLOOKUP(C438,Participants!$B$3:$C$1002,2,0),\"\")","v":""},null,{"$f":"IFERROR(VLOOKUP(E438,Participants!$B$3:$C$1002,2,0),\"\")","v":""}]
[null,null,null,{"$f":"IFERROR(VLOOKUP(C439,Participants!$B$3:$C$1002,2,0),\"\")","v":""},null,{"$f":"IFERROR(VLOOKUP(E439,Participants!$B$3:$C$1002,2,0),\"\")","v":""}]
[null,null,null,{"$f":"IFERROR(VLOOKUP(C440,Participants!$B$3:$C$1002,2,0),\"\")","v":""},null,{"$f":"IFERROR(VLOOKUP(E440,Participants!$B$3:$C$1002,2,0),\"\")","v":""}]
[null,null,null,{"$f":"IFERROR(VLOOKUP(C441,Participants!$B$3:$C$1002,2,0),\"\")","v":""},null,{"$f":"IFERROR(VLOOKUP(E441,Participants!$B$3:$C$1002,2,0),\"\")","v":""}]
[null,null,null,{"$f":"IFERROR(VLOOKUP(C442,Participants!$B$3:$C$1002,2,0),\"\")","v":""},null,{"$f":"IFERROR(VLOOKUP(E442,Participants!$B$3:$C$1002,2,0),\"\")","v":""}]
[null,null,null,{"$f":"IFERROR(VLOOKUP(C443,Participants!$B$3:$C$1002,2,0),\"\")","v":""},null,{"$f":"IFERROR(VLOOKUP(E443,Participants!$B$3:$C$1002,2,0),\"\")","v":""}]
[null,null,null,{"$f":"IFERROR(VLOOKUP(C444,Participants!$B$3:$C$1002,2,0),\"\")","v":""},null,{"$f":"IFERROR(VLOOKUP(E444,Participants!$B$3:$C$1002,2,0),\"\")","v":""}]
[null,null,null,{"$f":"IFERROR(VLOOKUP(C445,Participants!$B$3:$C$1002,2,0),\"\")","v":""},null,{"$f":"IFERROR(VLOOKUP(E445,Participants!$B$3:$C$1002,2,0),\"\")","v":""}]
[null,null,null,{"$f":"IFERROR(VLOOKUP(C446,Participants!$B$3:$C$1002,2,0),\"\")","v":""},null,{"$f":"IFERROR(VLOOKUP(E446,Participants!$B$3:$C$1002,2,0),\"\")","v":""}]
[null,null,null,{"$f":"IFERROR(VLOOKUP(C447,Participants!$B$3:$C$1002,2,0),\"\")","v":""},null,{"$f":"IFERROR(VLOOKUP(E447,Participants!$B$3:$C$1002,2,0),\"\")","v":""}]
[null,null,null,{"$f":"IFERROR(VLOOKUP(C448,Participants!$B$3:$C$1002,2,0),\"\")","v":""},null,{"$f":"IFERROR(VLOOKUP(E448,Participants!$B$3:$C$1002,2,0),\"\")","v":""}]
[null,null,null,{"$f":"IFERROR(VLOOKUP(C449,Participants!$B$3:$C$1002,2,0),\"\")","v":""},null,{"$f":"IFERROR(VLOOKUP(E449,Participants!$B$3:$C$1002,2,0),\"\")","v":""}]
[null,null,null,{"$f":"IFERROR(VLOOKUP(C450,Participants!$B$3:$C$1002,2,0),\"\")","v":""},null,{"$f":"IFERROR(VLOOKUP(E450,Participants!$B$3:$C$1002,2,0),\"\")","v":""}]
[null,null,null,{"$f":"IFERROR(VLOOKUP(C451,Participants!$B$3:$C$1002,2,0),\"\")","v":""},null,{"$f":"IFERROR(VLOOKUP(E451,Participants!$B$3:$C$1002,2,0),\"\")","v":""}]
[null,null,null,{"$f":"IFERROR(VLOOKUP(C452,Participants!$B$3:$C$1002,2,0),\"\")","v":""},null,{"$f":"IFERROR(VLOOKUP(E452,Participants!$B$3:$C$1002,2,0),\"\")","v":""}]
[null,null,null,{"$f":"IFERROR(VLOOKUP(C453,Participants!$B$3:$C$1002,2,0),\"\")","v":""},null,{"$f":"IFERROR(VLOOKUP(E453,Participants!$B$3:$C$1002,2,0),\"\")","v":""}]
[null,null,null,{"$f":"IFERROR(VLOOKUP(C454,Participants!$B$3:$C$1002,2,0),\"\")","v":""},null,{"$f":"IFERROR(VLOOKUP(E454,Participants!$B$3:$C$1002,2,0),\"\")","v":""}]
[null,null,null,{"$f":"IFERROR(VLOOKUP(C455,Participants!$B$3:$C$1002,2,0),\"\")","v":""},null,{"$f":"IFERROR(VLOOKUP(E455,Participants!$B$3:$C$1002,2,0),\"\")","v":""}]
[null,null,null,{"$f":"IFERROR(VLOOKUP(C456,Participants!$B$3:$C$1002,2,0),\"\")","v":""},null,{"$f":"IFERROR(VLOOKUP(E456,Participants!$B$3:$C$1002,2,0),\"\")","v":""}]
[null,null,null,{"$f":"IFERROR(VLOOKUP(C457,Participants!$B$3:$C$1002,2,0),\"\")","v":""},null,{"$f":"IFERROR(VLOOKUP(E457,Participants!$B$3:$C$1002,2,0),\"\")","v":""}]
[null,null,null,{"$f":"IFERROR(VLOOKUP(C458,Participants!$B$3:$C$1002,2,0),\"\")","v":""},null,{"$f":"IFERROR(VLOOKUP(E458,Participants!$B$3:$C$1002,2,0),\"\")","v":""}]
[null,null,null,{"$f":"IFERROR(VLOOKUP(C459,Participants!$B$3:$C$1002,2,0),\"\")","v":""},null,{"$f":"IFERROR(VLOOKUP(E459,Participants!$B$3:$C$1002,2,0),\"\")","v":""}]
[null,null,null,{"$f":"IFERROR(VLOOKUP(C460,Participants!$B$3:$C$1002,2,0),\"\")","v":""},null,{"$f":"IFERROR(VLOOKUP(E460,Participants!$B$3:$C$1002,2,0),\"\")","v":""}]
[null,null,null,{"$f":"IFERROR(VLOOKUP(C461,Participants!$B$3:$C$1002,2,0),\"\")","v":""},null,{"$f":"IFERROR(VLOOKUP(E461,Participants!$B$3:$C$1002,2,0),\"\")","v":""}]
[null,null,null,{"$f":"IFERROR(VLOOKUP(C462,Participants!$B$3:$C$1002,2,0),\"\")","v":""},null,{"$f":"IFERROR(VLOOKUP(E462,Participants!$B$3:$C$1002,2,0),\"\")","v":""}]
[null,null,null,{"$f":"IFERROR(VLOOKUP(C463,Participants!$B$3:$C$1002,2,0),\"\")","v":""},null,{"$f":"IFERROR(VLOOKUP(E463,Participants!$B$3:$C$1002,2,0),\"\")","v":""}]
[null,null,null,{"$f":"IFERROR(VLOOKUP(C464,Participants!$B$3:$C$1002,2,0),\"\")","v":""},null,{"$f":"IFERROR(VLOOKUP(E464,Participants!$B$3:$C$1002,2,0),\"\")","v":""}]
[null,null,null,{"$f":"IFERROR(VLOOKUP(C465,Participants!$B$3:$C$1002,2,0),\"\")","v":""},null,{"$f":"IFERROR(VLOOKUP(E465,Participants!$B$3:$C$1002,2,0),\"\")","v":""}]
[null,null,null,{"$f":"IFERROR(VLOOKUP(C466,Participants!$B$3:$C$1002,2,0),\"\")","v":""},null,{"$f":"IFERROR(VLOOKUP(E466,Participants!$B$3:$C$1002,2,0),\"\")","v":""}]
[null,null,null,{"$f":"IFERROR(VLOOKUP(C467,Participants!$B$3:$C$1002,2,0),\"\")","v":""},null,{"$f":"IFERROR(VLOOKUP(E467,Participants!$B$3:$C$1002,2,0),\"\")","v":""}]
[null,null,null,{"$f":"IFERROR(VLOOKUP(C468,Participants!$B$3:$C$1002,2,0),\"\")","v":""},null,{"$f":"IFERROR(VLOOKUP(E468,Participants!$B$3:$C$1002,2,0),\"\")","v":""}]
[null,null,null,{"$f":"IFERROR(VLOOKUP(C469,Participants!$B$3:$C$1002,2,0),\"\")","v":""},null,{"$f":"IFERROR(VLOOKUP(E469,Participants!$B$3:$C$1002,2,0),\"\")","v":""}]
[null,null,null,{"$f":"IFERROR(VLOOKUP(C470,Participants!$B$3:$C$1002,2,0),\"\")","v":""},null,{"$f":"IFERROR(VLOOKUP(E470,Participants!$B$3:$C$1002,2,0),\"\")","v":""}]
[null,null,null,{"$f":"IFERROR(VLOOKUP(C471,Participants!$B$3:$C$1002,2,0),\"\")","v":""},null,{"$f":"IFERROR(VLOOKUP(E471,Participants!$B$3:$C$1002,2,0),\"\")","v":""}]
[null,null,null,{"$f":"IFERROR(VLOOKUP(C472,Participants!$B$3:$C$1002,2,0),\"\")","v":""},null,{"$f":"IFERROR(VLOOKUP(E472,Participants!$B$3:$C$1002,2,0),\"\")","v":""}]
[null,null,null,{"$f":"IFERROR(VLOOKUP(C473,Participants!$B$3:$C$1002,2,0),\"\")","v":""},null,{"$f":"IFERROR(VLOOKUP(E473,Participants!$B$3:$C$1002,2,0),\"\")","v":""}]
[null,null,null,{"$f":"IFERROR(VLOOKUP(C474,Participants!$B$3:$C$1002,2,0),\"\")","v":""},null,{"$f":"IFERROR(VLOOKUP(E474,Participants!$B$3:$C$1002,2,0),\"\")","v":""}]
[null,null,null,{"$f":"IFERROR(VLOOKUP(C475,Participants!$B$3:$C$1002,2,0),\"\")","v":""},null,{"$f":"IFERROR(VLOOKUP(E475,Participants!$B$3:$C$1002,2,0),\"\")","v":""}]
[null,null,null,{"$f":"IFERROR(VLOOKUP(C476,Participants!$B$3:$C$1002,2,0),\"\")","v":""},null,{"$f":"IFERROR(VLOOKUP(E476,Participants!$B$3:$C$1002,2,0),\"\")","v":""}]
[null,null,null,{"$f":"IFERROR(VLOOKUP(C477,Participants!$B$3:$C$1002,2,0),\"\")","v":""},null,{"$f":"IFERROR(VLOOKUP(E477,Participants!$B$3:$C$1002,2,0),\"\")","v":""}]
[null,null,null,{"$f":"IFERROR(VLOOKUP(C478,Participants!$B$3:$C$1002,2,0),\"\")","v":""},null,{"$f":"IFERROR(VLOOKUP(E478,Participants!$B$3:$C$1002,2,0),\"\")","v":""}]
[null,null,null,{"$f":"IFERROR(VLOOKUP(C479,Participants!$B$3:$C$1002,2,0),\"\")","v":""},null,{"$f":"IFERROR(VLOOKUP(E479,Participants!$B$3:$C$1002,2,0),\"\")","v":""}]
[null,null,null,{"$f":"IFERROR(VLOOKUP(C480,Participants!$B$3:$C$1002,2,0),\"\")","v":""},null,{"$f":"IFERROR(VLOOKUP(E480,Participants!$B$3:$C$1002,2,0),\"\")","v":""}]
[null,null,null,{"$f":"IFERROR(VLOOKUP(C481,Participants!$B$3:$C$1002,2,0),\"\")","v":""},null,{"$f":"IFERROR(VLOOKUP(E481,Participants!$B$3:$C$1002,2,0),\"\")","v":""}]
[null,null,null,{"$f":"IFERROR(VLOOKUP(C482,Participants!$B$3:$C$1002,2,0),\"\")","v":""},null,{"$f":"IFERROR(VLOOKUP(E482,Participants!$B$3:$C$1002,2,0),\"\")","v":""}]
[null,null,null,{"$f":"IFERROR(VLOOKUP(C483,Participants!$B$3:$C$1002,2,0),\"\")","v":""},null,{"$f":"IFERROR(VLOOKUP(E483,Participants!$B$3:$C$1002,2,0),\"\")","v":""}]
[null,null,null,{"$f":"IFERROR(VLOOKUP(C484,Participants!$B$3:$C$1002,2,0),\"\")","v":""},null,{"$f":"IFERROR(VLOOKUP(E484,Participants!$B$3:$C$1002,2,0),\"\")","v":""}]
[null,null,null,{"$f":"IFERROR(VLOOKUP(C485,Participants!$B$3:$C$1002,2,0),\"\")","v":""},null,{"$f":"IFERROR(VLOOKUP(E485,Participants!$B$3:$C$1002,2,0),\"\")","v":""}]
[null,null,null,{"$f":"IFERROR(VLOOKUP(C486,Participants!$B$3:$C$1002,2,0),\"\")","v":""},null,{"$f":"IFERROR(VLOOKUP(E486,Participants!$B$3:$C$1002,2,0),\"\")","v":""}]
[null,null,null,{"$f":"IFERROR(VLOOKUP(C487,Participants!$B$3:$C$1002,2,0),\"\")","v":""},null,{"$f":"IFERROR(VLOOKUP(E487,Participants!$B$3:$C$1002,2,0),\"\")","v":""}]
[null,null,null,{"$f":"IFERROR(VLOOKUP(C488,Participants!$B$3:$C$1002,2,0),\"\")","v":""},null,{"$f":"IFERROR(VLOOKUP(E488,Participants!$B$3:$C$1002,2,0),\"\")","v":""}]
[null,null,null,{"$f":"IFERROR(VLOOKUP(C489,Participants!$B$3:$C$1002,2,0),\"\")","v":""},null,{"$f":"IFERROR(VLOOKUP(E489,Participants!$B$3:$C$1002,2,0),\"\")","v":""}]
[null,null,null,{"$f":"IFERROR(VLOOKUP(C490,Participants!$B$3:$C$1002,2,0),\"\")","v":""},null,{"$f":"IFERROR(VLOOKUP(E490,Participants!$B$3:$C$1002,2,0),\"\")","v":""}]
[null,null,null,{"$f":"IFERROR(VLOOKUP(C491,Participants!$B$3:$C$1002,2,0),\"\")","v":""},null,{"$f":"IFERROR(VLOOKUP(E491,Participants!$B$3:$C$1002,2,0),\"\")","v":""}]
[null,null,null,{"$f":"IFERROR(VLOOKUP(C492,Participants!$B$3:$C$1002,2,0),\"\")","v":""},null,{"$f":"IFERROR(VLOOKUP(E492,Participants!$B$3:$C$1002,2,0),\"\")","v":""}]
[null,null,null,{"$f":"IFERROR(VLOOKUP(C493,Participants!$B$3:$C$1002,2,0),\"\")","v":""},null,{"$f":"IFERROR(VLOOKUP(E493,Participants!$B$3:$C$1002,2,0),\"\")","v":""}]
[null,null,null,{"$f":"IFERROR(VLOOKUP(C494,Participants!$B$3:$C$1002,2,0),\"\")","v":""},null,{"$f":"IFERROR(VLOOKUP(E494,Participants!$B$3:$C$1002,2,0),\"\")","v":""}]
[null,null,null,{"$f":"IFERROR(VLOOKUP(C495,Participants!$B$3:$C$1002,2,0),\"\")","v":""},null,{"$f":"IFERROR(VLOOKUP(E495,Participants!$B$3:$C$1002,2,0),\"\")","v":""}]
[null,null,null,{"$f":"IFERROR(VLOOKUP(C496,Participants!$B$3:$C$1002,2,0),\"\")","v":""},null,{"$f":"IFERROR(VLOOKUP(E496,Participants!$B$3:$C$1002,2,0),\"\")","v":""}]
[null,null,null,{"$f":"IFERROR(VLOOKUP(C497,Participants!$B$3:$C$1002,2,0),\"\")","v":""},null,{"$f":"IFERROR(VLOOKUP(E497,Participants!$B$3:$C$1002,2,0),\"\")","v":""}]
[null,null,null,{"$f":"IFERROR(VLOOKUP(C498,Participants!$B$3:$C$1002,2,0),\"\")","v":""},null,{"$f":"IFERROR(VLOOKUP(E498,Participants!$B$3:$C$1002,2,0),\"\")","v":""}]
[null,null,null,{"$f":"IFERROR(VLOOKUP(C499,Participants!$B$3:$C$1002,2,0),\"\")","v":""},null,{"$f":"IFERROR(VLOOKUP(E499,Participants!$B$3:$C$1002,2,0),\"\")","v":""}]
[null,null,null,{"$f":"IFERROR(VLOOKUP(C500,Participants!$B$3:$C$1002,2,0),\"\")","v":""},null,{"$f":"IFERROR(VLOOKUP(E500,Participants!$B$3:$C$1002,2,0),\"\")","v":""}]
[null,null,null,{"$f":"IFERROR(VLOOKUP(C501,Participants!$B$3:$C$1002,2,0),\"\")","v":""},null,{"$f":"IFERROR(VLOOKUP(E501,Participants!$B$3:$C$1002,2,0),\"\")","v":""}]
[null,null,null,{"$f":"IFERROR(VLOOKUP(C502,Participants!$B$3:$C$1002,2,0),\"\")","v":""},null,{"$f":"IFERROR(VLOOKUP(E502,Participants!$B$3:$C$1002,2,0),\"\")","v":""}]
[null,null,null,{"$f":"IFERROR(VLOOKUP(C503,Participants!$B$3:$C$1002,2,0),\"\")","v":""},null,{"$f":"IFERROR(VLOOKUP(E503,Participants!$B$3:$C$1002,2,0),\"\")","v":""}]
[null,null,null,{"$f":"IFERROR(VLOOKUP(C504,Participants!$B$3:$C$1002,2,0),\"\")","v":""},null,{"$f":"IFERROR(VLOOKUP(E504,Participants!$B$3:$C$1002,2,0),\"\")","v":""}]
[null,null,null,{"$f":"IFERROR(VLOOKUP(C505,Participants!$B$3:$C$1002,2,0),\"\")","v":""},null,{"$f":"IFERROR(VLOOKUP(E505,Participants!$B$3:$C$1002,2,0),\"\")","v":""}]
[null,null,null,{"$f":"IFERROR(VLOOKUP(C506,Participants!$B$3:$C$1002,2,0),\"\")","v":""},null,{"$f":"IFERROR(VLOOKUP(E506,Participants!$B$3:$C$1002,2,0),\"\")","v":""}]
[null,null,null,{"$f":"IFERROR(VLOOKUP(C507,Participants!$B$3:$C$1002,2,0),\"\")","v":""},null,{"$f":"IFERROR(VLOOKUP(E507,Participants!$B$3:$C$1002,2,0),\"\")","v":""}]
[null,null,null,{"$f":"IFERROR(VLOOKUP(C508,Participants!$B$3:$C$1002,2,0),\"\")","v":""},null,{"$f":"IFERROR(VLOOKUP(E508,Participants!$B$3:$C$1002,2,0),\"\")","v":""}]
[null,null,null,{"$f":"IFERROR(VLOOKUP(C509,Participants!$B$3:$C$1002,2,0),\"\")","v":""},null,{"$f":"IFERROR(VLOOKUP(E509,Participants!$B$3:$C$1002,2,0),\"\")","v":""}]
[null,null,null,{"$f":"IFERROR(VLOOKUP(C510,Participants!$B$3:$C$1002,2,0),\"\")","v":""},null,{"$f":"IFERROR(VLOOKUP(E510,Participants!$B$3:$C$1002,2,0),\"\")","v":""}]
[null,null,null,{"$f":"IFERROR(VLOOKUP(C511,Participants!$B$3:$C$1002,2,0),\"\")","v":""},null,{"$f":"IFERROR(VLOOKUP(E511,Participants!$B$3:$C$1002,2,0),\"\")","v":""}]
[null,null,null,{"$f":"IFERROR(VLOOKUP(C512,Participants!$B$3:$C$1002,2,0),\"\")","v":""},null,{"$f":"IFERROR(VLOOKUP(E512,Participants!$B$3:$C$1002,2,0),\"\")","v":""}]
[null,null,null,{"$f":"IFERROR(VLOOKUP(C513,Participants!$B$3:$C$1002,2,0),\"\")","v":""},null,{"$f":"IFERROR(VLOOKUP(E513,Participants!$B$3:$C$1002,2,0),\"\")","v":""}]
[null,null,null,{"$f":"IFERROR(VLOOKUP(C514,Participants!$B$3:$C$1002,2,0),\"\")","v":""},null,{"$f":"IFERROR(VLOOKUP(E514,Participants!$B$3:$C$1002,2,0),\"\")","v":""}]
[null,null,null,{"$f":"IFERROR(VLOOKUP(C515,Participants!$B$3:$C$1002,2,0),\"\")","v":""},null,{"$f":"IFERROR(VLOOKUP(E515,Participants!$B$3:$C$1002,2,0),\"\")","v":""}]
[null,null,null,{"$f":"IFERROR(VLOOKUP(C516,Participants!$B$3:$C$1002,2,0),\"\")","v":""},null,{"$f":"IFERROR(VLOOKUP(E516,Participants!$B$3:$C$1002,2,0),\"\")","v":""}]
[null,null,null,{"$f":"IFERROR(VLOOKUP(C517,Participants!$B$3:$C$1002,2,0),\"\")","v":""},null,{"$f":"IFERROR(VLOOKUP(E517,Participants!$B$3:$C$1002,2,0),\"\")","v":""}]
[null,null,null,{"$f":"IFERROR(VLOOKUP(C518,Participants!$B$3:$C$1002,2,0),\"\")","v":""},null,{"$f":"IFERROR(VLOOKUP(E518,Participants!$B$3:$C$1002,2,0),\"\")","v":""}]
[null,null,null,{"$f":"IFERROR(VLOOKUP(C519,Participants!$B$3:$C$1002,2,0),\"\")","v":""},null,{"$f":"IFERROR(VLOOKUP(E519,Participants!$B$3:$C$1002,2,0),\"\")","v":""}]
[null,null,null,{"$f":"IFERROR(VLOOKUP(C520,Participants!$B$3:$C$1002,2,0),\"\")","v":""},null,{"$f":"IFERROR(VLOOKUP(E520,Participants!$B$3:$C$1002,2,0),\"\")","v":""}]
[null,null,null,{"$f":"IFERROR(VLOOKUP(C521,Participants!$B$3:$C$1002,2,0),\"\")","v":""},null,{"$f":"IFERROR(VLOOKUP(E521,Participants!$B$3:$C$1002,2,0),\"\")","v":""}]
[null,null,null,{"$f":"IFERROR(VLOOKUP(C522,Participants!$B$3:$C$1002,2,0),\"\")","v":""},null,{"$f":"IFERROR(VLOOKUP(E522,Participants!$B$3:$C$1002,2,0),\"\")","v":""}]
[null,null,null,{"$f":"IFERROR(VLOOKUP(C523,Participants!$B$3:$C$1002,2,0),\"\")","v":""},null,{"$f":"IFERROR(VLOOKUP(E523,Participants!$B$3:$C$1002,2,0),\"\")","v":""}]
[null,null,null,{"$f":"IFERROR(VLOOKUP(C524,Participants!$B$3:$C$1002,2,0),\"\")","v":""},null,{"$f":"IFERROR(VLOOKUP(E524,Participants!$B$3:$C$1002,2,0),\"\")","v":""}]
[null,null,null,{"$f":"IFERROR(VLOOKUP(C525,Participants!$B$3:$C$1002,2,0),\"\")","v":""},null,{"$f":"IFERROR(VLOOKUP(E525,Participants!$B$3:$C$1002,2,0),\"\")","v":""}]
[null,null,null,{"$f":"IFERROR(VLOOKUP(C526,Participants!$B$3:$C$1002,2,0),\"\")","v":""},null,{"$f":"IFERROR(VLOOKUP(E526,Participants!$B$3:$C$1002,2,0),\"\")","v":""}]
[null,null,null,{"$f":"IFERROR(VLOOKUP(C527,Participants!$B$3:$C$1002,2,0),\"\")","v":""},null,{"$f":"IFERROR(VLOOKUP(E527,Participants!$B$3:$C$1002,2,0),\"\")","v":""}]
[null,null,null,{"$f":"IFERROR(VLOOKUP(C528,Participants!$B$3:$C$1002,2,0),\"\")","v":""},null,{"$f":"IFERROR(VLOOKUP(E528,Participants!$B$3:$C$1002,2,0),\"\")","v":""}]
[null,null,null,{"$f":"IFERROR(VLOOKUP(C529,Participants!$B$3:$C$1002,2,0),\"\")","v":""},null,{"$f":"IFERROR(VLOOKUP(E529,Participants!$B$3:$C$1002,2,0),\"\")","v":""}]
[null,null,null,{"$f":"IFERROR(VLOOKUP(C530,Participants!$B$3:$C$1002,2,0),\"\")","v":""},null,{"$f":"IFERROR(VLOOKUP(E530,Participants!$B$3:$C$1002,2,0),\"\")","v":""}]
[null,null,null,{"$f":"IFERROR(VLOOKUP(C531,Participants!$B$3:$C$1002,2,0),\"\")","v":""},null,{"$f":"IFERROR(VLOOKUP(E531,Participants!$B$3:$C$1002,2,0),\"\")","v":""}]
[null,null,null,{"$f":"IFERROR(VLOOKUP(C532,Participants!$B$3:$C$1002,2,0),\"\")","v":""},null,{"$f":"IFERROR(VLOOKUP(E532,Participants!$B$3:$C$1002,2,0),\"\")","v":""}]
[null,null,null,{"$f":"IFERROR(VLOOKUP(C533,Participants!$B$3:$C$1002,2,0),\"\")","v":""},null,{"$f":"IFERROR(VLOOKUP(E533,Participants!$B$3:$C$1002,2,0),\"\")","v":""}]
[null,null,null,{"$f":"IFERROR(VLOOKUP(C534,Participants!$B$3:$C$1002,2,0),\"\")","v":""},null,{"$f":"IFERROR(VLOOKUP(E534,Participants!$B$3:$C$1002,2,0),\"\")","v":""}]
[null,null,null,{"$f":"IFERROR(VLOOKUP(C535,Participants!$B$3:$C$1002,2,0),\"\")","v":""},null,{"$f":"IFERROR(VLOOKUP(E535,Participants!$B$3:$C$1002,2,0),\"\")","v":""}]
[null,null,null,{"$f":"IFERROR(VLOOKUP(C536,Participants!$B$3:$C$1002,2,0),\"\")","v":""},null,{"$f":"IFERROR(VLOOKUP(E536,Participants!$B$3:$C$1002,2,0),\"\")","v":""}]
[null,null,null,{"$f":"IFERROR(VLOOKUP(C537,Participants!$B$3:$C$1002,2,0),\"\")","v":""},null,{"$f":"IFERROR(VLOOKUP(E537,Participants!$B$3:$C$1002,2,0),\"\")","v":""}]
[null,null,null,{"$f":"IFERROR(VLOOKUP(C538,Participants!$B$3:$C$1002,2,0),\"\")","v":""},null,{"$f":"IFERROR(VLOOKUP(E538,Participants!$B$3:$C$1002,2,0),\"\")","v":""}]
[null,null,null,{"$f":"IFERROR(VLOOKUP(C539,Participants!$B$3:$C$1002,2,0),\"\")","v":""},null,{"$f":"IFERROR(VLOOKUP(E539,Participants!$B$3:$C$1002,2,0),\"\")","v":""}]
[null,null,null,{"$f":"IFERROR(VLOOKUP(C540,Participants!$B$3:$C$1002,2,0),\"\")","v":""},null,{"$f":"IFERROR(VLOOKUP(E540,Participants!$B$3:$C$1002,2,0),\"\")","v":""}]
[null,null,null,{"$f":"IFERROR(VLOOKUP(C541,Participants!$B$3:$C$1002,2,0),\"\")","v":""},null,{"$f":"IFERROR(VLOOKUP(E541,Participants!$B$3:$C$1002,2,0),\"\")","v":""}]
[null,null,null,{"$f":"IFERROR(VLOOKUP(C542,Participants!$B$3:$C$1002,2,0),\"\")","v":""},null,{"$f":"IFERROR(VLOOKUP(E542,Participants!$B$3:$C$1002,2,0),\"\")","v":""}]
[null,null,null,{"$f":"IFERROR(VLOOKUP(C543,Participants!$B$3:$C$1002,2,0),\"\")","v":""},null,{"$f":"IFERROR(VLOOKUP(E543,Participants!$B$3:$C$1002,2,0),\"\")","v":""}]
[null,null,null,{"$f":"IFERROR(VLOOKUP(C544,Participants!$B$3:$C$1002,2,0),\"\")","v":""},null,{"$f":"IFERROR(VLOOKUP(E544,Participants!$B$3:$C$1002,2,0),\"\")","v":""}]
[null,null,null,{"$f":"IFERROR(VLOOKUP(C545,Participants!$B$3:$C$1002,2,0),\"\")","v":""},null,{"$f":"IFERROR(VLOOKUP(E545,Participants!$B$3:$C$1002,2,0),\"\")","v":""}]
[null,null,null,{"$f":"IFERROR(VLOOKUP(C546,Participants!$B$3:$C$1002,2,0),\"\")","v":""},null,{"$f":"IFERROR(VLOOKUP(E546,Participants!$B$3:$C$1002,2,0),\"\")","v":""}]
[null,null,null,{"$f":"IFERROR(VLOOKUP(C547,Participants!$B$3:$C$1002,2,0),\"\")","v":""},null,{"$f":"IFERROR(VLOOKUP(E547,Participants!$B$3:$C$1002,2,0),\"\")","v":""}]
[null,null,null,{"$f":"IFERROR(VLOOKUP(C548,Participants!$B$3:$C$1002,2,0),\"\")","v":""},null,{"$f":"IFERROR(VLOOKUP(E548,Participants!$B$3:$C$1002,2,0),\"\")","v":""}]
[null,null,null,{"$f":"IFERROR(VLOOKUP(C549,Participants!$B$3:$C$1002,2,0),\"\")","v":""},null,{"$f":"IFERROR(VLOOKUP(E549,Participants!$B$3:$C$1002,2,0),\"\")","v":""}]
[null,null,null,{"$f":"IFERROR(VLOOKUP(C550,Participants!$B$3:$C$1002,2,0),\"\")","v":""},null,{"$f":"IFERROR(VLOOKUP(E550,Participants!$B$3:$C$1002,2,0),\"\")","v":""}]
[null,null,null,{"$f":"IFERROR(VLOOKUP(C551,Participants!$B$3:$C$1002,2,0),\"\")","v":""},null,{"$f":"IFERROR(VLOOKUP(E551,Participants!$B$3:$C$1002,2,0),\"\")","v":""}]
[null,null,null,{"$f":"IFERROR(VLOOKUP(C552,Participants!$B$3:$C$1002,2,0),\"\")","v":""},null,{"$f":"IFERROR(VLOOKUP(E552,Participants!$B$3:$C$1002,2,0),\"\")","v":""}]
[null,null,null,{"$f":"IFERROR(VLOOKUP(C553,Participants!$B$3:$C$1002,2,0),\"\")","v":""},null,{"$f":"IFERROR(VLOOKUP(E553,Participants!$B$3:$C$1002,2,0),\"\")","v":""}]
[null,null,null,{"$f":"IFERROR(VLOOKUP(C554,Participants!$B$3:$C$1002,2,0),\"\")","v":""},null,{"$f":"IFERROR(VLOOKUP(E554,Participants!$B$3:$C$1002,2,0),\"\")","v":""}]
[null,null,null,{"$f":"IFERROR(VLOOKUP(C555,Participants!$B$3:$C$1002,2,0),\"\")","v":""},null,{"$f":"IFERROR(VLOOKUP(E555,Participants!$B$3:$C$1002,2,0),\"\")","v":""}]
[null,null,null,{"$f":"IFERROR(VLOOKUP(C556,Participants!$B$3:$C$1002,2,0),\"\")","v":""},null,{"$f":"IFERROR(VLOOKUP(E556,Participants!$B$3:$C$1002,2,0),\"\")","v":""}]
[null,null,null,{"$f":"IFERROR(VLOOKUP(C557,Participants!$B$3:$C$1002,2,0),\"\")","v":""},null,{"$f":"IFERROR(VLOOKUP(E557,Participants!$B$3:$C$1002,2,0),\"\")","v":""}]
[null,null,null,{"$f":"IFERROR(VLOOKUP(C558,Participants!$B$3:$C$1002,2,0),\"\")","v":""},null,{"$f":"IFERROR(VLOOKUP(E558,Participants!$B$3:$C$1002,2,0),\"\")","v":""}]
[null,null,null,{"$f":"IFERROR(VLOOKUP(C559,Participants!$B$3:$C$1002,2,0),\"\")","v":""},null,{"$f":"IFERROR(VLOOKUP(E559,Participants!$B$3:$C$1002,2,0),\"\")","v":""}]
[null,null,null,{"$f":"IFERROR(VLOOKUP(C560,Participants!$B$3:$C$1002,2,0),\"\")","v":""},null,{"$f":"IFERROR(VLOOKUP(E560,Participants!$B$3:$C$1002,2,0),\"\")","v":""}]
[null,null,null,{"$f":"IFERROR(VLOOKUP(C561,Participants!$B$3:$C$1002,2,0),\"\")","v":""},null,{"$f":"IFERROR(VLOOKUP(E561,Participants!$B$3:$C$1002,2,0),\"\")","v":""}]
[null,null,null,{"$f":"IFERROR(VLOOKUP(C562,Participants!$B$3:$C$1002,2,0),\"\")","v":""},null,{"$f":"IFERROR(VLOOKUP(E562,Participants!$B$3:$C$1002,2,0),\"\")","v":""}]
[null,null,null,{"$f":"IFERROR(VLOOKUP(C563,Participants!$B$3:$C$1002,2,0),\"\")","v":""},null,{"$f":"IFERROR(VLOOKUP(E563,Participants!$B$3:$C$1002,2,0),\"\")","v":""}]
[null,null,null,{"$f":"IFERROR(VLOOKUP(C564,Participants!$B$3:$C$1002,2,0),\"\")","v":""},null,{"$f":"IFERROR(VLOOKUP(E564,Participants!$B$3:$C$1002,2,0),\"\")","v":""}]
[null,null,null,{"$f":"IFERROR(VLOOKUP(C565,Participants!$B$3:$C$1002,2,0),\"\")","v":""},null,{"$f":"IFERROR(VLOOKUP(E565,Participants!$B$3:$C$1002,2,0),\"\")","v":""}]
[null,null,null,{"$f":"IFERROR(VLOOKUP(C566,Participants!$B$3:$C$1002,2,0),\"\")","v":""},null,{"$f":"IFERROR(VLOOKUP(E566,Participants!$B$3:$C$1002,2,0),\"\")","v":""}]
[null,null,null,{"$f":"IFERROR(VLOOKUP(C567,Participants!$B$3:$C$1002,2,0),\"\")","v":""},null,{"$f":"IFERROR(VLOOKUP(E567,Participants!$B$3:$C$1002,2,0),\"\")","v":""}]
[null,null,null,{"$f":"IFERROR(VLOOKUP(C568,Participants!$B$3:$C$1002,2,0),\"\")","v":""},null,{"$f":"IFERROR(VLOOKUP(E568,Participants!$B$3:$C$1002,2,0),\"\")","v":""}]
[null,null,null,{"$f":"IFERROR(VLOOKUP(C569,Participants!$B$3:$C$1002,2,0),\"\")","v":""},null,{"$f":"IFERROR(VLOOKUP(E569,Participants!$B$3:$C$1002,2,0),\"\")","v":""}]
[null,null,null,{"$f":"IFERROR(VLOOKUP(C570,Participants!$B$3:$C$1002,2,0),\"\")","v":""},null,{"$f":"IFERROR(VLOOKUP(E570,Participants!$B$3:$C$1002,2,0),\"\")","v":""}]
[null,null,null,{"$f":"IFERROR(VLOOKUP(C571,Participants!$B$3:$C$1002,2,0),\"\")","v":""},null,{"$f":"IFERROR(VLOOKUP(E571,Participants!$B$3:$C$1002,2,0),\"\")","v":""}]
[null,null,null,{"$f":"IFERROR(VLOOKUP(C572,Participants!$B$3:$C$1002,2,0),\"\")","v":""},null,{"$f":"IFERROR(VLOOKUP(E572,Participants!$B$3:$C$1002,2,0),\"\")","v":""}]
[null,null,null,{"$f":"IFERROR(VLOOKUP(C573,Participants!$B$3:$C$1002,2,0),\"\")","v":""},null,{"$f":"IFERROR(VLOOKUP(E573,Participants!$B$3:$C$1002,2,0),\"\")","v":""}]
[null,null,null,{"$f":"IFERROR(VLOOKUP(C574,Participants!$B$3:$C$1002,2,0),\"\")","v":""},null,{"$f":"IFERROR(VLOOKUP(E574,Participants!$B$3:$C$1002,2,0),\"\")","v":""}]
[null,null,null,{"$f":"IFERROR(VLOOKUP(C575,Participants!$B$3:$C$1002,2,0),\"\")","v":""},null,{"$f":"IFERROR(VLOOKUP(E575,Participants!$B$3:$C$1002,2,0),\"\")","v":""}]
[null,null,null,{"$f":"IFERROR(VLOOKUP(C576,Participants!$B$3:$C$1002,2,0),\"\")","v":""},null,{"$f":"IFERROR(VLOOKUP(E576,Participants!$B$3:$C$1002,2,0),\"\")","v":""}]
[null,null,null,{"$f":"IFERROR(VLOOKUP(C577,Participants!$B$3:$C$1002,2,0),\"\")","v":""},null,{"$f":"IFERROR(VLOOKUP(E577,Participants!$B$3:$C$1002,2,0),\"\")","v":""}]
[null,null,null,{"$f":"IFERROR(VLOOKUP(C578,Participants!$B$3:$C$1002,2,0),\"\")","v":""},null,{"$f":"IFERROR(VLOOKUP(E578,Participants!$B$3:$C$1002,2,0),\"\")","v":""}]
[null,null,null,{"$f":"IFERROR(VLOOKUP(C579,Participants!$B$3:$C$1002,2,0),\"\")","v":""},null,{"$f":"IFERROR(VLOOKUP(E579,Participants!$B$3:$C$1002,2,0),\"\")","v":""}]
[null,null,null,{"$f":"IFERROR(VLOOKUP(C580,Participants!$B$3:$C$1002,2,0),\"\")","v":""},null,{"$f":"IFERROR(VLOOKUP(E580,Participants!$B$3:$C$1002,2,0),\"\")","v":""}]
[null,null,null,{"$f":"IFERROR(VLOOKUP(C581,Participants!$B$3:$C$1002,2,0),\"\")","v":""},null,{"$f":"IFERROR(VLOOKUP(E581,Participants!$B$3:$C$1002,2,0),\"\")","v":""}]
[null,null,null,{"$f":"IFERROR(VLOOKUP(C582,Participants!$B$3:$C$1002,2,0),\"\")","v":""},null,{"$f":"IFERROR(VLOOKUP(E582,Participants!$B$3:$C$1002,2,0),\"\")","v":""}]
[null,null,null,{"$f":"IFERROR(VLOOKUP(C583,Participants!$B$3:$C$1002,2,0),\"\")","v":""},null,{"$f":"IFERROR(VLOOKUP(E583,Participants!$B$3:$C$1002,2,0),\"\")","v":""}]
[null,null,null,{"$f":"IFERROR(VLOOKUP(C584,Participants!$B$3:$C$1002,2,0),\"\")","v":""},null,{"$f":"IFERROR(VLOOKUP(E584,Participants!$B$3:$C$1002,2,0),\"\")","v":""}]
[null,null,null,{"$f":"IFERROR(VLOOKUP(C585,Participants!$B$3:$C$1002,2,0),\"\")","v":""},null,{"$f":"IFERROR(VLOOKUP(E585,Participants!$B$3:$C$1002,2,0),\"\")","v":""}]
[null,null,null,{"$f":"IFERROR(VLOOKUP(C586,Participants!$B$3:$C$1002,2,0),\"\")","v":""},null,{"$f":"IFERROR(VLOOKUP(E586,Participants!$B$3:$C$1002,2,0),\"\")","v":""}]
[null,null,null,{"$f":"IFERROR(VLOOKUP(C587,Participants!$B$3:$C$1002,2,0),\"\")","v":""},null,{"$f":"IFERROR(VLOOKUP(E587,Participants!$B$3:$C$1002,2,0),\"\")","v":""}]
[null,null,null,{"$f":"IFERROR(VLOOKUP(C588,Participants!$B$3:$C$1002,2,0),\"\")","v":""},null,{"$f":"IFERROR(VLOOKUP(E588,Participants!$B$3:$C$1002,2,0),\"\")","v":""}]
[null,null,null,{"$f":"IFERROR(VLOOKUP(C589,Participants!$B$3:$C$1002,2,0),\"\")","v":""},null,{"$f":"IFERROR(VLOOKUP(E589,Participants!$B$3:$C$1002,2,0),\"\")","v":""}]
[null,null,null,{"$f":"IFERROR(VLOOKUP(C590,Participants!$B$3:$C$1002,2,0),\"\")","v":""},null,{"$f":"IFERROR(VLOOKUP(E590,Participants!$B$3:$C$1002,2,0),\"\")","v":""}]
[null,null,null,{"$f":"IFERROR(VLOOKUP(C591,Participants!$B$3:$C$1002,2,0),\"\")","v":""},null,{"$f":"IFERROR(VLOOKUP(E591,Participants!$B$3:$C$1002,2,0),\"\")","v":""}]
[null,null,null,{"$f":"IFERROR(VLOOKUP(C592,Participants!$B$3:$C$1002,2,0),\"\")","v":""},null,{"$f":"IFERROR(VLOOKUP(E592,Participants!$B$3:$C$1002,2,0),\"\")","v":""}]
[null,null,null,{"$f":"IFERROR(VLOOKUP(C593,Participants!$B$3:$C$1002,2,0),\"\")","v":""},null,{"$f":"IFERROR(VLOOKUP(E593,Participants!$B$3:$C$1002,2,0),\"\")","v":""}]
[null,null,null,{"$f":"IFERROR(VLOOKUP(C594,Participants!$B$3:$C$1002,2,0),\"\")","v":""},null,{"$f":"IFERROR(VLOOKUP(E594,Participants!$B$3:$C$1002,2,0),\"\")","v":""}]
[null,null,null,{"$f":"IFERROR(VLOOKUP(C595,Participants!$B$3:$C$1002,2,0),\"\")","v":""},null,{"$f":"IFERROR(VLOOKUP(E595,Participants!$B$3:$C$1002,2,0),\"\")","v":""}]
[null,null,null,{"$f":"IFERROR(VLOOKUP(C596,Participants!$B$3:$C$1002,2,0),\"\")","v":""},null,{"$f":"IFERROR(VLOOKUP(E596,Participants!$B$3:$C$1002,2,0),\"\")","v":""}]
[null,null,null,{"$f":"IFERROR(VLOOKUP(C597,Participants!$B$3:$C$1002,2,0),\"\")","v":""},null,{"$f":"IFERROR(VLOOKUP(E597,Participants!$B$3:$C$1002,2,0),\"\")","v":""}]
[null,null,null,{"$f":"IFERROR(VLOOKUP(C598,Participants!$B$3:$C$1002,2,0),\"\")","v":""},null,{"$f":"IFERROR(VLOOKUP(E598,Participants!$B$3:$C$1002,2,0),\"\")","v":""}]
[null,null,null,{"$f":"IFERROR(VLOOKUP(C599,Participants!$B$3:$C$1002,2,0),\"\")","v":""},null,{"$f":"IFERROR(VLOOKUP(E599,Participants!$B$3:$C$1002,2,0),\"\")","v":""}]
[null,null,null,{"$f":"IFERROR(VLOOKUP(C600,Participants!$B$3:$C$1002,2,0),\"\")","v":""},null,{"$f":"IFERROR(VLOOKUP(E600,Participants!$B$3:$C$1002,2,0),\"\")","v":""}]
[null,null,null,{"$f":"IFERROR(VLOOKUP(C601,Participants!$B$3:$C$1002,2,0),\"\")","v":""},null,{"$f":"IFERROR(VLOOKUP(E601,Participants!$B$3:$C$1002,2,0),\"\")","v":""}]
[null,null,null,{"$f":"IFERROR(VLOOKUP(C602,Participants!$B$3:$C$1002,2,0),\"\")","v":""},null,{"$f":"IFERROR(VLOOKUP(E602,Participants!$B$3:$C$1002,2,0),\"\")","v":""}]
[null,null,null,{"$f":"IFERROR(VLOOKUP(C603,Participants!$B$3:$C$1002,2,0),\"\")","v":""},null,{"$f":"IFERROR(VLOOKUP(E603,Participants!$B$3:$C$1002,2,0),\"\")","v":""}]
[null,null,null,{"$f":"IFERROR(VLOOKUP(C604,Participants!$B$3:$C$1002,2,0),\"\")","v":""},null,{"$f":"IFERROR(VLOOKUP(E604,Participants!$B$3:$C$1002,2,0),\"\")","v":""}]
[null,null,null,{"$f":"IFERROR(VLOOKUP(C605,Participants!$B$3:$C$1002,2,0),\"\")","v":""},null,{"$f":"IFERROR(VLOOKUP(E605,Participants!$B$3:$C$1002,2,0),\"\")","v":""}]
[null,null,null,{"$f":"IFERROR(VLOOKUP(C606,Participants!$B$3:$C$1002,2,0),\"\")","v":""},null,{"$f":"IFERROR(VLOOKUP(E606,Participants!$B$3:$C$1002,2,0),\"\")","v":""}]
[null,null,null,{"$f":"IFERROR(VLOOKUP(C607,Participants!$B$3:$C$1002,2,0),\"\")","v":""},null,{"$f":"IFERROR(VLOOKUP(E607,Participants!$B$3:$C$1002,2,0),\"\")","v":""}]
[null,null,null,{"$f":"IFERROR(VLOOKUP(C608,Participants!$B$3:$C$1002,2,0),\"\")","v":""},null,{"$f":"IFERROR(VLOOKUP(E608,Participants!$B$3:$C$1002,2,0),\"\")","v":""}]
[null,null,null,{"$f":"IFERROR(VLOOKUP(C609,Participants!$B$3:$C$1002,2,0),\"\")","v":""},null,{"$f":"IFERROR(VLOOKUP(E609,Participants!$B$3:$C$1002,2,0),\"\")","v":""}]
[null,null,null,{"$f":"IFERROR(VLOOKUP(C610,Participants!$B$3:$C$1002,2,0),\"\")","v":""},null,{"$f":"IFERROR(VLOOKUP(E610,Participants!$B$3:$C$1002,2,0),\"\")","v":""}]
[null,null,null,{"$f":"IFERROR(VLOOKUP(C611,Participants!$B$3:$C$1002,2,0),\"\")","v":""},null,{"$f":"IFERROR(VLOOKUP(E611,Participants!$B$3:$C$1002,2,0),\"\")","v":""}]
[null,null,null,{"$f":"IFERROR(VLOOKUP(C612,Participants!$B$3:$C$1002,2,0),\"\")","v":""},null,{"$f":"IFERROR(VLOOKUP(E612,Participants!$B$3:$C$1002,2,0),\"\")","v":""}]
[null,null,null,{"$f":"IFERROR(VLOOKUP(C613,Participants!$B$3:$C$1002,2,0),\"\")","v":""},null,{"$f":"IFERROR(VLOOKUP(E613,Participants!$B$3:$C$1002,2,0),\"\")","v":""}]
[null,null,null,{"$f":"IFERROR(VLOOKUP(C614,Participants!$B$3:$C$1002,2,0),\"\")","v":""},null,{"$f":"IFERROR(VLOOKUP(E614,Participants!$B$3:$C$1002,2,0),\"\")","v":""}]
[null,null,null,{"$f":"IFERROR(VLOOKUP(C615,Participants!$B$3:$C$1002,2,0),\"\")","v":""},null,{"$f":"IFERROR(VLOOKUP(E615,Participants!$B$3:$C$1002,2,0),\"\")","v":""}]
[null,null,null,{"$f":"IFERROR(VLOOKUP(C616,Participants!$B$3:$C$1002,2,0),\"\")","v":""},null,{"$f":"IFERROR(VLOOKUP(E616,Participants!$B$3:$C$1002,2,0),\"\")","v":""}]
[null,null,null,{"$f":"IFERROR(VLOOKUP(C617,Participants!$B$3:$C$1002,2,0),\"\")","v":""},null,{"$f":"IFERROR(VLOOKUP(E617,Participants!$B$3:$C$1002,2,0),\"\")","v":""}]
[null,null,null,{"$f":"IFERROR(VLOOKUP(C618,Participants!$B$3:$C$1002,2,0),\"\")","v":""},null,{"$f":"IFERROR(VLOOKUP(E618,Participants!$B$3:$C$1002,2,0),\"\")","v":""}]
[null,null,null,{"$f":"IFERROR(VLOOKUP(C619,Participants!$B$3:$C$1002,2,0),\"\")","v":""},null,{"$f":"IFERROR(VLOOKUP(E619,Participants!$B$3:$C$1002,2,0),\"\")","v":""}]
[null,null,null,{"$f":"IFERROR(VLOOKUP(C620,Participants!$B$3:$C$1002,2,0),\"\")","v":""},null,{"$f":"IFERROR(VLOOKUP(E620,Participants!$B$3:$C$1002,2,0),\"\")","v":""}]
[null,null,null,{"$f":"IFERROR(VLOOKUP(C621,Participants!$B$3:$C$1002,2,0),\"\")","v":""},null,{"$f":"IFERROR(VLOOKUP(E621,Participants!$B$3:$C$1002,2,0),\"\")","v":""}]
[null,null,null,{"$f":"IFERROR(VLOOKUP(C622,Participants!$B$3:$C$1002,2,0),\"\")","v":""},null,{"$f":"IFERROR(VLOOKUP(E622,Participants!$B$3:$C$1002,2,0),\"\")","v":""}]
[null,null,null,{"$f":"IFERROR(VLOOKUP(C623,Participants!$B$3:$C$1002,2,0),\"\")","v":""},null,{"$f":"IFERROR(VLOOKUP(E623,Participants!$B$3:$C$1002,2,0),\"\")","v":""}]
[null,null,null,{"$f":"IFERROR(VLOOKUP(C624,Participants!$B$3:$C$1002,2,0),\"\")","v":""},null,{"$f":"IFERROR(VLOOKUP(E624,Participants!$B$3:$C$1002,2,0),\"\")","v":""}]
[null,null,null,{"$f":"IFERROR(VLOOKUP(C625,Participants!$B$3:$C$1002,2,0),\"\")","v":""},null,{"$f":"IFERROR(VLOOKUP(E625,Participants!$B$3:$C$1002,2,0),\"\")","v":""}]
[null,null,null,{"$f":"IFERROR(VLOOKUP(C626,Participants!$B$3:$C$1002,2,0),\"\")","v":""},null,{"$f":"IFERROR(VLOOKUP(E626,Participants!$B$3:$C$1002,2,0),\"\")","v":""}]
[null,null,null,{"$f":"IFERROR(VLOOKUP(C627,Participants!$B$3:$C$1002,2,0),\"\")","v":""},null,{"$f":"IFERROR(VLOOKUP(E627,Participants!$B$3:$C$1002,2,0),\"\")","v":""}]
[null,null,null,{"$f":"IFERROR(VLOOKUP(C628,Participants!$B$3:$C$1002,2,0),\"\")","v":""},null,{"$f":"IFERROR(VLOOKUP(E628,Participants!$B$3:$C$1002,2,0),\"\")","v":""}]
[null,null,null,{"$f":"IFERROR(VLOOKUP(C629,Participants!$B$3:$C$1002,2,0),\"\")","v":""},null,{"$f":"IFERROR(VLOOKUP(E629,Participants!$B$3:$C$1002,2,0),\"\")","v":""}]
[null,null,null,{"$f":"IFERROR(VLOOKUP(C630,Participants!$B$3:$C$1002,2,0),\"\")","v":""},null,{"$f":"IFERROR(VLOOKUP(E630,Participants!$B$3:$C$1002,2,0),\"\")","v":""}]
[null,null,null,{"$f":"IFERROR(VLOOKUP(C631,Participants!$B$3:$C$1002,2,0),\"\")","v":""},null,{"$f":"IFERROR(VLOOKUP(E631,Participants!$B$3:$C$1002,2,0),\"\")","v":""}]
[null,null,null,{"$f":"IFERROR(VLOOKUP(C632,Participants!$B$3:$C$1002,2,0),\"\")","v":""},null,{"$f":"IFERROR(VLOOKUP(E632,Participants!$B$3:$C$1002,2,0),\"\")","v":""}]
[null,null,null,{"$f":"IFERROR(VLOOKUP(C633,Participants!$B$3:$C$1002,2,0),\"\")","v":""},null,{"$f":"IFERROR(VLOOKUP(E633,Participants!$B$3:$C$1002,2,0),\"\")","v":""}]
[null,null,null,{"$f":"IFERROR(VLOOKUP(C634,Participants!$B$3:$C$1002,2,0),\"\")","v":""},null,{"$f":"IFERROR(VLOOKUP(E634,Participants!$B$3:$C$1002,2,0),\"\")","v":""}]
[null,null,null,{"$f":"IFERROR(VLOOKUP(C635,Participants!$B$3:$C$1002,2,0),\"\")","v":""},null,{"$f":"IFERROR(VLOOKUP(E635,Participants!$B$3:$C$1002,2,0),\"\")","v":""}]
[null,null,null,{"$f":"IFERROR(VLOOKUP(C636,Participants!$B$3:$C$1002,2,0),\"\")","v":""},null,{"$f":"IFERROR(VLOOKUP(E636,Participants!$B$3:$C$1002,2,0),\"\")","v":""}]
[null,null,null,{"$f":"IFERROR(VLOOKUP(C637,Participants!$B$3:$C$1002,2,0),\"\")","v":""},null,{"$f":"IFERROR(VLOOKUP(E637,Participants!$B$3:$C$1002,2,0),\"\")","v":""}]
[null,null,null,{"$f":"IFERROR(VLOOKUP(C638,Participants!$B$3:$C$1002,2,0),\"\")","v":""},null,{"$f":"IFERROR(VLOOKUP(E638,Participants!$B$3:$C$1002,2,0),\"\")","v":""}]
[null,null,null,{"$f":"IFERROR(VLOOKUP(C639,Participants!$B$3:$C$1002,2,0),\"\")","v":""},null,{"$f":"IFERROR(VLOOKUP(E639,Participants!$B$3:$C$1002,2,0),\"\")","v":""}]
[null,null,null,{"$f":"IFERROR(VLOOKUP(C640,Participants!$B$3:$C$1002,2,0),\"\")","v":""},null,{"$f":"IFERROR(VLOOKUP(E640,Participants!$B$3:$C$1002,2,0),\"\")","v":""}]
[null,null,null,{"$f":"IFERROR(VLOOKUP(C641,Participants!$B$3:$C$1002,2,0),\"\")","v":""},null,{"$f":"IFERROR(VLOOKUP(E641,Participants!$B$3:$C$1002,2,0),\"\")","v":""}]
[null,null,null,{"$f":"IFERROR(VLOOKUP(C642,Participants!$B$3:$C$1002,2,0),\"\")","v":""},null,{"$f":"IFERROR(VLOOKUP(E642,Participants!$B$3:$C$1002,2,0),\"\")","v":""}]
[null,null,null,{"$f":"IFERROR(VLOOKUP(C643,Participants!$B$3:$C$1002,2,0),\"\")","v":""},null,{"$f":"IFERROR(VLOOKUP(E643,Participants!$B$3:$C$1002,2,0),\"\")","v":""}]
[null,null,null,{"$f":"IFERROR(VLOOKUP(C644,Participants!$B$3:$C$1002,2,0),\"\")","v":""},null,{"$f":"IFERROR(VLOOKUP(E644,Participants!$B$3:$C$1002,2,0),\"\")","v":""}]
[null,null,null,{"$f":"IFERROR(VLOOKUP(C645,Participants!$B$3:$C$1002,2,0),\"\")","v":""},null,{"$f":"IFERROR(VLOOKUP(E645,Participants!$B$3:$C$1002,2,0),\"\")","v":""}]
[null,null,null,{"$f":"IFERROR(VLOOKUP(C646,Participants!$B$3:$C$1002,2,0),\"\")","v":""},null,{"$f":"IFERROR(VLOOKUP(E646,Participants!$B$3:$C$1002,2,0),\"\")","v":""}]
[null,null,null,{"$f":"IFERROR(VLOOKUP(C647,Participants!$B$3:$C$1002,2,0),\"\")","v":""},null,{"$f":"IFERROR(VLOOKUP(E647,Participants!$B$3:$C$1002,2,0),\"\")","v":""}]
[null,null,null,{"$f":"IFERROR(VLOOKUP(C648,Participants!$B$3:$C$1002,2,0),\"\")","v":""},null,{"$f":"IFERROR(VLOOKUP(E648,Participants!$B$3:$C$1002,2,0),\"\")","v":""}]
[null,null,null,{"$f":"IFERROR(VLOOKUP(C649,Participants!$B$3:$C$1002,2,0),\"\")","v":""},null,{"$f":"IFERROR(VLOOKUP(E649,Participants!$B$3:$C$1002,2,0),\"\")","v":""}]
[null,null,null,{"$f":"IFERROR(VLOOKUP(C650,Participants!$B$3:$C$1002,2,0),\"\")","v":""},null,{"$f":"IFERROR(VLOOKUP(E650,Participants!$B$3:$C$1002,2,0),\"\")","v":""}]
[null,null,null,{"$f":"IFERROR(VLOOKUP(C651,Participants!$B$3:$C$1002,2,0),\"\")","v":""},null,{"$f":"IFERROR(VLOOKUP(E651,Participants!$B$3:$C$1002,2,0),\"\")","v":""}]
[null,null,null,{"$f":"IFERROR(VLOOKUP(C652,Participants!$B$3:$C$1002,2,0),\"\")","v":""},null,{"$f":"IFERROR(VLOOKUP(E652,Participants!$B$3:$C$1002,2,0),\"\")","v":""}]
[null,null,null,{"$f":"IFERROR(VLOOKUP(C653,Participants!$B$3:$C$1002,2,0),\"\")","v":""},null,{"$f":"IFERROR(VLOOKUP(E653,Participants!$B$3:$C$1002,2,0),\"\")","v":""}]
[null,null,null,{"$f":"IFERROR(VLOOKUP(C654,Participants!$B$3:$C$1002,2,0),\"\")","v":""},null,{"$f":"IFERROR(VLOOKUP(E654,Participants!$B$3:$C$1002,2,0),\"\")","v":""}]
[null,null,null,{"$f":"IFERROR(VLOOKUP(C655,Participants!$B$3:$C$1002,2,0),\"\")","v":""},null,{"$f":"IFERROR(VLOOKUP(E655,Participants!$B$3:$C$1002,2,0),\"\")","v":""}]
[null,null,null,{"$f":"IFERROR(VLOOKUP(C656,Participants!$B$3:$C$1002,2,0),\"\")","v":""},null,{"$f":"IFERROR(VLOOKUP(E656,Participants!$B$3:$C$1002,2,0),\"\")","v":""}]
[null,null,null,{"$f":"IFERROR(VLOOKUP(C657,Participants!$B$3:$C$1002,2,0),\"\")","v":""},null,{"$f":"IFERROR(VLOOKUP(E657,Participants!$B$3:$C$1002,2,0),\"\")","v":""}]
[null,null,null,{"$f":"IFERROR(VLOOKUP(C658,Participants!$B$3:$C$1002,2,0),\"\")","v":""},null,{"$f":"IFERROR(VLOOKUP(E658,Participants!$B$3:$C$1002,2,0),\"\")","v":""}]
[null,null,null,{"$f":"IFERROR(VLOOKUP(C659,Participants!$B$3:$C$1002,2,0),\"\")","v":""},null,{"$f":"IFERROR(VLOOKUP(E659,Participants!$B$3:$C$1002,2,0),\"\")","v":""}]
[null,null,null,{"$f":"IFERROR(VLOOKUP(C660,Participants!$B$3:$C$1002,2,0),\"\")","v":""},null,{"$f":"IFERROR(VLOOKUP(E660,Participants!$B$3:$C$1002,2,0),\"\")","v":""}]
[null,null,null,{"$f":"IFERROR(VLOOKUP(C661,Participants!$B$3:$C$1002,2,0),\"\")","v":""},null,{"$f":"IFERROR(VLOOKUP(E661,Participants!$B$3:$C$1002,2,0),\"\")","v":""}]
[null,null,null,{"$f":"IFERROR(VLOOKUP(C662,Participants!$B$3:$C$1002,2,0),\"\")","v":""},null,{"$f":"IFERROR(VLOOKUP(E662,Participants!$B$3:$C$1002,2,0),\"\")","v":""}]
[null,null,null,{"$f":"IFERROR(VLOOKUP(C663,Participants!$B$3:$C$1002,2,0),\"\")","v":""},null,{"$f":"IFERROR(VLOOKUP(E663,Participants!$B$3:$C$1002,2,0),\"\")","v":""}]
[null,null,null,{"$f":"IFERROR(VLOOKUP(C664,Participants!$B$3:$C$1002,2,0),\"\")","v":""},null,{"$f":"IFERROR(VLOOKUP(E664,Participants!$B$3:$C$1002,2,0),\"\")","v":""}]
[null,null,null,{"$f":"IFERROR(VLOOKUP(C665,Participants!$B$3:$C$1002,2,0),\"\")","v":""},null,{"$f":"IFERROR(VLOOKUP(E665,Participants!$B$3:$C$1002,2,0),\"\")","v":""}]
[null,null,null,{"$f":"IFERROR(VLOOKUP(C666,Participants!$B$3:$C$1002,2,0),\"\")","v":""},null,{"$f":"IFERROR(VLOOKUP(E666,Participants!$B$3:$C$1002,2,0),\"\")","v":""}]
[null,null,null,{"$f":"IFERROR(VLOOKUP(C667,Participants!$B$3:$C$1002,2,0),\"\")","v":""},null,{"$f":"IFERROR(VLOOKUP(E667,Participants!$B$3:$C$1002,2,0),\"\")","v":""}]
[null,null,null,{"$f":"IFERROR(VLOOKUP(C668,Participants!$B$3:$C$1002,2,0),\"\")","v":""},null,{"$f":"IFERROR(VLOOKUP(E668,Participants!$B$3:$C$1002,2,0),\"\")","v":""}]
[null,null,null,{"$f":"IFERROR(VLOOKUP(C669,Participants!$B$3:$C$1002,2,0),\"\")","v":""},null,{"$f":"IFERROR(VLOOKUP(E669,Participants!$B$3:$C$1002,2,0),\"\")","v":""}]
[null,null,null,{"$f":"IFERROR(VLOOKUP(C670,Participants!$B$3:$C$1002,2,0),\"\")","v":""},null,{"$f":"IFERROR(VLOOKUP(E670,Participants!$B$3:$C$1002,2,0),\"\")","v":""}]
[null,null,null,{"$f":"IFERROR(VLOOKUP(C671,Participants!$B$3:$C$1002,2,0),\"\")","v":""},null,{"$f":"IFERROR(VLOOKUP(E671,Participants!$B$3:$C$1002,2,0),\"\")","v":""}]
[null,null,null,{"$f":"IFERROR(VLOOKUP(C672,Participants!$B$3:$C$1002,2,0),\"\")","v":""},null,{"$f":"IFERROR(VLOOKUP(E672,Participants!$B$3:$C$1002,2,0),\"\")","v":""}]
[null,null,null,{"$f":"IFERROR(VLOOKUP(C673,Participants!$B$3:$C$1002,2,0),\"\")","v":""},null,{"$f":"IFERROR(VLOOKUP(E673,Participants!$B$3:$C$1002,2,0),\"\")","v":""}]
[null,null,null,{"$f":"IFERROR(VLOOKUP(C674,Participants!$B$3:$C$1002,2,0),\"\")","v":""},null,{"$f":"IFERROR(VLOOKUP(E674,Participants!$B$3:$C$1002,2,0),\"\")","v":""}]
[null,null,null,{"$f":"IFERROR(VLOOKUP(C675,Participants!$B$3:$C$1002,2,0),\"\")","v":""},null,{"$f":"IFERROR(VLOOKUP(E675,Participants!$B$3:$C$1002,2,0),\"\")","v":""}]
[null,null,null,{"$f":"IFERROR(VLOOKUP(C676,Participants!$B$3:$C$1002,2,0),\"\")","v":""},null,{"$f":"IFERROR(VLOOKUP(E676,Participants!$B$3:$C$1002,2,0),\"\")","v":""}]
[null,null,null,{"$f":"IFERROR(VLOOKUP(C677,Participants!$B$3:$C$1002,2,0),\"\")","v":""},null,{"$f":"IFERROR(VLOOKUP(E677,Participants!$B$3:$C$1002,2,0),\"\")","v":""}]
[null,null,null,{"$f":"IFERROR(VLOOKUP(C678,Participants!$B$3:$C$1002,2,0),\"\")","v":""},null,{"$f":"IFERROR(VLOOKUP(E678,Participants!$B$3:$C$1002,2,0),\"\")","v":""}]
[null,null,null,{"$f":"IFERROR(VLOOKUP(C679,Participants!$B$3:$C$1002,2,0),\"\")","v":""},null,{"$f":"IFERROR(VLOOKUP(E679,Participants!$B$3:$C$1002,2,0),\"\")","v":""}]
[null,null,null,{"$f":"IFERROR(VLOOKUP(C680,Participants!$B$3:$C$1002,2,0),\"\")","v":""},null,{"$f":"IFERROR(VLOOKUP(E680,Participants!$B$3:$C$1002,2,0),\"\")","v":""}]
[null,null,null,{"$f":"IFERROR(VLOOKUP(C681,Participants!$B$3:$C$1002,2,0),\"\")","v":""},null,{"$f":"IFERROR(VLOOKUP(E681,Participants!$B$3:$C$1002,2,0),\"\")","v":""}]
[null,null,null,{"$f":"IFERROR(VLOOKUP(C682,Participants!$B$3:$C$1002,2,0),\"\")","v":""},null,{"$f":"IFERROR(VLOOKUP(E682,Participants!$B$3:$C$1002,2,0),\"\")","v":""}]
[null,null,null,{"$f":"IFERROR(VLOOKUP(C683,Participants!$B$3:$C$1002,2,0),\"\")","v":""},null,{"$f":"IFERROR(VLOOKUP(E683,Participants!$B$3:$C$1002,2,0),\"\")","v":""}]
[null,null,null,{"$f":"IFERROR(VLOOKUP(C684,Participants!$B$3:$C$1002,2,0),\"\")","v":""},null,{"$f":"IFERROR(VLOOKUP(E684,Participants!$B$3:$C$1002,2,0),\"\")","v":""}]
[null,null,null,{"$f":"IFERROR(VLOOKUP(C685,Participants!$B$3:$C$1002,2,0),\"\")","v":""},null,{"$f":"IFERROR(VLOOKUP(E685,Participants!$B$3:$C$1002,2,0),\"\")","v":""}]
[null,null,null,{"$f":"IFERROR(VLOOKUP(C686,Participants!$B$3:$C$1002,2,0),\"\")","v":""},null,{"$f":"IFERROR(VLOOKUP(E686,Participants!$B$3:$C$1002,2,0),\"\")","v":""}]
[null,null,null,{"$f":"IFERROR(VLOOKUP(C687,Participants!$B$3:$C$1002,2,0),\"\")","v":""},null,{"$f":"IFERROR(VLOOKUP(E687,Participants!$B$3:$C$1002,2,0),\"\")","v":""}]
[null,null,null,{"$f":"IFERROR(VLOOKUP(C688,Participants!$B$3:$C$1002,2,0),\"\")","v":""},null,{"$f":"IFERROR(VLOOKUP(E688,Participants!$B$3:$C$1002,2,0),\"\")","v":""}]
[null,null,null,{"$f":"IFERROR(VLOOKUP(C689,Participants!$B$3:$C$1002,2,0),\"\")","v":""},null,{"$f":"IFERROR(VLOOKUP(E689,Participants!$B$3:$C$1002,2,0),\"\")","v":""}]
[null,null,null,{"$f":"IFERROR(VLOOKUP(C690,Participants!$B$3:$C$1002,2,0),\"\")","v":""},null,{"$f":"IFERROR(VLOOKUP(E690,Participants!$B$3:$C$1002,2,0),\"\")","v":""}]
[null,null,null,{"$f":"IFERROR(VLOOKUP(C691,Participants!$B$3:$C$1002,2,0),\"\")","v":""},null,{"$f":"IFERROR(VLOOKUP(E691,Participants!$B$3:$C$1002,2,0),\"\")","v":""}]
[null,null,null,{"$f":"IFERROR(VLOOKUP(C692,Participants!$B$3:$C$1002,2,0),\"\")","v":""},null,{"$f":"IFERROR(VLOOKUP(E692,Participants!$B$3:$C$1002,2,0),\"\")","v":""}]
[null,null,null,{"$f":"IFERROR(VLOOKUP(C693,Participants!$B$3:$C$1002,2,0),\"\")","v":""},null,{"$f":"IFERROR(VLOOKUP(E693,Participants!$B$3:$C$1002,2,0),\"\")","v":""}]
[null,null,null,{"$f":"IFERROR(VLOOKUP(C694,Participants!$B$3:$C$1002,2,0),\"\")","v":""},null,{"$f":"IFERROR(VLOOKUP(E694,Participants!$B$3:$C$1002,2,0),\"\")","v":""}]
[null,null,null,{"$f":"IFERROR(VLOOKUP(C695,Participants!$B$3:$C$1002,2,0),\"\")","v":""},null,{"$f":"IFERROR(VLOOKUP(E695,Participants!$B$3:$C$1002,2,0),\"\")","v":""}]
[null,null,null,{"$f":"IFERROR(VLOOKUP(C696,Participants!$B$3:$C$1002,2,0),\"\")","v":""},null,{"$f":"IFERROR(VLOOKUP(E696,Participants!$B$3:$C$1002,2,0),\"\")","v":""}]
[null,null,null,{"$f":"IFERROR(VLOOKUP(C697,Participants!$B$3:$C$1002,2,0),\"\")","v":""},null,{"$f":"IFERROR(VLOOKUP(E697,Participants!$B$3:$C$1002,2,0),\"\")","v":""}]
[null,null,null,{"$f":"IFERROR(VLOOKUP(C698,Participants!$B$3:$C$1002,2,0),\"\")","v":""},null,{"$f":"IFERROR(VLOOKUP(E698,Participants!$B$3:$C$1002,2,0),\"\")","v":""}]
[null,null,null,{"$f":"IFERROR(VLOOKUP(C699,Participants!$B$3:$C$1002,2,0),\"\")","v":""},null,{"$f":"IFERROR(VLOOKUP(E699,Participants!$B$3:$C$1002,2,0),\"\")","v":""}]
[null,null,null,{"$f":"IFERROR(VLOOKUP(C700,Participants!$B$3:$C$1002,2,0),\"\")","v":""},null,{"$f":"IFERROR(VLOOKUP(E700,Participants!$B$3:$C$1002,2,0),\"\")","v":""}]
[null,null,null,{"$f":"IFERROR(VLOOKUP(C701,Participants!$B$3:$C$1002,2,0),\"\")","v":""},null,{"$f":"IFERROR(VLOOKUP(E701,Participants!$B$3:$C$1002,2,0),\"\")","v":""}]
[null,null,null,{"$f":"IFERROR(VLOOKUP(C702,Participants!$B$3:$C$1002,2,0),\"\")","v":""},null,{"$f":"IFERROR(VLOOKUP(E702,Participants!$B$3:$C$1002,2,0),\"\")","v":""}]
[null,null,null,{"$f":"IFERROR(VLOOKUP(C703,Participants!$B$3:$C$1002,2,0),\"\")","v":""},null,{"$f":"IFERROR(VLOOKUP(E703,Participants!$B$3:$C$1002,2,0),\"\")","v":""}]
[null,null,null,{"$f":"IFERROR(VLOOKUP(C704,Participants!$B$3:$C$1002,2,0),\"\")","v":""},null,{"$f":"IFERROR(VLOOKUP(E704,Participants!$B$3:$C$1002,2,0),\"\")","v":""}]
[null,null,null,{"$f":"IFERROR(VLOOKUP(C705,Participants!$B$3:$C$1002,2,0),\"\")","v":""},null,{"$f":"IFERROR(VLOOKUP(E705,Participants!$B$3:$C$1002,2,0),\"\")","v":""}]
[null,null,null,{"$f":"IFERROR(VLOOKUP(C706,Participants!$B$3:$C$1002,2,0),\"\")","v":""},null,{"$f":"IFERROR(VLOOKUP(E706,Participants!$B$3:$C$1002,2,0),\"\")","v":""}]
[null,null,null,{"$f":"IFERROR(VLOOKUP(C707,Participants!$B$3:$C$1002,2,0),\"\")","v":""},null,{"$f":"IFERROR(VLOOKUP(E707,Participants!$B$3:$C$1002,2,0),\"\")","v":""}]
[null,null,null,{"$f":"IFERROR(VLOOKUP(C708,Participants!$B$3:$C$1002,2,0),\"\")","v":""},null,{"$f":"IFERROR(VLOOKUP(E708,Participants!$B$3:$C$1002,2,0),\"\")","v":""}]
[null,null,null,{"$f":"IFERROR(VLOOKUP(C709,Participants!$B$3:$C$1002,2,0),\"\")","v":""},null,{"$f":"IFERROR(VLOOKUP(E709,Participants!$B$3:$C$1002,2,0),\"\")","v":""}]
[null,null,null,{"$f":"IFERROR(VLOOKUP(C710,Participants!$B$3:$C$1002,2,0),\"\")","v":""},null,{"$f":"IFERROR(VLOOKUP(E710,Participants!$B$3:$C$1002,2,0),\"\")","v":""}]
[null,null,null,{"$f":"IFERROR(VLOOKUP(C711,Participants!$B$3:$C$1002,2,0),\"\")","v":""},null,{"$f":"IFERROR(VLOOKUP(E711,Participants!$B$3:$C$1002,2,0),\"\")","v":""}]
[null,null,null,{"$f":"IFERROR(VLOOKUP(C712,Participants!$B$3:$C$1002,2,0),\"\")","v":""},null,{"$f":"IFERROR(VLOOKUP(E712,Participants!$B$3:$C$1002,2,0),\"\")","v":""}]
[null,null,null,{"$f":"IFERROR(VLOOKUP(C713,Participants!$B$3:$C$1002,2,0),\"\")","v":""},null,{"$f":"IFERROR(VLOOKUP(E713,Participants!$B$3:$C$1002,2,0),\"\")","v":""}]
[null,null,null,{"$f":"IFERROR(VLOOKUP(C714,Participants!$B$3:$C$1002,2,0),\"\")","v":""},null,{"$f":"IFERROR(VLOOKUP(E714,Participants!$B$3:$C$1002,2,0),\"\")","v":""}]
[null,null,null,{"$f":"IFERROR(VLOOKUP(C715,Participants!$B$3:$C$1002,2,0),\"\")","v":""},null,{"$f":"IFERROR(VLOOKUP(E715,Participants!$B$3:$C$1002,2,0),\"\")","v":""}]
[null,null,null,{"$f":"IFERROR(VLOOKUP(C716,Participants!$B$3:$C$1002,2,0),\"\")","v":""},null,{"$f":"IFERROR(VLOOKUP(E716,Participants!$B$3:$C$1002,2,0),\"\")","v":""}]
[null,null,null,{"$f":"IFERROR(VLOOKUP(C717,Participants!$B$3:$C$1002,2,0),\"\")","v":""},null,{"$f":"IFERROR(VLOOKUP(E717,Participants!$B$3:$C$1002,2,0),\"\")","v":""}]
[null,null,null,{"$f":"IFERROR(VLOOKUP(C718,Participants!$B$3:$C$1002,2,0),\"\")","v":""},null,{"$f":"IFERROR(VLOOKUP(E718,Participants!$B$3:$C$1002,2,0),\"\")","v":""}]
[null,null,null,{"$f":"IFERROR(VLOOKUP(C719,Participants!$B$3:$C$1002,2,0),\"\")","v":""},null,{"$f":"IFERROR(VLOOKUP(E719,Participants!$B$3:$C$1002,2,0),\"\")","v":""}]
[null,null,null,{"$f":"IFERROR(VLOOKUP(C720,Participants!$B$3:$C$1002,2,0),\"\")","v":""},null,{"$f":"IFERROR(VLOOKUP(E720,Participants!$B$3:$C$1002,2,0),\"\")","v":""}]
[null,null,null,{"$f":"IFERROR(VLOOKUP(C721,Participants!$B$3:$C$1002,2,0),\"\")","v":""},null,{"$f":"IFERROR(VLOOKUP(E721,Participants!$B$3:$C$1002,2,0),\"\")","v":""}]
[null,null,null,{"$f":"IFERROR(VLOOKUP(C722,Participants!$B$3:$C$1002,2,0),\"\")","v":""},null,{"$f":"IFERROR(VLOOKUP(E722,Participants!$B$3:$C$1002,2,0),\"\")","v":""}]
[null,null,null,{"$f":"IFERROR(VLOOKUP(C723,Participants!$B$3:$C$1002,2,0),\"\")","v":""},null,{"$f":"IFERROR(VLOOKUP(E723,Participants!$B$3:$C$1002,2,0),\"\")","v":""}]
[null,null,null,{"$f":"IFERROR(VLOOKUP(C724,Participants!$B$3:$C$1002,2,0),\"\")","v":""},null,{"$f":"IFERROR(VLOOKUP(E724,Participants!$B$3:$C$1002,2,0),\"\")","v":""}]
[null,null,null,{"$f":"IFERROR(VLOOKUP(C725,Participants!$B$3:$C$1002,2,0),\"\")","v":""},null,{"$f":"IFERROR(VLOOKUP(E725,Participants!$B$3:$C$1002,2,0),\"\")","v":""}]
[null,null,null,{"$f":"IFERROR(VLOOKUP(C726,Participants!$B$3:$C$1002,2,0),\"\")","v":""},null,{"$f":"IFERROR(VLOOKUP(E726,Participants!$B$3:$C$1002,2,0),\"\")","v":""}]
[null,null,null,{"$f":"IFERROR(VLOOKUP(C727,Participants!$B$3:$C$1002,2,0),\"\")","v":""},null,{"$f":"IFERROR(VLOOKUP(E727,Participants!$B$3:$C$1002,2,0),\"\")","v":""}]
[null,null,null,{"$f":"IFERROR(VLOOKUP(C728,Participants!$B$3:$C$1002,2,0),\"\")","v":""},null,{"$f":"IFERROR(VLOOKUP(E728,Participants!$B$3:$C$1002,2,0),\"\")","v":""}]
[null,null,null,{"$f":"IFERROR(VLOOKUP(C729,Participants!$B$3:$C$1002,2,0),\"\")","v":""},null,{"$f":"IFERROR(VLOOKUP(E729,Participants!$B$3:$C$1002,2,0),\"\")","v":""}]
[null,null,null,{"$f":"IFERROR(VLOOKUP(C730,Participants!$B$3:$C$1002,2,0),\"\")","v":""},null,{"$f":"IFERROR(VLOOKUP(E730,Participants!$B$3:$C$1002,2,0),\"\")","v":""}]
[null,null,null,{"$f":"IFERROR(VLOOKUP(C731,Participants!$B$3:$C$1002,2,0),\"\")","v":""},null,{"$f":"IFERROR(VLOOKUP(E731,Participants!$B$3:$C$1002,2,0),\"\")","v":""}]
[null,null,null,{"$f":"IFERROR(VLOOKUP(C732,Participants!$B$3:$C$1002,2,0),\"\")","v":""},null,{"$f":"IFERROR(VLOOKUP(E732,Participants!$B$3:$C$1002,2,0),\"\")","v":""}]
[null,null,null,{"$f":"IFERROR(VLOOKUP(C733,Participants!$B$3:$C$1002,2,0),\"\")","v":""},null,{"$f":"IFERROR(VLOOKUP(E733,Participants!$B$3:$C$1002,2,0),\"\")","v":""}]
[null,null,null,{"$f":"IFERROR(VLOOKUP(C734,Participants!$B$3:$C$1002,2,0),\"\")","v":""},null,{"$f":"IFERROR(VLOOKUP(E734,Participants!$B$3:$C$1002,2,0),\"\")","v":""}]
[null,null,null,{"$f":"IFERROR(VLOOKUP(C735,Participants!$B$3:$C$1002,2,0),\"\")","v":""},null,{"$f":"IFERROR(VLOOKUP(E735,Participants!$B$3:$C$1002,2,0),\"\")","v":""}]
[null,null,null,{"$f":"IFERROR(VLOOKUP(C736,Participants!$B$3:$C$1002,2,0),\"\")","v":""},null,{"$f":"IFERROR(VLOOKUP(E736,Participants!$B$3:$C$1002,2,0),\"\")","v":""}]
[null,null,null,{"$f":"IFERROR(VLOOKUP(C737,Participants!$B$3:$C$1002,2,0),\"\")","v":""},null,{"$f":"IFERROR(VLOOKUP(E737,Participants!$B$3:$C$1002,2,0),\"\")","v":""}]
[null,null,null,{"$f":"IFERROR(VLOOKUP(C738,Participants!$B$3:$C$1002,2,0),\"\")","v":""},null,{"$f":"IFERROR(VLOOKUP(E738,Participants!$B$3:$C$1002,2,0),\"\")","v":""}]
[null,null,null,{"$f":"IFERROR(VLOOKUP(C739,Participants!$B$3:$C$1002,2,0),\"\")","v":""},null,{"$f":"IFERROR(VLOOKUP(E739,Participants!$B$3:$C$1002,2,0),\"\")","v":""}]
[null,null,null,{"$f":"IFERROR(VLOOKUP(C740,Participants!$B$3:$C$1002,2,0),\"\")","v":""},null,{"$f":"IFERROR(VLOOKUP(E740,Participants!$B$3:$C$1002,2,0),\"\")","v":""}]
[null,null,null,{"$f":"IFERROR(VLOOKUP(C741,Participants!$B$3:$C$1002,2,0),\"\")","v":""},null,{"$f":"IFERROR(VLOOKUP(E741,Participants!$B$3:$C$1002,2,0),\"\")","v":""}]
[null,null,null,{"$f":"IFERROR(VLOOKUP(C742,Participants!$B$3:$C$1002,2,0),\"\")","v":""},null,{"$f":"IFERROR(VLOOKUP(E742,Participants!$B$3:$C$1002,2,0),\"\")","v":""}]
[null,null,null,{"$f":"IFERROR(VLOOKUP(C743,Participants!$B$3:$C$1002,2,0),\"\")","v":""},null,{"$f":"IFERROR(VLOOKUP(E743,Participants!$B$3:$C$1002,2,0),\"\")","v":""}]
[null,null,null,{"$f":"IFERROR(VLOOKUP(C744,Participants!$B$3:$C$1002,2,0),\"\")","v":""},null,{"$f":"IFERROR(VLOOKUP(E744,Participants!$B$3:$C$1002,2,0),\"\")","v":""}]
[null,null,null,{"$f":"IFERROR(VLOOKUP(C745,Participants!$B$3:$C$1002,2,0),\"\")","v":""},null,{"$f":"IFERROR(VLOOKUP(E745,Participants!$B$3:$C$1002,2,0),\"\")","v":""}]
[null,null,null,{"$f":"IFERROR(VLOOKUP(C746,Participants!$B$3:$C$1002,2,0),\"\")","v":""},null,{"$f":"IFERROR(VLOOKUP(E746,Participants!$B$3:$C$1002,2,0),\"\")","v":""}]
[null,null,null,{"$f":"IFERROR(VLOOKUP(C747,Participants!$B$3:$C$1002,2,0),\"\")","v":""},null,{"$f":"IFERROR(VLOOKUP(E747,Participants!$B$3:$C$1002,2,0),\"\")","v":""}]
[null,null,null,{"$f":"IFERROR(VLOOKUP(C748,Participants!$B$3:$C$1002,2,0),\"\")","v":""},null,{"$f":"IFERROR(VLOOKUP(E748,Participants!$B$3:$C$1002,2,0),\"\")","v":""}]
[null,null,null,{"$f":"IFERROR(VLOOKUP(C749,Participants!$B$3:$C$1002,2,0),\"\")","v":""},null,{"$f":"IFERROR(VLOOKUP(E749,Participants!$B$3:$C$1002,2,0),\"\")","v":""}]
[null,null,null,{"$f":"IFERROR(VLOOKUP(C750,Participants!$B$3:$C$1002,2,0),\"\")","v":""},null,{"$f":"IFERROR(VLOOKUP(E750,Participants!$B$3:$C$1002,2,0),\"\")","v":""}]
[null,null,null,{"$f":"IFERROR(VLOOKUP(C751,Participants!$B$3:$C$1002,2,0),\"\")","v":""},null,{"$f":"IFERROR(VLOOKUP(E751,Participants!$B$3:$C$1002,2,0),\"\")","v":""}]
[null,null,null,{"$f":"IFERROR(VLOOKUP(C752,Participants!$B$3:$C$1002,2,0),\"\")","v":""},null,{"$f":"IFERROR(VLOOKUP(E752,Participants!$B$3:$C$1002,2,0),\"\")","v":""}]
[null,null,null,{"$f":"IFERROR(VLOOKUP(C753,Participants!$B$3:$C$1002,2,0),\"\")","v":""},null,{"$f":"IFERROR(VLOOKUP(E753,Participants!$B$3:$C$1002,2,0),\"\")","v":""}]
[null,null,null,{"$f":"IFERROR(VLOOKUP(C754,Participants!$B$3:$C$1002,2,0),\"\")","v":""},null,{"$f":"IFERROR(VLOOKUP(E754,Participants!$B$3:$C$1002,2,0),\"\")","v":""}]
[null,null,null,{"$f":"IFERROR(VLOOKUP(C755,Participants!$B$3:$C$1002,2,0),\"\")","v":""},null,{"$f":"IFERROR(VLOOKUP(E755,Participants!$B$3:$C$1002,2,0),\"\")","v":""}]
[null,null,null,{"$f":"IFERROR(VLOOKUP(C756,Participants!$B$3:$C$1002,2,0),\"\")","v":""},null,{"$f":"IFERROR(VLOOKUP(E756,Participants!$B$3:$C$1002,2,0),\"\")","v":""}]
[null,null,null,{"$f":"IFERROR(VLOOKUP(C757,Participants!$B$3:$C$1002,2,0),\"\")","v":""},null,{"$f":"IFERROR(VLOOKUP(E757,Participants!$B$3:$C$1002,2,0),\"\")","v":""}]
[null,null,null,{"$f":"IFERROR(VLOOKUP(C758,Participants!$B$3:$C$1002,2,0),\"\")","v":""},null,{"$f":"IFERROR(VLOOKUP(E758,Participants!$B$3:$C$1002,2,0),\"\")","v":""}]
[null,null,null,{"$f":"IFERROR(VLOOKUP(C759,Participants!$B$3:$C$1002,2,0),\"\")","v":""},null,{"$f":"IFERROR(VLOOKUP(E759,Participants!$B$3:$C$1002,2,0),\"\")","v":""}]
[null,null,null,{"$f":"IFERROR(VLOOKUP(C760,Participants!$B$3:$C$1002,2,0),\"\")","v":""},null,{"$f":"IFERROR(VLOOKUP(E760,Participants!$B$3:$C$1002,2,0),\"\")","v":""}]
[null,null,null,{"$f":"IFERROR(VLOOKUP(C761,Participants!$B$3:$C$1002,2,0),\"\")","v":""},null,{"$f":"IFERROR(VLOOKUP(E761,Participants!$B$3:$C$1002,2,0),\"\")","v":""}]
[null,null,null,{"$f":"IFERROR(VLOOKUP(C762,Participants!$B$3:$C$1002,2,0),\"\")","v":""},null,{"$f":"IFERROR(VLOOKUP(E762,Participants!$B$3:$C$1002,2,0),\"\")","v":""}]
[null,null,null,{"$f":"IFERROR(VLOOKUP(C763,Participants!$B$3:$C$1002,2,0),\"\")","v":""},null,{"$f":"IFERROR(VLOOKUP(E763,Participants!$B$3:$C$1002,2,0),\"\")","v":""}]
[null,null,null,{"$f":"IFERROR(VLOOKUP(C764,Participants!$B$3:$C$1002,2,0),\"\")","v":""},null,{"$f":"IFERROR(VLOOKUP(E764,Participants!$B$3:$C$1002,2,0),\"\")","v":""}]
[null,null,null,{"$f":"IFERROR(VLOOKUP(C765,Participants!$B$3:$C$1002,2,0),\"\")","v":""},null,{"$f":"IFERROR(VLOOKUP(E765,Participants!$B$3:$C$1002,2,0),\"\")","v":""}]
[null,null,null,{"$f":"IFERROR(VLOOKUP(C766,Participants!$B$3:$C$1002,2,0),\"\")","v":""},null,{"$f":"IFERROR(VLOOKUP(E766,Participants!$B$3:$C$1002,2,0),\"\")","v":""}]
[null,null,null,{"$f":"IFERROR(VLOOKUP(C767,Participants!$B$3:$C$1002,2,0),\"\")","v":""},null,{"$f":"IFERROR(VLOOKUP(E767,Participants!$B$3:$C$1002,2,0),\"\")","v":""}]
[null,null,null,{"$f":"IFERROR(VLOOKUP(C768,Participants!$B$3:$C$1002,2,0),\"\")","v":""},null,{"$f":"IFERROR(VLOOKUP(E768,Participants!$B$3:$C$1002,2,0),\"\")","v":""}]
[null,null,null,{"$f":"IFERROR(VLOOKUP(C769,Participants!$B$3:$C$1002,2,0),\"\")","v":""},null,{"$f":"IFERROR(VLOOKUP(E769,Participants!$B$3:$C$1002,2,0),\"\")","v":""}]
[null,null,null,{"$f":"IFERROR(VLOOKUP(C770,Participants!$B$3:$C$1002,2,0),\"\")","v":""},null,{"$f":"IFERROR(VLOOKUP(E770,Participants!$B$3:$C$1002,2,0),\"\")","v":""}]
[null,null,null,{"$f":"IFERROR(VLOOKUP(C771,Participants!$B$3:$C$1002,2,0),\"\")","v":""},null,{"$f":"IFERROR(VLOOKUP(E771,Participants!$B$3:$C$1002,2,0),\"\")","v":""}]
[null,null,null,{"$f":"IFERROR(VLOOKUP(C772,Participants!$B$3:$C$1002,2,0),\"\")","v":""},null,{"$f":"IFERROR(VLOOKUP(E772,Participants!$B$3:$C$1002,2,0),\"\")","v":""}]
[null,null,null,{"$f":"IFERROR(VLOOKUP(C773,Participants!$B$3:$C$1002,2,0),\"\")","v":""},null,{"$f":"IFERROR(VLOOKUP(E773,Participants!$B$3:$C$1002,2,0),\"\")","v":""}]
[null,null,null,{"$f":"IFERROR(VLOOKUP(C774,Participants!$B$3:$C$1002,2,0),\"\")","v":""},null,{"$f":"IFERROR(VLOOKUP(E774,Participants!$B$3:$C$1002,2,0),\"\")","v":""}]
[null,null,null,{"$f":"IFERROR(VLOOKUP(C775,Participants!$B$3:$C$1002,2,0),\"\")","v":""},null,{"$f":"IFERROR(VLOOKUP(E775,Participants!$B$3:$C$1002,2,0),\"\")","v":""}]
[null,null,null,{"$f":"IFERROR(VLOOKUP(C776,Participants!$B$3:$C$1002,2,0),\"\")","v":""},null,{"$f":"IFERROR(VLOOKUP(E776,Participants!$B$3:$C$1002,2,0),\"\")","v":""}]
[null,null,null,{"$f":"IFERROR(VLOOKUP(C777,Participants!$B$3:$C$1002,2,0),\"\")","v":""},null,{"$f":"IFERROR(VLOOKUP(E777,Participants!$B$3:$C$1002,2,0),\"\")","v":""}]
[null,null,null,{"$f":"IFERROR(VLOOKUP(C778,Participants!$B$3:$C$1002,2,0),\"\")","v":""},null,{"$f":"IFERROR(VLOOKUP(E778,Participants!$B$3:$C$1002,2,0),\"\")","v":""}]
[null,null,null,{"$f":"IFERROR(VLOOKUP(C779,Participants!$B$3:$C$1002,2,0),\"\")","v":""},null,{"$f":"IFERROR(VLOOKUP(E779,Participants!$B$3:$C$1002,2,0),\"\")","v":""}]
[null,null,null,{"$f":"IFERROR(VLOOKUP(C780,Participants!$B$3:$C$1002,2,0),\"\")","v":""},null,{"$f":"IFERROR(VLOOKUP(E780,Participants!$B$3:$C$1002,2,0),\"\")","v":""}]
[null,null,null,{"$f":"IFERROR(VLOOKUP(C781,Participants!$B$3:$C$1002,2,0),\"\")","v":""},null,{"$f":"IFERROR(VLOOKUP(E781,Participants!$B$3:$C$1002,2,0),\"\")","v":""}]
[null,null,null,{"$f":"IFERROR(VLOOKUP(C782,Participants!$B$3:$C$1002,2,0),\"\")","v":""},null,{"$f":"IFERROR(VLOOKUP(E782,Participants!$B$3:$C$1002,2,0),\"\")","v":""}]
[null,null,null,{"$f":"IFERROR(VLOOKUP(C783,Participants!$B$3:$C$1002,2,0),\"\")","v":""},null,{"$f":"IFERROR(VLOOKUP(E783,Participants!$B$3:$C$1002,2,0),\"\")","v":""}]
[null,null,null,{"$f":"IFERROR(VLOOKUP(C784,Participants!$B$3:$C$1002,2,0),\"\")","v":""},null,{"$f":"IFERROR(VLOOKUP(E784,Participants!$B$3:$C$1002,2,0),\"\")","v":""}]
[null,null,null,{"$f":"IFERROR(VLOOKUP(C785,Participants!$B$3:$C$1002,2,0),\"\")","v":""},null,{"$f":"IFERROR(VLOOKUP(E785,Participants!$B$3:$C$1002,2,0),\"\")","v":""}]
[null,null,null,{"$f":"IFERROR(VLOOKUP(C786,Participants!$B$3:$C$1002,2,0),\"\")","v":""},null,{"$f":"IFERROR(VLOOKUP(E786,Participants!$B$3:$C$1002,2,0),\"\")","v":""}]
[null,null,null,{"$f":"IFERROR(VLOOKUP(C787,Participants!$B$3:$C$1002,2,0),\"\")","v":""},null,{"$f":"IFERROR(VLOOKUP(E787,Participants!$B$3:$C$1002,2,0),\"\")","v":""}]
[null,null,null,{"$f":"IFERROR(VLOOKUP(C788,Participants!$B$3:$C$1002,2,0),\"\")","v":""},null,{"$f":"IFERROR(VLOOKUP(E788,Participants!$B$3:$C$1002,2,0),\"\")","v":""}]
[null,null,null,{"$f":"IFERROR(VLOOKUP(C789,Participants!$B$3:$C$1002,2,0),\"\")","v":""},null,{"$f":"IFERROR(VLOOKUP(E789,Participants!$B$3:$C$1002,2,0),\"\")","v":""}]
[null,null,null,{"$f":"IFERROR(VLOOKUP(C790,Participants!$B$3:$C$1002,2,0),\"\")","v":""},null,{"$f":"IFERROR(VLOOKUP(E790,Participants!$B$3:$C$1002,2,0),\"\")","v":""}]
[null,null,null,{"$f":"IFERROR(VLOOKUP(C791,Participants!$B$3:$C$1002,2,0),\"\")","v":""},null,{"$f":"IFERROR(VLOOKUP(E791,Participants!$B$3:$C$1002,2,0),\"\")","v":""}]
[null,null,null,{"$f":"IFERROR(VLOOKUP(C792,Participants!$B$3:$C$1002,2,0),\"\")","v":""},null,{"$f":"IFERROR(VLOOKUP(E792,Participants!$B$3:$C$1002,2,0),\"\")","v":""}]
[null,null,null,{"$f":"IFERROR(VLOOKUP(C793,Participants!$B$3:$C$1002,2,0),\"\")","v":""},null,{"$f":"IFERROR(VLOOKUP(E793,Participants!$B$3:$C$1002,2,0),\"\")","v":""}]
[null,null,null,{"$f":"IFERROR(VLOOKUP(C794,Participants!$B$3:$C$1002,2,0),\"\")","v":""},null,{"$f":"IFERROR(VLOOKUP(E794,Participants!$B$3:$C$1002,2,0),\"\")","v":""}]
[null,null,null,{"$f":"IFERROR(VLOOKUP(C795,Participants!$B$3:$C$1002,2,0),\"\")","v":""},null,{"$f":"IFERROR(VLOOKUP(E795,Participants!$B$3:$C$1002,2,0),\"\")","v":""}]
[null,null,null,{"$f":"IFERROR(VLOOKUP(C796,Participants!$B$3:$C$1002,2,0),\"\")","v":""},null,{"$f":"IFERROR(VLOOKUP(E796,Participants!$B$3:$C$1002,2,0),\"\")","v":""}]
[null,null,null,{"$f":"IFERROR(VLOOKUP(C797,Participants!$B$3:$C$1002,2,0),\"\")","v":""},null,{"$f":"IFERROR(VLOOKUP(E797,Participants!$B$3:$C$1002,2,0),\"\")","v":""}]
[null,null,null,{"$f":"IFERROR(VLOOKUP(C798,Participants!$B$3:$C$1002,2,0),\"\")","v":""},null,{"$f":"IFERROR(VLOOKUP(E798,Participants!$B$3:$C$1002,2,0),\"\")","v":""}]
[null,null,null,{"$f":"IFERROR(VLOOKUP(C799,Participants!$B$3:$C$1002,2,0),\"\")","v":""},null,{"$f":"IFERROR(VLOOKUP(E799,Participants!$B$3:$C$1002,2,0),\"\")","v":""}]
[null,null,null,{"$f":"IFERROR(VLOOKUP(C800,Participants!$B$3:$C$1002,2,0),\"\")","v":""},null,{"$f":"IFERROR(VLOOKUP(E800,Participants!$B$3:$C$1002,2,0),\"\")","v":""}]
[null,null,null,{"$f":"IFERROR(VLOOKUP(C801,Participants!$B$3:$C$1002,2,0),\"\")","v":""},null,{"$f":"IFERROR(VLOOKUP(E801,Participants!$B$3:$C$1002,2,0),\"\")","v":""}]
[null,null,null,{"$f":"IFERROR(VLOOKUP(C802,Participants!$B$3:$C$1002,2,0),\"\")","v":""},null,{"$f":"IFERROR(VLOOKUP(E802,Participants!$B$3:$C$1002,2,0),\"\")","v":""}]
[null,null,null,{"$f":"IFERROR(VLOOKUP(C803,Participants!$B$3:$C$1002,2,0),\"\")","v":""},null,{"$f":"IFERROR(VLOOKUP(E803,Participants!$B$3:$C$1002,2,0),\"\")","v":""}]
[null,null,null,{"$f":"IFERROR(VLOOKUP(C804,Participants!$B$3:$C$1002,2,0),\"\")","v":""},null,{"$f":"IFERROR(VLOOKUP(E804,Participants!$B$3:$C$1002,2,0),\"\")","v":""}]
[null,null,null,{"$f":"IFERROR(VLOOKUP(C805,Participants!$B$3:$C$1002,2,0),\"\")","v":""},null,{"$f":"IFERROR(VLOOKUP(E805,Participants!$B$3:$C$1002,2,0),\"\")","v":""}]
[null,null,null,{"$f":"IFERROR(VLOOKUP(C806,Participants!$B$3:$C$1002,2,0),\"\")","v":""},null,{"$f":"IFERROR(VLOOKUP(E806,Participants!$B$3:$C$1002,2,0),\"\")","v":""}]
[null,null,null,{"$f":"IFERROR(VLOOKUP(C807,Participants!$B$3:$C$1002,2,0),\"\")","v":""},null,{"$f":"IFERROR(VLOOKUP(E807,Participants!$B$3:$C$1002,2,0),\"\")","v":""}]
[null,null,null,{"$f":"IFERROR(VLOOKUP(C808,Participants!$B$3:$C$1002,2,0),\"\")","v":""},null,{"$f":"IFERROR(VLOOKUP(E808,Participants!$B$3:$C$1002,2,0),\"\")","v":""}]
[null,null,null,{"$f":"IFERROR(VLOOKUP(C809,Participants!$B$3:$C$1002,2,0),\"\")","v":""},null,{"$f":"IFERROR(VLOOKUP(E809,Participants!$B$3:$C$1002,2,0),\"\")","v":""}]
[null,null,null,{"$f":"IFERROR(VLOOKUP(C810,Participants!$B$3:$C$1002,2,0),\"\")","v":""},null,{"$f":"IFERROR(VLOOKUP(E810,Participants!$B$3:$C$1002,2,0),\"\")","v":""}]
[null,null,null,{"$f":"IFERROR(VLOOKUP(C811,Participants!$B$3:$C$1002,2,0),\"\")","v":""},null,{"$f":"IFERROR(VLOOKUP(E811,Participants!$B$3:$C$1002,2,0),\"\")","v":""}]
[null,null,null,{"$f":"IFERROR(VLOOKUP(C812,Participants!$B$3:$C$1002,2,0),\"\")","v":""},null,{"$f":"IFERROR(VLOOKUP(E812,Participants!$B$3:$C$1002,2,0),\"\")","v":""}]
[null,null,null,{"$f":"IFERROR(VLOOKUP(C813,Participants!$B$3:$C$1002,2,0),\"\")","v":""},null,{"$f":"IFERROR(VLOOKUP(E813,Participants!$B$3:$C$1002,2,0),\"\")","v":""}]
[null,null,null,{"$f":"IFERROR(VLOOKUP(C814,Participants!$B$3:$C$1002,2,0),\"\")","v":""},null,{"$f":"IFERROR(VLOOKUP(E814,Participants!$B$3:$C$1002,2,0),\"\")","v":""}]
[null,null,null,{"$f":"IFERROR(VLOOKUP(C815,Participants!$B$3:$C$1002,2,0),\"\")","v":""},null,{"$f":"IFERROR(VLOOKUP(E815,Participants!$B$3:$C$1002,2,0),\"\")","v":""}]
[null,null,null,{"$f":"IFERROR(VLOOKUP(C816,Participants!$B$3:$C$1002,2,0),\"\")","v":""},null,{"$f":"IFERROR(VLOOKUP(E816,Participants!$B$3:$C$1002,2,0),\"\")","v":""}]
[null,null,null,{"$f":"IFERROR(VLOOKUP(C817,Participants!$B$3:$C$1002,2,0),\"\")","v":""},null,{"$f":"IFERROR(VLOOKUP(E817,Participants!$B$3:$C$1002,2,0),\"\")","v":""}]
[null,null,null,{"$f":"IFERROR(VLOOKUP(C818,Participants!$B$3:$C$1002,2,0),\"\")","v":""},null,{"$f":"IFERROR(VLOOKUP(E818,Participants!$B$3:$C$1002,2,0),\"\")","v":""}]
[null,null,null,{"$f":"IFERROR(VLOOKUP(C819,Participants!$B$3:$C$1002,2,0),\"\")","v":""},null,{"$f":"IFERROR(VLOOKUP(E819,Participants!$B$3:$C$1002,2,0),\"\")","v":""}]
[null,null,null,{"$f":"IFERROR(VLOOKUP(C820,Participants!$B$3:$C$1002,2,0),\"\")","v":""},null,{"$f":"IFERROR(VLOOKUP(E820,Participants!$B$3:$C$1002,2,0),\"\")","v":""}]
[null,null,null,{"$f":"IFERROR(VLOOKUP(C821,Participants!$B$3:$C$1002,2,0),\"\")","v":""},null,{"$f":"IFERROR(VLOOKUP(E821,Participants!$B$3:$C$1002,2,0),\"\")","v":""}]
[null,null,null,{"$f":"IFERROR(VLOOKUP(C822,Participants!$B$3:$C$1002,2,0),\"\")","v":""},null,{"$f":"IFERROR(VLOOKUP(E822,Participants!$B$3:$C$1002,2,0),\"\")","v":""}]
[null,null,null,{"$f":"IFERROR(VLOOKUP(C823,Participants!$B$3:$C$1002,2,0),\"\")","v":""},null,{"$f":"IFERROR(VLOOKUP(E823,Participants!$B$3:$C$1002,2,0),\"\")","v":""}]
[null,null,null,{"$f":"IFERROR(VLOOKUP(C824,Participants!$B$3:$C$1002,2,0),\"\")","v":""},null,{"$f":"IFERROR(VLOOKUP(E824,Participants!$B$3:$C$1002,2,0),\"\")","v":""}]
[null,null,null,{"$f":"IFERROR(VLOOKUP(C825,Participants!$B$3:$C$1002,2,0),\"\")","v":""},null,{"$f":"IFERROR(VLOOKUP(E825,Participants!$B$3:$C$1002,2,0),\"\")","v":""}]
[null,null,null,{"$f":"IFERROR(VLOOKUP(C826,Participants!$B$3:$C$1002,2,0),\"\")","v":""},null,{"$f":"IFERROR(VLOOKUP(E826,Participants!$B$3:$C$1002,2,0),\"\")","v":""}]
[null,null,null,{"$f":"IFERROR(VLOOKUP(C827,Participants!$B$3:$C$1002,2,0),\"\")","v":""},null,{"$f":"IFERROR(VLOOKUP(E827,Participants!$B$3:$C$1002,2,0),\"\")","v":""}]
[null,null,null,{"$f":"IFERROR(VLOOKUP(C828,Participants!$B$3:$C$1002,2,0),\"\")","v":""},null,{"$f":"IFERROR(VLOOKUP(E828,Participants!$B$3:$C$1002,2,0),\"\")","v":""}]
[null,null,null,{"$f":"IFERROR(VLOOKUP(C829,Participants!$B$3:$C$1002,2,0),\"\")","v":""},null,{"$f":"IFERROR(VLOOKUP(E829,Participants!$B$3:$C$1002,2,0),\"\")","v":""}]
[null,null,null,{"$f":"IFERROR(VLOOKUP(C830,Participants!$B$3:$C$1002,2,0),\"\")","v":""},null,{"$f":"IFERROR(VLOOKUP(E830,Participants!$B$3:$C$1002,2,0),\"\")","v":""}]
[null,null,null,{"$f":"IFERROR(VLOOKUP(C831,Participants!$B$3:$C$1002,2,0),\"\")","v":""},null,{"$f":"IFERROR(VLOOKUP(E831,Participants!$B$3:$C$1002,2,0),\"\")","v":""}]
[null,null,null,{"$f":"IFERROR(VLOOKUP(C832,Participants!$B$3:$C$1002,2,0),\"\")","v":""},null,{"$f":"IFERROR(VLOOKUP(E832,Participants!$B$3:$C$1002,2,0),\"\")","v":""}]
[null,null,null,{"$f":"IFERROR(VLOOKUP(C833,Participants!$B$3:$C$1002,2,0),\"\")","v":""},null,{"$f":"IFERROR(VLOOKUP(E833,Participants!$B$3:$C$1002,2,0),\"\")","v":""}]
[null,null,null,{"$f":"IFERROR(VLOOKUP(C834,Participants!$B$3:$C$1002,2,0),\"\")","v":""},null,{"$f":"IFERROR(VLOOKUP(E834,Participants!$B$3:$C$1002,2,0),\"\")","v":""}]
[null,null,null,{"$f":"IFERROR(VLOOKUP(C835,Participants!$B$3:$C$1002,2,0),\"\")","v":""},null,{"$f":"IFERROR(VLOOKUP(E835,Participants!$B$3:$C$1002,2,0),\"\")","v":""}]
[null,null,null,{"$f":"IFERROR(VLOOKUP(C836,Participants!$B$3:$C$1002,2,0),\"\")","v":""},null,{"$f":"IFERROR(VLOOKUP(E836,Participants!$B$3:$C$1002,2,0),\"\")","v":""}]
[null,null,null,{"$f":"IFERROR(VLOOKUP(C837,Participants!$B$3:$C$1002,2,0),\"\")","v":""},null,{"$f":"IFERROR(VLOOKUP(E837,Participants!$B$3:$C$1002,2,0),\"\")","v":""}]
[null,null,null,{"$f":"IFERROR(VLOOKUP(C838,Participants!$B$3:$C$1002,2,0),\"\")","v":""},null,{"$f":"IFERROR(VLOOKUP(E838,Participants!$B$3:$C$1002,2,0),\"\")","v":""}]
[null,null,null,{"$f":"IFERROR(VLOOKUP(C839,Participants!$B$3:$C$1002,2,0),\"\")","v":""},null,{"$f":"IFERROR(VLOOKUP(E839,Participants!$B$3:$C$1002,2,0),\"\")","v":""}]
[null,null,null,{"$f":"IFERROR(VLOOKUP(C840,Participants!$B$3:$C$1002,2,0),\"\")","v":""},null,{"$f":"IFERROR(VLOOKUP(E840,Participants!$B$3:$C$1002,2,0),\"\")","v":""}]
[null,null,null,{"$f":"IFERROR(VLOOKUP(C841,Participants!$B$3:$C$1002,2,0),\"\")","v":""},null,{"$f":"IFERROR(VLOOKUP(E841,Participants!$B$3:$C$1002,2,0),\"\")","v":""}]
[null,null,null,{"$f":"IFERROR(VLOOKUP(C842,Participants!$B$3:$C$1002,2,0),\"\")","v":""},null,{"$f":"IFERROR(VLOOKUP(E842,Participants!$B$3:$C$1002,2,0),\"\")","v":""}]
[null,null,null,{"$f":"IFERROR(VLOOKUP(C843,Participants!$B$3:$C$1002,2,0),\"\")","v":""},null,{"$f":"IFERROR(VLOOKUP(E843,Participants!$B$3:$C$1002,2,0),\"\")","v":""}]
[null,null,null,{"$f":"IFERROR(VLOOKUP(C844,Participants!$B$3:$C$1002,2,0),\"\")","v":""},null,{"$f":"IFERROR(VLOOKUP(E844,Participants!$B$3:$C$1002,2,0),\"\")","v":""}]
[null,null,null,{"$f":"IFERROR(VLOOKUP(C845,Participants!$B$3:$C$1002,2,0),\"\")","v":""},null,{"$f":"IFERROR(VLOOKUP(E845,Participants!$B$3:$C$1002,2,0),\"\")","v":""}]
[null,null,null,{"$f":"IFERROR(VLOOKUP(C846,Participants!$B$3:$C$1002,2,0),\"\")","v":""},null,{"$f":"IFERROR(VLOOKUP(E846,Participants!$B$3:$C$1002,2,0),\"\")","v":""}]
[null,null,null,{"$f":"IFERROR(VLOOKUP(C847,Participants!$B$3:$C$1002,2,0),\"\")","v":""},null,{"$f":"IFERROR(VLOOKUP(E847,Participants!$B$3:$C$1002,2,0),\"\")","v":""}]
[null,null,null,{"$f":"IFERROR(VLOOKUP(C848,Participants!$B$3:$C$1002,2,0),\"\")","v":""},null,{"$f":"IFERROR(VLOOKUP(E848,Participants!$B$3:$C$1002,2,0),\"\")","v":""}]
[null,null,null,{"$f":"IFERROR(VLOOKUP(C849,Participants!$B$3:$C$1002,2,0),\"\")","v":""},null,{"$f":"IFERROR(VLOOKUP(E849,Participants!$B$3:$C$1002,2,0),\"\")","v":""}]
[null,null,null,{"$f":"IFERROR(VLOOKUP(C850,Participants!$B$3:$C$1002,2,0),\"\")","v":""},null,{"$f":"IFERROR(VLOOKUP(E850,Participants!$B$3:$C$1002,2,0),\"\")","v":""}]
[null,null,null,{"$f":"IFERROR(VLOOKUP(C851,Participants!$B$3:$C$1002,2,0),\"\")","v":""},null,{"$f":"IFERROR(VLOOKUP(E851,Participants!$B$3:$C$1002,2,0),\"\")","v":""}]
[null,null,null,{"$f":"IFERROR(VLOOKUP(C852,Participants!$B$3:$C$1002,2,0),\"\")","v":""},null,{"$f":"IFERROR(VLOOKUP(E852,Participants!$B$3:$C$1002,2,0),\"\")","v":""}]
[null,null,null,{"$f":"IFERROR(VLOOKUP(C853,Participants!$B$3:$C$1002,2,0),\"\")","v":""},null,{"$f":"IFERROR(VLOOKUP(E853,Participants!$B$3:$C$1002,2,0),\"\")","v":""}]
[null,null,null,{"$f":"IFERROR(VLOOKUP(C854,Participants!$B$3:$C$1002,2,0),\"\")","v":""},null,{"$f":"IFERROR(VLOOKUP(E854,Participants!$B$3:$C$1002,2,0),\"\")","v":""}]
[null,null,null,{"$f":"IFERROR(VLOOKUP(C855,Participants!$B$3:$C$1002,2,0),\"\")","v":""},null,{"$f":"IFERROR(VLOOKUP(E855,Participants!$B$3:$C$1002,2,0),\"\")","v":""}]
[null,null,null,{"$f":"IFERROR(VLOOKUP(C856,Participants!$B$3:$C$1002,2,0),\"\")","v":""},null,{"$f":"IFERROR(VLOOKUP(E856,Participants!$B$3:$C$1002,2,0),\"\")","v":""}]
[null,null,null,{"$f":"IFERROR(VLOOKUP(C857,Participants!$B$3:$C$1002,2,0),\"\")","v":""},null,{"$f":"IFERROR(VLOOKUP(E857,Participants!$B$3:$C$1002,2,0),\"\")","v":""}]
[null,null,null,{"$f":"IFERROR(VLOOKUP(C858,Participants!$B$3:$C$1002,2,0),\"\")","v":""},null,{"$f":"IFERROR(VLOOKUP(E858,Participants!$B$3:$C$1002,2,0),\"\")","v":""}]
[null,null,null,{"$f":"IFERROR(VLOOKUP(C859,Participants!$B$3:$C$1002,2,0),\"\")","v":""},null,{"$f":"IFERROR(VLOOKUP(E859,Participants!$B$3:$C$1002,2,0),\"\")","v":""}]
[null,null,null,{"$f":"IFERROR(VLOOKUP(C860,Participants!$B$3:$C$1002,2,0),\"\")","v":""},null,{"$f":"IFERROR(VLOOKUP(E860,Participants!$B$3:$C$1002,2,0),\"\")","v":""}]
[null,null,null,{"$f":"IFERROR(VLOOKUP(C861,Participants!$B$3:$C$1002,2,0),\"\")","v":""},null,{"$f":"IFERROR(VLOOKUP(E861,Participants!$B$3:$C$1002,2,0),\"\")","v":""}]
[null,null,null,{"$f":"IFERROR(VLOOKUP(C862,Participants!$B$3:$C$1002,2,0),\"\")","v":""},null,{"$f":"IFERROR(VLOOKUP(E862,Participants!$B$3:$C$1002,2,0),\"\")","v":""}]
[null,null,null,{"$f":"IFERROR(VLOOKUP(C863,Participants!$B$3:$C$1002,2,0),\"\")","v":""},null,{"$f":"IFERROR(VLOOKUP(E863,Participants!$B$3:$C$1002,2,0),\"\")","v":""}]
[null,null,null,{"$f":"IFERROR(VLOOKUP(C864,Participants!$B$3:$C$1002,2,0),\"\")","v":""},null,{"$f":"IFERROR(VLOOKUP(E864,Participants!$B$3:$C$1002,2,0),\"\")","v":""}]
[null,null,null,{"$f":"IFERROR(VLOOKUP(C865,Participants!$B$3:$C$1002,2,0),\"\")","v":""},null,{"$f":"IFERROR(VLOOKUP(E865,Participants!$B$3:$C$1002,2,0),\"\")","v":""}]
[null,null,null,{"$f":"IFERROR(VLOOKUP(C866,Participants!$B$3:$C$1002,2,0),\"\")","v":""},null,{"$f":"IFERROR(VLOOKUP(E866,Participants!$B$3:$C$1002,2,0),\"\")","v":""}]
[null,null,null,{"$f":"IFERROR(VLOOKUP(C867,Participants!$B$3:$C$1002,2,0),\"\")","v":""},null,{"$f":"IFERROR(VLOOKUP(E867,Participants!$B$3:$C$1002,2,0),\"\")","v":""}]
[null,null,null,{"$f":"IFERROR(VLOOKUP(C868,Participants!$B$3:$C$1002,2,0),\"\")","v":""},null,{"$f":"IFERROR(VLOOKUP(E868,Participants!$B$3:$C$1002,2,0),\"\")","v":""}]
[null,null,null,{"$f":"IFERROR(VLOOKUP(C869,Participants!$B$3:$C$1002,2,0),\"\")","v":""},null,{"$f":"IFERROR(VLOOKUP(E869,Participants!$B$3:$C$1002,2,0),\"\")","v":""}]
[null,null,null,{"$f":"IFERROR(VLOOKUP(C870,Participants!$B$3:$C$1002,2,0),\"\")","v":""},null,{"$f":"IFERROR(VLOOKUP(E870,Participants!$B$3:$C$1002,2,0),\"\")","v":""}]
[null,null,null,{"$f":"IFERROR(VLOOKUP(C871,Participants!$B$3:$C$1002,2,0),\"\")","v":""},null,{"$f":"IFERROR(VLOOKUP(E871,Participants!$B$3:$C$1002,2,0),\"\")","v":""}]
[null,null,null,{"$f":"IFERROR(VLOOKUP(C872,Participants!$B$3:$C$1002,2,0),\"\")","v":""},null,{"$f":"IFERROR(VLOOKUP(E872,Participants!$B$3:$C$1002,2,0),\"\")","v":""}]
[null,null,null,{"$f":"IFERROR(VLOOKUP(C873,Participants!$B$3:$C$1002,2,0),\"\")","v":""},null,{"$f":"IFERROR(VLOOKUP(E873,Participants!$B$3:$C$1002,2,0),\"\")","v":""}]
[null,null,null,{"$f":"IFERROR(VLOOKUP(C874,Participants!$B$3:$C$1002,2,0),\"\")","v":""},null,{"$f":"IFERROR(VLOOKUP(E874,Participants!$B$3:$C$1002,2,0),\"\")","v":""}]
[null,null,null,{"$f":"IFERROR(VLOOKUP(C875,Participants!$B$3:$C$1002,2,0),\"\")","v":""},null,{"$f":"IFERROR(VLOOKUP(E875,Participants!$B$3:$C$1002,2,0),\"\")","v":""}]
[null,null,null,{"$f":"IFERROR(VLOOKUP(C876,Participants!$B$3:$C$1002,2,0),\"\")","v":""},null,{"$f":"IFERROR(VLOOKUP(E876,Participants!$B$3:$C$1002,2,0),\"\")","v":""}]
[null,null,null,{"$f":"IFERROR(VLOOKUP(C877,Participants!$B$3:$C$1002,2,0),\"\")","v":""},null,{"$f":"IFERROR(VLOOKUP(E877,Participants!$B$3:$C$1002,2,0),\"\")","v":""}]
[null,null,null,{"$f":"IFERROR(VLOOKUP(C878,Participants!$B$3:$C$1002,2,0),\"\")","v":""},null,{"$f":"IFERROR(VLOOKUP(E878,Participants!$B$3:$C$1002,2,0),\"\")","v":""}]
[null,null,null,{"$f":"IFERROR(VLOOKUP(C879,Participants!$B$3:$C$1002,2,0),\"\")","v":""},null,{"$f":"IFERROR(VLOOKUP(E879,Participants!$B$3:$C$1002,2,0),\"\")","v":""}]
[null,null,null,{"$f":"IFERROR(VLOOKUP(C880,Participants!$B$3:$C$1002,2,0),\"\")","v":""},null,{"$f":"IFERROR(VLOOKUP(E880,Participants!$B$3:$C$1002,2,0),\"\")","v":""}]
[null,null,null,{"$f":"IFERROR(VLOOKUP(C881,Participants!$B$3:$C$1002,2,0),\"\")","v":""},null,{"$f":"IFERROR(VLOOKUP(E881,Participants!$B$3:$C$1002,2,0),\"\")","v":""}]
[null,null,null,{"$f":"IFERROR(VLOOKUP(C882,Participants!$B$3:$C$1002,2,0),\"\")","v":""},null,{"$f":"IFERROR(VLOOKUP(E882,Participants!$B$3:$C$1002,2,0),\"\")","v":""}]
[null,null,null,{"$f":"IFERROR(VLOOKUP(C883,Participants!$B$3:$C$1002,2,0),\"\")","v":""},null,{"$f":"IFERROR(VLOOKUP(E883,Participants!$B$3:$C$1002,2,0),\"\")","v":""}]
[null,null,null,{"$f":"IFERROR(VLOOKUP(C884,Participants!$B$3:$C$1002,2,0),\"\")","v":""},null,{"$f":"IFERROR(VLOOKUP(E884,Participants!$B$3:$C$1002,2,0),\"\")","v":""}]
[null,null,null,{"$f":"IFERROR(VLOOKUP(C885,Participants!$B$3:$C$1002,2,0),\"\")","v":""},null,{"$f":"IFERROR(VLOOKUP(E885,Participants!$B$3:$C$1002,2,0),\"\")","v":""}]
[null,null,null,{"$f":"IFERROR(VLOOKUP(C886,Participants!$B$3:$C$1002,2,0),\"\")","v":""},null,{"$f":"IFERROR(VLOOKUP(E886,Participants!$B$3:$C$1002,2,0),\"\")","v":""}]
[null,null,null,{"$f":"IFERROR(VLOOKUP(C887,Participants!$B$3:$C$1002,2,0),\"\")","v":""},null,{"$f":"IFERROR(VLOOKUP(E887,Participants!$B$3:$C$1002,2,0),\"\")","v":""}]
[null,null,null,{"$f":"IFERROR(VLOOKUP(C888,Participants!$B$3:$C$1002,2,0),\"\")","v":""},null,{"$f":"IFERROR(VLOOKUP(E888,Participants!$B$3:$C$1002,2,0),\"\")","v":""}]
[null,null,null,{"$f":"IFERROR(VLOOKUP(C889,Participants!$B$3:$C$1002,2,0),\"\")","v":""},null,{"$f":"IFERROR(VLOOKUP(E889,Participants!$B$3:$C$1002,2,0),\"\")","v":""}]
[null,null,null,{"$f":"IFERROR(VLOOKUP(C890,Participants!$B$3:$C$1002,2,0),\"\")","v":""},null,{"$f":"IFERROR(VLOOKUP(E890,Participants!$B$3:$C$1002,2,0),\"\")","v":""}]
[null,null,null,{"$f":"IFERROR(VLOOKUP(C891,Participants!$B$3:$C$1002,2,0),\"\")","v":""},null,{"$f":"IFERROR(VLOOKUP(E891,Participants!$B$3:$C$1002,2,0),\"\")","v":""}]
[null,null,null,{"$f":"IFERROR(VLOOKUP(C892,Participants!$B$3:$C$1002,2,0),\"\")","v":""},null,{"$f":"IFERROR(VLOOKUP(E892,Participants!$B$3:$C$1002,2,0),\"\")","v":""}]
[null,null,null,{"$f":"IFERROR(VLOOKUP(C893,Participants!$B$3:$C$1002,2,0),\"\")","v":""},null,{"$f":"IFERROR(VLOOKUP(E893,Participants!$B$3:$C$1002,2,0),\"\")","v":""}]
[null,null,null,{"$f":"IFERROR(VLOOKUP(C894,Participants!$B$3:$C$1002,2,0),\"\")","v":""},null,{"$f":"IFERROR(VLOOKUP(E894,Participants!$B$3:$C$1002,2,0),\"\")","v":""}]
[null,null,null,{"$f":"IFERROR(VLOOKUP(C895,Participants!$B$3:$C$1002,2,0),\"\")","v":""},null,{"$f":"IFERROR(VLOOKUP(E895,Participants!$B$3:$C$1002,2,0),\"\")","v":""}]
[null,null,null,{"$f":"IFERROR(VLOOKUP(C896,Participants!$B$3:$C$1002,2,0),\"\")","v":""},null,{"$f":"IFERROR(VLOOKUP(E896,Participants!$B$3:$C$1002,2,0),\"\")","v":""}]
[null,null,null,{"$f":"IFERROR(VLOOKUP(C897,Participants!$B$3:$C$1002,2,0),\"\")","v":""},null,{"$f":"IFERROR(VLOOKUP(E897,Participants!$B$3:$C$1002,2,0),\"\")","v":""}]
[null,null,null,{"$f":"IFERROR(VLOOKUP(C898,Participants!$B$3:$C$1002,2,0),\"\")","v":""},null,{"$f":"IFERROR(VLOOKUP(E898,Participants!$B$3:$C$1002,2,0),\"\")","v":""}]
[null,null,null,{"$f":"IFERROR(VLOOKUP(C899,Participants!$B$3:$C$1002,2,0),\"\")","v":""},null,{"$f":"IFERROR(VLOOKUP(E899,Participants!$B$3:$C$1002,2,0),\"\")","v":""}]
[null,null,null,{"$f":"IFERROR(VLOOKUP(C900,Participants!$B$3:$C$1002,2,0),\"\")","v":""},null,{"$f":"IFERROR(VLOOKUP(E900,Participants!$B$3:$C$1002,2,0),\"\")","v":""}]
[null,null,null,{"$f":"IFERROR(VLOOKUP(C901,Participants!$B$3:$C$1002,2,0),\"\")","v":""},null,{"$f":"IFERROR(VLOOKUP(E901,Participants!$B$3:$C$1002,2,0),\"\")","v":""}]
[null,null,null,{"$f":"IFERROR(VLOOKUP(C902,Participants!$B$3:$C$1002,2,0),\"\")","v":""},null,{"$f":"IFERROR(VLOOKUP(E902,Participants!$B$3:$C$1002,2,0),\"\")","v":""}]
[null,null,null,{"$f":"IFERROR(VLOOKUP(C903,Participants!$B$3:$C$1002,2,0),\"\")","v":""},null,{"$f":"IFERROR(VLOOKUP(E903,Participants!$B$3:$C$1002,2,0),\"\")","v":""}]
[null,null,null,{"$f":"IFERROR(VLOOKUP(C904,Participants!$B$3:$C$1002,2,0),\"\")","v":""},null,{"$f":"IFERROR(VLOOKUP(E904,Participants!$B$3:$C$1002,2,0),\"\")","v":""}]
[null,null,null,{"$f":"IFERROR(VLOOKUP(C905,Participants!$B$3:$C$1002,2,0),\"\")","v":""},null,{"$f":"IFERROR(VLOOKUP(E905,Participants!$B$3:$C$1002,2,0),\"\")","v":""}]
[null,null,null,{"$f":"IFERROR(VLOOKUP(C906,Participants!$B$3:$C$1002,2,0),\"\")","v":""},null,{"$f":"IFERROR(VLOOKUP(E906,Participants!$B$3:$C$1002,2,0),\"\")","v":""}]
[null,null,null,{"$f":"IFERROR(VLOOKUP(C907,Participants!$B$3:$C$1002,2,0),\"\")","v":""},null,{"$f":"IFERROR(VLOOKUP(E907,Participants!$B$3:$C$1002,2,0),\"\")","v":""}]
[null,null,null,{"$f":"IFERROR(VLOOKUP(C908,Participants!$B$3:$C$1002,2,0),\"\")","v":""},null,{"$f":"IFERROR(VLOOKUP(E908,Participants!$B$3:$C$1002,2,0),\"\")","v":""}]
[null,null,null,{"$f":"IFERROR(VLOOKUP(C909,Participants!$B$3:$C$1002,2,0),\"\")","v":""},null,{"$f":"IFERROR(VLOOKUP(E909,Participants!$B$3:$C$1002,2,0),\"\")","v":""}]
[null,null,null,{"$f":"IFERROR(VLOOKUP(C910,Participants!$B$3:$C$1002,2,0),\"\")","v":""},null,{"$f":"IFERROR(VLOOKUP(E910,Participants!$B$3:$C$1002,2,0),\"\")","v":""}]
[null,null,null,{"$f":"IFERROR(VLOOKUP(C911,Participants!$B$3:$C$1002,2,0),\"\")","v":""},null,{"$f":"IFERROR(VLOOKUP(E911,Participants!$B$3:$C$1002,2,0),\"\")","v":""}]
[null,null,null,{"$f":"IFERROR(VLOOKUP(C912,Participants!$B$3:$C$1002,2,0),\"\")","v":""},null,{"$f":"IFERROR(VLOOKUP(E912,Participants!$B$3:$C$1002,2,0),\"\")","v":""}]
[null,null,null,{"$f":"IFERROR(VLOOKUP(C913,Participants!$B$3:$C$1002,2,0),\"\")","v":""},null,{"$f":"IFERROR(VLOOKUP(E913,Participants!$B$3:$C$1002,2,0),\"\")","v":""}]
[null,null,null,{"$f":"IFERROR(VLOOKUP(C914,Participants!$B$3:$C$1002,2,0),\"\")","v":""},null,{"$f":"IFERROR(VLOOKUP(E914,Participants!$B$3:$C$1002,2,0),\"\")","v":""}]
[null,null,null,{"$f":"IFERROR(VLOOKUP(C915,Participants!$B$3:$C$1002,2,0),\"\")","v":""},null,{"$f":"IFERROR(VLOOKUP(E915,Participants!$B$3:$C$1002,2,0),\"\")","v":""}]
[null,null,null,{"$f":"IFERROR(VLOOKUP(C916,Participants!$B$3:$C$1002,2,0),\"\")","v":""},null,{"$f":"IFERROR(VLOOKUP(E916,Participants!$B$3:$C$1002,2,0),\"\")","v":""}]
[null,null,null,{"$f":"IFERROR(VLOOKUP(C917,Participants!$B$3:$C$1002,2,0),\"\")","v":""},null,{"$f":"IFERROR(VLOOKUP(E917,Participants!$B$3:$C$1002,2,0),\"\")","v":""}]
[null,null,null,{"$f":"IFERROR(VLOOKUP(C918,Participants!$B$3:$C$1002,2,0),\"\")","v":""},null,{"$f":"IFERROR(VLOOKUP(E918,Participants!$B$3:$C$1002,2,0),\"\")","v":""}]
[null,null,null,{"$f":"IFERROR(VLOOKUP(C919,Participants!$B$3:$C$1002,2,0),\"\")","v":""},null,{"$f":"IFERROR(VLOOKUP(E919,Participants!$B$3:$C$1002,2,0),\"\")","v":""}]
[null,null,null,{"$f":"IFERROR(VLOOKUP(C920,Participants!$B$3:$C$1002,2,0),\"\")","v":""},null,{"$f":"IFERROR(VLOOKUP(E920,Participants!$B$3:$C$1002,2,0),\"\")","v":""}]
[null,null,null,{"$f":"IFERROR(VLOOKUP(C921,Participants!$B$3:$C$1002,2,0),\"\")","v":""},null,{"$f":"IFERROR(VLOOKUP(E921,Participants!$B$3:$C$1002,2,0),\"\")","v":""}]
[null,null,null,{"$f":"IFERROR(VLOOKUP(C922,Participants!$B$3:$C$1002,2,0),\"\")","v":""},null,{"$f":"IFERROR(VLOOKUP(E922,Participants!$B$3:$C$1002,2,0),\"\")","v":""}]
[null,null,null,{"$f":"IFERROR(VLOOKUP(C923,Participants!$B$3:$C$1002,2,0),\"\")","v":""},null,{"$f":"IFERROR(VLOOKUP(E923,Participants!$B$3:$C$1002,2,0),\"\")","v":""}]
[null,null,null,{"$f":"IFERROR(VLOOKUP(C924,Participants!$B$3:$C$1002,2,0),\"\")","v":""},null,{"$f":"IFERROR(VLOOKUP(E924,Participants!$B$3:$C$1002,2,0),\"\")","v":""}]
[null,null,null,{"$f":"IFERROR(VLOOKUP(C925,Participants!$B$3:$C$1002,2,0),\"\")","v":""},null,{"$f":"IFERROR(VLOOKUP(E925,Participants!$B$3:$C$1002,2,0),\"\")","v":""}]
[null,null,null,{"$f":"IFERROR(VLOOKUP(C926,Participants!$B$3:$C$1002,2,0),\"\")","v":""},null,{"$f":"IFERROR(VLOOKUP(E926,Participants!$B$3:$C$1002,2,0),\"\")","v":""}]
[null,null,null,{"$f":"IFERROR(VLOOKUP(C927,Participants!$B$3:$C$1002,2,0),\"\")","v":""},null,{"$f":"IFERROR(VLOOKUP(E927,Participants!$B$3:$C$1002,2,0),\"\")","v":""}]
[null,null,null,{"$f":"IFERROR(VLOOKUP(C928,Participants!$B$3:$C$1002,2,0),\"\")","v":""},null,{"$f":"IFERROR(VLOOKUP(E928,Participants!$B$3:$C$1002,2,0),\"\")","v":""}]
[null,null,null,{"$f":"IFERROR(VLOOKUP(C929,Participants!$B$3:$C$1002,2,0),\"\")","v":""},null,{"$f":"IFERROR(VLOOKUP(E929,Participants!$B$3:$C$1002,2,0),\"\")","v":""}]
[null,null,null,{"$f":"IFERROR(VLOOKUP(C930,Participants!$B$3:$C$1002,2,0),\"\")","v":""},null,{"$f":"IFERROR(VLOOKUP(E930,Participants!$B$3:$C$1002,2,0),\"\")","v":""}]
[null,null,null,{"$f":"IFERROR(VLOOKUP(C931,Participants!$B$3:$C$1002,2,0),\"\")","v":""},null,{"$f":"IFERROR(VLOOKUP(E931,Participants!$B$3:$C$1002,2,0),\"\")","v":""}]
[null,null,null,{"$f":"IFERROR(VLOOKUP(C932,Participants!$B$3:$C$1002,2,0),\"\")","v":""},null,{"$f":"IFERROR(VLOOKUP(E932,Participants!$B$3:$C$1002,2,0),\"\")","v":""}]
[null,null,null,{"$f":"IFERROR(VLOOKUP(C933,Participants!$B$3:$C$1002,2,0),\"\")","v":""},null,{"$f":"IFERROR(VLOOKUP(E933,Participants!$B$3:$C$1002,2,0),\"\")","v":""}]
[null,null,null,{"$f":"IFERROR(VLOOKUP(C934,Participants!$B$3:$C$1002,2,0),\"\")","v":""},null,{"$f":"IFERROR(VLOOKUP(E934,Participants!$B$3:$C$1002,2,0),\"\")","v":""}]
[null,null,null,{"$f":"IFERROR(VLOOKUP(C935,Participants!$B$3:$C$1002,2,0),\"\")","v":""},null,{"$f":"IFERROR(VLOOKUP(E935,Participants!$B$3:$C$1002,2,0),\"\")","v":""}]
[null,null,null,{"$f":"IFERROR(VLOOKUP(C936,Participants!$B$3:$C$1002,2,0),\"\")","v":""},null,{"$f":"IFERROR(VLOOKUP(E936,Participants!$B$3:$C$1002,2,0),\"\")","v":""}]
[null,null,null,{"$f":"IFERROR(VLOOKUP(C937,Participants!$B$3:$C$1002,2,0),\"\")","v":""},null,{"$f":"IFERROR(VLOOKUP(E937,Participants!$B$3:$C$1002,2,0),\"\")","v":""}]
[null,null,null,{"$f":"IFERROR(VLOOKUP(C938,Participants!$B$3:$C$1002,2,0),\"\")","v":""},null,{"$f":"IFERROR(VLOOKUP(E938,Participants!$B$3:$C$1002,2,0),\"\")","v":""}]
[null,null,null,{"$f":"IFERROR(VLOOKUP(C939,Participants!$B$3:$C$1002,2,0),\"\")","v":""},null,{"$f":"IFERROR(VLOOKUP(E939,Participants!$B$3:$C$1002,2,0),\"\")","v":""}]
[null,null,null,{"$f":"IFERROR(VLOOKUP(C940,Participants!$B$3:$C$1002,2,0),\"\")","v":""},null,{"$f":"IFERROR(VLOOKUP(E940,Participants!$B$3:$C$1002,2,0),\"\")","v":""}]
[null,null,null,{"$f":"IFERROR(VLOOKUP(C941,Participants!$B$3:$C$1002,2,0),\"\")","v":""},null,{"$f":"IFERROR(VLOOKUP(E941,Participants!$B$3:$C$1002,2,0),\"\")","v":""}]
[null,null,null,{"$f":"IFERROR(VLOOKUP(C942,Participants!$B$3:$C$1002,2,0),\"\")","v":""},null,{"$f":"IFERROR(VLOOKUP(E942,Participants!$B$3:$C$1002,2,0),\"\")","v":""}]
[null,null,null,{"$f":"IFERROR(VLOOKUP(C943,Participants!$B$3:$C$1002,2,0),\"\")","v":""},null,{"$f":"IFERROR(VLOOKUP(E943,Participants!$B$3:$C$1002,2,0),\"\")","v":""}]
[null,null,null,{"$f":"IFERROR(VLOOKUP(C944,Participants!$B$3:$C$1002,2,0),\"\")","v":""},null,{"$f":"IFERROR(VLOOKUP(E944,Participants!$B$3:$C$1002,2,0),\"\")","v":""}]
[null,null,null,{"$f":"IFERROR(VLOOKUP(C945,Participants!$B$3:$C$1002,2,0),\"\")","v":""},null,{"$f":"IFERROR(VLOOKUP(E945,Participants!$B$3:$C$1002,2,0),\"\")","v":""}]
[null,null,null,{"$f":"IFERROR(VLOOKUP(C946,Participants!$B$3:$C$1002,2,0),\"\")","v":""},null,{"$f":"IFERROR(VLOOKUP(E946,Participants!$B$3:$C$1002,2,0),\"\")","v":""}]
[null,null,null,{"$f":"IFERROR(VLOOKUP(C947,Participants!$B$3:$C$1002,2,0),\"\")","v":""},null,{"$f":"IFERROR(VLOOKUP(E947,Participants!$B$3:$C$1002,2,0),\"\")","v":""}]
[null,null,null,{"$f":"IFERROR(VLOOKUP(C948,Participants!$B$3:$C$1002,2,0),\"\")","v":""},null,{"$f":"IFERROR(VLOOKUP(E948,Participants!$B$3:$C$1002,2,0),\"\")","v":""}]
[null,null,null,{"$f":"IFERROR(VLOOKUP(C949,Participants!$B$3:$C$1002,2,0),\"\")","v":""},null,{"$f":"IFERROR(VLOOKUP(E949,Participants!$B$3:$C$1002,2,0),\"\")","v":""}]
[null,null,null,{"$f":"IFERROR(VLOOKUP(C950,Participants!$B$3:$C$1002,2,0),\"\")","v":""},null,{"$f":"IFERROR(VLOOKUP(E950,Participants!$B$3:$C$1002,2,0),\"\")","v":""}]
[null,null,null,{"$f":"IFERROR(VLOOKUP(C951,Participants!$B$3:$C$1002,2,0),\"\")","v":""},null,{"$f":"IFERROR(VLOOKUP(E951,Participants!$B$3:$C$1002,2,0),\"\")","v":""}]
[null,null,null,{"$f":"IFERROR(VLOOKUP(C952,Participants!$B$3:$C$1002,2,0),\"\")","v":""},null,{"$f":"IFERROR(VLOOKUP(E952,Participants!$B$3:$C$1002,2,0),\"\")","v":""}]
[null,null,null,{"$f":"IFERROR(VLOOKUP(C953,Participants!$B$3:$C$1002,2,0),\"\")","v":""},null,{"$f":"IFERROR(VLOOKUP(E953,Participants!$B$3:$C$1002,2,0),\"\")","v":""}]
[null,null,null,{"$f":"IFERROR(VLOOKUP(C954,Participants!$B$3:$C$1002,2,0),\"\")","v":""},null,{"$f":"IFERROR(VLOOKUP(E954,Participants!$B$3:$C$1002,2,0),\"\")","v":""}]
[null,null,null,{"$f":"IFERROR(VLOOKUP(C955,Participants!$B$3:$C$1002,2,0),\"\")","v":""},null,{"$f":"IFERROR(VLOOKUP(E955,Participants!$B$3:$C$1002,2,0),\"\")","v":""}]
[null,null,null,{"$f":"IFERROR(VLOOKUP(C956,Participants!$B$3:$C$1002,2,0),\"\")","v":""},null,{"$f":"IFERROR(VLOOKUP(E956,Participants!$B$3:$C$1002,2,0),\"\")","v":""}]
[null,null,null,{"$f":"IFERROR(VLOOKUP(C957,Participants!$B$3:$C$1002,2,0),\"\")","v":""},null,{"$f":"IFERROR(VLOOKUP(E957,Participants!$B$3:$C$1002,2,0),\"\")","v":""}]
[null,null,null,{"$f":"IFERROR(VLOOKUP(C958,Participants!$B$3:$C$1002,2,0),\"\")","v":""},null,{"$f":"IFERROR(VLOOKUP(E958,Participants!$B$3:$C$1002,2,0),\"\")","v":""}]
[null,null,null,{"$f":"IFERROR(VLOOKUP(C959,Participants!$B$3:$C$1002,2,0),\"\")","v":""},null,{"$f":"IFERROR(VLOOKUP(E959,Participants!$B$3:$C$1002,2,0),\"\")","v":""}]
[null,null,null,{"$f":"IFERROR(VLOOKUP(C960,Participants!$B$3:$C$1002,2,0),\"\")","v":""},null,{"$f":"IFERROR(VLOOKUP(E960,Participants!$B$3:$C$1002,2,0),\"\")","v":""}]
[null,null,null,{"$f":"IFERROR(VLOOKUP(C961,Participants!$B$3:$C$1002,2,0),\"\")","v":""},null,{"$f":"IFERROR(VLOOKUP(E961,Participants!$B$3:$C$1002,2,0),\"\")","v":""}]
[null,null,null,{"$f":"IFERROR(VLOOKUP(C962,Participants!$B$3:$C$1002,2,0),\"\")","v":""},null,{"$f":"IFERROR(VLOOKUP(E962,Participants!$B$3:$C$1002,2,0),\"\")","v":""}]
[null,null,null,{"$f":"IFERROR(VLOOKUP(C963,Participants!$B$3:$C$1002,2,0),\"\")","v":""},null,{"$f":"IFERROR(VLOOKUP(E963,Participants!$B$3:$C$1002,2,0),\"\")","v":""}]
[null,null,null,{"$f":"IFERROR(VLOOKUP(C964,Participants!$B$3:$C$1002,2,0),\"\")","v":""},null,{"$f":"IFERROR(VLOOKUP(E964,Participants!$B$3:$C$1002,2,0),\"\")","v":""}]
[null,null,null,{"$f":"IFERROR(VLOOKUP(C965,Participants!$B$3:$C$1002,2,0),\"\")","v":""},null,{"$f":"IFERROR(VLOOKUP(E965,Participants!$B$3:$C$1002,2,0),\"\")","v":""}]
[null,null,null,{"$f":"IFERROR(VLOOKUP(C966,Participants!$B$3:$C$1002,2,0),\"\")","v":""},null,{"$f":"IFERROR(VLOOKUP(E966,Participants!$B$3:$C$1002,2,0),\"\")","v":""}]
[null,null,null,{"$f":"IFERROR(VLOOKUP(C967,Participants!$B$3:$C$1002,2,0),\"\")","v":""},null,{"$f":"IFERROR(VLOOKUP(E967,Participants!$B$3:$C$1002,2,0),\"\")","v":""}]
[null,null,null,{"$f":"IFERROR(VLOOKUP(C968,Participants!$B$3:$C$1002,2,0),\"\")","v":""},null,{"$f":"IFERROR(VLOOKUP(E968,Participants!$B$3:$C$1002,2,0),\"\")","v":""}]
[null,null,null,{"$f":"IFERROR(VLOOKUP(C969,Participants!$B$3:$C$1002,2,0),\"\")","v":""},null,{"$f":"IFERROR(VLOOKUP(E969,Participants!$B$3:$C$1002,2,0),\"\")","v":""}]
[null,null,null,{"$f":"IFERROR(VLOOKUP(C970,Participants!$B$3:$C$1002,2,0),\"\")","v":""},null,{"$f":"IFERROR(VLOOKUP(E970,Participants!$B$3:$C$1002,2,0),\"\")","v":""}]
[null,null,null,{"$f":"IFERROR(VLOOKUP(C971,Participants!$B$3:$C$1002,2,0),\"\")","v":""},null,{"$f":"IFERROR(VLOOKUP(E971,Participants!$B$3:$C$1002,2,0),\"\")","v":""}]
[null,null,null,{"$f":"IFERROR(VLOOKUP(C972,Participants!$B$3:$C$1002,2,0),\"\")","v":""},null,{"$f":"IFERROR(VLOOKUP(E972,Participants!$B$3:$C$1002,2,0),\"\")","v":""}]
[null,null,null,{"$f":"IFERROR(VLOOKUP(C973,Participants!$B$3:$C$1002,2,0),\"\")","v":""},null,{"$f":"IFERROR(VLOOKUP(E973,Participants!$B$3:$C$1002,2,0),\"\")","v":""}]
[null,null,null,{"$f":"IFERROR(VLOOKUP(C974,Participants!$B$3:$C$1002,2,0),\"\")","v":""},null,{"$f":"IFERROR(VLOOKUP(E974,Participants!$B$3:$C$1002,2,0),\"\")","v":""}]
[null,null,null,{"$f":"IFERROR(VLOOKUP(C975,Participants!$B$3:$C$1002,2,0),\"\")","v":""},null,{"$f":"IFERROR(VLOOKUP(E975,Participants!$B$3:$C$1002,2,0),\"\")","v":""}]
[null,null,null,{"$f":"IFERROR(VLOOKUP(C976,Participants!$B$3:$C$1002,2,0),\"\")","v":""},null,{"$f":"IFERROR(VLOOKUP(E976,Participants!$B$3:$C$1002,2,0),\"\")","v":""}]
[null,null,null,{"$f":"IFERROR(VLOOKUP(C977,Participants!$B$3:$C$1002,2,0),\"\")","v":""},null,{"$f":"IFERROR(VLOOKUP(E977,Participants!$B$3:$C$1002,2,0),\"\")","v":""}]
[null,null,null,{"$f":"IFERROR(VLOOKUP(C978,Participants!$B$3:$C$1002,2,0),\"\")","v":""},null,{"$f":"IFERROR(VLOOKUP(E978,Participants!$B$3:$C$1002,2,0),\"\")","v":""}]
[null,null,null,{"$f":"IFERROR(VLOOKUP(C979,Participants!$B$3:$C$1002,2,0),\"\")","v":""},null,{"$f":"IFERROR(VLOOKUP(E979,Participants!$B$3:$C$1002,2,0),\"\")","v":""}]
[null,null,null,{"$f":"IFERROR(VLOOKUP(C980,Participants!$B$3:$C$1002,2,0),\"\")","v":""},null,{"$f":"IFERROR(VLOOKUP(E980,Participants!$B$3:$C$1002,2,0),\"\")","v":""}]
[null,null,null,{"$f":"IFERROR(VLOOKUP(C981,Participants!$B$3:$C$1002,2,0),\"\")","v":""},null,{"$f":"IFERROR(VLOOKUP(E981,Participants!$B$3:$C$1002,2,0),\"\")","v":""}]
[null,null,null,{"$f":"IFERROR(VLOOKUP(C982,Participants!$B$3:$C$1002,2,0),\"\")","v":""},null,{"$f":"IFERROR(VLOOKUP(E982,Participants!$B$3:$C$1002,2,0),\"\")","v":""}]
[null,null,null,{"$f":"IFERROR(VLOOKUP(C983,Participants!$B$3:$C$1002,2,0),\"\")","v":""},null,{"$f":"IFERROR(VLOOKUP(E983,Participants!$B$3:$C$1002,2,0),\"\")","v":""}]
[null,null,null,{"$f":"IFERROR(VLOOKUP(C984,Participants!$B$3:$C$1002,2,0),\"\")","v":""},null,{"$f":"IFERROR(VLOOKUP(E984,Participants!$B$3:$C$1002,2,0),\"\")","v":""}]
[null,null,null,{"$f":"IFERROR(VLOOKUP(C985,Participants!$B$3:$C$1002,2,0),\"\")","v":""},null,{"$f":"IFERROR(VLOOKUP(E985,Participants!$B$3:$C$1002,2,0),\"\")","v":""}]
[null,null,null,{"$f":"IFERROR(VLOOKUP(C986,Participants!$B$3:$C$1002,2,0),\"\")","v":""},null,{"$f":"IFERROR(VLOOKUP(E986,Participants!$B$3:$C$1002,2,0),\"\")","v":""}]
[null,null,null,{"$f":"IFERROR(VLOOKUP(C987,Participants!$B$3:$C$1002,2,0),\"\")","v":""},null,{"$f":"IFERROR(VLOOKUP(E987,Participants!$B$3:$C$1002,2,0),\"\")","v":""}]
[null,null,null,{"$f":"IFERROR(VLOOKUP(C988,Participants!$B$3:$C$1002,2,0),\"\")","v":""},null,{"$f":"IFERROR(VLOOKUP(E988,Participants!$B$3:$C$1002,2,0),\"\")","v":""}]
[null,null,null,{"$f":"IFERROR(VLOOKUP(C989,Participants!$B$3:$C$1002,2,0),\"\")","v":""},null,{"$f":"IFERROR(VLOOKUP(E989,Participants!$B$3:$C$1002,2,0),\"\")","v":""}]
[null,null,null,{"$f":"IFERROR(VLOOKUP(C990,Participants!$B$3:$C$1002,2,0),\"\")","v":""},null,{"$f":"IFERROR(VLOOKUP(E990,Participants!$B$3:$C$1002,2,0),\"\")","v":""}]
[null,null,null,{"$f":"IFERROR(VLOOKUP(C991,Participants!$B$3:$C$1002,2,0),\"\")","v":""},null,{"$f":"IFERROR(VLOOKUP(E991,Participants!$B$3:$C$1002,2,0),\"\")","v":""}]
[null,null,null,{"$f":"IFERROR(VLOOKUP(C992,Participants!$B$3:$C$1002,2,0),\"\")","v":""},null,{"$f":"IFERROR(VLOOKUP(E992,Participants!$B$3:$C$1002,2,0),\"\")","v":""}]
[null,null,null,{"$f":"IFERROR(VLOOKUP(C993,Participants!$B$3:$C$1002,2,0),\"\")","v":""},null,{"$f":"IFERROR(VLOOKUP(E993,Participants!$B$3:$C$1002,2,0),\"\")","v":""}]
[null,null,null,{"$f":"IFERROR(VLOOKUP(C994,Participants!$B$3:$C$1002,2,0),\"\")","v":""},null,{"$f":"IFERROR(VLOOKUP(E994,Participants!$B$3:$C$1002,2,0),\"\")","v":""}]
[null,null,null,{"$f":"IFERROR(VLOOKUP(C995,Participants!$B$3:$C$1002,2,0),\"\")","v":""},null,{"$f":"IFERROR(VLOOKUP(E995,Participants!$B$3:$C$1002,2,0),\"\")","v":""}]
[null,null,null,{"$f":"IFERROR(VLOOKUP(C996,Participants!$B$3:$C$1002,2,0),\"\")","v":""},null,{"$f":"IFERROR(VLOOKUP(E996,Participants!$B$3:$C$1002,2,0),\"\")","v":""}]
[null,null,null,{"$f":"IFERROR(VLOOKUP(C997,Participants!$B$3:$C$1002,2,0),\"\")","v":""},null,{"$f":"IFERROR(VLOOKUP(E997,Participants!$B$3:$C$1002,2,0),\"\")","v":""}]
[null,null,null,{"$f":"IFERROR(VLOOKUP(C998,Participants!$B$3:$C$1002,2,0),\"\")","v":""},null,{"$f":"IFERROR(VLOOKUP(E998,Participants!$B$3:$C$1002,2,0),\"\")","v":""}]
[null,null,null,{"$f":"IFERROR(VLOOKUP(C999,Participants!$B$3:$C$1002,2,0),\"\")","v":""},null,{"$f":"IFERROR(VLOOKUP(E999,Participants!$B$3:$C$1002,2,0),\"\")","v":""}]
[null,null,null,{"$f":"IFERROR(VLOOKUP(C1000,Participants!$B$3:$C$1002,2,0),\"\")","v":""},null,{"$f":"IFERROR(VLOOKUP(E1000,Participants!$B$3:$C$1002,2,0),\"\")","v":""}]
[null,null,null,{"$f":"IFERROR(VLOOKUP(C1001,Participants!$B$3:$C$1002,2,0),\"\")","v":""},null,{"$f":"IFERROR(VLOOKUP(E1001,Participants!$B$3:$C$1002,2,0),\"\")","v":""}]
[null,null,null,{"$f":"IFERROR(VLOOKUP(C1002,Participants!$B$3:$C$1002,2,0),\"\")","v":""},null,{"$f":"IFERROR(VLOOKUP(E1002,Participants!$B$3:$C$1002,2,0),\"\")","v":""}]
[null,null,null,{"$f":"IFERROR(VLOOKUP(C1003,Participants!$B$3:$C$1002,2,0),\"\")","v":""},null,{"$f":"IFERROR(VLOOKUP(E1003,Participants!$B$3:$C$1002,2,0),\"\")","v":""}]
[null,null,null,{"$f":"IFERROR(VLOOKUP(C1004,Participants!$B$3:$C$1002,2,0),\"\")","v":""},null,{"$f":"IFERROR(VLOOKUP(E1004,Participants!$B$3:$C$1002,2,0),\"\")","v":""}]
[null,null,null,{"$f":"IFERROR(VLOOKUP(C1005,Participants!$B$3:$C$1002,2,0),\"\")","v":""},null,{"$f":"IFERROR(VLOOKUP(E1005,Participants!$B$3:$C$1002,2,0),\"\")","v":""}]
[null,null,null,{"$f":"IFERROR(VLOOKUP(C1006,Participants!$B$3:$C$1002,2,0),\"\")","v":""},null,{"$f":"IFERROR(VLOOKUP(E1006,Participants!$B$3:$C$1002,2,0),\"\")","v":""}]
[null,null,null,{"$f":"IFERROR(VLOOKUP(C1007,Participants!$B$3:$C$1002,2,0),\"\")","v":""},null,{"$f":"IFERROR(VLOOKUP(E1007,Participants!$B$3:$C$1002,2,0),\"\")","v":""}]
[null,null,null,{"$f":"IFERROR(VLOOKUP(C1008,Participants!$B$3:$C$1002,2,0),\"\")","v":""},null,{"$f":"IFERROR(VLOOKUP(E1008,Participants!$B$3:$C$1002,2,0),\"\")","v":""}]
[null,null,null,{"$f":"IFERROR(VLOOKUP(C1009,Participants!$B$3:$C$1002,2,0),\"\")","v":""},null,{"$f":"IFERROR(VLOOKUP(E1009,Participants!$B$3:$C$1002,2,0),\"\")","v":""}]
[null,null,null,{"$f":"IFERROR(VLOOKUP(C1010,Participants!$B$3:$C$1002,2,0),\"\")","v":""},null,{"$f":"IFERROR(VLOOKUP(E1010,Participants!$B$3:$C$1002,2,0),\"\")","v":""}]
[null,null,null,{"$f":"IFERROR(VLOOKUP(C1011,Participants!$B$3:$C$1002,2,0),\"\")","v":""},null,{"$f":"IFERROR(VLOOKUP(E1011,Participants!$B$3:$C$1002,2,0),\"\")","v":""}]
[null,null,null,{"$f":"IFERROR(VLOOKUP(C1012,Participants!$B$3:$C$1002,2,0),\"\")","v":""},null,{"$f":"IFERROR(VLOOKUP(E1012,Participants!$B$3:$C$1002,2,0),\"\")","v":""}]
[null,null,null,{"$f":"IFERROR(VLOOKUP(C1013,Participants!$B$3:$C$1002,2,0),\"\")","v":""},null,{"$f":"IFERROR(VLOOKUP(E1013,Participants!$B$3:$C$1002,2,0),\"\")","v":""}]
[null,null,null,{"$f":"IFERROR(VLOOKUP(C1014,Participants!$B$3:$C$1002,2,0),\"\")","v":""},null,{"$f":"IFERROR(VLOOKUP(E1014,Participants!$B$3:$C$1002,2,0),\"\")","v":""}]
[null,null,null,{"$f":"IFERROR(VLOOKUP(C1015,Participants!$B$3:$C$1002,2,0),\"\")","v":""},null,{"$f":"IFERROR(VLOOKUP(E1015,Participants!$B$3:$C$1002,2,0),\"\")","v":""}]
[null,null,null,{"$f":"IFERROR(VLOOKUP(C1016,Participants!$B$3:$C$1002,2,0),\"\")","v":""},null,{"$f":"IFERROR(VLOOKUP(E1016,Participants!$B$3:$C$1002,2,0),\"\")","v":""}]
[null,null,null,{"$f":"IFERROR(VLOOKUP(C1017,Participants!$B$3:$C$1002,2,0),\"\")","v":""},null,{"$f":"IFERROR(VLOOKUP(E1017,Participants!$B$3:$C$1002,2,0),\"\")","v":""}]
[null,null,null,{"$f":"IFERROR(VLOOKUP(C1018,Participants!$B$3:$C$1002,2,0),\"\")","v":""},null,{"$f":"IFERROR(VLOOKUP(E1018,Participants!$B$3:$C$1002,2,0),\"\")","v":""}]
[null,null,null,{"$f":"IFERROR(VLOOKUP(C1019,Participants!$B$3:$C$1002,2,0),\"\")","v":""},null,{"$f":"IFERROR(VLOOKUP(E1019,Participants!$B$3:$C$1002,2,0),\"\")","v":""}]
[null,null,null,{"$f":"IFERROR(VLOOKUP(C1020,Participants!$B$3:$C$1002,2,0),\"\")","v":""},null,{"$f":"IFERROR(VLOOKUP(E1020,Participants!$B$3:$C$1002,2,0),\"\")","v":""}]
[null,null,null,{"$f":"IFERROR(VLOOKUP(C1021,Participants!$B$3:$C$1002,2,0),\"\")","v":""},null,{"$f":"IFERROR(VLOOKUP(E1021,Participants!$B$3:$C$1002,2,0),\"\")","v":""}]
[null,null,null,{"$f":"IFERROR(VLOOKUP(C1022,Participants!$B$3:$C$1002,2,0),\"\")","v":""},null,{"$f":"IFERROR(VLOOKUP(E1022,Participants!$B$3:$C$1002,2,0),\"\")","v":""}]
[null,null,null,{"$f":"IFERROR(VLOOKUP(C1023,Participants!$B$3:$C$1002,2,0),\"\")","v":""},null,{"$f":"IFERROR(VLOOKUP(E1023,Participants!$B$3:$C$1002,2,0),\"\")","v":""}]
[null,null,null,{"$f":"IFERROR(VLOOKUP(C1024,Participants!$B$3:$C$1002,2,0),\"\")","v":""},null,{"$f":"IFERROR(VLOOKUP(E1024,Participants!$B$3:$C$1002,2,0),\"\")","v":""}]
[null,null,null,{"$f":"IFERROR(VLOOKUP(C1025,Participants!$B$3:$C$1002,2,0),\"\")","v":""},null,{"$f":"IFERROR(VLOOKUP(E1025,Participants!$B$3:$C$1002,2,0),\"\")","v":""}]
[null,null,null,{"$f":"IFERROR(VLOOKUP(C1026,Participants!$B$3:$C$1002,2,0),\"\")","v":""},null,{"$f":"IFERROR(VLOOKUP(E1026,Participants!$B$3:$C$1002,2,0),\"\")","v":""}]
[null,null,null,{"$f":"IFERROR(VLOOKUP(C1027,Participants!$B$3:$C$1002,2,0),\"\")","v":""},null,{"$f":"IFERROR(VLOOKUP(E1027,Participants!$B$3:$C$1002,2,0),\"\")","v":""}]
[null,null,null,{"$f":"IFERROR(VLOOKUP(C1028,Participants!$B$3:$C$1002,2,0),\"\")","v":""},null,{"$f":"IFERROR(VLOOKUP(E1028,Participants!$B$3:$C$1002,2,0),\"\")","v":""}]
[null,null,null,{"$f":"IFERROR(VLOOKUP(C1029,Participants!$B$3:$C$1002,2,0),\"\")","v":""},null,{"$f":"IFERROR(VLOOKUP(E1029,Participants!$B$3:$C$1002,2,0),\"\")","v":""}]
[null,null,null,{"$f":"IFERROR(VLOOKUP(C1030,Participants!$B$3:$C$1002,2,0),\"\")","v":""},null,{"$f":"IFERROR(VLOOKUP(E1030,Participants!$B$3:$C$1002,2,0),\"\")","v":""}]
[null,null,null,{"$f":"IFERROR(VLOOKUP(C1031,Participants!$B$3:$C$1002,2,0),\"\")","v":""},null,{"$f":"IFERROR(VLOOKUP(E1031,Participants!$B$3:$C$1002,2,0),\"\")","v":""}]
[null,null,null,{"$f":"IFERROR(VLOOKUP(C1032,Participants!$B$3:$C$1002,2,0),\"\")","v":""},null,{"$f":"IFERROR(VLOOKUP(E1032,Participants!$B$3:$C$1002,2,0),\"\")","v":""}]
[null,null,null,{"$f":"IFERROR(VLOOKUP(C1033,Participants!$B$3:$C$1002,2,0),\"\")","v":""},null,{"$f":"IFERROR(VLOOKUP(E1033,Participants!$B$3:$C$1002,2,0),\"\")","v":""}]
[null,null,null,{"$f":"IFERROR(VLOOKUP(C1034,Participants!$B$3:$C$1002,2,0),\"\")","v":""},null,{"$f":"IFERROR(VLOOKUP(E1034,Participants!$B$3:$C$1002,2,0),\"\")","v":""}]
[null,null,null,{"$f":"IFERROR(VLOOKUP(C1035,Participants!$B$3:$C$1002,2,0),\"\")","v":""},null,{"$f":"IFERROR(VLOOKUP(E1035,Participants!$B$3:$C$1002,2,0),\"\")","v":""}]
[null,null,null,{"$f":"IFERROR(VLOOKUP(C1036,Participants!$B$3:$C$1002,2,0),\"\")","v":""},null,{"$f":"IFERROR(VLOOKUP(E1036,Participants!$B$3:$C$1002,2,0),\"\")","v":""}]
[null,null,null,{"$f":"IFERROR(VLOOKUP(C1037,Participants!$B$3:$C$1002,2,0),\"\")","v":""},null,{"$f":"IFERROR(VLOOKUP(E1037,Participants!$B$3:$C$1002,2,0),\"\")","v":""}]
[null,null,null,{"$f":"IFERROR(VLOOKUP(C1038,Participants!$B$3:$C$1002,2,0),\"\")","v":""},null,{"$f":"IFERROR(VLOOKUP(E1038,Participants!$B$3:$C$1002,2,0),\"\")","v":""}]
[null,null,null,{"$f":"IFERROR(VLOOKUP(C1039,Participants!$B$3:$C$1002,2,0),\"\")","v":""},null,{"$f":"IFERROR(VLOOKUP(E1039,Participants!$B$3:$C$1002,2,0),\"\")","v":""}]
[null,null,null,{"$f":"IFERROR(VLOOKUP(C1040,Participants!$B$3:$C$1002,2,0),\"\")","v":""},null,{"$f":"IFERROR(VLOOKUP(E1040,Participants!$B$3:$C$1002,2,0),\"\")","v":""}]
[null,null,null,{"$f":"IFERROR(VLOOKUP(C1041,Participants!$B$3:$C$1002,2,0),\"\")","v":""},null,{"$f":"IFERROR(VLOOKUP(E1041,Participants!$B$3:$C$1002,2,0),\"\")","v":""}]
[null,null,null,{"$f":"IFERROR(VLOOKUP(C1042,Participants!$B$3:$C$1002,2,0),\"\")","v":""},null,{"$f":"IFERROR(VLOOKUP(E1042,Participants!$B$3:$C$1002,2,0),\"\")","v":""}]
[null,null,null,{"$f":"IFERROR(VLOOKUP(C1043,Participants!$B$3:$C$1002,2,0),\"\")","v":""},null,{"$f":"IFERROR(VLOOKUP(E1043,Participants!$B$3:$C$1002,2,0),\"\")","v":""}]
[null,null,null,{"$f":"IFERROR(VLOOKUP(C1044,Participants!$B$3:$C$1002,2,0),\"\")","v":""},null,{"$f":"IFERROR(VLOOKUP(E1044,Participants!$B$3:$C$1002,2,0),\"\")","v":""}]
[null,null,null,{"$f":"IFERROR(VLOOKUP(C1045,Participants!$B$3:$C$1002,2,0),\"\")","v":""},null,{"$f":"IFERROR(VLOOKUP(E1045,Participants!$B$3:$C$1002,2,0),\"\")","v":""}]
[null,null,null,{"$f":"IFERROR(VLOOKUP(C1046,Participants!$B$3:$C$1002,2,0),\"\")","v":""},null,{"$f":"IFERROR(VLOOKUP(E1046,Participants!$B$3:$C$1002,2,0),\"\")","v":""}]
[null,null,null,{"$f":"IFERROR(VLOOKUP(C1047,Participants!$B$3:$C$1002,2,0),\"\")","v":""},null,{"$f":"IFERROR(VLOOKUP(E1047,Participants!$B$3:$C$1002,2,0),\"\")","v":""}]
[null,null,null,{"$f":"IFERROR(VLOOKUP(C1048,Participants!$B$3:$C$1002,2,0),\"\")","v":""},null,{"$f":"IFERROR(VLOOKUP(E1048,Participants!$B$3:$C$1002,2,0),\"\")","v":""}]
[null,null,null,{"$f":"IFERROR(VLOOKUP(C1049,Participants!$B$3:$C$1002,2,0),\"\")","v":""},null,{"$f":"IFERROR(VLOOKUP(E1049,Participants!$B$3:$C$1002,2,0),\"\")","v":""}]
[null,null,null,{"$f":"IFERROR(VLOOKUP(C1050,Participants!$B$3:$C$1002,2,0),\"\")","v":""},null,{"$f":"IFERROR(VLOOKUP(E1050,Participants!$B$3:$C$1002,2,0),\"\")","v":""}]
[null,null,null,{"$f":"IFERROR(VLOOKUP(C1051,Participants!$B$3:$C$1002,2,0),\"\")","v":""},null,{"$f":"IFERROR(VLOOKUP(E1051,Participants!$B$3:$C$1002,2,0),\"\")","v":""}]
[null,null,null,{"$f":"IFERROR(VLOOKUP(C1052,Participants!$B$3:$C$1002,2,0),\"\")","v":""},null,{"$f":"IFERROR(VLOOKUP(E1052,Participants!$B$3:$C$1002,2,0),\"\")","v":""}]
[null,null,null,{"$f":"IFERROR(VLOOKUP(C1053,Participants!$B$3:$C$1002,2,0),\"\")","v":""},null,{"$f":"IFERROR(VLOOKUP(E1053,Participants!$B$3:$C$1002,2,0),\"\")","v":""}]
[null,null,null,{"$f":"IFERROR(VLOOKUP(C1054,Participants!$B$3:$C$1002,2,0),\"\")","v":""},null,{"$f":"IFERROR(VLOOKUP(E1054,Participants!$B$3:$C$1002,2,0),\"\")","v":""}]
[null,null,null,{"$f":"IFERROR(VLOOKUP(C1055,Participants!$B$3:$C$1002,2,0),\"\")","v":""},null,{"$f":"IFERROR(VLOOKUP(E1055,Participants!$B$3:$C$1002,2,0),\"\")","v":""}]
[null,null,null,{"$f":"IFERROR(VLOOKUP(C1056,Participants!$B$3:$C$1002,2,0),\"\")","v":""},null,{"$f":"IFERROR(VLOOKUP(E1056,Participants!$B$3:$C$1002,2,0),\"\")","v":""}]
[null,null,null,{"$f":"IFERROR(VLOOKUP(C1057,Participants!$B$3:$C$1002,2,0),\"\")","v":""},null,{"$f":"IFERROR(VLOOKUP(E1057,Participants!$B$3:$C$1002,2,0),\"\")","v":""}]
[null,null,null,{"$f":"IFERROR(VLOOKUP(C1058,Participants!$B$3:$C$1002,2,0),\"\")","v":""},null,{"$f":"IFERROR(VLOOKUP(E1058,Participants!$B$3:$C$1002,2,0),\"\")","v":""}]
[null,null,null,{"$f":"IFERROR(VLOOKUP(C1059,Participants!$B$3:$C$1002,2,0),\"\")","v":""},null,{"$f":"IFERROR(VLOOKUP(E1059,Participants!$B$3:$C$1002,2,0),\"\")","v":""}]
[null,null,null,{"$f":"IFERROR(VLOOKUP(C1060,Participants!$B$3:$C$1002,2,0),\"\")","v":""},null,{"$f":"IFERROR(VLOOKUP(E1060,Participants!$B$3:$C$1002,2,0),\"\")","v":""}]
[null,null,null,{"$f":"IFERROR(VLOOKUP(C1061,Participants!$B$3:$C$1002,2,0),\"\")","v":""},null,{"$f":"IFERROR(VLOOKUP(E1061,Participants!$B$3:$C$1002,2,0),\"\")","v":""}]
[null,null,null,{"$f":"IFERROR(VLOOKUP(C1062,Participants!$B$3:$C$1002,2,0),\"\")","v":""},null,{"$f":"IFERROR(VLOOKUP(E1062,Participants!$B$3:$C$1002,2,0),\"\")","v":""}]
[null,null,null,{"$f":"IFERROR(VLOOKUP(C1063,Participants!$B$3:$C$1002,2,0),\"\")","v":""},null,{"$f":"IFERROR(VLOOKUP(E1063,Participants!$B$3:$C$1002,2,0),\"\")","v":""}]
[null,null,null,{"$f":"IFERROR(VLOOKUP(C1064,Participants!$B$3:$C$1002,2,0),\"\")","v":""},null,{"$f":"IFERROR(VLOOKUP(E1064,Participants!$B$3:$C$1002,2,0),\"\")","v":""}]
[null,null,null,{"$f":"IFERROR(VLOOKUP(C1065,Participants!$B$3:$C$1002,2,0),\"\")","v":""},null,{"$f":"IFERROR(VLOOKUP(E1065,Participants!$B$3:$C$1002,2,0),\"\")","v":""}]
[null,null,null,{"$f":"IFERROR(VLOOKUP(C1066,Participants!$B$3:$C$1002,2,0),\"\")","v":""},null,{"$f":"IFERROR(VLOOKUP(E1066,Participants!$B$3:$C$1002,2,0),\"\")","v":""}]
[null,null,null,{"$f":"IFERROR(VLOOKUP(C1067,Participants!$B$3:$C$1002,2,0),\"\")","v":""},null,{"$f":"IFERROR(VLOOKUP(E1067,Participants!$B$3:$C$1002,2,0),\"\")","v":""}]
[null,null,null,{"$f":"IFERROR(VLOOKUP(C1068,Participants!$B$3:$C$1002,2,0),\"\")","v":""},null,{"$f":"IFERROR(VLOOKUP(E1068,Participants!$B$3:$C$1002,2,0),\"\")","v":""}]
[null,null,null,{"$f":"IFERROR(VLOOKUP(C1069,Participants!$B$3:$C$1002,2,0),\"\")","v":""},null,{"$f":"IFERROR(VLOOKUP(E1069,Participants!$B$3:$C$1002,2,0),\"\")","v":""}]
[null,null,null,{"$f":"IFERROR(VLOOKUP(C1070,Participants!$B$3:$C$1002,2,0),\"\")","v":""},null,{"$f":"IFERROR(VLOOKUP(E1070,Participants!$B$3:$C$1002,2,0),\"\")","v":""}]
[null,null,null,{"$f":"IFERROR(VLOOKUP(C1071,Participants!$B$3:$C$1002,2,0),\"\")","v":""},null,{"$f":"IFERROR(VLOOKUP(E1071,Participants!$B$3:$C$1002,2,0),\"\")","v":""}]
[null,null,null,{"$f":"IFERROR(VLOOKUP(C1072,Participants!$B$3:$C$1002,2,0),\"\")","v":""},null,{"$f":"IFERROR(VLOOKUP(E1072,Participants!$B$3:$C$1002,2,0),\"\")","v":""}]
[null,null,null,{"$f":"IFERROR(VLOOKUP(C1073,Participants!$B$3:$C$1002,2,0),\"\")","v":""},null,{"$f":"IFERROR(VLOOKUP(E1073,Participants!$B$3:$C$1002,2,0),\"\")","v":""}]
[null,null,null,{"$f":"IFERROR(VLOOKUP(C1074,Participants!$B$3:$C$1002,2,0),\"\")","v":""},null,{"$f":"IFERROR(VLOOKUP(E1074,Participants!$B$3:$C$1002,2,0),\"\")","v":""}]
[null,null,null,{"$f":"IFERROR(VLOOKUP(C1075,Participants!$B$3:$C$1002,2,0),\"\")","v":""},null,{"$f":"IFERROR(VLOOKUP(E1075,Participants!$B$3:$C$1002,2,0),\"\")","v":""}]
[null,null,null,{"$f":"IFERROR(VLOOKUP(C1076,Participants!$B$3:$C$1002,2,0),\"\")","v":""},null,{"$f":"IFERROR(VLOOKUP(E1076,Participants!$B$3:$C$1002,2,0),\"\")","v":""}]
[null,null,null,{"$f":"IFERROR(VLOOKUP(C1077,Participants!$B$3:$C$1002,2,0),\"\")","v":""},null,{"$f":"IFERROR(VLOOKUP(E1077,Participants!$B$3:$C$1002,2,0),\"\")","v":""}]
[null,null,null,{"$f":"IFERROR(VLOOKUP(C1078,Participants!$B$3:$C$1002,2,0),\"\")","v":""},null,{"$f":"IFERROR(VLOOKUP(E1078,Participants!$B$3:$C$1002,2,0),\"\")","v":""}]
[null,null,null,{"$f":"IFERROR(VLOOKUP(C1079,Participants!$B$3:$C$1002,2,0),\"\")","v":""},null,{"$f":"IFERROR(VLOOKUP(E1079,Participants!$B$3:$C$1002,2,0),\"\")","v":""}]
[null,null,null,{"$f":"IFERROR(VLOOKUP(C1080,Participants!$B$3:$C$1002,2,0),\"\")","v":""},null,{"$f":"IFERROR(VLOOKUP(E1080,Participants!$B$3:$C$1002,2,0),\"\")","v":""}]
[null,null,null,{"$f":"IFERROR(VLOOKUP(C1081,Participants!$B$3:$C$1002,2,0),\"\")","v":""},null,{"$f":"IFERROR(VLOOKUP(E1081,Participants!$B$3:$C$1002,2,0),\"\")","v":""}]
[null,null,null,{"$f":"IFERROR(VLOOKUP(C1082,Participants!$B$3:$C$1002,2,0),\"\")","v":""},null,{"$f":"IFERROR(VLOOKUP(E1082,Participants!$B$3:$C$1002,2,0),\"\")","v":""}]
[null,null,null,{"$f":"IFERROR(VLOOKUP(C1083,Participants!$B$3:$C$1002,2,0),\"\")","v":""},null,{"$f":"IFERROR(VLOOKUP(E1083,Participants!$B$3:$C$1002,2,0),\"\")","v":""}]
[null,null,null,{"$f":"IFERROR(VLOOKUP(C1084,Participants!$B$3:$C$1002,2,0),\"\")","v":""},null,{"$f":"IFERROR(VLOOKUP(E1084,Participants!$B$3:$C$1002,2,0),\"\")","v":""}]
[null,null,null,{"$f":"IFERROR(VLOOKUP(C1085,Participants!$B$3:$C$1002,2,0),\"\")","v":""},null,{"$f":"IFERROR(VLOOKUP(E1085,Participants!$B$3:$C$1002,2,0),\"\")","v":""}]
[null,null,null,{"$f":"IFERROR(VLOOKUP(C1086,Participants!$B$3:$C$1002,2,0),\"\")","v":""},null,{"$f":"IFERROR(VLOOKUP(E1086,Participants!$B$3:$C$1002,2,0),\"\")","v":""}]
[null,null,null,{"$f":"IFERROR(VLOOKUP(C1087,Participants!$B$3:$C$1002,2,0),\"\")","v":""},null,{"$f":"IFERROR(VLOOKUP(E1087,Participants!$B$3:$C$1002,2,0),\"\")","v":""}]
[null,null,null,{"$f":"IFERROR(VLOOKUP(C1088,Participants!$B$3:$C$1002,2,0),\"\")","v":""},null,{"$f":"IFERROR(VLOOKUP(E1088,Participants!$B$3:$C$1002,2,0),\"\")","v":""}]
[null,null,null,{"$f":"IFERROR(VLOOKUP(C1089,Participants!$B$3:$C$1002,2,0),\"\")","v":""},null,{"$f":"IFERROR(VLOOKUP(E1089,Participants!$B$3:$C$1002,2,0),\"\")","v":""}]
[null,null,null,{"$f":"IFERROR(VLOOKUP(C1090,Participants!$B$3:$C$1002,2,0),\"\")","v":""},null,{"$f":"IFERROR(VLOOKUP(E1090,Participants!$B$3:$C$1002,2,0),\"\")","v":""}]
[null,null,null,{"$f":"IFERROR(VLOOKUP(C1091,Participants!$B$3:$C$1002,2,0),\"\")","v":""},null,{"$f":"IFERROR(VLOOKUP(E1091,Participants!$B$3:$C$1002,2,0),\"\")","v":""}]
[null,null,null,{"$f":"IFERROR(VLOOKUP(C1092,Participants!$B$3:$C$1002,2,0),\"\")","v":""},null,{"$f":"IFERROR(VLOOKUP(E1092,Participants!$B$3:$C$1002,2,0),\"\")","v":""}]
[null,null,null,{"$f":"IFERROR(VLOOKUP(C1093,Participants!$B$3:$C$1002,2,0),\"\")","v":""},null,{"$f":"IFERROR(VLOOKUP(E1093,Participants!$B$3:$C$1002,2,0),\"\")","v":""}]
[null,null,null,{"$f":"IFERROR(VLOOKUP(C1094,Participants!$B$3:$C$1002,2,0),\"\")","v":""},null,{"$f":"IFERROR(VLOOKUP(E1094,Participants!$B$3:$C$1002,2,0),\"\")","v":""}]
[null,null,null,{"$f":"IFERROR(VLOOKUP(C1095,Participants!$B$3:$C$1002,2,0),\"\")","v":""},null,{"$f":"IFERROR(VLOOKUP(E1095,Participants!$B$3:$C$1002,2,0),\"\")","v":""}]
[null,null,null,{"$f":"IFERROR(VLOOKUP(C1096,Participants!$B$3:$C$1002,2,0),\"\")","v":""},null,{"$f":"IFERROR(VLOOKUP(E1096,Participants!$B$3:$C$1002,2,0),\"\")","v":""}]
[null,null,null,{"$f":"IFERROR(VLOOKUP(C1097,Participants!$B$3:$C$1002,2,0),\"\")","v":""},null,{"$f":"IFERROR(VLOOKUP(E1097,Participants!$B$3:$C$1002,2,0),\"\")","v":""}]
[null,null,null,{"$f":"IFERROR(VLOOKUP(C1098,Participants!$B$3:$C$1002,2,0),\"\")","v":""},null,{"$f":"IFERROR(VLOOKUP(E1098,Participants!$B$3:$C$1002,2,0),\"\")","v":""}]
[null,null,null,{"$f":"IFERROR(VLOOKUP(C1099,Participants!$B$3:$C$1002,2,0),\"\")","v":""},null,{"$f":"IFERROR(VLOOKUP(E1099,Participants!$B$3:$C$1002,2,0),\"\")","v":""}]
[null,null,null,{"$f":"IFERROR(VLOOKUP(C1100,Participants!$B$3:$C$1002,2,0),\"\")","v":""},null,{"$f":"IFERROR(VLOOKUP(E1100,Participants!$B$3:$C$1002,2,0),\"\")","v":""}]
[null,null,null,{"$f":"IFERROR(VLOOKUP(C1101,Participants!$B$3:$C$1002,2,0),\"\")","v":""},null,{"$f":"IFERROR(VLOOKUP(E1101,Participants!$B$3:$C$1002,2,0),\"\")","v":""}]
[null,null,null,{"$f":"IFERROR(VLOOKUP(C1102,Participants!$B$3:$C$1002,2,0),\"\")","v":""},null,{"$f":"IFERROR(VLOOKUP(E1102,Participants!$B$3:$C$1002,2,0),\"\")","v":""}]
[null,null,null,{"$f":"IFERROR(VLOOKUP(C1103,Participants!$B$3:$C$1002,2,0),\"\")","v":""},null,{"$f":"IFERROR(VLOOKUP(E1103,Participants!$B$3:$C$1002,2,0),\"\")","v":""}]
[null,null,null,{"$f":"IFERROR(VLOOKUP(C1104,Participants!$B$3:$C$1002,2,0),\"\")","v":""},null,{"$f":"IFERROR(VLOOKUP(E1104,Participants!$B$3:$C$1002,2,0),\"\")","v":""}]
[null,null,null,{"$f":"IFERROR(VLOOKUP(C1105,Participants!$B$3:$C$1002,2,0),\"\")","v":""},null,{"$f":"IFERROR(VLOOKUP(E1105,Participants!$B$3:$C$1002,2,0),\"\")","v":""}]
[null,null,null,{"$f":"IFERROR(VLOOKUP(C1106,Participants!$B$3:$C$1002,2,0),\"\")","v":""},null,{"$f":"IFERROR(VLOOKUP(E1106,Participants!$B$3:$C$1002,2,0),\"\")","v":""}]
[null,null,null,{"$f":"IFERROR(VLOOKUP(C1107,Participants!$B$3:$C$1002,2,0),\"\")","v":""},null,{"$f":"IFERROR(VLOOKUP(E1107,Participants!$B$3:$C$1002,2,0),\"\")","v":""}]
[null,null,null,{"$f":"IFERROR(VLOOKUP(C1108,Participants!$B$3:$C$1002,2,0),\"\")","v":""},null,{"$f":"IFERROR(VLOOKUP(E1108,Participants!$B$3:$C$1002,2,0),\"\")","v":""}]
[null,null,null,{"$f":"IFERROR(VLOOKUP(C1109,Participants!$B$3:$C$1002,2,0),\"\")","v":""},null,{"$f":"IFERROR(VLOOKUP(E1109,Participants!$B$3:$C$1002,2,0),\"\")","v":""}]
[null,null,null,{"$f":"IFERROR(VLOOKUP(C1110,Participants!$B$3:$C$1002,2,0),\"\")","v":""},null,{"$f":"IFERROR(VLOOKUP(E1110,Participants!$B$3:$C$1002,2,0),\"\")","v":""}]
[null,null,null,{"$f":"IFERROR(VLOOKUP(C1111,Participants!$B$3:$C$1002,2,0),\"\")","v":""},null,{"$f":"IFERROR(VLOOKUP(E1111,Participants!$B$3:$C$1002,2,0),\"\")","v":""}]
[null,null,null,{"$f":"IFERROR(VLOOKUP(C1112,Participants!$B$3:$C$1002,2,0),\"\")","v":""},null,{"$f":"IFERROR(VLOOKUP(E1112,Participants!$B$3:$C$1002,2,0),\"\")","v":""}]
[null,null,null,{"$f":"IFERROR(VLOOKUP(C1113,Participants!$B$3:$C$1002,2,0),\"\")","v":""},null,{"$f":"IFERROR(VLOOKUP(E1113,Participants!$B$3:$C$1002,2,0),\"\")","v":""}]
[null,null,null,{"$f":"IFERROR(VLOOKUP(C1114,Participants!$B$3:$C$1002,2,0),\"\")","v":""},null,{"$f":"IFERROR(VLOOKUP(E1114,Participants!$B$3:$C$1002,2,0),\"\")","v":""}]
[null,null,null,{"$f":"IFERROR(VLOOKUP(C1115,Participants!$B$3:$C$1002,2,0),\"\")","v":""},null,{"$f":"IFERROR(VLOOKUP(E1115,Participants!$B$3:$C$1002,2,0),\"\")","v":""}]
[null,null,null,{"$f":"IFERROR(VLOOKUP(C1116,Participants!$B$3:$C$1002,2,0),\"\")","v":""},null,{"$f":"IFERROR(VLOOKUP(E1116,Participants!$B$3:$C$1002,2,0),\"\")","v":""}]
[null,null,null,{"$f":"IFERROR(VLOOKUP(C1117,Participants!$B$3:$C$1002,2,0),\"\")","v":""},null,{"$f":"IFERROR(VLOOKUP(E1117,Participants!$B$3:$C$1002,2,0),\"\")","v":""}]
[null,null,null,{"$f":"IFERROR(VLOOKUP(C1118,Participants!$B$3:$C$1002,2,0),\"\")","v":""},null,{"$f":"IFERROR(VLOOKUP(E1118,Participants!$B$3:$C$1002,2,0),\"\")","v":""}]
[null,null,null,{"$f":"IFERROR(VLOOKUP(C1119,Participants!$B$3:$C$1002,2,0),\"\")","v":""},null,{"$f":"IFERROR(VLOOKUP(E1119,Participants!$B$3:$C$1002,2,0),\"\")","v":""}]
[null,null,null,{"$f":"IFERROR(VLOOKUP(C1120,Participants!$B$3:$C$1002,2,0),\"\")","v":""},null,{"$f":"IFERROR(VLOOKUP(E1120,Participants!$B$3:$C$1002,2,0),\"\")","v":""}]
[null,null,null,{"$f":"IFERROR(VLOOKUP(C1121,Participants!$B$3:$C$1002,2,0),\"\")","v":""},null,{"$f":"IFERROR(VLOOKUP(E1121,Participants!$B$3:$C$1002,2,0),\"\")","v":""}]
[null,null,null,{"$f":"IFERROR(VLOOKUP(C1122,Participants!$B$3:$C$1002,2,0),\"\")","v":""},null,{"$f":"IFERROR(VLOOKUP(E1122,Participants!$B$3:$C$1002,2,0),\"\")","v":""}]
[null,null,null,{"$f":"IFERROR(VLOOKUP(C1123,Participants!$B$3:$C$1002,2,0),\"\")","v":""},null,{"$f":"IFERROR(VLOOKUP(E1123,Participants!$B$3:$C$1002,2,0),\"\")","v":""}]
[null,null,null,{"$f":"IFERROR(VLOOKUP(C1124,Participants!$B$3:$C$1002,2,0),\"\")","v":""},null,{"$f":"IFERROR(VLOOKUP(E1124,Participants!$B$3:$C$1002,2,0),\"\")","v":""}]
[null,null,null,{"$f":"IFERROR(VLOOKUP(C1125,Participants!$B$3:$C$1002,2,0),\"\")","v":""},null,{"$f":"IFERROR(VLOOKUP(E1125,Participants!$B$3:$C$1002,2,0),\"\")","v":""}]
[null,null,null,{"$f":"IFERROR(VLOOKUP(C1126,Participants!$B$3:$C$1002,2,0),\"\")","v":""},null,{"$f":"IFERROR(VLOOKUP(E1126,Participants!$B$3:$C$1002,2,0),\"\")","v":""}]
[null,null,null,{"$f":"IFERROR(VLOOKUP(C1127,Participants!$B$3:$C$1002,2,0),\"\")","v":""},null,{"$f":"IFERROR(VLOOKUP(E1127,Participants!$B$3:$C$1002,2,0),\"\")","v":""}]
[null,null,null,{"$f":"IFERROR(VLOOKUP(C1128,Participants!$B$3:$C$1002,2,0),\"\")","v":""},null,{"$f":"IFERROR(VLOOKUP(E1128,Participants!$B$3:$C$1002,2,0),\"\")","v":""}]
[null,null,null,{"$f":"IFERROR(VLOOKUP(C1129,Participants!$B$3:$C$1002,2,0),\"\")","v":""},null,{"$f":"IFERROR(VLOOKUP(E1129,Participants!$B$3:$C$1002,2,0),\"\")","v":""}]
[null,null,null,{"$f":"IFERROR(VLOOKUP(C1130,Participants!$B$3:$C$1002,2,0),\"\")","v":""},null,{"$f":"IFERROR(VLOOKUP(E1130,Participants!$B$3:$C$1002,2,0),\"\")","v":""}]
[null,null,null,{"$f":"IFERROR(VLOOKUP(C1131,Participants!$B$3:$C$1002,2,0),\"\")","v":""},null,{"$f":"IFERROR(VLOOKUP(E1131,Participants!$B$3:$C$1002,2,0),\"\")","v":""}]
[null,null,null,{"$f":"IFERROR(VLOOKUP(C1132,Participants!$B$3:$C$1002,2,0),\"\")","v":""},null,{"$f":"IFERROR(VLOOKUP(E1132,Participants!$B$3:$C$1002,2,0),\"\")","v":""}]
[null,null,null,{"$f":"IFERROR(VLOOKUP(C1133,Participants!$B$3:$C$1002,2,0),\"\")","v":""},null,{"$f":"IFERROR(VLOOKUP(E1133,Participants!$B$3:$C$1002,2,0),\"\")","v":""}]
[null,null,null,{"$f":"IFERROR(VLOOKUP(C1134,Participants!$B$3:$C$1002,2,0),\"\")","v":""},null,{"$f":"IFERROR(VLOOKUP(E1134,Participants!$B$3:$C$1002,2,0),\"\")","v":""}]
[null,null,null,{"$f":"IFERROR(VLOOKUP(C1135,Participants!$B$3:$C$1002,2,0),\"\")","v":""},null,{"$f":"IFERROR(VLOOKUP(E1135,Participants!$B$3:$C$1002,2,0),\"\")","v":""}]
[null,null,null,{"$f":"IFERROR(VLOOKUP(C1136,Participants!$B$3:$C$1002,2,0),\"\")","v":""},null,{"$f":"IFERROR(VLOOKUP(E1136,Participants!$B$3:$C$1002,2,0),\"\")","v":""}]
[null,null,null,{"$f":"IFERROR(VLOOKUP(C1137,Participants!$B$3:$C$1002,2,0),\"\")","v":""},null,{"$f":"IFERROR(VLOOKUP(E1137,Participants!$B$3:$C$1002,2,0),\"\")","v":""}]
[null,null,null,{"$f":"IFERROR(VLOOKUP(C1138,Participants!$B$3:$C$1002,2,0),\"\")","v":""},null,{"$f":"IFERROR(VLOOKUP(E1138,Participants!$B$3:$C$1002,2,0),\"\")","v":""}]
[null,null,null,{"$f":"IFERROR(VLOOKUP(C1139,Participants!$B$3:$C$1002,2,0),\"\")","v":""},null,{"$f":"IFERROR(VLOOKUP(E1139,Participants!$B$3:$C$1002,2,0),\"\")","v":""}]
[null,null,null,{"$f":"IFERROR(VLOOKUP(C1140,Participants!$B$3:$C$1002,2,0),\"\")","v":""},null,{"$f":"IFERROR(VLOOKUP(E1140,Participants!$B$3:$C$1002,2,0),\"\")","v":""}]
[null,null,null,{"$f":"IFERROR(VLOOKUP(C1141,Participants!$B$3:$C$1002,2,0),\"\")","v":""},null,{"$f":"IFERROR(VLOOKUP(E1141,Participants!$B$3:$C$1002,2,0),\"\")","v":""}]
[null,null,null,{"$f":"IFERROR(VLOOKUP(C1142,Participants!$B$3:$C$1002,2,0),\"\")","v":""},null,{"$f":"IFERROR(VLOOKUP(E1142,Participants!$B$3:$C$1002,2,0),\"\")","v":""}]
[null,null,null,{"$f":"IFERROR(VLOOKUP(C1143,Participants!$B$3:$C$1002,2,0),\"\")","v":""},null,{"$f":"IFERROR(VLOOKUP(E1143,Participants!$B$3:$C$1002,2,0),\"\")","v":""}]
[null,null,null,{"$f":"IFERROR(VLOOKUP(C1144,Participants!$B$3:$C$1002,2,0),\"\")","v":""},null,{"$f":"IFERROR(VLOOKUP(E1144,Participants!$B$3:$C$1002,2,0),\"\")","v":""}]
[null,null,null,{"$f":"IFERROR(VLOOKUP(C1145,Participants!$B$3:$C$1002,2,0),\"\")","v":""},null,{"$f":"IFERROR(VLOOKUP(E1145,Participants!$B$3:$C$1002,2,0),\"\")","v":""}]
[null,null,null,{"$f":"IFERROR(VLOOKUP(C1146,Participants!$B$3:$C$1002,2,0),\"\")","v":""},null,{"$f":"IFERROR(VLOOKUP(E1146,Participants!$B$3:$C$1002,2,0),\"\")","v":""}]
[null,null,null,{"$f":"IFERROR(VLOOKUP(C1147,Participants!$B$3:$C$1002,2,0),\"\")","v":""},null,{"$f":"IFERROR(VLOOKUP(E1147,Participants!$B$3:$C$1002,2,0),\"\")","v":""}]
[null,null,null,{"$f":"IFERROR(VLOOKUP(C1148,Participants!$B$3:$C$1002,2,0),\"\")","v":""},null,{"$f":"IFERROR(VLOOKUP(E1148,Participants!$B$3:$C$1002,2,0),\"\")","v":""}]
[null,null,null,{"$f":"IFERROR(VLOOKUP(C1149,Participants!$B$3:$C$1002,2,0),\"\")","v":""},null,{"$f":"IFERROR(VLOOKUP(E1149,Participants!$B$3:$C$1002,2,0),\"\")","v":""}]
[null,null,null,{"$f":"IFERROR(VLOOKUP(C1150,Participants!$B$3:$C$1002,2,0),\"\")","v":""},null,{"$f":"IFERROR(VLOOKUP(E1150,Participants!$B$3:$C$1002,2,0),\"\")","v":""}]
[null,null,null,{"$f":"IFERROR(VLOOKUP(C1151,Participants!$B$3:$C$1002,2,0),\"\")","v":""},null,{"$f":"IFERROR(VLOOKUP(E1151,Participants!$B$3:$C$1002,2,0),\"\")","v":""}]
[null,null,null,{"$f":"IFERROR(VLOOKUP(C1152,Participants!$B$3:$C$1002,2,0),\"\")","v":""},null,{"$f":"IFERROR(VLOOKUP(E1152,Participants!$B$3:$C$1002,2,0),\"\")","v":""}]
[null,null,null,{"$f":"IFERROR(VLOOKUP(C1153,Participants!$B$3:$C$1002,2,0),\"\")","v":""},null,{"$f":"IFERROR(VLOOKUP(E1153,Participants!$B$3:$C$1002,2,0),\"\")","v":""}]
[null,null,null,{"$f":"IFERROR(VLOOKUP(C1154,Participants!$B$3:$C$1002,2,0),\"\")","v":""},null,{"$f":"IFERROR(VLOOKUP(E1154,Participants!$B$3:$C$1002,2,0),\"\")","v":""}]
[null,null,null,{"$f":"IFERROR(VLOOKUP(C1155,Participants!$B$3:$C$1002,2,0),\"\")","v":""},null,{"$f":"IFERROR(VLOOKUP(E1155,Participants!$B$3:$C$1002,2,0),\"\")","v":""}]
[null,null,null,{"$f":"IFERROR(VLOOKUP(C1156,Participants!$B$3:$C$1002,2,0),\"\")","v":""},null,{"$f":"IFERROR(VLOOKUP(E1156,Participants!$B$3:$C$1002,2,0),\"\")","v":""}]
[null,null,null,{"$f":"IFERROR(VLOOKUP(C1157,Participants!$B$3:$C$1002,2,0),\"\")","v":""},null,{"$f":"IFERROR(VLOOKUP(E1157,Participants!$B$3:$C$1002,2,0),\"\")","v":""}]
[null,null,null,{"$f":"IFERROR(VLOOKUP(C1158,Participants!$B$3:$C$1002,2,0),\"\")","v":""},null,{"$f":"IFERROR(VLOOKUP(E1158,Participants!$B$3:$C$1002,2,0),\"\")","v":""}]
[null,null,null,{"$f":"IFERROR(VLOOKUP(C1159,Participants!$B$3:$C$1002,2,0),\"\")","v":""},null,{"$f":"IFERROR(VLOOKUP(E1159,Participants!$B$3:$C$1002,2,0),\"\")","v":""}]
[null,null,null,{"$f":"IFERROR(VLOOKUP(C1160,Participants!$B$3:$C$1002,2,0),\"\")","v":""},null,{"$f":"IFERROR(VLOOKUP(E1160,Participants!$B$3:$C$1002,2,0),\"\")","v":""}]
[null,null,null,{"$f":"IFERROR(VLOOKUP(C1161,Participants!$B$3:$C$1002,2,0),\"\")","v":""},null,{"$f":"IFERROR(VLOOKUP(E1161,Participants!$B$3:$C$1002,2,0),\"\")","v":""}]
[null,null,null,{"$f":"IFERROR(VLOOKUP(C1162,Participants!$B$3:$C$1002,2,0),\"\")","v":""},null,{"$f":"IFERROR(VLOOKUP(E1162,Participants!$B$3:$C$1002,2,0),\"\")","v":""}]
[null,null,null,{"$f":"IFERROR(VLOOKUP(C1163,Participants!$B$3:$C$1002,2,0),\"\")","v":""},null,{"$f":"IFERROR(VLOOKUP(E1163,Participants!$B$3:$C$1002,2,0),\"\")","v":""}]
[null,null,null,{"$f":"IFERROR(VLOOKUP(C1164,Participants!$B$3:$C$1002,2,0),\"\")","v":""},null,{"$f":"IFERROR(VLOOKUP(E1164,Participants!$B$3:$C$1002,2,0),\"\")","v":""}]
[null,null,null,{"$f":"IFERROR(VLOOKUP(C1165,Participants!$B$3:$C$1002,2,0),\"\")","v":""},null,{"$f":"IFERROR(VLOOKUP(E1165,Participants!$B$3:$C$1002,2,0),\"\")","v":""}]
[null,null,null,{"$f":"IFERROR(VLOOKUP(C1166,Participants!$B$3:$C$1002,2,0),\"\")","v":""},null,{"$f":"IFERROR(VLOOKUP(E1166,Participants!$B$3:$C$1002,2,0),\"\")","v":""}]
[null,null,null,{"$f":"IFERROR(VLOOKUP(C1167,Participants!$B$3:$C$1002,2,0),\"\")","v":""},null,{"$f":"IFERROR(VLOOKUP(E1167,Participants!$B$3:$C$1002,2,0),\"\")","v":""}]
[null,null,null,{"$f":"IFERROR(VLOOKUP(C1168,Participants!$B$3:$C$1002,2,0),\"\")","v":""},null,{"$f":"IFERROR(VLOOKUP(E1168,Participants!$B$3:$C$1002,2,0),\"\")","v":""}]
[null,null,null,{"$f":"IFERROR(VLOOKUP(C1169,Participants!$B$3:$C$1002,2,0),\"\")","v":""},null,{"$f":"IFERROR(VLOOKUP(E1169,Participants!$B$3:$C$1002,2,0),\"\")","v":""}]
[null,null,null,{"$f":"IFERROR(VLOOKUP(C1170,Participants!$B$3:$C$1002,2,0),\"\")","v":""},null,{"$f":"IFERROR(VLOOKUP(E1170,Participants!$B$3:$C$1002,2,0),\"\")","v":""}]
[null,null,null,{"$f":"IFERROR(VLOOKUP(C1171,Participants!$B$3:$C$1002,2,0),\"\")","v":""},null,{"$f":"IFERROR(VLOOKUP(E1171,Participants!$B$3:$C$1002,2,0),\"\")","v":""}]
[null,null,null,{"$f":"IFERROR(VLOOKUP(C1172,Participants!$B$3:$C$1002,2,0),\"\")","v":""},null,{"$f":"IFERROR(VLOOKUP(E1172,Participants!$B$3:$C$1002,2,0),\"\")","v":""}]
[null,null,null,{"$f":"IFERROR(VLOOKUP(C1173,Participants!$B$3:$C$1002,2,0),\"\")","v":""},null,{"$f":"IFERROR(VLOOKUP(E1173,Participants!$B$3:$C$1002,2,0),\"\")","v":""}]
[null,null,null,{"$f":"IFERROR(VLOOKUP(C1174,Participants!$B$3:$C$1002,2,0),\"\")","v":""},null,{"$f":"IFERROR(VLOOKUP(E1174,Participants!$B$3:$C$1002,2,0),\"\")","v":""}]
[null,null,null,{"$f":"IFERROR(VLOOKUP(C1175,Participants!$B$3:$C$1002,2,0),\"\")","v":""},null,{"$f":"IFERROR(VLOOKUP(E1175,Participants!$B$3:$C$1002,2,0),\"\")","v":""}]
[null,null,null,{"$f":"IFERROR(VLOOKUP(C1176,Participants!$B$3:$C$1002,2,0),\"\")","v":""},null,{"$f":"IFERROR(VLOOKUP(E1176,Participants!$B$3:$C$1002,2,0),\"\")","v":""}]
[null,null,null,{"$f":"IFERROR(VLOOKUP(C1177,Participants!$B$3:$C$1002,2,0),\"\")","v":""},null,{"$f":"IFERROR(VLOOKUP(E1177,Participants!$B$3:$C$1002,2,0),\"\")","v":""}]
[null,null,null,{"$f":"IFERROR(VLOOKUP(C1178,Participants!$B$3:$C$1002,2,0),\"\")","v":""},null,{"$f":"IFERROR(VLOOKUP(E1178,Participants!$B$3:$C$1002,2,0),\"\")","v":""}]
[null,null,null,{"$f":"IFERROR(VLOOKUP(C1179,Participants!$B$3:$C$1002,2,0),\"\")","v":""},null,{"$f":"IFERROR(VLOOKUP(E1179,Participants!$B$3:$C$1002,2,0),\"\")","v":""}]
[null,null,null,{"$f":"IFERROR(VLOOKUP(C1180,Participants!$B$3:$C$1002,2,0),\"\")","v":""},null,{"$f":"IFERROR(VLOOKUP(E1180,Participants!$B$3:$C$1002,2,0),\"\")","v":""}]
[null,null,null,{"$f":"IFERROR(VLOOKUP(C1181,Participants!$B$3:$C$1002,2,0),\"\")","v":""},null,{"$f":"IFERROR(VLOOKUP(E1181,Participants!$B$3:$C$1002,2,0),\"\")","v":""}]
[null,null,null,{"$f":"IFERROR(VLOOKUP(C1182,Participants!$B$3:$C$1002,2,0),\"\")","v":""},null,{"$f":"IFERROR(VLOOKUP(E1182,Participants!$B$3:$C$1002,2,0),\"\")","v":""}]
[null,null,null,{"$f":"IFERROR(VLOOKUP(C1183,Participants!$B$3:$C$1002,2,0),\"\")","v":""},null,{"$f":"IFERROR(VLOOKUP(E1183,Participants!$B$3:$C$1002,2,0),\"\")","v":""}]
[null,null,null,{"$f":"IFERROR(VLOOKUP(C1184,Participants!$B$3:$C$1002,2,0),\"\")","v":""},null,{"$f":"IFERROR(VLOOKUP(E1184,Participants!$B$3:$C$1002,2,0),\"\")","v":""}]
[null,null,null,{"$f":"IFERROR(VLOOKUP(C1185,Participants!$B$3:$C$1002,2,0),\"\")","v":""},null,{"$f":"IFERROR(VLOOKUP(E1185,Participants!$B$3:$C$1002,2,0),\"\")","v":""}]
[null,null,null,{"$f":"IFERROR(VLOOKUP(C1186,Participants!$B$3:$C$1002,2,0),\"\")","v":""},null,{"$f":"IFERROR(VLOOKUP(E1186,Participants!$B$3:$C$1002,2,0),\"\")","v":""}]
[null,null,null,{"$f":"IFERROR(VLOOKUP(C1187,Participants!$B$3:$C$1002,2,0),\"\")","v":""},null,{"$f":"IFERROR(VLOOKUP(E1187,Participants!$B$3:$C$1002,2,0),\"\")","v":""}]
[null,null,null,{"$f":"IFERROR(VLOOKUP(C1188,Participants!$B$3:$C$1002,2,0),\"\")","v":""},null,{"$f":"IFERROR(VLOOKUP(E1188,Participants!$B$3:$C$1002,2,0),\"\")","v":""}]
[null,null,null,{"$f":"IFERROR(VLOOKUP(C1189,Participants!$B$3:$C$1002,2,0),\"\")","v":""},null,{"$f":"IFERROR(VLOOKUP(E1189,Participants!$B$3:$C$1002,2,0),\"\")","v":""}]
[null,null,null,{"$f":"IFERROR(VLOOKUP(C1190,Participants!$B$3:$C$1002,2,0),\"\")","v":""},null,{"$f":"IFERROR(VLOOKUP(E1190,Participants!$B$3:$C$1002,2,0),\"\")","v":""}]
[null,null,null,{"$f":"IFERROR(VLOOKUP(C1191,Participants!$B$3:$C$1002,2,0),\"\")","v":""},null,{"$f":"IFERROR(VLOOKUP(E1191,Participants!$B$3:$C$1002,2,0),\"\")","v":""}]
[null,null,null,{"$f":"IFERROR(VLOOKUP(C1192,Participants!$B$3:$C$1002,2,0),\"\")","v":""},null,{"$f":"IFERROR(VLOOKUP(E1192,Participants!$B$3:$C$1002,2,0),\"\")","v":""}]
[null,null,null,{"$f":"IFERROR(VLOOKUP(C1193,Participants!$B$3:$C$1002,2,0),\"\")","v":""},null,{"$f":"IFERROR(VLOOKUP(E1193,Participants!$B$3:$C$1002,2,0),\"\")","v":""}]
[null,null,null,{"$f":"IFERROR(VLOOKUP(C1194,Participants!$B$3:$C$1002,2,0),\"\")","v":""},null,{"$f":"IFERROR(VLOOKUP(E1194,Participants!$B$3:$C$1002,2,0),\"\")","v":""}]
[null,null,null,{"$f":"IFERROR(VLOOKUP(C1195,Participants!$B$3:$C$1002,2,0),\"\")","v":""},null,{"$f":"IFERROR(VLOOKUP(E1195,Participants!$B$3:$C$1002,2,0),\"\")","v":""}]
[null,null,null,{"$f":"IFERROR(VLOOKUP(C1196,Participants!$B$3:$C$1002,2,0),\"\")","v":""},null,{"$f":"IFERROR(VLOOKUP(E1196,Participants!$B$3:$C$1002,2,0),\"\")","v":""}]
[null,null,null,{"$f":"IFERROR(VLOOKUP(C1197,Participants!$B$3:$C$1002,2,0),\"\")","v":""},null,{"$f":"IFERROR(VLOOKUP(E1197,Participants!$B$3:$C$1002,2,0),\"\")","v":""}]
[null,null,null,{"$f":"IFERROR(VLOOKUP(C1198,Participants!$B$3:$C$1002,2,0),\"\")","v":""},null,{"$f":"IFERROR(VLOOKUP(E1198,Participants!$B$3:$C$1002,2,0),\"\")","v":""}]
[null,null,null,{"$f":"IFERROR(VLOOKUP(C1199,Participants!$B$3:$C$1002,2,0),\"\")","v":""},null,{"$f":"IFERROR(VLOOKUP(E1199,Participants!$B$3:$C$1002,2,0),\"\")","v":""}]
[null,null,null,{"$f":"IFERROR(VLOOKUP(C1200,Participants!$B$3:$C$1002,2,0),\"\")","v":""},null,{"$f":"IFERROR(VLOOKUP(E1200,Participants!$B$3:$C$1002,2,0),\"\")","v":""}]
[null,null,null,{"$f":"IFERROR(VLOOKUP(C1201,Participants!$B$3:$C$1002,2,0),\"\")","v":""},null,{"$f":"IFERROR(VLOOKUP(E1201,Participants!$B$3:$C$1002,2,0),\"\")","v":""}]
[null,null,null,{"$f":"IFERROR(VLOOKUP(C1202,Participants!$B$3:$C$1002,2,0),\"\")","v":""},null,{"$f":"IFERROR(VLOOKUP(E1202,Participants!$B$3:$C$1002,2,0),\"\")","v":""}]
[null,null,null,{"$f":"IFERROR(VLOOKUP(C1203,Participants!$B$3:$C$1002,2,0),\"\")","v":""},null,{"$f":"IFERROR(VLOOKUP(E1203,Participants!$B$3:$C$1002,2,0),\"\")","v":""}]
[null,null,null,{"$f":"IFERROR(VLOOKUP(C1204,Participants!$B$3:$C$1002,2,0),\"\")","v":""},null,{"$f":"IFERROR(VLOOKUP(E1204,Participants!$B$3:$C$1002,2,0),\"\")","v":""}]
[null,null,null,{"$f":"IFERROR(VLOOKUP(C1205,Participants!$B$3:$C$1002,2,0),\"\")","v":""},null,{"$f":"IFERROR(VLOOKUP(E1205,Participants!$B$3:$C$1002,2,0),\"\")","v":""}]
[null,null,null,{"$f":"IFERROR(VLOOKUP(C1206,Participants!$B$3:$C$1002,2,0),\"\")","v":""},null,{"$f":"IFERROR(VLOOKUP(E1206,Participants!$B$3:$C$1002,2,0),\"\")","v":""}]
[null,null,null,{"$f":"IFERROR(VLOOKUP(C1207,Participants!$B$3:$C$1002,2,0),\"\")","v":""},null,{"$f":"IFERROR(VLOOKUP(E1207,Participants!$B$3:$C$1002,2,0),\"\")","v":""}]
[null,null,null,{"$f":"IFERROR(VLOOKUP(C1208,Participants!$B$3:$C$1002,2,0),\"\")","v":""},null,{"$f":"IFERROR(VLOOKUP(E1208,Participants!$B$3:$C$1002,2,0),\"\")","v":""}]
[null,null,null,{"$f":"IFERROR(VLOOKUP(C1209,Participants!$B$3:$C$1002,2,0),\"\")","v":""},null,{"$f":"IFERROR(VLOOKUP(E1209,Participants!$B$3:$C$1002,2,0),\"\")","v":""}]
[null,null,null,{"$f":"IFERROR(VLOOKUP(C1210,Participants!$B$3:$C$1002,2,0),\"\")","v":""},null,{"$f":"IFERROR(VLOOKUP(E1210,Participants!$B$3:$C$1002,2,0),\"\")","v":""}]
[null,null,null,{"$f":"IFERROR(VLOOKUP(C1211,Participants!$B$3:$C$1002,2,0),\"\")","v":""},null,{"$f":"IFERROR(VLOOKUP(E1211,Participants!$B$3:$C$1002,2,0),\"\")","v":""}]
[null,null,null,{"$f":"IFERROR(VLOOKUP(C1212,Participants!$B$3:$C$1002,2,0),\"\")","v":""},null,{"$f":"IFERROR(VLOOKUP(E1212,Participants!$B$3:$C$1002,2,0),\"\")","v":""}]
[null,null,null,{"$f":"IFERROR(VLOOKUP(C1213,Participants!$B$3:$C$1002,2,0),\"\")","v":""},null,{"$f":"IFERROR(VLOOKUP(E1213,Participants!$B$3:$C$1002,2,0),\"\")","v":""}]
[null,null,null,{"$f":"IFERROR(VLOOKUP(C1214,Participants!$B$3:$C$1002,2,0),\"\")","v":""},null,{"$f":"IFERROR(VLOOKUP(E1214,Participants!$B$3:$C$1002,2,0),\"\")","v":""}]
[null,null,null,{"$f":"IFERROR(VLOOKUP(C1215,Participants!$B$3:$C$1002,2,0),\"\")","v":""},null,{"$f":"IFERROR(VLOOKUP(E1215,Participants!$B$3:$C$1002,2,0),\"\")","v":""}]
[null,null,null,{"$f":"IFERROR(VLOOKUP(C1216,Participants!$B$3:$C$1002,2,0),\"\")","v":""},null,{"$f":"IFERROR(VLOOKUP(E1216,Participants!$B$3:$C$1002,2,0),\"\")","v":""}]
[null,null,null,{"$f":"IFERROR(VLOOKUP(C1217,Participants!$B$3:$C$1002,2,0),\"\")","v":""},null,{"$f":"IFERROR(VLOOKUP(E1217,Participants!$B$3:$C$1002,2,0),\"\")","v":""}]
[null,null,null,{"$f":"IFERROR(VLOOKUP(C1218,Participants!$B$3:$C$1002,2,0),\"\")","v":""},null,{"$f":"IFERROR(VLOOKUP(E1218,Participants!$B$3:$C$1002,2,0),\"\")","v":""}]
[null,null,null,{"$f":"IFERROR(VLOOKUP(C1219,Participants!$B$3:$C$1002,2,0),\"\")","v":""},null,{"$f":"IFERROR(VLOOKUP(E1219,Participants!$B$3:$C$1002,2,0),\"\")","v":""}]
[null,null,null,{"$f":"IFERROR(VLOOKUP(C1220,Participants!$B$3:$C$1002,2,0),\"\")","v":""},null,{"$f":"IFERROR(VLOOKUP(E1220,Participants!$B$3:$C$1002,2,0),\"\")","v":""}]
[null,null,null,{"$f":"IFERROR(VLOOKUP(C1221,Participants!$B$3:$C$1002,2,0),\"\")","v":""},null,{"$f":"IFERROR(VLOOKUP(E1221,Participants!$B$3:$C$1002,2,0),\"\")","v":""}]
[null,null,null,{"$f":"IFERROR(VLOOKUP(C1222,Participants!$B$3:$C$1002,2,0),\"\")","v":""},null,{"$f":"IFERROR(VLOOKUP(E1222,Participants!$B$3:$C$1002,2,0),\"\")","v":""}]
[null,null,null,{"$f":"IFERROR(VLOOKUP(C1223,Participants!$B$3:$C$1002,2,0),\"\")","v":""},null,{"$f":"IFERROR(VLOOKUP(E1223,Participants!$B$3:$C$1002,2,0),\"\")","v":""}]
[null,null,null,{"$f":"IFERROR(VLOOKUP(C1224,Participants!$B$3:$C$1002,2,0),\"\")","v":""},null,{"$f":"IFERROR(VLOOKUP(E1224,Participants!$B$3:$C$1002,2,0),\"\")","v":""}]
[null,null,null,{"$f":"IFERROR(VLOOKUP(C1225,Participants!$B$3:$C$1002,2,0),\"\")","v":""},null,{"$f":"IFERROR(VLOOKUP(E1225,Participants!$B$3:$C$1002,2,0),\"\")","v":""}]
[null,null,null,{"$f":"IFERROR(VLOOKUP(C1226,Participants!$B$3:$C$1002,2,0),\"\")","v":""},null,{"$f":"IFERROR(VLOOKUP(E1226,Participants!$B$3:$C$1002,2,0),\"\")","v":""}]
[null,null,null,{"$f":"IFERROR(VLOOKUP(C1227,Participants!$B$3:$C$1002,2,0),\"\")","v":""},null,{"$f":"IFERROR(VLOOKUP(E1227,Participants!$B$3:$C$1002,2,0),\"\")","v":""}]
[null,null,null,{"$f":"IFERROR(VLOOKUP(C1228,Participants!$B$3:$C$1002,2,0),\"\")","v":""},null,{"$f":"IFERROR(VLOOKUP(E1228,Participants!$B$3:$C$1002,2,0),\"\")","v":""}]
[null,null,null,{"$f":"IFERROR(VLOOKUP(C1229,Participants!$B$3:$C$1002,2,0),\"\")","v":""},null,{"$f":"IFERROR(VLOOKUP(E1229,Participants!$B$3:$C$1002,2,0),\"\")","v":""}]
[null,null,null,{"$f":"IFERROR(VLOOKUP(C1230,Participants!$B$3:$C$1002,2,0),\"\")","v":""},null,{"$f":"IFERROR(VLOOKUP(E1230,Participants!$B$3:$C$1002,2,0),\"\")","v":""}]
[null,null,null,{"$f":"IFERROR(VLOOKUP(C1231,Participants!$B$3:$C$1002,2,0),\"\")","v":""},null,{"$f":"IFERROR(VLOOKUP(E1231,Participants!$B$3:$C$1002,2,0),\"\")","v":""}]
[null,null,null,{"$f":"IFERROR(VLOOKUP(C1232,Participants!$B$3:$C$1002,2,0),\"\")","v":""},null,{"$f":"IFERROR(VLOOKUP(E1232,Participants!$B$3:$C$1002,2,0),\"\")","v":""}]
[null,null,null,{"$f":"IFERROR(VLOOKUP(C1233,Participants!$B$3:$C$1002,2,0),\"\")","v":""},null,{"$f":"IFERROR(VLOOKUP(E1233,Participants!$B$3:$C$1002,2,0),\"\")","v":""}]
[null,null,null,{"$f":"IFERROR(VLOOKUP(C1234,Participants!$B$3:$C$1002,2,0),\"\")","v":""},null,{"$f":"IFERROR(VLOOKUP(E1234,Participants!$B$3:$C$1002,2,0),\"\")","v":""}]
[null,null,null,{"$f":"IFERROR(VLOOKUP(C1235,Participants!$B$3:$C$1002,2,0),\"\")","v":""},null,{"$f":"IFERROR(VLOOKUP(E1235,Participants!$B$3:$C$1002,2,0),\"\")","v":""}]
[null,null,null,{"$f":"IFERROR(VLOOKUP(C1236,Participants!$B$3:$C$1002,2,0),\"\")","v":""},null,{"$f":"IFERROR(VLOOKUP(E1236,Participants!$B$3:$C$1002,2,0),\"\")","v":""}]
[null,null,null,{"$f":"IFERROR(VLOOKUP(C1237,Participants!$B$3:$C$1002,2,0),\"\")","v":""},null,{"$f":"IFERROR(VLOOKUP(E1237,Participants!$B$3:$C$1002,2,0),\"\")","v":""}]
[null,null,null,{"$f":"IFERROR(VLOOKUP(C1238,Participants!$B$3:$C$1002,2,0),\"\")","v":""},null,{"$f":"IFERROR(VLOOKUP(E1238,Participants!$B$3:$C$1002,2,0),\"\")","v":""}]
[null,null,null,{"$f":"IFERROR(VLOOKUP(C1239,Participants!$B$3:$C$1002,2,0),\"\")","v":""},null,{"$f":"IFERROR(VLOOKUP(E1239,Participants!$B$3:$C$1002,2,0),\"\")","v":""}]
[null,null,null,{"$f":"IFERROR(VLOOKUP(C1240,Participants!$B$3:$C$1002,2,0),\"\")","v":""},null,{"$f":"IFERROR(VLOOKUP(E1240,Participants!$B$3:$C$1002,2,0),\"\")","v":""}]
[null,null,null,{"$f":"IFERROR(VLOOKUP(C1241,Participants!$B$3:$C$1002,2,0),\"\")","v":""},null,{"$f":"IFERROR(VLOOKUP(E1241,Participants!$B$3:$C$1002,2,0),\"\")","v":""}]
[null,null,null,{"$f":"IFERROR(VLOOKUP(C1242,Participants!$B$3:$C$1002,2,0),\"\")","v":""},null,{"$f":"IFERROR(VLOOKUP(E1242,Participants!$B$3:$C$1002,2,0),\"\")","v":""}]
[null,null,null,{"$f":"IFERROR(VLOOKUP(C1243,Participants!$B$3:$C$1002,2,0),\"\")","v":""},null,{"$f":"IFERROR(VLOOKUP(E1243,Participants!$B$3:$C$1002,2,0),\"\")","v":""}]
[null,null,null,{"$f":"IFERROR(VLOOKUP(C1244,Participants!$B$3:$C$1002,2,0),\"\")","v":""},null,{"$f":"IFERROR(VLOOKUP(E1244,Participants!$B$3:$C$1002,2,0),\"\")","v":""}]
[null,null,null,{"$f":"IFERROR(VLOOKUP(C1245,Participants!$B$3:$C$1002,2,0),\"\")","v":""},null,{"$f":"IFERROR(VLOOKUP(E1245,Participants!$B$3:$C$1002,2,0),\"\")","v":""}]
[null,null,null,{"$f":"IFERROR(VLOOKUP(C1246,Participants!$B$3:$C$1002,2,0),\"\")","v":""},null,{"$f":"IFERROR(VLOOKUP(E1246,Participants!$B$3:$C$1002,2,0),\"\")","v":""}]
[null,null,null,{"$f":"IFERROR(VLOOKUP(C1247,Participants!$B$3:$C$1002,2,0),\"\")","v":""},null,{"$f":"IFERROR(VLOOKUP(E1247,Participants!$B$3:$C$1002,2,0),\"\")","v":""}]
[null,null,null,{"$f":"IFERROR(VLOOKUP(C1248,Participants!$B$3:$C$1002,2,0),\"\")","v":""},null,{"$f":"IFERROR(VLOOKUP(E1248,Participants!$B$3:$C$1002,2,0),\"\")","v":""}]
[null,null,null,{"$f":"IFERROR(VLOOKUP(C1249,Participants!$B$3:$C$1002,2,0),\"\")","v":""},null,{"$f":"IFERROR(VLOOKUP(E1249,Participants!$B$3:$C$1002,2,0),\"\")","v":""}]
[null,null,null,{"$f":"IFERROR(VLOOKUP(C1250,Participants!$B$3:$C$1002,2,0),\"\")","v":""},null,{"$f":"IFERROR(VLOOKUP(E1250,Participants!$B$3:$C$1002,2,0),\"\")","v":""}]
[null,null,null,{"$f":"IFERROR(VLOOKUP(C1251,Participants!$B$3:$C$1002,2,0),\"\")","v":""},null,{"$f":"IFERROR(VLOOKUP(E1251,Participants!$B$3:$C$1002,2,0),\"\")","v":""}]
[null,null,null,{"$f":"IFERROR(VLOOKUP(C1252,Participants!$B$3:$C$1002,2,0),\"\")","v":""},null,{"$f":"IFERROR(VLOOKUP(E1252,Participants!$B$3:$C$1002,2,0),\"\")","v":""}]
[null,null,null,{"$f":"IFERROR(VLOOKUP(C1253,Participants!$B$3:$C$1002,2,0),\"\")","v":""},null,{"$f":"IFERROR(VLOOKUP(E1253,Participants!$B$3:$C$1002,2,0),\"\")","v":""}]
[null,null,null,{"$f":"IFERROR(VLOOKUP(C1254,Participants!$B$3:$C$1002,2,0),\"\")","v":""},null,{"$f":"IFERROR(VLOOKUP(E1254,Participants!$B$3:$C$1002,2,0),\"\")","v":""}]
[null,null,null,{"$f":"IFERROR(VLOOKUP(C1255,Participants!$B$3:$C$1002,2,0),\"\")","v":""},null,{"$f":"IFERROR(VLOOKUP(E1255,Participants!$B$3:$C$1002,2,0),\"\")","v":""}]
[null,null,null,{"$f":"IFERROR(VLOOKUP(C1256,Participants!$B$3:$C$1002,2,0),\"\")","v":""},null,{"$f":"IFERROR(VLOOKUP(E1256,Participants!$B$3:$C$1002,2,0),\"\")","v":""}]
[null,null,null,{"$f":"IFERROR(VLOOKUP(C1257,Participants!$B$3:$C$1002,2,0),\"\")","v":""},null,{"$f":"IFERROR(VLOOKUP(E1257,Participants!$B$3:$C$1002,2,0),\"\")","v":""}]
[null,null,null,{"$f":"IFERROR(VLOOKUP(C1258,Participants!$B$3:$C$1002,2,0),\"\")","v":""},null,{"$f":"IFERROR(VLOOKUP(E1258,Participants!$B$3:$C$1002,2,0),\"\")","v":""}]
[null,null,null,{"$f":"IFERROR(VLOOKUP(C1259,Participants!$B$3:$C$1002,2,0),\"\")","v":""},null,{"$f":"IFERROR(VLOOKUP(E1259,Participants!$B$3:$C$1002,2,0),\"\")","v":""}]
[null,null,null,{"$f":"IFERROR(VLOOKUP(C1260,Participants!$B$3:$C$1002,2,0),\"\")","v":""},null,{"$f":"IFERROR(VLOOKUP(E1260,Participants!$B$3:$C$1002,2,0),\"\")","v":""}]
[null,null,null,{"$f":"IFERROR(VLOOKUP(C1261,Participants!$B$3:$C$1002,2,0),\"\")","v":""},null,{"$f":"IFERROR(VLOOKUP(E1261,Participants!$B$3:$C$1002,2,0),\"\")","v":""}]
[null,null,null,{"$f":"IFERROR(VLOOKUP(C1262,Participants!$B$3:$C$1002,2,0),\"\")","v":""},null,{"$f":"IFERROR(VLOOKUP(E1262,Participants!$B$3:$C$1002,2,0),\"\")","v":""}]
[null,null,null,{"$f":"IFERROR(VLOOKUP(C1263,Participants!$B$3:$C$1002,2,0),\"\")","v":""},null,{"$f":"IFERROR(VLOOKUP(E1263,Participants!$B$3:$C$1002,2,0),\"\")","v":""}]
[null,null,null,{"$f":"IFERROR(VLOOKUP(C1264,Participants!$B$3:$C$1002,2,0),\"\")","v":""},null,{"$f":"IFERROR(VLOOKUP(E1264,Participants!$B$3:$C$1002,2,0),\"\")","v":""}]
[null,null,null,{"$f":"IFERROR(VLOOKUP(C1265,Participants!$B$3:$C$1002,2,0),\"\")","v":""},null,{"$f":"IFERROR(VLOOKUP(E1265,Participants!$B$3:$C$1002,2,0),\"\")","v":""}]
[null,null,null,{"$f":"IFERROR(VLOOKUP(C1266,Participants!$B$3:$C$1002,2,0),\"\")","v":""},null,{"$f":"IFERROR(VLOOKUP(E1266,Participants!$B$3:$C$1002,2,0),\"\")","v":""}]
[null,null,null,{"$f":"IFERROR(VLOOKUP(C1267,Participants!$B$3:$C$1002,2,0),\"\")","v":""},null,{"$f":"IFERROR(VLOOKUP(E1267,Participants!$B$3:$C$1002,2,0),\"\")","v":""}]
[null,null,null,{"$f":"IFERROR(VLOOKUP(C1268,Participants!$B$3:$C$1002,2,0),\"\")","v":""},null,{"$f":"IFERROR(VLOOKUP(E1268,Participants!$B$3:$C$1002,2,0),\"\")","v":""}]
[null,null,null,{"$f":"IFERROR(VLOOKUP(C1269,Participants!$B$3:$C$1002,2,0),\"\")","v":""},null,{"$f":"IFERROR(VLOOKUP(E1269,Participants!$B$3:$C$1002,2,0),\"\")","v":""}]
[null,null,null,{"$f":"IFERROR(VLOOKUP(C1270,Participants!$B$3:$C$1002,2,0),\"\")","v":""},null,{"$f":"IFERROR(VLOOKUP(E1270,Participants!$B$3:$C$1002,2,0),\"\")","v":""}]
[null,null,null,{"$f":"IFERROR(VLOOKUP(C1271,Participants!$B$3:$C$1002,2,0),\"\")","v":""},null,{"$f":"IFERROR(VLOOKUP(E1271,Participants!$B$3:$C$1002,2,0),\"\")","v":""}]
[null,null,null,{"$f":"IFERROR(VLOOKUP(C1272,Participants!$B$3:$C$1002,2,0),\"\")","v":""},null,{"$f":"IFERROR(VLOOKUP(E1272,Participants!$B$3:$C$1002,2,0),\"\")","v":""}]
[null,null,null,{"$f":"IFERROR(VLOOKUP(C1273,Participants!$B$3:$C$1002,2,0),\"\")","v":""},null,{"$f":"IFERROR(VLOOKUP(E1273,Participants!$B$3:$C$1002,2,0),\"\")","v":""}]
[null,null,null,{"$f":"IFERROR(VLOOKUP(C1274,Participants!$B$3:$C$1002,2,0),\"\")","v":""},null,{"$f":"IFERROR(VLOOKUP(E1274,Participants!$B$3:$C$1002,2,0),\"\")","v":""}]
[null,null,null,{"$f":"IFERROR(VLOOKUP(C1275,Participants!$B$3:$C$1002,2,0),\"\")","v":""},null,{"$f":"IFERROR(VLOOKUP(E1275,Participants!$B$3:$C$1002,2,0),\"\")","v":""}]
[null,null,null,{"$f":"IFERROR(VLOOKUP(C1276,Participants!$B$3:$C$1002,2,0),\"\")","v":""},null,{"$f":"IFERROR(VLOOKUP(E1276,Participants!$B$3:$C$1002,2,0),\"\")","v":""}]
[null,null,null,{"$f":"IFERROR(VLOOKUP(C1277,Participants!$B$3:$C$1002,2,0),\"\")","v":""},null,{"$f":"IFERROR(VLOOKUP(E1277,Participants!$B$3:$C$1002,2,0),\"\")","v":""}]
[null,null,null,{"$f":"IFERROR(VLOOKUP(C1278,Participants!$B$3:$C$1002,2,0),\"\")","v":""},null,{"$f":"IFERROR(VLOOKUP(E1278,Participants!$B$3:$C$1002,2,0),\"\")","v":""}]
[null,null,null,{"$f":"IFERROR(VLOOKUP(C1279,Participants!$B$3:$C$1002,2,0),\"\")","v":""},null,{"$f":"IFERROR(VLOOKUP(E1279,Participants!$B$3:$C$1002,2,0),\"\")","v":""}]
[null,null,null,{"$f":"IFERROR(VLOOKUP(C1280,Participants!$B$3:$C$1002,2,0),\"\")","v":""},null,{"$f":"IFERROR(VLOOKUP(E1280,Participants!$B$3:$C$1002,2,0),\"\")","v":""}]
[null,null,null,{"$f":"IFERROR(VLOOKUP(C1281,Participants!$B$3:$C$1002,2,0),\"\")","v":""},null,{"$f":"IFERROR(VLOOKUP(E1281,Participants!$B$3:$C$1002,2,0),\"\")","v":""}]
[null,null,null,{"$f":"IFERROR(VLOOKUP(C1282,Participants!$B$3:$C$1002,2,0),\"\")","v":""},null,{"$f":"IFERROR(VLOOKUP(E1282,Participants!$B$3:$C$1002,2,0),\"\")","v":""}]
[null,null,null,{"$f":"IFERROR(VLOOKUP(C1283,Participants!$B$3:$C$1002,2,0),\"\")","v":""},null,{"$f":"IFERROR(VLOOKUP(E1283,Participants!$B$3:$C$1002,2,0),\"\")","v":""}]
[null,null,null,{"$f":"IFERROR(VLOOKUP(C1284,Participants!$B$3:$C$1002,2,0),\"\")","v":""},null,{"$f":"IFERROR(VLOOKUP(E1284,Participants!$B$3:$C$1002,2,0),\"\")","v":""}]
[null,null,null,{"$f":"IFERROR(VLOOKUP(C1285,Participants!$B$3:$C$1002,2,0),\"\")","v":""},null,{"$f":"IFERROR(VLOOKUP(E1285,Participants!$B$3:$C$1002,2,0),\"\")","v":""}]
[null,null,null,{"$f":"IFERROR(VLOOKUP(C1286,Participants!$B$3:$C$1002,2,0),\"\")","v":""},null,{"$f":"IFERROR(VLOOKUP(E1286,Participants!$B$3:$C$1002,2,0),\"\")","v":""}]
[null,null,null,{"$f":"IFERROR(VLOOKUP(C1287,Participants!$B$3:$C$1002,2,0),\"\")","v":""},null,{"$f":"IFERROR(VLOOKUP(E1287,Participants!$B$3:$C$1002,2,0),\"\")","v":""}]
[null,null,null,{"$f":"IFERROR(VLOOKUP(C1288,Participants!$B$3:$C$1002,2,0),\"\")","v":""},null,{"$f":"IFERROR(VLOOKUP(E1288,Participants!$B$3:$C$1002,2,0),\"\")","v":""}]
[null,null,null,{"$f":"IFERROR(VLOOKUP(C1289,Participants!$B$3:$C$1002,2,0),\"\")","v":""},null,{"$f":"IFERROR(VLOOKUP(E1289,Participants!$B$3:$C$1002,2,0),\"\")","v":""}]
[null,null,null,{"$f":"IFERROR(VLOOKUP(C1290,Participants!$B$3:$C$1002,2,0),\"\")","v":""},null,{"$f":"IFERROR(VLOOKUP(E1290,Participants!$B$3:$C$1002,2,0),\"\")","v":""}]
[null,null,null,{"$f":"IFERROR(VLOOKUP(C1291,Participants!$B$3:$C$1002,2,0),\"\")","v":""},null,{"$f":"IFERROR(VLOOKUP(E1291,Participants!$B$3:$C$1002,2,0),\"\")","v":""}]
[null,null,null,{"$f":"IFERROR(VLOOKUP(C1292,Participants!$B$3:$C$1002,2,0),\"\")","v":""},null,{"$f":"IFERROR(VLOOKUP(E1292,Participants!$B$3:$C$1002,2,0),\"\")","v":""}]
[null,null,null,{"$f":"IFERROR(VLOOKUP(C1293,Participants!$B$3:$C$1002,2,0),\"\")","v":""},null,{"$f":"IFERROR(VLOOKUP(E1293,Participants!$B$3:$C$1002,2,0),\"\")","v":""}]
[null,null,null,{"$f":"IFERROR(VLOOKUP(C1294,Participants!$B$3:$C$1002,2,0),\"\")","v":""},null,{"$f":"IFERROR(VLOOKUP(E1294,Participants!$B$3:$C$1002,2,0),\"\")","v":""}]
[null,null,null,{"$f":"IFERROR(VLOOKUP(C1295,Participants!$B$3:$C$1002,2,0),\"\")","v":""},null,{"$f":"IFERROR(VLOOKUP(E1295,Participants!$B$3:$C$1002,2,0),\"\")","v":""}]
[null,null,null,{"$f":"IFERROR(VLOOKUP(C1296,Participants!$B$3:$C$1002,2,0),\"\")","v":""},null,{"$f":"IFERROR(VLOOKUP(E1296,Participants!$B$3:$C$1002,2,0),\"\")","v":""}]
[null,null,null,{"$f":"IFERROR(VLOOKUP(C1297,Participants!$B$3:$C$1002,2,0),\"\")","v":""},null,{"$f":"IFERROR(VLOOKUP(E1297,Participants!$B$3:$C$1002,2,0),\"\")","v":""}]
[null,null,null,{"$f":"IFERROR(VLOOKUP(C1298,Participants!$B$3:$C$1002,2,0),\"\")","v":""},null,{"$f":"IFERROR(VLOOKUP(E1298,Participants!$B$3:$C$1002,2,0),\"\")","v":""}]
[null,null,null,{"$f":"IFERROR(VLOOKUP(C1299,Participants!$B$3:$C$1002,2,0),\"\")","v":""},null,{"$f":"IFERROR(VLOOKUP(E1299,Participants!$B$3:$C$1002,2,0),\"\")","v":""}]
[null,null,null,{"$f":"IFERROR(VLOOKUP(C1300,Participants!$B$3:$C$1002,2,0),\"\")","v":""},null,{"$f":"IFERROR(VLOOKUP(E1300,Participants!$B$3:$C$1002,2,0),\"\")","v":""}]
[null,null,null,{"$f":"IFERROR(VLOOKUP(C1301,Participants!$B$3:$C$1002,2,0),\"\")","v":""},null,{"$f":"IFERROR(VLOOKUP(E1301,Participants!$B$3:$C$1002,2,0),\"\")","v":""}]
[null,null,null,{"$f":"IFERROR(VLOOKUP(C1302,Participants!$B$3:$C$1002,2,0),\"\")","v":""},null,{"$f":"IFERROR(VLOOKUP(E1302,Participants!$B$3:$C$1002,2,0),\"\")","v":""}]
[null,null,null,{"$f":"IFERROR(VLOOKUP(C1303,Participants!$B$3:$C$1002,2,0),\"\")","v":""},null,{"$f":"IFERROR(VLOOKUP(E1303,Participants!$B$3:$C$1002,2,0),\"\")","v":""}]
[null,null,null,{"$f":"IFERROR(VLOOKUP(C1304,Participants!$B$3:$C$1002,2,0),\"\")","v":""},null,{"$f":"IFERROR(VLOOKUP(E1304,Participants!$B$3:$C$1002,2,0),\"\")","v":""}]
[null,null,null,{"$f":"IFERROR(VLOOKUP(C1305,Participants!$B$3:$C$1002,2,0),\"\")","v":""},null,{"$f":"IFERROR(VLOOKUP(E1305,Participants!$B$3:$C$1002,2,0),\"\")","v":""}]
[null,null,null,{"$f":"IFERROR(VLOOKUP(C1306,Participants!$B$3:$C$1002,2,0),\"\")","v":""},null,{"$f":"IFERROR(VLOOKUP(E1306,Participants!$B$3:$C$1002,2,0),\"\")","v":""}]
[null,null,null,{"$f":"IFERROR(VLOOKUP(C1307,Participants!$B$3:$C$1002,2,0),\"\")","v":""},null,{"$f":"IFERROR(VLOOKUP(E1307,Participants!$B$3:$C$1002,2,0),\"\")","v":""}]
[null,null,null,{"$f":"IFERROR(VLOOKUP(C1308,Participants!$B$3:$C$1002,2,0),\"\")","v":""},null,{"$f":"IFERROR(VLOOKUP(E1308,Participants!$B$3:$C$1002,2,0),\"\")","v":""}]
[null,null,null,{"$f":"IFERROR(VLOOKUP(C1309,Participants!$B$3:$C$1002,2,0),\"\")","v":""},null,{"$f":"IFERROR(VLOOKUP(E1309,Participants!$B$3:$C$1002,2,0),\"\")","v":""}]
[null,null,null,{"$f":"IFERROR(VLOOKUP(C1310,Participants!$B$3:$C$1002,2,0),\"\")","v":""},null,{"$f":"IFERROR(VLOOKUP(E1310,Participants!$B$3:$C$1002,2,0),\"\")","v":""}]
[null,null,null,{"$f":"IFERROR(VLOOKUP(C1311,Participants!$B$3:$C$1002,2,0),\"\")","v":""},null,{"$f":"IFERROR(VLOOKUP(E1311,Participants!$B$3:$C$1002,2,0),\"\")","v":""}]
[null,null,null,{"$f":"IFERROR(VLOOKUP(C1312,Participants!$B$3:$C$1002,2,0),\"\")","v":""},null,{"$f":"IFERROR(VLOOKUP(E1312,Participants!$B$3:$C$1002,2,0),\"\")","v":""}]
[null,null,null,{"$f":"IFERROR(VLOOKUP(C1313,Participants!$B$3:$C$1002,2,0),\"\")","v":""},null,{"$f":"IFERROR(VLOOKUP(E1313,Participants!$B$3:$C$1002,2,0),\"\")","v":""}]
[null,null,null,{"$f":"IFERROR(VLOOKUP(C1314,Participants!$B$3:$C$1002,2,0),\"\")","v":""},null,{"$f":"IFERROR(VLOOKUP(E1314,Participants!$B$3:$C$1002,2,0),\"\")","v":""}]
[null,null,null,{"$f":"IFERROR(VLOOKUP(C1315,Participants!$B$3:$C$1002,2,0),\"\")","v":""},null,{"$f":"IFERROR(VLOOKUP(E1315,Participants!$B$3:$C$1002,2,0),\"\")","v":""}]
[null,null,null,{"$f":"IFERROR(VLOOKUP(C1316,Participants!$B$3:$C$1002,2,0),\"\")","v":""},null,{"$f":"IFERROR(VLOOKUP(E1316,Participants!$B$3:$C$1002,2,0),\"\")","v":""}]
[null,null,null,{"$f":"IFERROR(VLOOKUP(C1317,Participants!$B$3:$C$1002,2,0),\"\")","v":""},null,{"$f":"IFERROR(VLOOKUP(E1317,Participants!$B$3:$C$1002,2,0),\"\")","v":""}]
[null,null,null,{"$f":"IFERROR(VLOOKUP(C1318,Participants!$B$3:$C$1002,2,0),\"\")","v":""},null,{"$f":"IFERROR(VLOOKUP(E1318,Participants!$B$3:$C$1002,2,0),\"\")","v":""}]
[null,null,null,{"$f":"IFERROR(VLOOKUP(C1319,Participants!$B$3:$C$1002,2,0),\"\")","v":""},null,{"$f":"IFERROR(VLOOKUP(E1319,Participants!$B$3:$C$1002,2,0),\"\")","v":""}]
[null,null,null,{"$f":"IFERROR(VLOOKUP(C1320,Participants!$B$3:$C$1002,2,0),\"\")","v":""},null,{"$f":"IFERROR(VLOOKUP(E1320,Participants!$B$3:$C$1002,2,0),\"\")","v":""}]
[null,null,null,{"$f":"IFERROR(VLOOKUP(C1321,Participants!$B$3:$C$1002,2,0),\"\")","v":""},null,{"$f":"IFERROR(VLOOKUP(E1321,Participants!$B$3:$C$1002,2,0),\"\")","v":""}]
[null,null,null,{"$f":"IFERROR(VLOOKUP(C1322,Participants!$B$3:$C$1002,2,0),\"\")","v":""},null,{"$f":"IFERROR(VLOOKUP(E1322,Participants!$B$3:$C$1002,2,0),\"\")","v":""}]
[null,null,null,{"$f":"IFERROR(VLOOKUP(C1323,Participants!$B$3:$C$1002,2,0),\"\")","v":""},null,{"$f":"IFERROR(VLOOKUP(E1323,Participants!$B$3:$C$1002,2,0),\"\")","v":""}]
[null,null,null,{"$f":"IFERROR(VLOOKUP(C1324,Participants!$B$3:$C$1002,2,0),\"\")","v":""},null,{"$f":"IFERROR(VLOOKUP(E1324,Participants!$B$3:$C$1002,2,0),\"\")","v":""}]
[null,null,null,{"$f":"IFERROR(VLOOKUP(C1325,Participants!$B$3:$C$1002,2,0),\"\")","v":""},null,{"$f":"IFERROR(VLOOKUP(E1325,Participants!$B$3:$C$1002,2,0),\"\")","v":""}]
[null,null,null,{"$f":"IFERROR(VLOOKUP(C1326,Participants!$B$3:$C$1002,2,0),\"\")","v":""},null,{"$f":"IFERROR(VLOOKUP(E1326,Participants!$B$3:$C$1002,2,0),\"\")","v":""}]
[null,null,null,{"$f":"IFERROR(VLOOKUP(C1327,Participants!$B$3:$C$1002,2,0),\"\")","v":""},null,{"$f":"IFERROR(VLOOKUP(E1327,Participants!$B$3:$C$1002,2,0),\"\")","v":""}]
[null,null,null,{"$f":"IFERROR(VLOOKUP(C1328,Participants!$B$3:$C$1002,2,0),\"\")","v":""},null,{"$f":"IFERROR(VLOOKUP(E1328,Participants!$B$3:$C$1002,2,0),\"\")","v":""}]
[null,null,null,{"$f":"IFERROR(VLOOKUP(C1329,Participants!$B$3:$C$1002,2,0),\"\")","v":""},null,{"$f":"IFERROR(VLOOKUP(E1329,Participants!$B$3:$C$1002,2,0),\"\")","v":""}]
[null,null,null,{"$f":"IFERROR(VLOOKUP(C1330,Participants!$B$3:$C$1002,2,0),\"\")","v":""},null,{"$f":"IFERROR(VLOOKUP(E1330,Participants!$B$3:$C$1002,2,0),\"\")","v":""}]
[null,null,null,{"$f":"IFERROR(VLOOKUP(C1331,Participants!$B$3:$C$1002,2,0),\"\")","v":""},null,{"$f":"IFERROR(VLOOKUP(E1331,Participants!$B$3:$C$1002,2,0),\"\")","v":""}]
[null,null,null,{"$f":"IFERROR(VLOOKUP(C1332,Participants!$B$3:$C$1002,2,0),\"\")","v":""},null,{"$f":"IFERROR(VLOOKUP(E1332,Participants!$B$3:$C$1002,2,0),\"\")","v":""}]
[null,null,null,{"$f":"IFERROR(VLOOKUP(C1333,Participants!$B$3:$C$1002,2,0),\"\")","v":""},null,{"$f":"IFERROR(VLOOKUP(E1333,Participants!$B$3:$C$1002,2,0),\"\")","v":""}]
[null,null,null,{"$f":"IFERROR(VLOOKUP(C1334,Participants!$B$3:$C$1002,2,0),\"\")","v":""},null,{"$f":"IFERROR(VLOOKUP(E1334,Participants!$B$3:$C$1002,2,0),\"\")","v":""}]
[null,null,null,{"$f":"IFERROR(VLOOKUP(C1335,Participants!$B$3:$C$1002,2,0),\"\")","v":""},null,{"$f":"IFERROR(VLOOKUP(E1335,Participants!$B$3:$C$1002,2,0),\"\")","v":""}]
[null,null,null,{"$f":"IFERROR(VLOOKUP(C1336,Participants!$B$3:$C$1002,2,0),\"\")","v":""},null,{"$f":"IFERROR(VLOOKUP(E1336,Participants!$B$3:$C$1002,2,0),\"\")","v":""}]
[null,null,null,{"$f":"IFERROR(VLOOKUP(C1337,Participants!$B$3:$C$1002,2,0),\"\")","v":""},null,{"$f":"IFERROR(VLOOKUP(E1337,Participants!$B$3:$C$1002,2,0),\"\")","v":""}]
[null,null,null,{"$f":"IFERROR(VLOOKUP(C1338,Participants!$B$3:$C$1002,2,0),\"\")","v":""},null,{"$f":"IFERROR(VLOOKUP(E1338,Participants!$B$3:$C$1002,2,0),\"\")","v":""}]
[null,null,null,{"$f":"IFERROR(VLOOKUP(C1339,Participants!$B$3:$C$1002,2,0),\"\")","v":""},null,{"$f":"IFERROR(VLOOKUP(E1339,Participants!$B$3:$C$1002,2,0),\"\")","v":""}]
[null,null,null,{"$f":"IFERROR(VLOOKUP(C1340,Participants!$B$3:$C$1002,2,0),\"\")","v":""},null,{"$f":"IFERROR(VLOOKUP(E1340,Participants!$B$3:$C$1002,2,0),\"\")","v":""}]
[null,null,null,{"$f":"IFERROR(VLOOKUP(C1341,Participants!$B$3:$C$1002,2,0),\"\")","v":""},null,{"$f":"IFERROR(VLOOKUP(E1341,Participants!$B$3:$C$1002,2,0),\"\")","v":""}]
[null,null,null,{"$f":"IFERROR(VLOOKUP(C1342,Participants!$B$3:$C$1002,2,0),\"\")","v":""},null,{"$f":"IFERROR(VLOOKUP(E1342,Participants!$B$3:$C$1002,2,0),\"\")","v":""}]
[null,null,null,{"$f":"IFERROR(VLOOKUP(C1343,Participants!$B$3:$C$1002,2,0),\"\")","v":""},null,{"$f":"IFERROR(VLOOKUP(E1343,Participants!$B$3:$C$1002,2,0),\"\")","v":""}]
[null,null,null,{"$f":"IFERROR(VLOOKUP(C1344,Participants!$B$3:$C$1002,2,0),\"\")","v":""},null,{"$f":"IFERROR(VLOOKUP(E1344,Participants!$B$3:$C$1002,2,0),\"\")","v":""}]
[null,null,null,{"$f":"IFERROR(VLOOKUP(C1345,Participants!$B$3:$C$1002,2,0),\"\")","v":""},null,{"$f":"IFERROR(VLOOKUP(E1345,Participants!$B$3:$C$1002,2,0),\"\")","v":""}]
[null,null,null,{"$f":"IFERROR(VLOOKUP(C1346,Participants!$B$3:$C$1002,2,0),\"\")","v":""},null,{"$f":"IFERROR(VLOOKUP(E1346,Participants!$B$3:$C$1002,2,0),\"\")","v":""}]
[null,null,null,{"$f":"IFERROR(VLOOKUP(C1347,Participants!$B$3:$C$1002,2,0),\"\")","v":""},null,{"$f":"IFERROR(VLOOKUP(E1347,Participants!$B$3:$C$1002,2,0),\"\")","v":""}]
[null,null,null,{"$f":"IFERROR(VLOOKUP(C1348,Participants!$B$3:$C$1002,2,0),\"\")","v":""},null,{"$f":"IFERROR(VLOOKUP(E1348,Participants!$B$3:$C$1002,2,0),\"\")","v":""}]
[null,null,null,{"$f":"IFERROR(VLOOKUP(C1349,Participants!$B$3:$C$1002,2,0),\"\")","v":""},null,{"$f":"IFERROR(VLOOKUP(E1349,Participants!$B$3:$C$1002,2,0),\"\")","v":""}]
[null,null,null,{"$f":"IFERROR(VLOOKUP(C1350,Participants!$B$3:$C$1002,2,0),\"\")","v":""},null,{"$f":"IFERROR(VLOOKUP(E1350,Participants!$B$3:$C$1002,2,0),\"\")","v":""}]
[null,null,null,{"$f":"IFERROR(VLOOKUP(C1351,Participants!$B$3:$C$1002,2,0),\"\")","v":""},null,{"$f":"IFERROR(VLOOKUP(E1351,Participants!$B$3:$C$1002,2,0),\"\")","v":""}]
[null,null,null,{"$f":"IFERROR(VLOOKUP(C1352,Participants!$B$3:$C$1002,2,0),\"\")","v":""},null,{"$f":"IFERROR(VLOOKUP(E1352,Participants!$B$3:$C$1002,2,0),\"\")","v":""}]
[null,null,null,{"$f":"IFERROR(VLOOKUP(C1353,Participants!$B$3:$C$1002,2,0),\"\")","v":""},null,{"$f":"IFERROR(VLOOKUP(E1353,Participants!$B$3:$C$1002,2,0),\"\")","v":""}]
[null,null,null,{"$f":"IFERROR(VLOOKUP(C1354,Participants!$B$3:$C$1002,2,0),\"\")","v":""},null,{"$f":"IFERROR(VLOOKUP(E1354,Participants!$B$3:$C$1002,2,0),\"\")","v":""}]
[null,null,null,{"$f":"IFERROR(VLOOKUP(C1355,Participants!$B$3:$C$1002,2,0),\"\")","v":""},null,{"$f":"IFERROR(VLOOKUP(E1355,Participants!$B$3:$C$1002,2,0),\"\")","v":""}]
[null,null,null,{"$f":"IFERROR(VLOOKUP(C1356,Participants!$B$3:$C$1002,2,0),\"\")","v":""},null,{"$f":"IFERROR(VLOOKUP(E1356,Participants!$B$3:$C$1002,2,0),\"\")","v":""}]
[null,null,null,{"$f":"IFERROR(VLOOKUP(C1357,Participants!$B$3:$C$1002,2,0),\"\")","v":""},null,{"$f":"IFERROR(VLOOKUP(E1357,Participants!$B$3:$C$1002,2,0),\"\")","v":""}]
[null,null,null,{"$f":"IFERROR(VLOOKUP(C1358,Participants!$B$3:$C$1002,2,0),\"\")","v":""},null,{"$f":"IFERROR(VLOOKUP(E1358,Participants!$B$3:$C$1002,2,0),\"\")","v":""}]
[null,null,null,{"$f":"IFERROR(VLOOKUP(C1359,Participants!$B$3:$C$1002,2,0),\"\")","v":""},null,{"$f":"IFERROR(VLOOKUP(E1359,Participants!$B$3:$C$1002,2,0),\"\")","v":""}]
[null,null,null,{"$f":"IFERROR(VLOOKUP(C1360,Participants!$B$3:$C$1002,2,0),\"\")","v":""},null,{"$f":"IFERROR(VLOOKUP(E1360,Participants!$B$3:$C$1002,2,0),\"\")","v":""}]
[null,null,null,{"$f":"IFERROR(VLOOKUP(C1361,Participants!$B$3:$C$1002,2,0),\"\")","v":""},null,{"$f":"IFERROR(VLOOKUP(E1361,Participants!$B$3:$C$1002,2,0),\"\")","v":""}]
[null,null,null,{"$f":"IFERROR(VLOOKUP(C1362,Participants!$B$3:$C$1002,2,0),\"\")","v":""},null,{"$f":"IFERROR(VLOOKUP(E1362,Participants!$B$3:$C$1002,2,0),\"\")","v":""}]
[null,null,null,{"$f":"IFERROR(VLOOKUP(C1363,Participants!$B$3:$C$1002,2,0),\"\")","v":""},null,{"$f":"IFERROR(VLOOKUP(E1363,Participants!$B$3:$C$1002,2,0),\"\")","v":""}]
[null,null,null,{"$f":"IFERROR(VLOOKUP(C1364,Participants!$B$3:$C$1002,2,0),\"\")","v":""},null,{"$f":"IFERROR(VLOOKUP(E1364,Participants!$B$3:$C$1002,2,0),\"\")","v":""}]
[null,null,null,{"$f":"IFERROR(VLOOKUP(C1365,Participants!$B$3:$C$1002,2,0),\"\")","v":""},null,{"$f":"IFERROR(VLOOKUP(E1365,Participants!$B$3:$C$1002,2,0),\"\")","v":""}]
[null,null,null,{"$f":"IFERROR(VLOOKUP(C1366,Participants!$B$3:$C$1002,2,0),\"\")","v":""},null,{"$f":"IFERROR(VLOOKUP(E1366,Participants!$B$3:$C$1002,2,0),\"\")","v":""}]
[null,null,null,{"$f":"IFERROR(VLOOKUP(C1367,Participants!$B$3:$C$1002,2,0),\"\")","v":""},null,{"$f":"IFERROR(VLOOKUP(E1367,Participants!$B$3:$C$1002,2,0),\"\")","v":""}]
[null,null,null,{"$f":"IFERROR(VLOOKUP(C1368,Participants!$B$3:$C$1002,2,0),\"\")","v":""},null,{"$f":"IFERROR(VLOOKUP(E1368,Participants!$B$3:$C$1002,2,0),\"\")","v":""}]
[null,null,null,{"$f":"IFERROR(VLOOKUP(C1369,Participants!$B$3:$C$1002,2,0),\"\")","v":""},null,{"$f":"IFERROR(VLOOKUP(E1369,Participants!$B$3:$C$1002,2,0),\"\")","v":""}]
[null,null,null,{"$f":"IFERROR(VLOOKUP(C1370,Participants!$B$3:$C$1002,2,0),\"\")","v":""},null,{"$f":"IFERROR(VLOOKUP(E1370,Participants!$B$3:$C$1002,2,0),\"\")","v":""}]
[null,null,null,{"$f":"IFERROR(VLOOKUP(C1371,Participants!$B$3:$C$1002,2,0),\"\")","v":""},null,{"$f":"IFERROR(VLOOKUP(E1371,Participants!$B$3:$C$1002,2,0),\"\")","v":""}]
[null,null,null,{"$f":"IFERROR(VLOOKUP(C1372,Participants!$B$3:$C$1002,2,0),\"\")","v":""},null,{"$f":"IFERROR(VLOOKUP(E1372,Participants!$B$3:$C$1002,2,0),\"\")","v":""}]
[null,null,null,{"$f":"IFERROR(VLOOKUP(C1373,Participants!$B$3:$C$1002,2,0),\"\")","v":""},null,{"$f":"IFERROR(VLOOKUP(E1373,Participants!$B$3:$C$1002,2,0),\"\")","v":""}]
[null,null,null,{"$f":"IFERROR(VLOOKUP(C1374,Participants!$B$3:$C$1002,2,0),\"\")","v":""},null,{"$f":"IFERROR(VLOOKUP(E1374,Participants!$B$3:$C$1002,2,0),\"\")","v":""}]
[null,null,null,{"$f":"IFERROR(VLOOKUP(C1375,Participants!$B$3:$C$1002,2,0),\"\")","v":""},null,{"$f":"IFERROR(VLOOKUP(E1375,Participants!$B$3:$C$1002,2,0),\"\")","v":""}]
[null,null,null,{"$f":"IFERROR(VLOOKUP(C1376,Participants!$B$3:$C$1002,2,0),\"\")","v":""},null,{"$f":"IFERROR(VLOOKUP(E1376,Participants!$B$3:$C$1002,2,0),\"\")","v":""}]
[null,null,null,{"$f":"IFERROR(VLOOKUP(C1377,Participants!$B$3:$C$1002,2,0),\"\")","v":""},null,{"$f":"IFERROR(VLOOKUP(E1377,Participants!$B$3:$C$1002,2,0),\"\")","v":""}]
[null,null,null,{"$f":"IFERROR(VLOOKUP(C1378,Participants!$B$3:$C$1002,2,0),\"\")","v":""},null,{"$f":"IFERROR(VLOOKUP(E1378,Participants!$B$3:$C$1002,2,0),\"\")","v":""}]
[null,null,null,{"$f":"IFERROR(VLOOKUP(C1379,Participants!$B$3:$C$1002,2,0),\"\")","v":""},null,{"$f":"IFERROR(VLOOKUP(E1379,Participants!$B$3:$C$1002,2,0),\"\")","v":""}]
[null,null,null,{"$f":"IFERROR(VLOOKUP(C1380,Participants!$B$3:$C$1002,2,0),\"\")","v":""},null,{"$f":"IFERROR(VLOOKUP(E1380,Participants!$B$3:$C$1002,2,0),\"\")","v":""}]
[null,null,null,{"$f":"IFERROR(VLOOKUP(C1381,Participants!$B$3:$C$1002,2,0),\"\")","v":""},null,{"$f":"IFERROR(VLOOKUP(E1381,Participants!$B$3:$C$1002,2,0),\"\")","v":""}]
[null,null,null,{"$f":"IFERROR(VLOOKUP(C1382,Participants!$B$3:$C$1002,2,0),\"\")","v":""},null,{"$f":"IFERROR(VLOOKUP(E1382,Participants!$B$3:$C$1002,2,0),\"\")","v":""}]
[null,null,null,{"$f":"IFERROR(VLOOKUP(C1383,Participants!$B$3:$C$1002,2,0),\"\")","v":""},null,{"$f":"IFERROR(VLOOKUP(E1383,Participants!$B$3:$C$1002,2,0),\"\")","v":""}]
[null,null,null,{"$f":"IFERROR(VLOOKUP(C1384,Participants!$B$3:$C$1002,2,0),\"\")","v":""},null,{"$f":"IFERROR(VLOOKUP(E1384,Participants!$B$3:$C$1002,2,0),\"\")","v":""}]
[null,null,null,{"$f":"IFERROR(VLOOKUP(C1385,Participants!$B$3:$C$1002,2,0),\"\")","v":""},null,{"$f":"IFERROR(VLOOKUP(E1385,Participants!$B$3:$C$1002,2,0),\"\")","v":""}]
[null,null,null,{"$f":"IFERROR(VLOOKUP(C1386,Participants!$B$3:$C$1002,2,0),\"\")","v":""},null,{"$f":"IFERROR(VLOOKUP(E1386,Participants!$B$3:$C$1002,2,0),\"\")","v":""}]
[null,null,null,{"$f":"IFERROR(VLOOKUP(C1387,Participants!$B$3:$C$1002,2,0),\"\")","v":""},null,{"$f":"IFERROR(VLOOKUP(E1387,Participants!$B$3:$C$1002,2,0),\"\")","v":""}]
[null,null,null,{"$f":"IFERROR(VLOOKUP(C1388,Participants!$B$3:$C$1002,2,0),\"\")","v":""},null,{"$f":"IFERROR(VLOOKUP(E1388,Participants!$B$3:$C$1002,2,0),\"\")","v":""}]
[null,null,null,{"$f":"IFERROR(VLOOKUP(C1389,Participants!$B$3:$C$1002,2,0),\"\")","v":""},null,{"$f":"IFERROR(VLOOKUP(E1389,Participants!$B$3:$C$1002,2,0),\"\")","v":""}]
[null,null,null,{"$f":"IFERROR(VLOOKUP(C1390,Participants!$B$3:$C$1002,2,0),\"\")","v":""},null,{"$f":"IFERROR(VLOOKUP(E1390,Participants!$B$3:$C$1002,2,0),\"\")","v":""}]
[null,null,null,{"$f":"IFERROR(VLOOKUP(C1391,Participants!$B$3:$C$1002,2,0),\"\")","v":""},null,{"$f":"IFERROR(VLOOKUP(E1391,Participants!$B$3:$C$1002,2,0),\"\")","v":""}]
[null,null,null,{"$f":"IFERROR(VLOOKUP(C1392,Participants!$B$3:$C$1002,2,0),\"\")","v":""},null,{"$f":"IFERROR(VLOOKUP(E1392,Participants!$B$3:$C$1002,2,0),\"\")","v":""}]
[null,null,null,{"$f":"IFERROR(VLOOKUP(C1393,Participants!$B$3:$C$1002,2,0),\"\")","v":""},null,{"$f":"IFERROR(VLOOKUP(E1393,Participants!$B$3:$C$1002,2,0),\"\")","v":""}]
[null,null,null,{"$f":"IFERROR(VLOOKUP(C1394,Participants!$B$3:$C$1002,2,0),\"\")","v":""},null,{"$f":"IFERROR(VLOOKUP(E1394,Participants!$B$3:$C$1002,2,0),\"\")","v":""}]
[null,null,null,{"$f":"IFERROR(VLOOKUP(C1395,Participants!$B$3:$C$1002,2,0),\"\")","v":""},null,{"$f":"IFERROR(VLOOKUP(E1395,Participants!$B$3:$C$1002,2,0),\"\")","v":""}]
[null,null,null,{"$f":"IFERROR(VLOOKUP(C1396,Participants!$B$3:$C$1002,2,0),\"\")","v":""},null,{"$f":"IFERROR(VLOOKUP(E1396,Participants!$B$3:$C$1002,2,0),\"\")","v":""}]
[null,null,null,{"$f":"IFERROR(VLOOKUP(C1397,Participants!$B$3:$C$1002,2,0),\"\")","v":""},null,{"$f":"IFERROR(VLOOKUP(E1397,Participants!$B$3:$C$1002,2,0),\"\")","v":""}]
[null,null,null,{"$f":"IFERROR(VLOOKUP(C1398,Participants!$B$3:$C$1002,2,0),\"\")","v":""},null,{"$f":"IFERROR(VLOOKUP(E1398,Participants!$B$3:$C$1002,2,0),\"\")","v":""}]
[null,null,null,{"$f":"IFERROR(VLOOKUP(C1399,Participants!$B$3:$C$1002,2,0),\"\")","v":""},null,{"$f":"IFERROR(VLOOKUP(E1399,Participants!$B$3:$C$1002,2,0),\"\")","v":""}]
[null,null,null,{"$f":"IFERROR(VLOOKUP(C1400,Participants!$B$3:$C$1002,2,0),\"\")","v":""},null,{"$f":"IFERROR(VLOOKUP(E1400,Participants!$B$3:$C$1002,2,0),\"\")","v":""}]
[null,null,null,{"$f":"IFERROR(VLOOKUP(C1401,Participants!$B$3:$C$1002,2,0),\"\")","v":""},null,{"$f":"IFERROR(VLOOKUP(E1401,Participants!$B$3:$C$1002,2,0),\"\")","v":""}]
[null,null,null,{"$f":"IFERROR(VLOOKUP(C1402,Participants!$B$3:$C$1002,2,0),\"\")","v":""},null,{"$f":"IFERROR(VLOOKUP(E1402,Participants!$B$3:$C$1002,2,0),\"\")","v":""}]
[null,null,null,{"$f":"IFERROR(VLOOKUP(C1403,Participants!$B$3:$C$1002,2,0),\"\")","v":""},null,{"$f":"IFERROR(VLOOKUP(E1403,Participants!$B$3:$C$1002,2,0),\"\")","v":""}]
[null,null,null,{"$f":"IFERROR(VLOOKUP(C1404,Participants!$B$3:$C$1002,2,0),\"\")","v":""},null,{"$f":"IFERROR(VLOOKUP(E1404,Participants!$B$3:$C$1002,2,0),\"\")","v":""}]
[null,null,null,{"$f":"IFERROR(VLOOKUP(C1405,Participants!$B$3:$C$1002,2,0),\"\")","v":""},null,{"$f":"IFERROR(VLOOKUP(E1405,Participants!$B$3:$C$1002,2,0),\"\")","v":""}]
[null,null,null,{"$f":"IFERROR(VLOOKUP(C1406,Participants!$B$3:$C$1002,2,0),\"\")","v":""},null,{"$f":"IFERROR(VLOOKUP(E1406,Participants!$B$3:$C$1002,2,0),\"\")","v":""}]
[null,null,null,{"$f":"IFERROR(VLOOKUP(C1407,Participants!$B$3:$C$1002,2,0),\"\")","v":""},null,{"$f":"IFERROR(VLOOKUP(E1407,Participants!$B$3:$C$1002,2,0),\"\")","v":""}]
[null,null,null,{"$f":"IFERROR(VLOOKUP(C1408,Participants!$B$3:$C$1002,2,0),\"\")","v":""},null,{"$f":"IFERROR(VLOOKUP(E1408,Participants!$B$3:$C$1002,2,0),\"\")","v":""}]
[null,null,null,{"$f":"IFERROR(VLOOKUP(C1409,Participants!$B$3:$C$1002,2,0),\"\")","v":""},null,{"$f":"IFERROR(VLOOKUP(E1409,Participants!$B$3:$C$1002,2,0),\"\")","v":""}]
[null,null,null,{"$f":"IFERROR(VLOOKUP(C1410,Participants!$B$3:$C$1002,2,0),\"\")","v":""},null,{"$f":"IFERROR(VLOOKUP(E1410,Participants!$B$3:$C$1002,2,0),\"\")","v":""}]
[null,null,null,{"$f":"IFERROR(VLOOKUP(C1411,Participants!$B$3:$C$1002,2,0),\"\")","v":""},null,{"$f":"IFERROR(VLOOKUP(E1411,Participants!$B$3:$C$1002,2,0),\"\")","v":""}]
[null,null,null,{"$f":"IFERROR(VLOOKUP(C1412,Participants!$B$3:$C$1002,2,0),\"\")","v":""},null,{"$f":"IFERROR(VLOOKUP(E1412,Participants!$B$3:$C$1002,2,0),\"\")","v":""}]
[null,null,null,{"$f":"IFERROR(VLOOKUP(C1413,Participants!$B$3:$C$1002,2,0),\"\")","v":""},null,{"$f":"IFERROR(VLOOKUP(E1413,Participants!$B$3:$C$1002,2,0),\"\")","v":""}]
[null,null,null,{"$f":"IFERROR(VLOOKUP(C1414,Participants!$B$3:$C$1002,2,0),\"\")","v":""},null,{"$f":"IFERROR(VLOOKUP(E1414,Participants!$B$3:$C$1002,2,0),\"\")","v":""}]
[null,null,null,{"$f":"IFERROR(VLOOKUP(C1415,Participants!$B$3:$C$1002,2,0),\"\")","v":""},null,{"$f":"IFERROR(VLOOKUP(E1415,Participants!$B$3:$C$1002,2,0),\"\")","v":""}]
[null,null,null,{"$f":"IFERROR(VLOOKUP(C1416,Participants!$B$3:$C$1002,2,0),\"\")","v":""},null,{"$f":"IFERROR(VLOOKUP(E1416,Participants!$B$3:$C$1002,2,0),\"\")","v":""}]
[null,null,null,{"$f":"IFERROR(VLOOKUP(C1417,Participants!$B$3:$C$1002,2,0),\"\")","v":""},null,{"$f":"IFERROR(VLOOKUP(E1417,Participants!$B$3:$C$1002,2,0),\"\")","v":""}]
[null,null,null,{"$f":"IFERROR(VLOOKUP(C1418,Participants!$B$3:$C$1002,2,0),\"\")","v":""},null,{"$f":"IFERROR(VLOOKUP(E1418,Participants!$B$3:$C$1002,2,0),\"\")","v":""}]
[null,null,null,{"$f":"IFERROR(VLOOKUP(C1419,Participants!$B$3:$C$1002,2,0),\"\")","v":""},null,{"$f":"IFERROR(VLOOKUP(E1419,Participants!$B$3:$C$1002,2,0),\"\")","v":""}]
[null,null,null,{"$f":"IFERROR(VLOOKUP(C1420,Participants!$B$3:$C$1002,2,0),\"\")","v":""},null,{"$f":"IFERROR(VLOOKUP(E1420,Participants!$B$3:$C$1002,2,0),\"\")","v":""}]
[null,null,null,{"$f":"IFERROR(VLOOKUP(C1421,Participants!$B$3:$C$1002,2,0),\"\")","v":""},null,{"$f":"IFERROR(VLOOKUP(E1421,Participants!$B$3:$C$1002,2,0),\"\")","v":""}]
[null,null,null,{"$f":"IFERROR(VLOOKUP(C1422,Participants!$B$3:$C$1002,2,0),\"\")","v":""},null,{"$f":"IFERROR(VLOOKUP(E1422,Participants!$B$3:$C$1002,2,0),\"\")","v":""}]
[null,null,null,{"$f":"IFERROR(VLOOKUP(C1423,Participants!$B$3:$C$1002,2,0),\"\")","v":""},null,{"$f":"IFERROR(VLOOKUP(E1423,Participants!$B$3:$C$1002,2,0),\"\")","v":""}]
[null,null,null,{"$f":"IFERROR(VLOOKUP(C1424,Participants!$B$3:$C$1002,2,0),\"\")","v":""},null,{"$f":"IFERROR(VLOOKUP(E1424,Participants!$B$3:$C$1002,2,0),\"\")","v":""}]
[null,null,null,{"$f":"IFERROR(VLOOKUP(C1425,Participants!$B$3:$C$1002,2,0),\"\")","v":""},null,{"$f":"IFERROR(VLOOKUP(E1425,Participants!$B$3:$C$1002,2,0),\"\")","v":""}]
[null,null,null,{"$f":"IFERROR(VLOOKUP(C1426,Participants!$B$3:$C$1002,2,0),\"\")","v":""},null,{"$f":"IFERROR(VLOOKUP(E1426,Participants!$B$3:$C$1002,2,0),\"\")","v":""}]
[null,null,null,{"$f":"IFERROR(VLOOKUP(C1427,Participants!$B$3:$C$1002,2,0),\"\")","v":""},null,{"$f":"IFERROR(VLOOKUP(E1427,Participants!$B$3:$C$1002,2,0),\"\")","v":""}]
[null,null,null,{"$f":"IFERROR(VLOOKUP(C1428,Participants!$B$3:$C$1002,2,0),\"\")","v":""},null,{"$f":"IFERROR(VLOOKUP(E1428,Participants!$B$3:$C$1002,2,0),\"\")","v":""}]
[null,null,null,{"$f":"IFERROR(VLOOKUP(C1429,Participants!$B$3:$C$1002,2,0),\"\")","v":""},null,{"$f":"IFERROR(VLOOKUP(E1429,Participants!$B$3:$C$1002,2,0),\"\")","v":""}]
[null,null,null,{"$f":"IFERROR(VLOOKUP(C1430,Participants!$B$3:$C$1002,2,0),\"\")","v":""},null,{"$f":"IFERROR(VLOOKUP(E1430,Participants!$B$3:$C$1002,2,0),\"\")","v":""}]
[null,null,null,{"$f":"IFERROR(VLOOKUP(C1431,Participants!$B$3:$C$1002,2,0),\"\")","v":""},null,{"$f":"IFERROR(VLOOKUP(E1431,Participants!$B$3:$C$1002,2,0),\"\")","v":""}]
[null,null,null,{"$f":"IFERROR(VLOOKUP(C1432,Participants!$B$3:$C$1002,2,0),\"\")","v":""},null,{"$f":"IFERROR(VLOOKUP(E1432,Participants!$B$3:$C$1002,2,0),\"\")","v":""}]
[null,null,null,{"$f":"IFERROR(VLOOKUP(C1433,Participants!$B$3:$C$1002,2,0),\"\")","v":""},null,{"$f":"IFERROR(VLOOKUP(E1433,Participants!$B$3:$C$1002,2,0),\"\")","v":""}]
[null,null,null,{"$f":"IFERROR(VLOOKUP(C1434,Participants!$B$3:$C$1002,2,0),\"\")","v":""},null,{"$f":"IFERROR(VLOOKUP(E1434,Participants!$B$3:$C$1002,2,0),\"\")","v":""}]
[null,null,null,{"$f":"IFERROR(VLOOKUP(C1435,Participants!$B$3:$C$1002,2,0),\"\")","v":""},null,{"$f":"IFERROR(VLOOKUP(E1435,Participants!$B$3:$C$1002,2,0),\"\")","v":""}]
[null,null,null,{"$f":"IFERROR(VLOOKUP(C1436,Participants!$B$3:$C$1002,2,0),\"\")","v":""},null,{"$f":"IFERROR(VLOOKUP(E1436,Participants!$B$3:$C$1002,2,0),\"\")","v":""}]
[null,null,null,{"$f":"IFERROR(VLOOKUP(C1437,Participants!$B$3:$C$1002,2,0),\"\")","v":""},null,{"$f":"IFERROR(VLOOKUP(E1437,Participants!$B$3:$C$1002,2,0),\"\")","v":""}]
[null,null,null,{"$f":"IFERROR(VLOOKUP(C1438,Participants!$B$3:$C$1002,2,0),\"\")","v":""},null,{"$f":"IFERROR(VLOOKUP(E1438,Participants!$B$3:$C$1002,2,0),\"\")","v":""}]
[null,null,null,{"$f":"IFERROR(VLOOKUP(C1439,Participants!$B$3:$C$1002,2,0),\"\")","v":""},null,{"$f":"IFERROR(VLOOKUP(E1439,Participants!$B$3:$C$1002,2,0),\"\")","v":""}]
[null,null,null,{"$f":"IFERROR(VLOOKUP(C1440,Participants!$B$3:$C$1002,2,0),\"\")","v":""},null,{"$f":"IFERROR(VLOOKUP(E1440,Participants!$B$3:$C$1002,2,0),\"\")","v":""}]
[null,null,null,{"$f":"IFERROR(VLOOKUP(C1441,Participants!$B$3:$C$1002,2,0),\"\")","v":""},null,{"$f":"IFERROR(VLOOKUP(E1441,Participants!$B$3:$C$1002,2,0),\"\")","v":""}]
[null,null,null,{"$f":"IFERROR(VLOOKUP(C1442,Participants!$B$3:$C$1002,2,0),\"\")","v":""},null,{"$f":"IFERROR(VLOOKUP(E1442,Participants!$B$3:$C$1002,2,0),\"\")","v":""}]
[null,null,null,{"$f":"IFERROR(VLOOKUP(C1443,Participants!$B$3:$C$1002,2,0),\"\")","v":""},null,{"$f":"IFERROR(VLOOKUP(E1443,Participants!$B$3:$C$1002,2,0),\"\")","v":""}]
[null,null,null,{"$f":"IFERROR(VLOOKUP(C1444,Participants!$B$3:$C$1002,2,0),\"\")","v":""},null,{"$f":"IFERROR(VLOOKUP(E1444,Participants!$B$3:$C$1002,2,0),\"\")","v":""}]
[null,null,null,{"$f":"IFERROR(VLOOKUP(C1445,Participants!$B$3:$C$1002,2,0),\"\")","v":""},null,{"$f":"IFERROR(VLOOKUP(E1445,Participants!$B$3:$C$1002,2,0),\"\")","v":""}]
[null,null,null,{"$f":"IFERROR(VLOOKUP(C1446,Participants!$B$3:$C$1002,2,0),\"\")","v":""},null,{"$f":"IFERROR(VLOOKUP(E1446,Participants!$B$3:$C$1002,2,0),\"\")","v":""}]
[null,null,null,{"$f":"IFERROR(VLOOKUP(C1447,Participants!$B$3:$C$1002,2,0),\"\")","v":""},null,{"$f":"IFERROR(VLOOKUP(E1447,Participants!$B$3:$C$1002,2,0),\"\")","v":""}]
[null,null,null,{"$f":"IFERROR(VLOOKUP(C1448,Participants!$B$3:$C$1002,2,0),\"\")","v":""},null,{"$f":"IFERROR(VLOOKUP(E1448,Participants!$B$3:$C$1002,2,0),\"\")","v":""}]
[null,null,null,{"$f":"IFERROR(VLOOKUP(C1449,Participants!$B$3:$C$1002,2,0),\"\")","v":""},null,{"$f":"IFERROR(VLOOKUP(E1449,Participants!$B$3:$C$1002,2,0),\"\")","v":""}]
[null,null,null,{"$f":"IFERROR(VLOOKUP(C1450,Participants!$B$3:$C$1002,2,0),\"\")","v":""},null,{"$f":"IFERROR(VLOOKUP(E1450,Participants!$B$3:$C$1002,2,0),\"\")","v":""}]
[null,null,null,{"$f":"IFERROR(VLOOKUP(C1451,Participants!$B$3:$C$1002,2,0),\"\")","v":""},null,{"$f":"IFERROR(VLOOKUP(E1451,Participants!$B$3:$C$1002,2,0),\"\")","v":""}]
[null,null,null,{"$f":"IFERROR(VLOOKUP(C1452,Participants!$B$3:$C$1002,2,0),\"\")","v":""},null,{"$f":"IFERROR(VLOOKUP(E1452,Participants!$B$3:$C$1002,2,0),\"\")","v":""}]
[null,null,null,{"$f":"IFERROR(VLOOKUP(C1453,Participants!$B$3:$C$1002,2,0),\"\")","v":""},null,{"$f":"IFERROR(VLOOKUP(E1453,Participants!$B$3:$C$1002,2,0),\"\")","v":""}]
[null,null,null,{"$f":"IFERROR(VLOOKUP(C1454,Participants!$B$3:$C$1002,2,0),\"\")","v":""},null,{"$f":"IFERROR(VLOOKUP(E1454,Participants!$B$3:$C$1002,2,0),\"\")","v":""}]
[null,null,null,{"$f":"IFERROR(VLOOKUP(C1455,Participants!$B$3:$C$1002,2,0),\"\")","v":""},null,{"$f":"IFERROR(VLOOKUP(E1455,Participants!$B$3:$C$1002,2,0),\"\")","v":""}]
[null,null,null,{"$f":"IFERROR(VLOOKUP(C1456,Participants!$B$3:$C$1002,2,0),\"\")","v":""},null,{"$f":"IFERROR(VLOOKUP(E1456,Participants!$B$3:$C$1002,2,0),\"\")","v":""}]
[null,null,null,{"$f":"IFERROR(VLOOKUP(C1457,Participants!$B$3:$C$1002,2,0),\"\")","v":""},null,{"$f":"IFERROR(VLOOKUP(E1457,Participants!$B$3:$C$1002,2,0),\"\")","v":""}]
[null,null,null,{"$f":"IFERROR(VLOOKUP(C1458,Participants!$B$3:$C$1002,2,0),\"\")","v":""},null,{"$f":"IFERROR(VLOOKUP(E1458,Participants!$B$3:$C$1002,2,0),\"\")","v":""}]
[null,null,null,{"$f":"IFERROR(VLOOKUP(C1459,Participants!$B$3:$C$1002,2,0),\"\")","v":""},null,{"$f":"IFERROR(VLOOKUP(E1459,Participants!$B$3:$C$1002,2,0),\"\")","v":""}]
[null,null,null,{"$f":"IFERROR(VLOOKUP(C1460,Participants!$B$3:$C$1002,2,0),\"\")","v":""},null,{"$f":"IFERROR(VLOOKUP(E1460,Participants!$B$3:$C$1002,2,0),\"\")","v":""}]
[null,null,null,{"$f":"IFERROR(VLOOKUP(C1461,Participants!$B$3:$C$1002,2,0),\"\")","v":""},null,{"$f":"IFERROR(VLOOKUP(E1461,Participants!$B$3:$C$1002,2,0),\"\")","v":""}]
[null,null,null,{"$f":"IFERROR(VLOOKUP(C1462,Participants!$B$3:$C$1002,2,0),\"\")","v":""},null,{"$f":"IFERROR(VLOOKUP(E1462,Participants!$B$3:$C$1002,2,0),\"\")","v":""}]
[null,null,null,{"$f":"IFERROR(VLOOKUP(C1463,Participants!$B$3:$C$1002,2,0),\"\")","v":""},null,{"$f":"IFERROR(VLOOKUP(E1463,Participants!$B$3:$C$1002,2,0),\"\")","v":""}]
[null,null,null,{"$f":"IFERROR(VLOOKUP(C1464,Participants!$B$3:$C$1002,2,0),\"\")","v":""},null,{"$f":"IFERROR(VLOOKUP(E1464,Participants!$B$3:$C$1002,2,0),\"\")","v":""}]
[null,null,null,{"$f":"IFERROR(VLOOKUP(C1465,Participants!$B$3:$C$1002,2,0),\"\")","v":""},null,{"$f":"IFERROR(VLOOKUP(E1465,Participants!$B$3:$C$1002,2,0),\"\")","v":""}]
[null,null,null,{"$f":"IFERROR(VLOOKUP(C1466,Participants!$B$3:$C$1002,2,0),\"\")","v":""},null,{"$f":"IFERROR(VLOOKUP(E1466,Participants!$B$3:$C$1002,2,0),\"\")","v":""}]
[null,null,null,{"$f":"IFERROR(VLOOKUP(C1467,Participants!$B$3:$C$1002,2,0),\"\")","v":""},null,{"$f":"IFERROR(VLOOKUP(E1467,Participants!$B$3:$C$1002,2,0),\"\")","v":""}]
[null,null,null,{"$f":"IFERROR(VLOOKUP(C1468,Participants!$B$3:$C$1002,2,0),\"\")","v":""},null,{"$f":"IFERROR(VLOOKUP(E1468,Participants!$B$3:$C$1002,2,0),\"\")","v":""}]
[null,null,null,{"$f":"IFERROR(VLOOKUP(C1469,Participants!$B$3:$C$1002,2,0),\"\")","v":""},null,{"$f":"IFERROR(VLOOKUP(E1469,Participants!$B$3:$C$1002,2,0),\"\")","v":""}]
[null,null,null,{"$f":"IFERROR(VLOOKUP(C1470,Participants!$B$3:$C$1002,2,0),\"\")","v":""},null,{"$f":"IFERROR(VLOOKUP(E1470,Participants!$B$3:$C$1002,2,0),\"\")","v":""}]
[null,null,null,{"$f":"IFERROR(VLOOKUP(C1471,Participants!$B$3:$C$1002,2,0),\"\")","v":""},null,{"$f":"IFERROR(VLOOKUP(E1471,Participants!$B$3:$C$1002,2,0),\"\")","v":""}]
[null,null,null,{"$f":"IFERROR(VLOOKUP(C1472,Participants!$B$3:$C$1002,2,0),\"\")","v":""},null,{"$f":"IFERROR(VLOOKUP(E1472,Participants!$B$3:$C$1002,2,0),\"\")","v":""}]
[null,null,null,{"$f":"IFERROR(VLOOKUP(C1473,Participants!$B$3:$C$1002,2,0),\"\")","v":""},null,{"$f":"IFERROR(VLOOKUP(E1473,Participants!$B$3:$C$1002,2,0),\"\")","v":""}]
[null,null,null,{"$f":"IFERROR(VLOOKUP(C1474,Participants!$B$3:$C$1002,2,0),\"\")","v":""},null,{"$f":"IFERROR(VLOOKUP(E1474,Participants!$B$3:$C$1002,2,0),\"\")","v":""}]
[null,null,null,{"$f":"IFERROR(VLOOKUP(C1475,Participants!$B$3:$C$1002,2,0),\"\")","v":""},null,{"$f":"IFERROR(VLOOKUP(E1475,Participants!$B$3:$C$1002,2,0),\"\")","v":""}]
[null,null,null,{"$f":"IFERROR(VLOOKUP(C1476,Participants!$B$3:$C$1002,2,0),\"\")","v":""},null,{"$f":"IFERROR(VLOOKUP(E1476,Participants!$B$3:$C$1002,2,0),\"\")","v":""}]
[null,null,null,{"$f":"IFERROR(VLOOKUP(C1477,Participants!$B$3:$C$1002,2,0),\"\")","v":""},null,{"$f":"IFERROR(VLOOKUP(E1477,Participants!$B$3:$C$1002,2,0),\"\")","v":""}]
[null,null,null,{"$f":"IFERROR(VLOOKUP(C1478,Participants!$B$3:$C$1002,2,0),\"\")","v":""},null,{"$f":"IFERROR(VLOOKUP(E1478,Participants!$B$3:$C$1002,2,0),\"\")","v":""}]
[null,null,null,{"$f":"IFERROR(VLOOKUP(C1479,Participants!$B$3:$C$1002,2,0),\"\")","v":""},null,{"$f":"IFERROR(VLOOKUP(E1479,Participants!$B$3:$C$1002,2,0),\"\")","v":""}]
[null,null,null,{"$f":"IFERROR(VLOOKUP(C1480,Participants!$B$3:$C$1002,2,0),\"\")","v":""},null,{"$f":"IFERROR(VLOOKUP(E1480,Participants!$B$3:$C$1002,2,0),\"\")","v":""}]
[null,null,null,{"$f":"IFERROR(VLOOKUP(C1481,Participants!$B$3:$C$1002,2,0),\"\")","v":""},null,{"$f":"IFERROR(VLOOKUP(E1481,Participants!$B$3:$C$1002,2,0),\"\")","v":""}]
[null,null,null,{"$f":"IFERROR(VLOOKUP(C1482,Participants!$B$3:$C$1002,2,0),\"\")","v":""},null,{"$f":"IFERROR(VLOOKUP(E1482,Participants!$B$3:$C$1002,2,0),\"\")","v":""}]
[null,null,null,{"$f":"IFERROR(VLOOKUP(C1483,Participants!$B$3:$C$1002,2,0),\"\")","v":""},null,{"$f":"IFERROR(VLOOKUP(E1483,Participants!$B$3:$C$1002,2,0),\"\")","v":""}]
[null,null,null,{"$f":"IFERROR(VLOOKUP(C1484,Participants!$B$3:$C$1002,2,0),\"\")","v":""},null,{"$f":"IFERROR(VLOOKUP(E1484,Participants!$B$3:$C$1002,2,0),\"\")","v":""}]
[null,null,null,{"$f":"IFERROR(VLOOKUP(C1485,Participants!$B$3:$C$1002,2,0),\"\")","v":""},null,{"$f":"IFERROR(VLOOKUP(E1485,Participants!$B$3:$C$1002,2,0),\"\")","v":""}]
[null,null,null,{"$f":"IFERROR(VLOOKUP(C1486,Participants!$B$3:$C$1002,2,0),\"\")","v":""},null,{"$f":"IFERROR(VLOOKUP(E1486,Participants!$B$3:$C$1002,2,0),\"\")","v":""}]
[null,null,null,{"$f":"IFERROR(VLOOKUP(C1487,Participants!$B$3:$C$1002,2,0),\"\")","v":""},null,{"$f":"IFERROR(VLOOKUP(E1487,Participants!$B$3:$C$1002,2,0),\"\")","v":""}]
[null,null,null,{"$f":"IFERROR(VLOOKUP(C1488,Participants!$B$3:$C$1002,2,0),\"\")","v":""},null,{"$f":"IFERROR(VLOOKUP(E1488,Participants!$B$3:$C$1002,2,0),\"\")","v":""}]
[null,null,null,{"$f":"IFERROR(VLOOKUP(C1489,Participants!$B$3:$C$1002,2,0),\"\")","v":""},null,{"$f":"IFERROR(VLOOKUP(E1489,Participants!$B$3:$C$1002,2,0),\"\")","v":""}]
[null,null,null,{"$f":"IFERROR(VLOOKUP(C1490,Participants!$B$3:$C$1002,2,0),\"\")","v":""},null,{"$f":"IFERROR(VLOOKUP(E1490,Participants!$B$3:$C$1002,2,0),\"\")","v":""}]
[null,null,null,{"$f":"IFERROR(VLOOKUP(C1491,Participants!$B$3:$C$1002,2,0),\"\")","v":""},null,{"$f":"IFERROR(VLOOKUP(E1491,Participants!$B$3:$C$1002,2,0),\"\")","v":""}]
[null,null,null,{"$f":"IFERROR(VLOOKUP(C1492,Participants!$B$3:$C$1002,2,0),\"\")","v":""},null,{"$f":"IFERROR(VLOOKUP(E1492,Participants!$B$3:$C$1002,2,0),\"\")","v":""}]
[null,null,null,{"$f":"IFERROR(VLOOKUP(C1493,Participants!$B$3:$C$1002,2,0),\"\")","v":""},null,{"$f":"IFERROR(VLOOKUP(E1493,Participants!$B$3:$C$1002,2,0),\"\")","v":""}]
[null,null,null,{"$f":"IFERROR(VLOOKUP(C1494,Participants!$B$3:$C$1002,2,0),\"\")","v":""},null,{"$f":"IFERROR(VLOOKUP(E1494,Participants!$B$3:$C$1002,2,0),\"\")","v":""}]
[null,null,null,{"$f":"IFERROR(VLOOKUP(C1495,Participants!$B$3:$C$1002,2,0),\"\")","v":""},null,{"$f":"IFERROR(VLOOKUP(E1495,Participants!$B$3:$C$1002,2,0),\"\")","v":""}]
[null,null,null,{"$f":"IFERROR(VLOOKUP(C1496,Participants!$B$3:$C$1002,2,0),\"\")","v":""},null,{"$f":"IFERROR(VLOOKUP(E1496,Participants!$B$3:$C$1002,2,0),\"\")","v":""}]
[null,null,null,{"$f":"IFERROR(VLOOKUP(C1497,Participants!$B$3:$C$1002,2,0),\"\")","v":""},null,{"$f":"IFERROR(VLOOKUP(E1497,Participants!$B$3:$C$1002,2,0),\"\")","v":""}]
[null,null,null,{"$f":"IFERROR(VLOOKUP(C1498,Participants!$B$3:$C$1002,2,0),\"\")","v":""},null,{"$f":"IFERROR(VLOOKUP(E1498,Participants!$B$3:$C$1002,2,0),\"\")","v":""}]
[null,null,null,{"$f":"IFERROR(VLOOKUP(C1499,Participants!$B$3:$C$1002,2,0),\"\")","v":""},null,{"$f":"IFERROR(VLOOKUP(E1499,Participants!$B$3:$C$1002,2,0),\"\")","v":""}]
[null,null,null,{"$f":"IFERROR(VLOOKUP(C1500,Participants!$B$3:$C$1002,2,0),\"\")","v":""},null,{"$f":"IFERROR(VLOOKUP(E1500,Participants!$B$3:$C$1002,2,0),\"\")","v":""}]
[null,null,null,{"$f":"IFERROR(VLOOKUP(C1501,Participants!$B$3:$C$1002,2,0),\"\")","v":""},null,{"$f":"IFERROR(VLOOKUP(E1501,Participants!$B$3:$C$1002,2,0),\"\")","v":""}]
[null,null,null,{"$f":"IFERROR(VLOOKUP(C1502,Participants!$B$3:$C$1002,2,0),\"\")","v":""},null,{"$f":"IFERROR(VLOOKUP(E1502,Participants!$B$3:$C$1002,2,0),\"\")","v":""}]
[null,null,null,{"$f":"IFERROR(VLOOKUP(C1503,Participants!$B$3:$C$1002,2,0),\"\")","v":""},null,{"$f":"IFERROR(VLOOKUP(E1503,Participants!$B$3:$C$1002,2,0),\"\")","v":""}]
[null,null,null,{"$f":"IFERROR(VLOOKUP(C1504,Participants!$B$3:$C$1002,2,0),\"\")","v":""},null,{"$f":"IFERROR(VLOOKUP(E1504,Participants!$B$3:$C$1002,2,0),\"\")","v":""}]
[null,null,null,{"$f":"IFERROR(VLOOKUP(C1505,Participants!$B$3:$C$1002,2,0),\"\")","v":""},null,{"$f":"IFERROR(VLOOKUP(E1505,Participants!$B$3:$C$1002,2,0),\"\")","v":""}]
[null,null,null,{"$f":"IFERROR(VLOOKUP(C1506,Participants!$B$3:$C$1002,2,0),\"\")","v":""},null,{"$f":"IFERROR(VLOOKUP(E1506,Participants!$B$3:$C$1002,2,0),\"\")","v":""}]
[null,null,null,{"$f":"IFERROR(VLOOKUP(C1507,Participants!$B$3:$C$1002,2,0),\"\")","v":""},null,{"$f":"IFERROR(VLOOKUP(E1507,Participants!$B$3:$C$1002,2,0),\"\")","v":""}]
[null,null,null,{"$f":"IFERROR(VLOOKUP(C1508,Participants!$B$3:$C$1002,2,0),\"\")","v":""},null,{"$f":"IFERROR(VLOOKUP(E1508,Participants!$B$3:$C$1002,2,0),\"\")","v":""}]
[null,null,null,{"$f":"IFERROR(VLOOKUP(C1509,Participants!$B$3:$C$1002,2,0),\"\")","v":""},null,{"$f":"IFERROR(VLOOKUP(E1509,Participants!$B$3:$C$1002,2,0),\"\")","v":""}]
[null,null,null,{"$f":"IFERROR(VLOOKUP(C1510,Participants!$B$3:$C$1002,2,0),\"\")","v":""},null,{"$f":"IFERROR(VLOOKUP(E1510,Participants!$B$3:$C$1002,2,0),\"\")","v":""}]
[null,null,null,{"$f":"IFERROR(VLOOKUP(C1511,Participants!$B$3:$C$1002,2,0),\"\")","v":""},null,{"$f":"IFERROR(VLOOKUP(E1511,Participants!$B$3:$C$1002,2,0),\"\")","v":""}]
[null,null,null,{"$f":"IFERROR(VLOOKUP(C1512,Participants!$B$3:$C$1002,2,0),\"\")","v":""},null,{"$f":"IFERROR(VLOOKUP(E1512,Participants!$B$3:$C$1002,2,0),\"\")","v":""}]
[null,null,null,{"$f":"IFERROR(VLOOKUP(C1513,Participants!$B$3:$C$1002,2,0),\"\")","v":""},null,{"$f":"IFERROR(VLOOKUP(E1513,Participants!$B$3:$C$1002,2,0),\"\")","v":""}]
[null,null,null,{"$f":"IFERROR(VLOOKUP(C1514,Participants!$B$3:$C$1002,2,0),\"\")","v":""},null,{"$f":"IFERROR(VLOOKUP(E1514,Participants!$B$3:$C$1002,2,0),\"\")","v":""}]
[null,null,null,{"$f":"IFERROR(VLOOKUP(C1515,Participants!$B$3:$C$1002,2,0),\"\")","v":""},null,{"$f":"IFERROR(VLOOKUP(E1515,Participants!$B$3:$C$1002,2,0),\"\")","v":""}]
[null,null,null,{"$f":"IFERROR(VLOOKUP(C1516,Participants!$B$3:$C$1002,2,0),\"\")","v":""},null,{"$f":"IFERROR(VLOOKUP(E1516,Participants!$B$3:$C$1002,2,0),\"\")","v":""}]
[null,null,null,{"$f":"IFERROR(VLOOKUP(C1517,Participants!$B$3:$C$1002,2,0),\"\")","v":""},null,{"$f":"IFERROR(VLOOKUP(E1517,Participants!$B$3:$C$1002,2,0),\"\")","v":""}]
[null,null,null,{"$f":"IFERROR(VLOOKUP(C1518,Participants!$B$3:$C$1002,2,0),\"\")","v":""},null,{"$f":"IFERROR(VLOOKUP(E1518,Participants!$B$3:$C$1002,2,0),\"\")","v":""}]
[null,null,null,{"$f":"IFERROR(VLOOKUP(C1519,Participants!$B$3:$C$1002,2,0),\"\")","v":""},null,{"$f":"IFERROR(VLOOKUP(E1519,Participants!$B$3:$C$1002,2,0),\"\")","v":""}]
[null,null,null,{"$f":"IFERROR(VLOOKUP(C1520,Participants!$B$3:$C$1002,2,0),\"\")","v":""},null,{"$f":"IFERROR(VLOOKUP(E1520,Participants!$B$3:$C$1002,2,0),\"\")","v":""}]
[null,null,null,{"$f":"IFERROR(VLOOKUP(C1521,Participants!$B$3:$C$1002,2,0),\"\")","v":""},null,{"$f":"IFERROR(VLOOKUP(E1521,Participants!$B$3:$C$1002,2,0),\"\")","v":""}]
[null,null,null,{"$f":"IFERROR(VLOOKUP(C1522,Participants!$B$3:$C$1002,2,0),\"\")","v":""},null,{"$f":"IFERROR(VLOOKUP(E1522,Participants!$B$3:$C$1002,2,0),\"\")","v":""}]
[null,null,null,{"$f":"IFERROR(VLOOKUP(C1523,Participants!$B$3:$C$1002,2,0),\"\")","v":""},null,{"$f":"IFERROR(VLOOKUP(E1523,Participants!$B$3:$C$1002,2,0),\"\")","v":""}]
[null,null,null,{"$f":"IFERROR(VLOOKUP(C1524,Participants!$B$3:$C$1002,2,0),\"\")","v":""},null,{"$f":"IFERROR(VLOOKUP(E1524,Participants!$B$3:$C$1002,2,0),\"\")","v":""}]
[null,null,null,{"$f":"IFERROR(VLOOKUP(C1525,Participants!$B$3:$C$1002,2,0),\"\")","v":""},null,{"$f":"IFERROR(VLOOKUP(E1525,Participants!$B$3:$C$1002,2,0),\"\")","v":""}]
[null,null,null,{"$f":"IFERROR(VLOOKUP(C1526,Participants!$B$3:$C$1002,2,0),\"\")","v":""},null,{"$f":"IFERROR(VLOOKUP(E1526,Participants!$B$3:$C$1002,2,0),\"\")","v":""}]
[null,null,null,{"$f":"IFERROR(VLOOKUP(C1527,Participants!$B$3:$C$1002,2,0),\"\")","v":""},null,{"$f":"IFERROR(VLOOKUP(E1527,Participants!$B$3:$C$1002,2,0),\"\")","v":""}]
[null,null,null,{"$f":"IFERROR(VLOOKUP(C1528,Participants!$B$3:$C$1002,2,0),\"\")","v":""},null,{"$f":"IFERROR(VLOOKUP(E1528,Participants!$B$3:$C$1002,2,0),\"\")","v":""}]
[null,null,null,{"$f":"IFERROR(VLOOKUP(C1529,Participants!$B$3:$C$1002,2,0),\"\")","v":""},null,{"$f":"IFERROR(VLOOKUP(E1529,Participants!$B$3:$C$1002,2,0),\"\")","v":""}]
[null,null,null,{"$f":"IFERROR(VLOOKUP(C1530,Participants!$B$3:$C$1002,2,0),\"\")","v":""},null,{"$f":"IFERROR(VLOOKUP(E1530,Participants!$B$3:$C$1002,2,0),\"\")","v":""}]
[null,null,null,{"$f":"IFERROR(VLOOKUP(C1531,Participants!$B$3:$C$1002,2,0),\"\")","v":""},null,{"$f":"IFERROR(VLOOKUP(E1531,Participants!$B$3:$C$1002,2,0),\"\")","v":""}]
[null,null,null,{"$f":"IFERROR(VLOOKUP(C1532,Participants!$B$3:$C$1002,2,0),\"\")","v":""},null,{"$f":"IFERROR(VLOOKUP(E1532,Participants!$B$3:$C$1002,2,0),\"\")","v":""}]
[null,null,null,{"$f":"IFERROR(VLOOKUP(C1533,Participants!$B$3:$C$1002,2,0),\"\")","v":""},null,{"$f":"IFERROR(VLOOKUP(E1533,Participants!$B$3:$C$1002,2,0),\"\")","v":""}]
[null,null,null,{"$f":"IFERROR(VLOOKUP(C1534,Participants!$B$3:$C$1002,2,0),\"\")","v":""},null,{"$f":"IFERROR(VLOOKUP(E1534,Participants!$B$3:$C$1002,2,0),\"\")","v":""}]
[null,null,null,{"$f":"IFERROR(VLOOKUP(C1535,Participants!$B$3:$C$1002,2,0),\"\")","v":""},null,{"$f":"IFERROR(VLOOKUP(E1535,Participants!$B$3:$C$1002,2,0),\"\")","v":""}]
[null,null,null,{"$f":"IFERROR(VLOOKUP(C1536,Participants!$B$3:$C$1002,2,0),\"\")","v":""},null,{"$f":"IFERROR(VLOOKUP(E1536,Participants!$B$3:$C$1002,2,0),\"\")","v":""}]
[null,null,null,{"$f":"IFERROR(VLOOKUP(C1537,Participants!$B$3:$C$1002,2,0),\"\")","v":""},null,{"$f":"IFERROR(VLOOKUP(E1537,Participants!$B$3:$C$1002,2,0),\"\")","v":""}]
[null,null,null,{"$f":"IFERROR(VLOOKUP(C1538,Participants!$B$3:$C$1002,2,0),\"\")","v":""},null,{"$f":"IFERROR(VLOOKUP(E1538,Participants!$B$3:$C$1002,2,0),\"\")","v":""}]
[null,null,null,{"$f":"IFERROR(VLOOKUP(C1539,Participants!$B$3:$C$1002,2,0),\"\")","v":""},null,{"$f":"IFERROR(VLOOKUP(E1539,Participants!$B$3:$C$1002,2,0),\"\")","v":""}]
[null,null,null,{"$f":"IFERROR(VLOOKUP(C1540,Participants!$B$3:$C$1002,2,0),\"\")","v":""},null,{"$f":"IFERROR(VLOOKUP(E1540,Participants!$B$3:$C$1002,2,0),\"\")","v":""}]
[null,null,null,{"$f":"IFERROR(VLOOKUP(C1541,Participants!$B$3:$C$1002,2,0),\"\")","v":""},null,{"$f":"IFERROR(VLOOKUP(E1541,Participants!$B$3:$C$1002,2,0),\"\")","v":""}]
[null,null,null,{"$f":"IFERROR(VLOOKUP(C1542,Participants!$B$3:$C$1002,2,0),\"\")","v":""},null,{"$f":"IFERROR(VLOOKUP(E1542,Participants!$B$3:$C$1002,2,0),\"\")","v":""}]
[null,null,null,{"$f":"IFERROR(VLOOKUP(C1543,Participants!$B$3:$C$1002,2,0),\"\")","v":""},null,{"$f":"IFERROR(VLOOKUP(E1543,Participants!$B$3:$C$1002,2,0),\"\")","v":""}]
[null,null,null,{"$f":"IFERROR(VLOOKUP(C1544,Participants!$B$3:$C$1002,2,0),\"\")","v":""},null,{"$f":"IFERROR(VLOOKUP(E1544,Participants!$B$3:$C$1002,2,0),\"\")","v":""}]
[null,null,null,{"$f":"IFERROR(VLOOKUP(C1545,Participants!$B$3:$C$1002,2,0),\"\")","v":""},null,{"$f":"IFERROR(VLOOKUP(E1545,Participants!$B$3:$C$1002,2,0),\"\")","v":""}]
[null,null,null,{"$f":"IFERROR(VLOOKUP(C1546,Participants!$B$3:$C$1002,2,0),\"\")","v":""},null,{"$f":"IFERROR(VLOOKUP(E1546,Participants!$B$3:$C$1002,2,0),\"\")","v":""}]
[null,null,null,{"$f":"IFERROR(VLOOKUP(C1547,Participants!$B$3:$C$1002,2,0),\"\")","v":""},null,{"$f":"IFERROR(VLOOKUP(E1547,Participants!$B$3:$C$1002,2,0),\"\")","v":""}]
[null,null,null,{"$f":"IFERROR(VLOOKUP(C1548,Participants!$B$3:$C$1002,2,0),\"\")","v":""},null,{"$f":"IFERROR(VLOOKUP(E1548,Participants!$B$3:$C$1002,2,0),\"\")","v":""}]
[null,null,null,{"$f":"IFERROR(VLOOKUP(C1549,Participants!$B$3:$C$1002,2,0),\"\")","v":""},null,{"$f":"IFERROR(VLOOKUP(E1549,Participants!$B$3:$C$1002,2,0),\"\")","v":""}]
[null,null,null,{"$f":"IFERROR(VLOOKUP(C1550,Participants!$B$3:$C$1002,2,0),\"\")","v":""},null,{"$f":"IFERROR(VLOOKUP(E1550,Participants!$B$3:$C$1002,2,0),\"\")","v":""}]
[null,null,null,{"$f":"IFERROR(VLOOKUP(C1551,Participants!$B$3:$C$1002,2,0),\"\")","v":""},null,{"$f":"IFERROR(VLOOKUP(E1551,Participants!$B$3:$C$1002,2,0),\"\")","v":""}]
[null,null,null,{"$f":"IFERROR(VLOOKUP(C1552,Participants!$B$3:$C$1002,2,0),\"\")","v":""},null,{"$f":"IFERROR(VLOOKUP(E1552,Participants!$B$3:$C$1002,2,0),\"\")","v":""}]
[null,null,null,{"$f":"IFERROR(VLOOKUP(C1553,Participants!$B$3:$C$1002,2,0),\"\")","v":""},null,{"$f":"IFERROR(VLOOKUP(E1553,Participants!$B$3:$C$1002,2,0),\"\")","v":""}]
[null,null,null,{"$f":"IFERROR(VLOOKUP(C1554,Participants!$B$3:$C$1002,2,0),\"\")","v":""},null,{"$f":"IFERROR(VLOOKUP(E1554,Participants!$B$3:$C$1002,2,0),\"\")","v":""}]
[null,null,null,{"$f":"IFERROR(VLOOKUP(C1555,Participants!$B$3:$C$1002,2,0),\"\")","v":""},null,{"$f":"IFERROR(VLOOKUP(E1555,Participants!$B$3:$C$1002,2,0),\"\")","v":""}]
[null,null,null,{"$f":"IFERROR(VLOOKUP(C1556,Participants!$B$3:$C$1002,2,0),\"\")","v":""},null,{"$f":"IFERROR(VLOOKUP(E1556,Participants!$B$3:$C$1002,2,0),\"\")","v":""}]
[null,null,null,{"$f":"IFERROR(VLOOKUP(C1557,Participants!$B$3:$C$1002,2,0),\"\")","v":""},null,{"$f":"IFERROR(VLOOKUP(E1557,Participants!$B$3:$C$1002,2,0),\"\")","v":""}]
[null,null,null,{"$f":"IFERROR(VLOOKUP(C1558,Participants!$B$3:$C$1002,2,0),\"\")","v":""},null,{"$f":"IFERROR(VLOOKUP(E1558,Participants!$B$3:$C$1002,2,0),\"\")","v":""}]
[null,null,null,{"$f":"IFERROR(VLOOKUP(C1559,Participants!$B$3:$C$1002,2,0),\"\")","v":""},null,{"$f":"IFERROR(VLOOKUP(E1559,Participants!$B$3:$C$1002,2,0),\"\")","v":""}]
[null,null,null,{"$f":"IFERROR(VLOOKUP(C1560,Participants!$B$3:$C$1002,2,0),\"\")","v":""},null,{"$f":"IFERROR(VLOOKUP(E1560,Participants!$B$3:$C$1002,2,0),\"\")","v":""}]
[null,null,null,{"$f":"IFERROR(VLOOKUP(C1561,Participants!$B$3:$C$1002,2,0),\"\")","v":""},null,{"$f":"IFERROR(VLOOKUP(E1561,Participants!$B$3:$C$1002,2,0),\"\")","v":""}]
[null,null,null,{"$f":"IFERROR(VLOOKUP(C1562,Participants!$B$3:$C$1002,2,0),\"\")","v":""},null,{"$f":"IFERROR(VLOOKUP(E1562,Participants!$B$3:$C$1002,2,0),\"\")","v":""}]
[null,null,null,{"$f":"IFERROR(VLOOKUP(C1563,Participants!$B$3:$C$1002,2,0),\"\")","v":""},null,{"$f":"IFERROR(VLOOKUP(E1563,Participants!$B$3:$C$1002,2,0),\"\")","v":""}]
[null,null,null,{"$f":"IFERROR(VLOOKUP(C1564,Participants!$B$3:$C$1002,2,0),\"\")","v":""},null,{"$f":"IFERROR(VLOOKUP(E1564,Participants!$B$3:$C$1002,2,0),\"\")","v":""}]
[null,null,null,{"$f":"IFERROR(VLOOKUP(C1565,Participants!$B$3:$C$1002,2,0),\"\")","v":""},null,{"$f":"IFERROR(VLOOKUP(E1565,Participants!$B$3:$C$1002,2,0),\"\")","v":""}]
[null,null,null,{"$f":"IFERROR(VLOOKUP(C1566,Participants!$B$3:$C$1002,2,0),\"\")","v":""},null,{"$f":"IFERROR(VLOOKUP(E1566,Participants!$B$3:$C$1002,2,0),\"\")","v":""}]
[null,null,null,{"$f":"IFERROR(VLOOKUP(C1567,Participants!$B$3:$C$1002,2,0),\"\")","v":""},null,{"$f":"IFERROR(VLOOKUP(E1567,Participants!$B$3:$C$1002,2,0),\"\")","v":""}]
[null,null,null,{"$f":"IFERROR(VLOOKUP(C1568,Participants!$B$3:$C$1002,2,0),\"\")","v":""},null,{"$f":"IFERROR(VLOOKUP(E1568,Participants!$B$3:$C$1002,2,0),\"\")","v":""}]
[null,null,null,{"$f":"IFERROR(VLOOKUP(C1569,Participants!$B$3:$C$1002,2,0),\"\")","v":""},null,{"$f":"IFERROR(VLOOKUP(E1569,Participants!$B$3:$C$1002,2,0),\"\")","v":""}]
[null,null,null,{"$f":"IFERROR(VLOOKUP(C1570,Participants!$B$3:$C$1002,2,0),\"\")","v":""},null,{"$f":"IFERROR(VLOOKUP(E1570,Participants!$B$3:$C$1002,2,0),\"\")","v":""}]
[null,null,null,{"$f":"IFERROR(VLOOKUP(C1571,Participants!$B$3:$C$1002,2,0),\"\")","v":""},null,{"$f":"IFERROR(VLOOKUP(E1571,Participants!$B$3:$C$1002,2,0),\"\")","v":""}]
[null,null,null,{"$f":"IFERROR(VLOOKUP(C1572,Participants!$B$3:$C$1002,2,0),\"\")","v":""},null,{"$f":"IFERROR(VLOOKUP(E1572,Participants!$B$3:$C$1002,2,0),\"\")","v":""}]
[null,null,null,{"$f":"IFERROR(VLOOKUP(C1573,Participants!$B$3:$C$1002,2,0),\"\")","v":""},null,{"$f":"IFERROR(VLOOKUP(E1573,Participants!$B$3:$C$1002,2,0),\"\")","v":""}]
[null,null,null,{"$f":"IFERROR(VLOOKUP(C1574,Participants!$B$3:$C$1002,2,0),\"\")","v":""},null,{"$f":"IFERROR(VLOOKUP(E1574,Participants!$B$3:$C$1002,2,0),\"\")","v":""}]
[null,null,null,{"$f":"IFERROR(VLOOKUP(C1575,Participants!$B$3:$C$1002,2,0),\"\")","v":""},null,{"$f":"IFERROR(VLOOKUP(E1575,Participants!$B$3:$C$1002,2,0),\"\")","v":""}]
[null,null,null,{"$f":"IFERROR(VLOOKUP(C1576,Participants!$B$3:$C$1002,2,0),\"\")","v":""},null,{"$f":"IFERROR(VLOOKUP(E1576,Participants!$B$3:$C$1002,2,0),\"\")","v":""}]
[null,null,null,{"$f":"IFERROR(VLOOKUP(C1577,Participants!$B$3:$C$1002,2,0),\"\")","v":""},null,{"$f":"IFERROR(VLOOKUP(E1577,Participants!$B$3:$C$1002,2,0),\"\")","v":""}]
[null,null,null,{"$f":"IFERROR(VLOOKUP(C1578,Participants!$B$3:$C$1002,2,0),\"\")","v":""},null,{"$f":"IFERROR(VLOOKUP(E1578,Participants!$B$3:$C$1002,2,0),\"\")","v":""}]
[null,null,null,{"$f":"IFERROR(VLOOKUP(C1579,Participants!$B$3:$C$1002,2,0),\"\")","v":""},null,{"$f":"IFERROR(VLOOKUP(E1579,Participants!$B$3:$C$1002,2,0),\"\")","v":""}]
[null,null,null,{"$f":"IFERROR(VLOOKUP(C1580,Participants!$B$3:$C$1002,2,0),\"\")","v":""},null,{"$f":"IFERROR(VLOOKUP(E1580,Participants!$B$3:$C$1002,2,0),\"\")","v":""}]
[null,null,null,{"$f":"IFERROR(VLOOKUP(C1581,Participants!$B$3:$C$1002,2,0),\"\")","v":""},null,{"$f":"IFERROR(VLOOKUP(E1581,Participants!$B$3:$C$1002,2,0),\"\")","v":""}]
[null,null,null,{"$f":"IFERROR(VLOOKUP(C1582,Participants!$B$3:$C$1002,2,0),\"\")","v":""},null,{"$f":"IFERROR(VLOOKUP(E1582,Participants!$B$3:$C$1002,2,0),\"\")","v":""}]
[null,null,null,{"$f":"IFERROR(VLOOKUP(C1583,Participants!$B$3:$C$1002,2,0),\"\")","v":""},null,{"$f":"IFERROR(VLOOKUP(E1583,Participants!$B$3:$C$1002,2,0),\"\")","v":""}]
[null,null,null,{"$f":"IFERROR(VLOOKUP(C1584,Participants!$B$3:$C$1002,2,0),\"\")","v":""},null,{"$f":"IFERROR(VLOOKUP(E1584,Participants!$B$3:$C$1002,2,0),\"\")","v":""}]
[null,null,null,{"$f":"IFERROR(VLOOKUP(C1585,Participants!$B$3:$C$1002,2,0),\"\")","v":""},null,{"$f":"IFERROR(VLOOKUP(E1585,Participants!$B$3:$C$1002,2,0),\"\")","v":""}]
[null,null,null,{"$f":"IFERROR(VLOOKUP(C1586,Participants!$B$3:$C$1002,2,0),\"\")","v":""},null,{"$f":"IFERROR(VLOOKUP(E1586,Participants!$B$3:$C$1002,2,0),\"\")","v":""}]
[null,null,null,{"$f":"IFERROR(VLOOKUP(C1587,Participants!$B$3:$C$1002,2,0),\"\")","v":""},null,{"$f":"IFERROR(VLOOKUP(E1587,Participants!$B$3:$C$1002,2,0),\"\")","v":""}]
[null,null,null,{"$f":"IFERROR(VLOOKUP(C1588,Participants!$B$3:$C$1002,2,0),\"\")","v":""},null,{"$f":"IFERROR(VLOOKUP(E1588,Participants!$B$3:$C$1002,2,0),\"\")","v":""}]
[null,null,null,{"$f":"IFERROR(VLOOKUP(C1589,Participants!$B$3:$C$1002,2,0),\"\")","v":""},null,{"$f":"IFERROR(VLOOKUP(E1589,Participants!$B$3:$C$1002,2,0),\"\")","v":""}]
[null,null,null,{"$f":"IFERROR(VLOOKUP(C1590,Participants!$B$3:$C$1002,2,0),\"\")","v":""},null,{"$f":"IFERROR(VLOOKUP(E1590,Participants!$B$3:$C$1002,2,0),\"\")","v":""}]
[null,null,null,{"$f":"IFERROR(VLOOKUP(C1591,Participants!$B$3:$C$1002,2,0),\"\")","v":""},null,{"$f":"IFERROR(VLOOKUP(E1591,Participants!$B$3:$C$1002,2,0),\"\")","v":""}]
[null,null,null,{"$f":"IFERROR(VLOOKUP(C1592,Participants!$B$3:$C$1002,2,0),\"\")","v":""},null,{"$f":"IFERROR(VLOOKUP(E1592,Participants!$B$3:$C$1002,2,0),\"\")","v":""}]
[null,null,null,{"$f":"IFERROR(VLOOKUP(C1593,Participants!$B$3:$C$1002,2,0),\"\")","v":""},null,{"$f":"IFERROR(VLOOKUP(E1593,Participants!$B$3:$C$1002,2,0),\"\")","v":""}]
[null,null,null,{"$f":"IFERROR(VLOOKUP(C1594,Participants!$B$3:$C$1002,2,0),\"\")","v":""},null,{"$f":"IFERROR(VLOOKUP(E1594,Participants!$B$3:$C$1002,2,0),\"\")","v":""}]
[null,null,null,{"$f":"IFERROR(VLOOKUP(C1595,Participants!$B$3:$C$1002,2,0),\"\")","v":""},null,{"$f":"IFERROR(VLOOKUP(E1595,Participants!$B$3:$C$1002,2,0),\"\")","v":""}]
[null,null,null,{"$f":"IFERROR(VLOOKUP(C1596,Participants!$B$3:$C$1002,2,0),\"\")","v":""},null,{"$f":"IFERROR(VLOOKUP(E1596,Participants!$B$3:$C$1002,2,0),\"\")","v":""}]
[null,null,null,{"$f":"IFERROR(VLOOKUP(C1597,Participants!$B$3:$C$1002,2,0),\"\")","v":""},null,{"$f":"IFERROR(VLOOKUP(E1597,Participants!$B$3:$C$1002,2,0),\"\")","v":""}]
[null,null,null,{"$f":"IFERROR(VLOOKUP(C1598,Participants!$B$3:$C$1002,2,0),\"\")","v":""},null,{"$f":"IFERROR(VLOOKUP(E1598,Participants!$B$3:$C$1002,2,0),\"\")","v":""}]
[null,null,null,{"$f":"IFERROR(VLOOKUP(C1599,Participants!$B$3:$C$1002,2,0),\"\")","v":""},null,{"$f":"IFERROR(VLOOKUP(E1599,Participants!$B$3:$C$1002,2,0),\"\")","v":""}]
[null,null,null,{"$f":"IFERROR(VLOOKUP(C1600,Participants!$B$3:$C$1002,2,0),\"\")","v":""},null,{"$f":"IFERROR(VLOOKUP(E1600,Participants!$B$3:$C$1002,2,0),\"\")","v":""}]
[null,null,null,{"$f":"IFERROR(VLOOKUP(C1601,Participants!$B$3:$C$1002,2,0),\"\")","v":""},null,{"$f":"IFERROR(VLOOKUP(E1601,Participants!$B$3:$C$1002,2,0),\"\")","v":""}]
[null,null,null,{"$f":"IFERROR(VLOOKUP(C1602,Participants!$B$3:$C$1002,2,0),\"\")","v":""},null,{"$f":"IFERROR(VLOOKUP(E1602,Participants!$B$3:$C$1002,2,0),\"\")","v":""}]
[null,null,null,{"$f":"IFERROR(VLOOKUP(C1603,Participants!$B$3:$C$1002,2,0),\"\")","v":""},null,{"$f":"IFERROR(VLOOKUP(E1603,Participants!$B$3:$C$1002,2,0),\"\")","v":""}]
[null,null,null,{"$f":"IFERROR(VLOOKUP(C1604,Participants!$B$3:$C$1002,2,0),\"\")","v":""},null,{"$f":"IFERROR(VLOOKUP(E1604,Participants!$B$3:$C$1002,2,0),\"\")","v":""}]
[null,null,null,{"$f":"IFERROR(VLOOKUP(C1605,Participants!$B$3:$C$1002,2,0),\"\")","v":""},null,{"$f":"IFERROR(VLOOKUP(E1605,Participants!$B$3:$C$1002,2,0),\"\")","v":""}]
[null,null,null,{"$f":"IFERROR(VLOOKUP(C1606,Participants!$B$3:$C$1002,2,0),\"\")","v":""},null,{"$f":"IFERROR(VLOOKUP(E1606,Participants!$B$3:$C$1002,2,0),\"\")","v":""}]
[null,null,null,{"$f":"IFERROR(VLOOKUP(C1607,Participants!$B$3:$C$1002,2,0),\"\")","v":""},null,{"$f":"IFERROR(VLOOKUP(E1607,Participants!$B$3:$C$1002,2,0),\"\")","v":""}]
[null,null,null,{"$f":"IFERROR(VLOOKUP(C1608,Participants!$B$3:$C$1002,2,0),\"\")","v":""},null,{"$f":"IFERROR(VLOOKUP(E1608,Participants!$B$3:$C$1002,2,0),\"\")","v":""}]
[null,null,null,{"$f":"IFERROR(VLOOKUP(C1609,Participants!$B$3:$C$1002,2,0),\"\")","v":""},null,{"$f":"IFERROR(VLOOKUP(E1609,Participants!$B$3:$C$1002,2,0),\"\")","v":""}]
[null,null,null,{"$f":"IFERROR(VLOOKUP(C1610,Participants!$B$3:$C$1002,2,0),\"\")","v":""},null,{"$f":"IFERROR(VLOOKUP(E1610,Participants!$B$3:$C$1002,2,0),\"\")","v":""}]
[null,null,null,{"$f":"IFERROR(VLOOKUP(C1611,Participants!$B$3:$C$1002,2,0),\"\")","v":""},null,{"$f":"IFERROR(VLOOKUP(E1611,Participants!$B$3:$C$1002,2,0),\"\")","v":""}]
[null,null,null,{"$f":"IFERROR(VLOOKUP(C1612,Participants!$B$3:$C$1002,2,0),\"\")","v":""},null,{"$f":"IFERROR(VLOOKUP(E1612,Participants!$B$3:$C$1002,2,0),\"\")","v":""}]
[null,null,null,{"$f":"IFERROR(VLOOKUP(C1613,Participants!$B$3:$C$1002,2,0),\"\")","v":""},null,{"$f":"IFERROR(VLOOKUP(E1613,Participants!$B$3:$C$1002,2,0),\"\")","v":""}]
[null,null,null,{"$f":"IFERROR(VLOOKUP(C1614,Participants!$B$3:$C$1002,2,0),\"\")","v":""},null,{"$f":"IFERROR(VLOOKUP(E1614,Participants!$B$3:$C$1002,2,0),\"\")","v":""}]
[null,null,null,{"$f":"IFERROR(VLOOKUP(C1615,Participants!$B$3:$C$1002,2,0),\"\")","v":""},null,{"$f":"IFERROR(VLOOKUP(E1615,Participants!$B$3:$C$1002,2,0),\"\")","v":""}]
[null,null,null,{"$f":"IFERROR(VLOOKUP(C1616,Participants!$B$3:$C$1002,2,0),\"\")","v":""},null,{"$f":"IFERROR(VLOOKUP(E1616,Participants!$B$3:$C$1002,2,0),\"\")","v":""}]
[null,null,null,{"$f":"IFERROR(VLOOKUP(C1617,Participants!$B$3:$C$1002,2,0),\"\")","v":""},null,{"$f":"IFERROR(VLOOKUP(E1617,Participants!$B$3:$C$1002,2,0),\"\")","v":""}]
[null,null,null,{"$f":"IFERROR(VLOOKUP(C1618,Participants!$B$3:$C$1002,2,0),\"\")","v":""},null,{"$f":"IFERROR(VLOOKUP(E1618,Participants!$B$3:$C$1002,2,0),\"\")","v":""}]
[null,null,null,{"$f":"IFERROR(VLOOKUP(C1619,Participants!$B$3:$C$1002,2,0),\"\")","v":""},null,{"$f":"IFERROR(VLOOKUP(E1619,Participants!$B$3:$C$1002,2,0),\"\")","v":""}]
[null,null,null,{"$f":"IFERROR(VLOOKUP(C1620,Participants!$B$3:$C$1002,2,0),\"\")","v":""},null,{"$f":"IFERROR(VLOOKUP(E1620,Participants!$B$3:$C$1002,2,0),\"\")","v":""}]
[null,null,null,{"$f":"IFERROR(VLOOKUP(C1621,Participants!$B$3:$C$1002,2,0),\"\")","v":""},null,{"$f":"IFERROR(VLOOKUP(E1621,Participants!$B$3:$C$1002,2,0),\"\")","v":""}]
[null,null,null,{"$f":"IFERROR(VLOOKUP(C1622,Participants!$B$3:$C$1002,2,0),\"\")","v":""},null,{"$f":"IFERROR(VLOOKUP(E1622,Participants!$B$3:$C$1002,2,0),\"\")","v":""}]
[null,null,null,{"$f":"IFERROR(VLOOKUP(C1623,Participants!$B$3:$C$1002,2,0),\"\")","v":""},null,{"$f":"IFERROR(VLOOKUP(E1623,Participants!$B$3:$C$1002,2,0),\"\")","v":""}]
[null,null,null,{"$f":"IFERROR(VLOOKUP(C1624,Participants!$B$3:$C$1002,2,0),\"\")","v":""},null,{"$f":"IFERROR(VLOOKUP(E1624,Participants!$B$3:$C$1002,2,0),\"\")","v":""}]
[null,null,null,{"$f":"IFERROR(VLOOKUP(C1625,Participants!$B$3:$C$1002,2,0),\"\")","v":""},null,{"$f":"IFERROR(VLOOKUP(E1625,Participants!$B$3:$C$1002,2,0),\"\")","v":""}]
[null,null,null,{"$f":"IFERROR(VLOOKUP(C1626,Participants!$B$3:$C$1002,2,0),\"\")","v":""},null,{"$f":"IFERROR(VLOOKUP(E1626,Participants!$B$3:$C$1002,2,0),\"\")","v":""}]
[null,null,null,{"$f":"IFERROR(VLOOKUP(C1627,Participants!$B$3:$C$1002,2,0),\"\")","v":""},null,{"$f":"IFERROR(VLOOKUP(E1627,Participants!$B$3:$C$1002,2,0),\"\")","v":""}]
[null,null,null,{"$f":"IFERROR(VLOOKUP(C1628,Participants!$B$3:$C$1002,2,0),\"\")","v":""},null,{"$f":"IFERROR(VLOOKUP(E1628,Participants!$B$3:$C$1002,2,0),\"\")","v":""}]
[null,null,null,{"$f":"IFERROR(VLOOKUP(C1629,Participants!$B$3:$C$1002,2,0),\"\")","v":""},null,{"$f":"IFERROR(VLOOKUP(E1629,Participants!$B$3:$C$1002,2,0),\"\")","v":""}]
[null,null,null,{"$f":"IFERROR(VLOOKUP(C1630,Participants!$B$3:$C$1002,2,0),\"\")","v":""},null,{"$f":"IFERROR(VLOOKUP(E1630,Participants!$B$3:$C$1002,2,0),\"\")","v":""}]
[null,null,null,{"$f":"IFERROR(VLOOKUP(C1631,Participants!$B$3:$C$1002,2,0),\"\")","v":""},null,{"$f":"IFERROR(VLOOKUP(E1631,Participants!$B$3:$C$1002,2,0),\"\")","v":""}]
[null,null,null,{"$f":"IFERROR(VLOOKUP(C1632,Participants!$B$3:$C$1002,2,0),\"\")","v":""},null,{"$f":"IFERROR(VLOOKUP(E1632,Participants!$B$3:$C$1002,2,0),\"\")","v":""}]
[null,null,null,{"$f":"IFERROR(VLOOKUP(C1633,Participants!$B$3:$C$1002,2,0),\"\")","v":""},null,{"$f":"IFERROR(VLOOKUP(E1633,Participants!$B$3:$C$1002,2,0),\"\")","v":""}]
[null,null,null,{"$f":"IFERROR(VLOOKUP(C1634,Participants!$B$3:$C$1002,2,0),\"\")","v":""},null,{"$f":"IFERROR(VLOOKUP(E1634,Participants!$B$3:$C$1002,2,0),\"\")","v":""}]
[null,null,null,{"$f":"IFERROR(VLOOKUP(C1635,Participants!$B$3:$C$1002,2,0),\"\")","v":""},null,{"$f":"IFERROR(VLOOKUP(E1635,Participants!$B$3:$C$1002,2,0),\"\")","v":""}]
[null,null,null,{"$f":"IFERROR(VLOOKUP(C1636,Participants!$B$3:$C$1002,2,0),\"\")","v":""},null,{"$f":"IFERROR(VLOOKUP(E1636,Participants!$B$3:$C$1002,2,0),\"\")","v":""}]
[null,null,null,{"$f":"IFERROR(VLOOKUP(C1637,Participants!$B$3:$C$1002,2,0),\"\")","v":""},null,{"$f":"IFERROR(VLOOKUP(E1637,Participants!$B$3:$C$1002,2,0),\"\")","v":""}]
[null,null,null,{"$f":"IFERROR(VLOOKUP(C1638,Participants!$B$3:$C$1002,2,0),\"\")","v":""},null,{"$f":"IFERROR(VLOOKUP(E1638,Participants!$B$3:$C$1002,2,0),\"\")","v":""}]
[null,null,null,{"$f":"IFERROR(VLOOKUP(C1639,Participants!$B$3:$C$1002,2,0),\"\")","v":""},null,{"$f":"IFERROR(VLOOKUP(E1639,Participants!$B$3:$C$1002,2,0),\"\")","v":""}]
[null,null,null,{"$f":"IFERROR(VLOOKUP(C1640,Participants!$B$3:$C$1002,2,0),\"\")","v":""},null,{"$f":"IFERROR(VLOOKUP(E1640,Participants!$B$3:$C$1002,2,0),\"\")","v":""}]
[null,null,null,{"$f":"IFERROR(VLOOKUP(C1641,Participants!$B$3:$C$1002,2,0),\"\")","v":""},null,{"$f":"IFERROR(VLOOKUP(E1641,Participants!$B$3:$C$1002,2,0),\"\")","v":""}]
[null,null,null,{"$f":"IFERROR(VLOOKUP(C1642,Participants!$B$3:$C$1002,2,0),\"\")","v":""},null,{"$f":"IFERROR(VLOOKUP(E1642,Participants!$B$3:$C$1002,2,0),\"\")","v":""}]
[null,null,null,{"$f":"IFERROR(VLOOKUP(C1643,Participants!$B$3:$C$1002,2,0),\"\")","v":""},null,{"$f":"IFERROR(VLOOKUP(E1643,Participants!$B$3:$C$1002,2,0),\"\")","v":""}]
[null,null,null,{"$f":"IFERROR(VLOOKUP(C1644,Participants!$B$3:$C$1002,2,0),\"\")","v":""},null,{"$f":"IFERROR(VLOOKUP(E1644,Participants!$B$3:$C$1002,2,0),\"\")","v":""}]
[null,null,null,{"$f":"IFERROR(VLOOKUP(C1645,Participants!$B$3:$C$1002,2,0),\"\")","v":""},null,{"$f":"IFERROR(VLOOKUP(E1645,Participants!$B$3:$C$1002,2,0),\"\")","v":""}]
[null,null,null,{"$f":"IFERROR(VLOOKUP(C1646,Participants!$B$3:$C$1002,2,0),\"\")","v":""},null,{"$f":"IFERROR(VLOOKUP(E1646,Participants!$B$3:$C$1002,2,0),\"\")","v":""}]
[null,null,null,{"$f":"IFERROR(VLOOKUP(C1647,Participants!$B$3:$C$1002,2,0),\"\")","v":""},null,{"$f":"IFERROR(VLOOKUP(E1647,Participants!$B$3:$C$1002,2,0),\"\")","v":""}]
[null,null,null,{"$f":"IFERROR(VLOOKUP(C1648,Participants!$B$3:$C$1002,2,0),\"\")","v":""},null,{"$f":"IFERROR(VLOOKUP(E1648,Participants!$B$3:$C$1002,2,0),\"\")","v":""}]
[null,null,null,{"$f":"IFERROR(VLOOKUP(C1649,Participants!$B$3:$C$1002,2,0),\"\")","v":""},null,{"$f":"IFERROR(VLOOKUP(E1649,Participants!$B$3:$C$1002,2,0),\"\")","v":""}]
[null,null,null,{"$f":"IFERROR(VLOOKUP(C1650,Participants!$B$3:$C$1002,2,0),\"\")","v":""},null,{"$f":"IFERROR(VLOOKUP(E1650,Participants!$B$3:$C$1002,2,0),\"\")","v":""}]
[null,null,null,{"$f":"IFERROR(VLOOKUP(C1651,Participants!$B$3:$C$1002,2,0),\"\")","v":""},null,{"$f":"IFERROR(VLOOKUP(E1651,Participants!$B$3:$C$1002,2,0),\"\")","v":""}]
[null,null,null,{"$f":"IFERROR(VLOOKUP(C1652,Participants!$B$3:$C$1002,2,0),\"\")","v":""},null,{"$f":"IFERROR(VLOOKUP(E1652,Participants!$B$3:$C$1002,2,0),\"\")","v":""}]
[null,null,null,{"$f":"IFERROR(VLOOKUP(C1653,Participants!$B$3:$C$1002,2,0),\"\")","v":""},null,{"$f":"IFERROR(VLOOKUP(E1653,Participants!$B$3:$C$1002,2,0),\"\")","v":""}]
[null,null,null,{"$f":"IFERROR(VLOOKUP(C1654,Participants!$B$3:$C$1002,2,0),\"\")","v":""},null,{"$f":"IFERROR(VLOOKUP(E1654,Participants!$B$3:$C$1002,2,0),\"\")","v":""}]
[null,null,null,{"$f":"IFERROR(VLOOKUP(C1655,Participants!$B$3:$C$1002,2,0),\"\")","v":""},null,{"$f":"IFERROR(VLOOKUP(E1655,Participants!$B$3:$C$1002,2,0),\"\")","v":""}]
[null,null,null,{"$f":"IFERROR(VLOOKUP(C1656,Participants!$B$3:$C$1002,2,0),\"\")","v":""},null,{"$f":"IFERROR(VLOOKUP(E1656,Participants!$B$3:$C$1002,2,0),\"\")","v":""}]
[null,null,null,{"$f":"IFERROR(VLOOKUP(C1657,Participants!$B$3:$C$1002,2,0),\"\")","v":""},null,{"$f":"IFERROR(VLOOKUP(E1657,Participants!$B$3:$C$1002,2,0),\"\")","v":""}]
[null,null,null,{"$f":"IFERROR(VLOOKUP(C1658,Participants!$B$3:$C$1002,2,0),\"\")","v":""},null,{"$f":"IFERROR(VLOOKUP(E1658,Participants!$B$3:$C$1002,2,0),\"\")","v":""}]
[null,null,null,{"$f":"IFERROR(VLOOKUP(C1659,Participants!$B$3:$C$1002,2,0),\"\")","v":""},null,{"$f":"IFERROR(VLOOKUP(E1659,Participants!$B$3:$C$1002,2,0),\"\")","v":""}]
[null,null,null,{"$f":"IFERROR(VLOOKUP(C1660,Participants!$B$3:$C$1002,2,0),\"\")","v":""},null,{"$f":"IFERROR(VLOOKUP(E1660,Participants!$B$3:$C$1002,2,0),\"\")","v":""}]
[null,null,null,{"$f":"IFERROR(VLOOKUP(C1661,Participants!$B$3:$C$1002,2,0),\"\")","v":""},null,{"$f":"IFERROR(VLOOKUP(E1661,Participants!$B$3:$C$1002,2,0),\"\")","v":""}]
[null,null,null,{"$f":"IFERROR(VLOOKUP(C1662,Participants!$B$3:$C$1002,2,0),\"\")","v":""},null,{"$f":"IFERROR(VLOOKUP(E1662,Participants!$B$3:$C$1002,2,0),\"\")","v":""}]
[null,null,null,{"$f":"IFERROR(VLOOKUP(C1663,Participants!$B$3:$C$1002,2,0),\"\")","v":""},null,{"$f":"IFERROR(VLOOKUP(E1663,Participants!$B$3:$C$1002,2,0),\"\")","v":""}]
[null,null,null,{"$f":"IFERROR(VLOOKUP(C1664,Participants!$B$3:$C$1002,2,0),\"\")","v":""},null,{"$f":"IFERROR(VLOOKUP(E1664,Participants!$B$3:$C$1002,2,0),\"\")","v":""}]
[null,null,null,{"$f":"IFERROR(VLOOKUP(C1665,Participants!$B$3:$C$1002,2,0),\"\")","v":""},null,{"$f":"IFERROR(VLOOKUP(E1665,Participants!$B$3:$C$1002,2,0),\"\")","v":""}]
[null,null,null,{"$f":"IFERROR(VLOOKUP(C1666,Participants!$B$3:$C$1002,2,0),\"\")","v":""},null,{"$f":"IFERROR(VLOOKUP(E1666,Participants!$B$3:$C$1002,2,0),\"\")","v":""}]
[null,null,null,{"$f":"IFERROR(VLOOKUP(C1667,Participants!$B$3:$C$1002,2,0),\"\")","v":""},null,{"$f":"IFERROR(VLOOKUP(E1667,Participants!$B$3:$C$1002,2,0),\"\")","v":""}]
[null,null,null,{"$f":"IFERROR(VLOOKUP(C1668,Participants!$B$3:$C$1002,2,0),\"\")","v":""},null,{"$f":"IFERROR(VLOOKUP(E1668,Participants!$B$3:$C$1002,2,0),\"\")","v":""}]
[null,null,null,{"$f":"IFERROR(VLOOKUP(C1669,Participants!$B$3:$C$1002,2,0),\"\")","v":""},null,{"$f":"IFERROR(VLOOKUP(E1669,Participants!$B$3:$C$1002,2,0),\"\")","v":""}]
[null,null,null,{"$f":"IFERROR(VLOOKUP(C1670,Participants!$B$3:$C$1002,2,0),\"\")","v":""},null,{"$f":"IFERROR(VLOOKUP(E1670,Participants!$B$3:$C$1002,2,0),\"\")","v":""}]
[null,null,null,{"$f":"IFERROR(VLOOKUP(C1671,Participants!$B$3:$C$1002,2,0),\"\")","v":""},null,{"$f":"IFERROR(VLOOKUP(E1671,Participants!$B$3:$C$1002,2,0),\"\")","v":""}]
[null,null,null,{"$f":"IFERROR(VLOOKUP(C1672,Participants!$B$3:$C$1002,2,0),\"\")","v":""},null,{"$f":"IFERROR(VLOOKUP(E1672,Participants!$B$3:$C$1002,2,0),\"\")","v":""}]
[null,null,null,{"$f":"IFERROR(VLOOKUP(C1673,Participants!$B$3:$C$1002,2,0),\"\")","v":""},null,{"$f":"IFERROR(VLOOKUP(E1673,Participants!$B$3:$C$1002,2,0),\"\")","v":""}]
[null,null,null,{"$f":"IFERROR(VLOOKUP(C1674,Participants!$B$3:$C$1002,2,0),\"\")","v":""},null,{"$f":"IFERROR(VLOOKUP(E1674,Participants!$B$3:$C$1002,2,0),\"\")","v":""}]
[null,null,null,{"$f":"IFERROR(VLOOKUP(C1675,Participants!$B$3:$C$1002,2,0),\"\")","v":""},null,{"$f":"IFERROR(VLOOKUP(E1675,Participants!$B$3:$C$1002,2,0),\"\")","v":""}]
[null,null,null,{"$f":"IFERROR(VLOOKUP(C1676,Participants!$B$3:$C$1002,2,0),\"\")","v":""},null,{"$f":"IFERROR(VLOOKUP(E1676,Participants!$B$3:$C$1002,2,0),\"\")","v":""}]
[null,null,null,{"$f":"IFERROR(VLOOKUP(C1677,Participants!$B$3:$C$1002,2,0),\"\")","v":""},null,{"$f":"IFERROR(VLOOKUP(E1677,Participants!$B$3:$C$1002,2,0),\"\")","v":""}]
[null,null,null,{"$f":"IFERROR(VLOOKUP(C1678,Participants!$B$3:$C$1002,2,0),\"\")","v":""},null,{"$f":"IFERROR(VLOOKUP(E1678,Participants!$B$3:$C$1002,2,0),\"\")","v":""}]
[null,null,null,{"$f":"IFERROR(VLOOKUP(C1679,Participants!$B$3:$C$1002,2,0),\"\")","v":""},null,{"$f":"IFERROR(VLOOKUP(E1679,Participants!$B$3:$C$1002,2,0),\"\")","v":""}]
[null,null,null,{"$f":"IFERROR(VLOOKUP(C1680,Participants!$B$3:$C$1002,2,0),\"\")","v":""},null,{"$f":"IFERROR(VLOOKUP(E1680,Participants!$B$3:$C$1002,2,0),\"\")","v":""}]
[null,null,null,{"$f":"IFERROR(VLOOKUP(C1681,Participants!$B$3:$C$1002,2,0),\"\")","v":""},null,{"$f":"IFERROR(VLOOKUP(E1681,Participants!$B$3:$C$1002,2,0),\"\")","v":""}]
[null,null,null,{"$f":"IFERROR(VLOOKUP(C1682,Participants!$B$3:$C$1002,2,0),\"\")","v":""},null,{"$f":"IFERROR(VLOOKUP(E1682,Participants!$B$3:$C$1002,2,0),\"\")","v":""}]
[null,null,null,{"$f":"IFERROR(VLOOKUP(C1683,Participants!$B$3:$C$1002,2,0),\"\")","v":""},null,{"$f":"IFERROR(VLOOKUP(E1683,Participants!$B$3:$C$1002,2,0),\"\")","v":""}]
[null,null,null,{"$f":"IFERROR(VLOOKUP(C1684,Participants!$B$3:$C$1002,2,0),\"\")","v":""},null,{"$f":"IFERROR(VLOOKUP(E1684,Participants!$B$3:$C$1002,2,0),\"\")","v":""}]
[null,null,null,{"$f":"IFERROR(VLOOKUP(C1685,Participants!$B$3:$C$1002,2,0),\"\")","v":""},null,{"$f":"IFERROR(VLOOKUP(E1685,Participants!$B$3:$C$1002,2,0),\"\")","v":""}]
[null,null,null,{"$f":"IFERROR(VLOOKUP(C1686,Participants!$B$3:$C$1002,2,0),\"\")","v":""},null,{"$f":"IFERROR(VLOOKUP(E1686,Participants!$B$3:$C$1002,2,0),\"\")","v":""}]
[null,null,null,{"$f":"IFERROR(VLOOKUP(C1687,Participants!$B$3:$C$1002,2,0),\"\")","v":""},null,{"$f":"IFERROR(VLOOKUP(E1687,Participants!$B$3:$C$1002,2,0),\"\")","v":""}]
[null,null,null,{"$f":"IFERROR(VLOOKUP(C1688,Participants!$B$3:$C$1002,2,0),\"\")","v":""},null,{"$f":"IFERROR(VLOOKUP(E1688,Participants!$B$3:$C$1002,2,0),\"\")","v":""}]
[null,null,null,{"$f":"IFERROR(VLOOKUP(C1689,Participants!$B$3:$C$1002,2,0),\"\")","v":""},null,{"$f":"IFERROR(VLOOKUP(E1689,Participants!$B$3:$C$1002,2,0),\"\")","v":""}]
[null,null,null,{"$f":"IFERROR(VLOOKUP(C1690,Participants!$B$3:$C$1002,2,0),\"\")","v":""},null,{"$f":"IFERROR(VLOOKUP(E1690,Participants!$B$3:$C$1002,2,0),\"\")","v":""}]
[null,null,null,{"$f":"IFERROR(VLOOKUP(C1691,Participants!$B$3:$C$1002,2,0),\"\")","v":""},null,{"$f":"IFERROR(VLOOKUP(E1691,Participants!$B$3:$C$1002,2,0),\"\")","v":""}]
[null,null,null,{"$f":"IFERROR(VLOOKUP(C1692,Participants!$B$3:$C$1002,2,0),\"\")","v":""},null,{"$f":"IFERROR(VLOOKUP(E1692,Participants!$B$3:$C$1002,2,0),\"\")","v":""}]
[null,null,null,{"$f":"IFERROR(VLOOKUP(C1693,Participants!$B$3:$C$1002,2,0),\"\")","v":""},null,{"$f":"IFERROR(VLOOKUP(E1693,Participants!$B$3:$C$1002,2,0),\"\")","v":""}]
[null,null,null,{"$f":"IFERROR(VLOOKUP(C1694,Participants!$B$3:$C$1002,2,0),\"\")","v":""},null,{"$f":"IFERROR(VLOOKUP(E1694,Participants!$B$3:$C$1002,2,0),\"\")","v":""}]
[null,null,null,{"$f":"IFERROR(VLOOKUP(C1695,Participants!$B$3:$C$1002,2,0),\"\")","v":""},null,{"$f":"IFERROR(VLOOKUP(E1695,Participants!$B$3:$C$1002,2,0),\"\")","v":""}]
[null,null,null,{"$f":"IFERROR(VLOOKUP(C1696,Participants!$B$3:$C$1002,2,0),\"\")","v":""},null,{"$f":"IFERROR(VLOOKUP(E1696,Participants!$B$3:$C$1002,2,0),\"\")","v":""}]
[null,null,null,{"$f":"IFERROR(VLOOKUP(C1697,Participants!$B$3:$C$1002,2,0),\"\")","v":""},null,{"$f":"IFERROR(VLOOKUP(E1697,Participants!$B$3:$C$1002,2,0),\"\")","v":""}]
[null,null,null,{"$f":"IFERROR(VLOOKUP(C1698,Participants!$B$3:$C$1002,2,0),\"\")","v":""},null,{"$f":"IFERROR(VLOOKUP(E1698,Participants!$B$3:$C$1002,2,0),\"\")","v":""}]
[null,null,null,{"$f":"IFERROR(VLOOKUP(C1699,Participants!$B$3:$C$1002,2,0),\"\")","v":""},null,{"$f":"IFERROR(VLOOKUP(E1699,Participants!$B$3:$C$1002,2,0),\"\")","v":""}]
[null,null,null,{"$f":"IFERROR(VLOOKUP(C1700,Participants!$B$3:$C$1002,2,0),\"\")","v":""},null,{"$f":"IFERROR(VLOOKUP(E1700,Participants!$B$3:$C$1002,2,0),\"\")","v":""}]
[null,null,null,{"$f":"IFERROR(VLOOKUP(C1701,Participants!$B$3:$C$1002,2,0),\"\")","v":""},null,{"$f":"IFERROR(VLOOKUP(E1701,Participants!$B$3:$C$1002,2,0),\"\")","v":""}]
[null,null,null,{"$f":"IFERROR(VLOOKUP(C1702,Participants!$B$3:$C$1002,2,0),\"\")","v":""},null,{"$f":"IFERROR(VLOOKUP(E1702,Participants!$B$3:$C$1002,2,0),\"\")","v":""}]
[null,null,null,{"$f":"IFERROR(VLOOKUP(C1703,Participants!$B$3:$C$1002,2,0),\"\")","v":""},null,{"$f":"IFERROR(VLOOKUP(E1703,Participants!$B$3:$C$1002,2,0),\"\")","v":""}]
[null,null,null,{"$f":"IFERROR(VLOOKUP(C1704,Participants!$B$3:$C$1002,2,0),\"\")","v":""},null,{"$f":"IFERROR(VLOOKUP(E1704,Participants!$B$3:$C$1002,2,0),\"\")","v":""}]
[null,null,null,{"$f":"IFERROR(VLOOKUP(C1705,Participants!$B$3:$C$1002,2,0),\"\")","v":""},null,{"$f":"IFERROR(VLOOKUP(E1705,Participants!$B$3:$C$1002,2,0),\"\")","v":""}]
[null,null,null,{"$f":"IFERROR(VLOOKUP(C1706,Participants!$B$3:$C$1002,2,0),\"\")","v":""},null,{"$f":"IFERROR(VLOOKUP(E1706,Participants!$B$3:$C$1002,2,0),\"\")","v":""}]
[null,null,null,{"$f":"IFERROR(VLOOKUP(C1707,Participants!$B$3:$C$1002,2,0),\"\")","v":""},null,{"$f":"IFERROR(VLOOKUP(E1707,Participants!$B$3:$C$1002,2,0),\"\")","v":""}]
[null,null,null,{"$f":"IFERROR(VLOOKUP(C1708,Participants!$B$3:$C$1002,2,0),\"\")","v":""},null,{"$f":"IFERROR(VLOOKUP(E1708,Participants!$B$3:$C$1002,2,0),\"\")","v":""}]
[null,null,null,{"$f":"IFERROR(VLOOKUP(C1709,Participants!$B$3:$C$1002,2,0),\"\")","v":""},null,{"$f":"IFERROR(VLOOKUP(E1709,Participants!$B$3:$C$1002,2,0),\"\")","v":""}]
[null,null,null,{"$f":"IFERROR(VLOOKUP(C1710,Participants!$B$3:$C$1002,2,0),\"\")","v":""},null,{"$f":"IFERROR(VLOOKUP(E1710,Participants!$B$3:$C$1002,2,0),\"\")","v":""}]
[null,null,null,{"$f":"IFERROR(VLOOKUP(C1711,Participants!$B$3:$C$1002,2,0),\"\")","v":""},null,{"$f":"IFERROR(VLOOKUP(E1711,Participants!$B$3:$C$1002,2,0),\"\")","v":""}]
[null,null,null,{"$f":"IFERROR(VLOOKUP(C1712,Participants!$B$3:$C$1002,2,0),\"\")","v":""},null,{"$f":"IFERROR(VLOOKUP(E1712,Participants!$B$3:$C$1002,2,0),\"\")","v":""}]
[null,null,null,{"$f":"IFERROR(VLOOKUP(C1713,Participants!$B$3:$C$1002,2,0),\"\")","v":""},null,{"$f":"IFERROR(VLOOKUP(E1713,Participants!$B$3:$C$1002,2,0),\"\")","v":""}]
[null,null,null,{"$f":"IFERROR(VLOOKUP(C1714,Participants!$B$3:$C$1002,2,0),\"\")","v":""},null,{"$f":"IFERROR(VLOOKUP(E1714,Participants!$B$3:$C$1002,2,0),\"\")","v":""}]
[null,null,null,{"$f":"IFERROR(VLOOKUP(C1715,Participants!$B$3:$C$1002,2,0),\"\")","v":""},null,{"$f":"IFERROR(VLOOKUP(E1715,Participants!$B$3:$C$1002,2,0),\"\")","v":""}]
[null,null,null,{"$f":"IFERROR(VLOOKUP(C1716,Participants!$B$3:$C$1002,2,0),\"\")","v":""},null,{"$f":"IFERROR(VLOOKUP(E1716,Participants!$B$3:$C$1002,2,0),\"\")","v":""}]
[null,null,null,{"$f":"IFERROR(VLOOKUP(C1717,Participants!$B$3:$C$1002,2,0),\"\")","v":""},null,{"$f":"IFERROR(VLOOKUP(E1717,Participants!$B$3:$C$1002,2,0),\"\")","v":""}]
[null,null,null,{"$f":"IFERROR(VLOOKUP(C1718,Participants!$B$3:$C$1002,2,0),\"\")","v":""},null,{"$f":"IFERROR(VLOOKUP(E1718,Participants!$B$3:$C$1002,2,0),\"\")","v":""}]
[null,null,null,{"$f":"IFERROR(VLOOKUP(C1719,Participants!$B$3:$C$1002,2,0),\"\")","v":""},null,{"$f":"IFERROR(VLOOKUP(E1719,Participants!$B$3:$C$1002,2,0),\"\")","v":""}]
[null,null,null,{"$f":"IFERROR(VLOOKUP(C1720,Participants!$B$3:$C$1002,2,0),\"\")","v":""},null,{"$f":"IFERROR(VLOOKUP(E1720,Participants!$B$3:$C$1002,2,0),\"\")","v":""}]
[null,null,null,{"$f":"IFERROR(VLOOKUP(C1721,Participants!$B$3:$C$1002,2,0),\"\")","v":""},null,{"$f":"IFERROR(VLOOKUP(E1721,Participants!$B$3:$C$1002,2,0),\"\")","v":""}]
[null,null,null,{"$f":"IFERROR(VLOOKUP(C1722,Participants!$B$3:$C$1002,2,0),\"\")","v":""},null,{"$f":"IFERROR(VLOOKUP(E1722,Participants!$B$3:$C$1002,2,0),\"\")","v":""}]
[null,null,null,{"$f":"IFERROR(VLOOKUP(C1723,Participants!$B$3:$C$1002,2,0),\"\")","v":""},null,{"$f":"IFERROR(VLOOKUP(E1723,Participants!$B$3:$C$1002,2,0),\"\")","v":""}]
[null,null,null,{"$f":"IFERROR(VLOOKUP(C1724,Participants!$B$3:$C$1002,2,0),\"\")","v":""},null,{"$f":"IFERROR(VLOOKUP(E1724,Participants!$B$3:$C$1002,2,0),\"\")","v":""}]
[null,null,null,{"$f":"IFERROR(VLOOKUP(C1725,Participants!$B$3:$C$1002,2,0),\"\")","v":""},null,{"$f":"IFERROR(VLOOKUP(E1725,Participants!$B$3:$C$1002,2,0),\"\")","v":""}]
[null,null,null,{"$f":"IFERROR(VLOOKUP(C1726,Participants!$B$3:$C$1002,2,0),\"\")","v":""},null,{"$f":"IFERROR(VLOOKUP(E1726,Participants!$B$3:$C$1002,2,0),\"\")","v":""}]
[null,null,null,{"$f":"IFERROR(VLOOKUP(C1727,Participants!$B$3:$C$1002,2,0),\"\")","v":""},null,{"$f":"IFERROR(VLOOKUP(E1727,Participants!$B$3:$C$1002,2,0),\"\")","v":""}]
[null,null,null,{"$f":"IFERROR(VLOOKUP(C1728,Participants!$B$3:$C$1002,2,0),\"\")","v":""},null,{"$f":"IFERROR(VLOOKUP(E1728,Participants!$B$3:$C$1002,2,0),\"\")","v":""}]
[null,null,null,{"$f":"IFERROR(VLOOKUP(C1729,Participants!$B$3:$C$1002,2,0),\"\")","v":""},null,{"$f":"IFERROR(VLOOKUP(E1729,Participants!$B$3:$C$1002,2,0),\"\")","v":""}]
[null,null,null,{"$f":"IFERROR(VLOOKUP(C1730,Participants!$B$3:$C$1002,2,0),\"\")","v":""},null,{"$f":"IFERROR(VLOOKUP(E1730,Participants!$B$3:$C$1002,2,0),\"\")","v":""}]
[null,null,null,{"$f":"IFERROR(VLOOKUP(C1731,Participants!$B$3:$C$1002,2,0),\"\")","v":""},null,{"$f":"IFERROR(VLOOKUP(E1731,Participants!$B$3:$C$1002,2,0),\"\")","v":""}]
[null,null,null,{"$f":"IFERROR(VLOOKUP(C1732,Participants!$B$3:$C$1002,2,0),\"\")","v":""},null,{"$f":"IFERROR(VLOOKUP(E1732,Participants!$B$3:$C$1002,2,0),\"\")","v":""}]
[null,null,null,{"$f":"IFERROR(VLOOKUP(C1733,Participants!$B$3:$C$1002,2,0),\"\")","v":""},null,{"$f":"IFERROR(VLOOKUP(E1733,Participants!$B$3:$C$1002,2,0),\"\")","v":""}]
[null,null,null,{"$f":"IFERROR(VLOOKUP(C1734,Participants!$B$3:$C$1002,2,0),\"\")","v":""},null,{"$f":"IFERROR(VLOOKUP(E1734,Participants!$B$3:$C$1002,2,0),\"\")","v":""}]
[null,null,null,{"$f":"IFERROR(VLOOKUP(C1735,Participants!$B$3:$C$1002,2,0),\"\")","v":""},null,{"$f":"IFERROR(VLOOKUP(E1735,Participants!$B$3:$C$1002,2,0),\"\")","v":""}]
[null,null,null,{"$f":"IFERROR(VLOOKUP(C1736,Participants!$B$3:$C$1002,2,0),\"\")","v":""},null,{"$f":"IFERROR(VLOOKUP(E1736,Participants!$B$3:$C$1002,2,0),\"\")","v":""}]
[null,null,null,{"$f":"IFERROR(VLOOKUP(C1737,Participants!$B$3:$C$1002,2,0),\"\")","v":""},null,{"$f":"IFERROR(VLOOKUP(E1737,Participants!$B$3:$C$1002,2,0),\"\")","v":""}]
[null,null,null,{"$f":"IFERROR(VLOOKUP(C1738,Participants!$B$3:$C$1002,2,0),\"\")","v":""},null,{"$f":"IFERROR(VLOOKUP(E1738,Participants!$B$3:$C$1002,2,0),\"\")","v":""}]
[null,null,null,{"$f":"IFERROR(VLOOKUP(C1739,Participants!$B$3:$C$1002,2,0),\"\")","v":""},null,{"$f":"IFERROR(VLOOKUP(E1739,Participants!$B$3:$C$1002,2,0),\"\")","v":""}]
[null,null,null,{"$f":"IFERROR(VLOOKUP(C1740,Participants!$B$3:$C$1002,2,0),\"\")","v":""},null,{"$f":"IFERROR(VLOOKUP(E1740,Participants!$B$3:$C$1002,2,0),\"\")","v":""}]
[null,null,null,{"$f":"IFERROR(VLOOKUP(C1741,Participants!$B$3:$C$1002,2,0),\"\")","v":""},null,{"$f":"IFERROR(VLOOKUP(E1741,Participants!$B$3:$C$1002,2,0),\"\")","v":""}]
[null,null,null,{"$f":"IFERROR(VLOOKUP(C1742,Participants!$B$3:$C$1002,2,0),\"\")","v":""},null,{"$f":"IFERROR(VLOOKUP(E1742,Participants!$B$3:$C$1002,2,0),\"\")","v":""}]
[null,null,null,{"$f":"IFERROR(VLOOKUP(C1743,Participants!$B$3:$C$1002,2,0),\"\")","v":""},null,{"$f":"IFERROR(VLOOKUP(E1743,Participants!$B$3:$C$1002,2,0),\"\")","v":""}]
[null,null,null,{"$f":"IFERROR(VLOOKUP(C1744,Participants!$B$3:$C$1002,2,0),\"\")","v":""},null,{"$f":"IFERROR(VLOOKUP(E1744,Participants!$B$3:$C$1002,2,0),\"\")","v":""}]
[null,null,null,{"$f":"IFERROR(VLOOKUP(C1745,Participants!$B$3:$C$1002,2,0),\"\")","v":""},null,{"$f":"IFERROR(VLOOKUP(E1745,Participants!$B$3:$C$1002,2,0),\"\")","v":""}]
[null,null,null,{"$f":"IFERROR(VLOOKUP(C1746,Participants!$B$3:$C$1002,2,0),\"\")","v":""},null,{"$f":"IFERROR(VLOOKUP(E1746,Participants!$B$3:$C$1002,2,0),\"\")","v":""}]
[null,null,null,{"$f":"IFERROR(VLOOKUP(C1747,Participants!$B$3:$C$1002,2,0),\"\")","v":""},null,{"$f":"IFERROR(VLOOKUP(E1747,Participants!$B$3:$C$1002,2,0),\"\")","v":""}]
[null,null,null,{"$f":"IFERROR(VLOOKUP(C1748,Participants!$B$3:$C$1002,2,0),\"\")","v":""},null,{"$f":"IFERROR(VLOOKUP(E1748,Participants!$B$3:$C$1002,2,0),\"\")","v":""}]
[null,null,null,{"$f":"IFERROR(VLOOKUP(C1749,Participants!$B$3:$C$1002,2,0),\"\")","v":""},null,{"$f":"IFERROR(VLOOKUP(E1749,Participants!$B$3:$C$1002,2,0),\"\")","v":""}]
[null,null,null,{"$f":"IFERROR(VLOOKUP(C1750,Participants!$B$3:$C$1002,2,0),\"\")","v":""},null,{"$f":"IFERROR(VLOOKUP(E1750,Participants!$B$3:$C$1002,2,0),\"\")","v":""}]
[null,null,null,{"$f":"IFERROR(VLOOKUP(C1751,Participants!$B$3:$C$1002,2,0),\"\")","v":""},null,{"$f":"IFERROR(VLOOKUP(E1751,Participants!$B$3:$C$1002,2,0),\"\")","v":""}]
[null,null,null,{"$f":"IFERROR(VLOOKUP(C1752,Participants!$B$3:$C$1002,2,0),\"\")","v":""},null,{"$f":"IFERROR(VLOOKUP(E1752,Participants!$B$3:$C$1002,2,0),\"\")","v":""}]
[null,null,null,{"$f":"IFERROR(VLOOKUP(C1753,Participants!$B$3:$C$1002,2,0),\"\")","v":""},null,{"$f":"IFERROR(VLOOKUP(E1753,Participants!$B$3:$C$1002,2,0),\"\")","v":""}]
[null,null,null,{"$f":"IFERROR(VLOOKUP(C1754,Participants!$B$3:$C$1002,2,0),\"\")","v":""},null,{"$f":"IFERROR(VLOOKUP(E1754,Participants!$B$3:$C$1002,2,0),\"\")","v":""}]
[null,null,null,{"$f":"IFERROR(VLOOKUP(C1755,Participants!$B$3:$C$1002,2,0),\"\")","v":""},null,{"$f":"IFERROR(VLOOKUP(E1755,Participants!$B$3:$C$1002,2,0),\"\")","v":""}]
[null,null,null,{"$f":"IFERROR(VLOOKUP(C1756,Participants!$B$3:$C$1002,2,0),\"\")","v":""},null,{"$f":"IFERROR(VLOOKUP(E1756,Participants!$B$3:$C$1002,2,0),\"\")","v":""}]
[null,null,null,{"$f":"IFERROR(VLOOKUP(C1757,Participants!$B$3:$C$1002,2,0),\"\")","v":""},null,{"$f":"IFERROR(VLOOKUP(E1757,Participants!$B$3:$C$1002,2,0),\"\")","v":""}]
[null,null,null,{"$f":"IFERROR(VLOOKUP(C1758,Participants!$B$3:$C$1002,2,0),\"\")","v":""},null,{"$f":"IFERROR(VLOOKUP(E1758,Participants!$B$3:$C$1002,2,0),\"\")","v":""}]
[null,null,null,{"$f":"IFERROR(VLOOKUP(C1759,Participants!$B$3:$C$1002,2,0),\"\")","v":""},null,{"$f":"IFERROR(VLOOKUP(E1759,Participants!$B$3:$C$1002,2,0),\"\")","v":""}]
[null,null,null,{"$f":"IFERROR(VLOOKUP(C1760,Participants!$B$3:$C$1002,2,0),\"\")","v":""},null,{"$f":"IFERROR(VLOOKUP(E1760,Participants!$B$3:$C$1002,2,0),\"\")","v":""}]
[null,null,null,{"$f":"IFERROR(VLOOKUP(C1761,Participants!$B$3:$C$1002,2,0),\"\")","v":""},null,{"$f":"IFERROR(VLOOKUP(E1761,Participants!$B$3:$C$1002,2,0),\"\")","v":""}]
[null,null,null,{"$f":"IFERROR(VLOOKUP(C1762,Participants!$B$3:$C$1002,2,0),\"\")","v":""},null,{"$f":"IFERROR(VLOOKUP(E1762,Participants!$B$3:$C$1002,2,0),\"\")","v":""}]
[null,null,null,{"$f":"IFERROR(VLOOKUP(C1763,Participants!$B$3:$C$1002,2,0),\"\")","v":""},null,{"$f":"IFERROR(VLOOKUP(E1763,Participants!$B$3:$C$1002,2,0),\"\")","v":""}]
[null,null,null,{"$f":"IFERROR(VLOOKUP(C1764,Participants!$B$3:$C$1002,2,0),\"\")","v":""},null,{"$f":"IFERROR(VLOOKUP(E1764,Participants!$B$3:$C$1002,2,0),\"\")","v":""}]
[null,null,null,{"$f":"IFERROR(VLOOKUP(C1765,Participants!$B$3:$C$1002,2,0),\"\")","v":""},null,{"$f":"IFERROR(VLOOKUP(E1765,Participants!$B$3:$C$1002,2,0),\"\")","v":""}]
[null,null,null,{"$f":"IFERROR(VLOOKUP(C1766,Participants!$B$3:$C$1002,2,0),\"\")","v":""},null,{"$f":"IFERROR(VLOOKUP(E1766,Participants!$B$3:$C$1002,2,0),\"\")","v":""}]
[null,null,null,{"$f":"IFERROR(VLOOKUP(C1767,Participants!$B$3:$C$1002,2,0),\"\")","v":""},null,{"$f":"IFERROR(VLOOKUP(E1767,Participants!$B$3:$C$1002,2,0),\"\")","v":""}]
[null,null,null,{"$f":"IFERROR(VLOOKUP(C1768,Participants!$B$3:$C$1002,2,0),\"\")","v":""},null,{"$f":"IFERROR(VLOOKUP(E1768,Participants!$B$3:$C$1002,2,0),\"\")","v":""}]
[null,null,null,{"$f":"IFERROR(VLOOKUP(C1769,Participants!$B$3:$C$1002,2,0),\"\")","v":""},null,{"$f":"IFERROR(VLOOKUP(E1769,Participants!$B$3:$C$1002,2,0),\"\")","v":""}]
[null,null,null,{"$f":"IFERROR(VLOOKUP(C1770,Participants!$B$3:$C$1002,2,0),\"\")","v":""},null,{"$f":"IFERROR(VLOOKUP(E1770,Participants!$B$3:$C$1002,2,0),\"\")","v":""}]
[null,null,null,{"$f":"IFERROR(VLOOKUP(C1771,Participants!$B$3:$C$1002,2,0),\"\")","v":""},null,{"$f":"IFERROR(VLOOKUP(E1771,Participants!$B$3:$C$1002,2,0),\"\")","v":""}]
[null,null,null,{"$f":"IFERROR(VLOOKUP(C1772,Participants!$B$3:$C$1002,2,0),\"\")","v":""},null,{"$f":"IFERROR(VLOOKUP(E1772,Participants!$B$3:$C$1002,2,0),\"\")","v":""}]
[null,null,null,{"$f":"IFERROR(VLOOKUP(C1773,Participants!$B$3:$C$1002,2,0),\"\")","v":""},null,{"$f":"IFERROR(VLOOKUP(E1773,Participants!$B$3:$C$1002,2,0),\"\")","v":""}]
[null,null,null,{"$f":"IFERROR(VLOOKUP(C1774,Participants!$B$3:$C$1002,2,0),\"\")","v":""},null,{"$f":"IFERROR(VLOOKUP(E1774,Participants!$B$3:$C$1002,2,0),\"\")","v":""}]
[null,null,null,{"$f":"IFERROR(VLOOKUP(C1775,Participants!$B$3:$C$1002,2,0),\"\")","v":""},null,{"$f":"IFERROR(VLOOKUP(E1775,Participants!$B$3:$C$1002,2,0),\"\")","v":""}]
[null,null,null,{"$f":"IFERROR(VLOOKUP(C1776,Participants!$B$3:$C$1002,2,0),\"\")","v":""},null,{"$f":"IFERROR(VLOOKUP(E1776,Participants!$B$3:$C$1002,2,0),\"\")","v":""}]
[null,null,null,{"$f":"IFERROR(VLOOKUP(C1777,Participants!$B$3:$C$1002,2,0),\"\")","v":""},null,{"$f":"IFERROR(VLOOKUP(E1777,Participants!$B$3:$C$1002,2,0),\"\")","v":""}]
[null,null,null,{"$f":"IFERROR(VLOOKUP(C1778,Participants!$B$3:$C$1002,2,0),\"\")","v":""},null,{"$f":"IFERROR(VLOOKUP(E1778,Participants!$B$3:$C$1002,2,0),\"\")","v":""}]
[null,null,null,{"$f":"IFERROR(VLOOKUP(C1779,Participants!$B$3:$C$1002,2,0),\"\")","v":""},null,{"$f":"IFERROR(VLOOKUP(E1779,Participants!$B$3:$C$1002,2,0),\"\")","v":""}]
[null,null,null,{"$f":"IFERROR(VLOOKUP(C1780,Participants!$B$3:$C$1002,2,0),\"\")","v":""},null,{"$f":"IFERROR(VLOOKUP(E1780,Participants!$B$3:$C$1002,2,0),\"\")","v":""}]
[null,null,null,{"$f":"IFERROR(VLOOKUP(C1781,Participants!$B$3:$C$1002,2,0),\"\")","v":""},null,{"$f":"IFERROR(VLOOKUP(E1781,Participants!$B$3:$C$1002,2,0),\"\")","v":""}]
[null,null,null,{"$f":"IFERROR(VLOOKUP(C1782,Participants!$B$3:$C$1002,2,0),\"\")","v":""},null,{"$f":"IFERROR(VLOOKUP(E1782,Participants!$B$3:$C$1002,2,0),\"\")","v":""}]
[null,null,null,{"$f":"IFERROR(VLOOKUP(C1783,Participants!$B$3:$C$1002,2,0),\"\")","v":""},null,{"$f":"IFERROR(VLOOKUP(E1783,Participants!$B$3:$C$1002,2,0),\"\")","v":""}]
[null,null,null,{"$f":"IFERROR(VLOOKUP(C1784,Participants!$B$3:$C$1002,2,0),\"\")","v":""},null,{"$f":"IFERROR(VLOOKUP(E1784,Participants!$B$3:$C$1002,2,0),\"\")","v":""}]
[null,null,null,{"$f":"IFERROR(VLOOKUP(C1785,Participants!$B$3:$C$1002,2,0),\"\")","v":""},null,{"$f":"IFERROR(VLOOKUP(E1785,Participants!$B$3:$C$1002,2,0),\"\")","v":""}]
[null,null,null,{"$f":"IFERROR(VLOOKUP(C1786,Participants!$B$3:$C$1002,2,0),\"\")","v":""},null,{"$f":"IFERROR(VLOOKUP(E1786,Participants!$B$3:$C$1002,2,0),\"\")","v":""}]
[null,null,null,{"$f":"IFERROR(VLOOKUP(C1787,Participants!$B$3:$C$1002,2,0),\"\")","v":""},null,{"$f":"IFERROR(VLOOKUP(E1787,Participants!$B$3:$C$1002,2,0),\"\")","v":""}]
[null,null,null,{"$f":"IFERROR(VLOOKUP(C1788,Participants!$B$3:$C$1002,2,0),\"\")","v":""},null,{"$f":"IFERROR(VLOOKUP(E1788,Participants!$B$3:$C$1002,2,0),\"\")","v":""}]
[null,null,null,{"$f":"IFERROR(VLOOKUP(C1789,Participants!$B$3:$C$1002,2,0),\"\")","v":""},null,{"$f":"IFERROR(VLOOKUP(E1789,Participants!$B$3:$C$1002,2,0),\"\")","v":""}]
[null,null,null,{"$f":"IFERROR(VLOOKUP(C1790,Participants!$B$3:$C$1002,2,0),\"\")","v":""},null,{"$f":"IFERROR(VLOOKUP(E1790,Participants!$B$3:$C$1002,2,0),\"\")","v":""}]
[null,null,null,{"$f":"IFERROR(VLOOKUP(C1791,Participants!$B$3:$C$1002,2,0),\"\")","v":""},null,{"$f":"IFERROR(VLOOKUP(E1791,Participants!$B$3:$C$1002,2,0),\"\")","v":""}]
[null,null,null,{"$f":"IFERROR(VLOOKUP(C1792,Participants!$B$3:$C$1002,2,0),\"\")","v":""},null,{"$f":"IFERROR(VLOOKUP(E1792,Participants!$B$3:$C$1002,2,0),\"\")","v":""}]
[null,null,null,{"$f":"IFERROR(VLOOKUP(C1793,Participants!$B$3:$C$1002,2,0),\"\")","v":""},null,{"$f":"IFERROR(VLOOKUP(E1793,Participants!$B$3:$C$1002,2,0),\"\")","v":""}]
[null,null,null,{"$f":"IFERROR(VLOOKUP(C1794,Participants!$B$3:$C$1002,2,0),\"\")","v":""},null,{"$f":"IFERROR(VLOOKUP(E1794,Participants!$B$3:$C$1002,2,0),\"\")","v":""}]
[null,null,null,{"$f":"IFERROR(VLOOKUP(C1795,Participants!$B$3:$C$1002,2,0),\"\")","v":""},null,{"$f":"IFERROR(VLOOKUP(E1795,Participants!$B$3:$C$1002,2,0),\"\")","v":""}]
[null,null,null,{"$f":"IFERROR(VLOOKUP(C1796,Participants!$B$3:$C$1002,2,0),\"\")","v":""},null,{"$f":"IFERROR(VLOOKUP(E1796,Participants!$B$3:$C$1002,2,0),\"\")","v":""}]
[null,null,null,{"$f":"IFERROR(VLOOKUP(C1797,Participants!$B$3:$C$1002,2,0),\"\")","v":""},null,{"$f":"IFERROR(VLOOKUP(E1797,Participants!$B$3:$C$1002,2,0),\"\")","v":""}]
[null,null,null,{"$f":"IFERROR(VLOOKUP(C1798,Participants!$B$3:$C$1002,2,0),\"\")","v":""},null,{"$f":"IFERROR(VLOOKUP(E1798,Participants!$B$3:$C$1002,2,0),\"\")","v":""}]
[null,null,null,{"$f":"IFERROR(VLOOKUP(C1799,Participants!$B$3:$C$1002,2,0),\"\")","v":""},null,{"$f":"IFERROR(VLOOKUP(E1799,Participants!$B$3:$C$1002,2,0),\"\")","v":""}]
[null,null,null,{"$f":"IFERROR(VLOOKUP(C1800,Participants!$B$3:$C$1002,2,0),\"\")","v":""},null,{"$f":"IFERROR(VLOOKUP(E1800,Participants!$B$3:$C$1002,2,0),\"\")","v":""}]
[null,null,null,{"$f":"IFERROR(VLOOKUP(C1801,Participants!$B$3:$C$1002,2,0),\"\")","v":""},null,{"$f":"IFERROR(VLOOKUP(E1801,Participants!$B$3:$C$1002,2,0),\"\")","v":""}]
[null,null,null,{"$f":"IFERROR(VLOOKUP(C1802,Participants!$B$3:$C$1002,2,0),\"\")","v":""},null,{"$f":"IFERROR(VLOOKUP(E1802,Participants!$B$3:$C$1002,2,0),\"\")","v":""}]
[null,null,null,{"$f":"IFERROR(VLOOKUP(C1803,Participants!$B$3:$C$1002,2,0),\"\")","v":""},null,{"$f":"IFERROR(VLOOKUP(E1803,Participants!$B$3:$C$1002,2,0),\"\")","v":""}]
[null,null,null,{"$f":"IFERROR(VLOOKUP(C1804,Participants!$B$3:$C$1002,2,0),\"\")","v":""},null,{"$f":"IFERROR(VLOOKUP(E1804,Participants!$B$3:$C$1002,2,0),\"\")","v":""}]
[null,null,null,{"$f":"IFERROR(VLOOKUP(C1805,Participants!$B$3:$C$1002,2,0),\"\")","v":""},null,{"$f":"IFERROR(VLOOKUP(E1805,Participants!$B$3:$C$1002,2,0),\"\")","v":""}]
[null,null,null,{"$f":"IFERROR(VLOOKUP(C1806,Participants!$B$3:$C$1002,2,0),\"\")","v":""},null,{"$f":"IFERROR(VLOOKUP(E1806,Participants!$B$3:$C$1002,2,0),\"\")","v":""}]
[null,null,null,{"$f":"IFERROR(VLOOKUP(C1807,Participants!$B$3:$C$1002,2,0),\"\")","v":""},null,{"$f":"IFERROR(VLOOKUP(E1807,Participants!$B$3:$C$1002,2,0),\"\")","v":""}]
[null,null,null,{"$f":"IFERROR(VLOOKUP(C1808,Participants!$B$3:$C$1002,2,0),\"\")","v":""},null,{"$f":"IFERROR(VLOOKUP(E1808,Participants!$B$3:$C$1002,2,0),\"\")","v":""}]
[null,null,null,{"$f":"IFERROR(VLOOKUP(C1809,Participants!$B$3:$C$1002,2,0),\"\")","v":""},null,{"$f":"IFERROR(VLOOKUP(E1809,Participants!$B$3:$C$1002,2,0),\"\")","v":""}]
[null,null,null,{"$f":"IFERROR(VLOOKUP(C1810,Participants!$B$3:$C$1002,2,0),\"\")","v":""},null,{"$f":"IFERROR(VLOOKUP(E1810,Participants!$B$3:$C$1002,2,0),\"\")","v":""}]
[null,null,null,{"$f":"IFERROR(VLOOKUP(C1811,Participants!$B$3:$C$1002,2,0),\"\")","v":""},null,{"$f":"IFERROR(VLOOKUP(E1811,Participants!$B$3:$C$1002,2,0),\"\")","v":""}]
[null,null,null,{"$f":"IFERROR(VLOOKUP(C1812,Participants!$B$3:$C$1002,2,0),\"\")","v":""},null,{"$f":"IFERROR(VLOOKUP(E1812,Participants!$B$3:$C$1002,2,0),\"\")","v":""}]
[null,null,null,{"$f":"IFERROR(VLOOKUP(C1813,Participants!$B$3:$C$1002,2,0),\"\")","v":""},null,{"$f":"IFERROR(VLOOKUP(E1813,Participants!$B$3:$C$1002,2,0),\"\")","v":""}]
[null,null,null,{"$f":"IFERROR(VLOOKUP(C1814,Participants!$B$3:$C$1002,2,0),\"\")","v":""},null,{"$f":"IFERROR(VLOOKUP(E1814,Participants!$B$3:$C$1002,2,0),\"\")","v":""}]
[null,null,null,{"$f":"IFERROR(VLOOKUP(C1815,Participants!$B$3:$C$1002,2,0),\"\")","v":""},null,{"$f":"IFERROR(VLOOKUP(E1815,Participants!$B$3:$C$1002,2,0),\"\")","v":""}]
[null,null,null,{"$f":"IFERROR(VLOOKUP(C1816,Participants!$B$3:$C$1002,2,0),\"\")","v":""},null,{"$f":"IFERROR(VLOOKUP(E1816,Participants!$B$3:$C$1002,2,0),\"\")","v":""}]
[null,null,null,{"$f":"IFERROR(VLOOKUP(C1817,Participants!$B$3:$C$1002,2,0),\"\")","v":""},null,{"$f":"IFERROR(VLOOKUP(E1817,Participants!$B$3:$C$1002,2,0),\"\")","v":""}]
[null,null,null,{"$f":"IFERROR(VLOOKUP(C1818,Participants!$B$3:$C$1002,2,0),\"\")","v":""},null,{"$f":"IFERROR(VLOOKUP(E1818,Participants!$B$3:$C$1002,2,0),\"\")","v":""}]
[null,null,null,{"$f":"IFERROR(VLOOKUP(C1819,Participants!$B$3:$C$1002,2,0),\"\")","v":""},null,{"$f":"IFERROR(VLOOKUP(E1819,Participants!$B$3:$C$1002,2,0),\"\")","v":""}]
[null,null,null,{"$f":"IFERROR(VLOOKUP(C1820,Participants!$B$3:$C$1002,2,0),\"\")","v":""},null,{"$f":"IFERROR(VLOOKUP(E1820,Participants!$B$3:$C$1002,2,0),\"\")","v":""}]
[null,null,null,{"$f":"IFERROR(VLOOKUP(C1821,Participants!$B$3:$C$1002,2,0),\"\")","v":""},null,{"$f":"IFERROR(VLOOKUP(E1821,Participants!$B$3:$C$1002,2,0),\"\")","v":""}]
[null,null,null,{"$f":"IFERROR(VLOOKUP(C1822,Participants!$B$3:$C$1002,2,0),\"\")","v":""},null,{"$f":"IFERROR(VLOOKUP(E1822,Participants!$B$3:$C$1002,2,0),\"\")","v":""}]
[null,null,null,{"$f":"IFERROR(VLOOKUP(C1823,Participants!$B$3:$C$1002,2,0),\"\")","v":""},null,{"$f":"IFERROR(VLOOKUP(E1823,Participants!$B$3:$C$1002,2,0),\"\")","v":""}]
[null,null,null,{"$f":"IFERROR(VLOOKUP(C1824,Participants!$B$3:$C$1002,2,0),\"\")","v":""},null,{"$f":"IFERROR(VLOOKUP(E1824,Participants!$B$3:$C$1002,2,0),\"\")","v":""}]
[null,null,null,{"$f":"IFERROR(VLOOKUP(C1825,Participants!$B$3:$C$1002,2,0),\"\")","v":""},null,{"$f":"IFERROR(VLOOKUP(E1825,Participants!$B$3:$C$1002,2,0),\"\")","v":""}]
[null,null,null,{"$f":"IFERROR(VLOOKUP(C1826,Participants!$B$3:$C$1002,2,0),\"\")","v":""},null,{"$f":"IFERROR(VLOOKUP(E1826,Participants!$B$3:$C$1002,2,0),\"\")","v":""}]
[null,null,null,{"$f":"IFERROR(VLOOKUP(C1827,Participants!$B$3:$C$1002,2,0),\"\")","v":""},null,{"$f":"IFERROR(VLOOKUP(E1827,Participants!$B$3:$C$1002,2,0),\"\")","v":""}]
[null,null,null,{"$f":"IFERROR(VLOOKUP(C1828,Participants!$B$3:$C$1002,2,0),\"\")","v":""},null,{"$f":"IFERROR(VLOOKUP(E1828,Participants!$B$3:$C$1002,2,0),\"\")","v":""}]
[null,null,null,{"$f":"IFERROR(VLOOKUP(C1829,Participants!$B$3:$C$1002,2,0),\"\")","v":""},null,{"$f":"IFERROR(VLOOKUP(E1829,Participants!$B$3:$C$1002,2,0),\"\")","v":""}]
[null,null,null,{"$f":"IFERROR(VLOOKUP(C1830,Participants!$B$3:$C$1002,2,0),\"\")","v":""},null,{"$f":"IFERROR(VLOOKUP(E1830,Participants!$B$3:$C$1002,2,0),\"\")","v":""}]
[null,null,null,{"$f":"IFERROR(VLOOKUP(C1831,Participants!$B$3:$C$1002,2,0),\"\")","v":""},null,{"$f":"IFERROR(VLOOKUP(E1831,Participants!$B$3:$C$1002,2,0),\"\")","v":""}]
[null,null,null,{"$f":"IFERROR(VLOOKUP(C1832,Participants!$B$3:$C$1002,2,0),\"\")","v":""},null,{"$f":"IFERROR(VLOOKUP(E1832,Participants!$B$3:$C$1002,2,0),\"\")","v":""}]
[null,null,null,{"$f":"IFERROR(VLOOKUP(C1833,Participants!$B$3:$C$1002,2,0),\"\")","v":""},null,{"$f":"IFERROR(VLOOKUP(E1833,Participants!$B$3:$C$1002,2,0),\"\")","v":""}]
[null,null,null,{"$f":"IFERROR(VLOOKUP(C1834,Participants!$B$3:$C$1002,2,0),\"\")","v":""},null,{"$f":"IFERROR(VLOOKUP(E1834,Participants!$B$3:$C$1002,2,0),\"\")","v":""}]
[null,null,null,{"$f":"IFERROR(VLOOKUP(C1835,Participants!$B$3:$C$1002,2,0),\"\")","v":""},null,{"$f":"IFERROR(VLOOKUP(E1835,Participants!$B$3:$C$1002,2,0),\"\")","v":""}]
[null,null,null,{"$f":"IFERROR(VLOOKUP(C1836,Participants!$B$3:$C$1002,2,0),\"\")","v":""},null,{"$f":"IFERROR(VLOOKUP(E1836,Participants!$B$3:$C$1002,2,0),\"\")","v":""}]
[null,null,null,{"$f":"IFERROR(VLOOKUP(C1837,Participants!$B$3:$C$1002,2,0),\"\")","v":""},null,{"$f":"IFERROR(VLOOKUP(E1837,Participants!$B$3:$C$1002,2,0),\"\")","v":""}]
[null,null,null,{"$f":"IFERROR(VLOOKUP(C1838,Participants!$B$3:$C$1002,2,0),\"\")","v":""},null,{"$f":"IFERROR(VLOOKUP(E1838,Participants!$B$3:$C$1002,2,0),\"\")","v":""}]
[null,null,null,{"$f":"IFERROR(VLOOKUP(C1839,Participants!$B$3:$C$1002,2,0),\"\")","v":""},null,{"$f":"IFERROR(VLOOKUP(E1839,Participants!$B$3:$C$1002,2,0),\"\")","v":""}]
[null,null,null,{"$f":"IFERROR(VLOOKUP(C1840,Participants!$B$3:$C$1002,2,0),\"\")","v":""},null,{"$f":"IFERROR(VLOOKUP(E1840,Participants!$B$3:$C$1002,2,0),\"\")","v":""}]
[null,null,null,{"$f":"IFERROR(VLOOKUP(C1841,Participants!$B$3:$C$1002,2,0),\"\")","v":""},null,{"$f":"IFERROR(VLOOKUP(E1841,Participants!$B$3:$C$1002,2,0),\"\")","v":""}]
[null,null,null,{"$f":"IFERROR(VLOOKUP(C1842,Participants!$B$3:$C$1002,2,0),\"\")","v":""},null,{"$f":"IFERROR(VLOOKUP(E1842,Participants!$B$3:$C$1002,2,0),\"\")","v":""}]
[null,null,null,{"$f":"IFERROR(VLOOKUP(C1843,Participants!$B$3:$C$1002,2,0),\"\")","v":""},null,{"$f":"IFERROR(VLOOKUP(E1843,Participants!$B$3:$C$1002,2,0),\"\")","v":""}]
[null,null,null,{"$f":"IFERROR(VLOOKUP(C1844,Participants!$B$3:$C$1002,2,0),\"\")","v":""},null,{"$f":"IFERROR(VLOOKUP(E1844,Participants!$B$3:$C$1002,2,0),\"\")","v":""}]
[null,null,null,{"$f":"IFERROR(VLOOKUP(C1845,Participants!$B$3:$C$1002,2,0),\"\")","v":""},null,{"$f":"IFERROR(VLOOKUP(E1845,Participants!$B$3:$C$1002,2,0),\"\")","v":""}]
[null,null,null,{"$f":"IFERROR(VLOOKUP(C1846,Participants!$B$3:$C$1002,2,0),\"\")","v":""},null,{"$f":"IFERROR(VLOOKUP(E1846,Participants!$B$3:$C$1002,2,0),\"\")","v":""}]
[null,null,null,{"$f":"IFERROR(VLOOKUP(C1847,Participants!$B$3:$C$1002,2,0),\"\")","v":""},null,{"$f":"IFERROR(VLOOKUP(E1847,Participants!$B$3:$C$1002,2,0),\"\")","v":""}]
[null,null,null,{"$f":"IFERROR(VLOOKUP(C1848,Participants!$B$3:$C$1002,2,0),\"\")","v":""},null,{"$f":"IFERROR(VLOOKUP(E1848,Participants!$B$3:$C$1002,2,0),\"\")","v":""}]
[null,null,null,{"$f":"IFERROR(VLOOKUP(C1849,Participants!$B$3:$C$1002,2,0),\"\")","v":""},null,{"$f":"IFERROR(VLOOKUP(E1849,Participants!$B$3:$C$1002,2,0),\"\")","v":""}]
[null,null,null,{"$f":"IFERROR(VLOOKUP(C1850,Participants!$B$3:$C$1002,2,0),\"\")","v":""},null,{"$f":"IFERROR(VLOOKUP(E1850,Participants!$B$3:$C$1002,2,0),\"\")","v":""}]
[null,null,null,{"$f":"IFERROR(VLOOKUP(C1851,Participants!$B$3:$C$1002,2,0),\"\")","v":""},null,{"$f":"IFERROR(VLOOKUP(E1851,Participants!$B$3:$C$1002,2,0),\"\")","v":""}]
[null,null,null,{"$f":"IFERROR(VLOOKUP(C1852,Participants!$B$3:$C$1002,2,0),\"\")","v":""},null,{"$f":"IFERROR(VLOOKUP(E1852,Participants!$B$3:$C$1002,2,0),\"\")","v":""}]
[null,null,null,{"$f":"IFERROR(VLOOKUP(C1853,Participants!$B$3:$C$1002,2,0),\"\")","v":""},null,{"$f":"IFERROR(VLOOKUP(E1853,Participants!$B$3:$C$1002,2,0),\"\")","v":""}]
[null,null,null,{"$f":"IFERROR(VLOOKUP(C1854,Participants!$B$3:$C$1002,2,0),\"\")","v":""},null,{"$f":"IFERROR(VLOOKUP(E1854,Participants!$B$3:$C$1002,2,0),\"\")","v":""}]
[null,null,null,{"$f":"IFERROR(VLOOKUP(C1855,Participants!$B$3:$C$1002,2,0),\"\")","v":""},null,{"$f":"IFERROR(VLOOKUP(E1855,Participants!$B$3:$C$1002,2,0),\"\")","v":""}]
[null,null,null,{"$f":"IFERROR(VLOOKUP(C1856,Participants!$B$3:$C$1002,2,0),\"\")","v":""},null,{"$f":"IFERROR(VLOOKUP(E1856,Participants!$B$3:$C$1002,2,0),\"\")","v":""}]
[null,null,null,{"$f":"IFERROR(VLOOKUP(C1857,Participants!$B$3:$C$1002,2,0),\"\")","v":""},null,{"$f":"IFERROR(VLOOKUP(E1857,Participants!$B$3:$C$1002,2,0),\"\")","v":""}]
[null,null,null,{"$f":"IFERROR(VLOOKUP(C1858,Participants!$B$3:$C$1002,2,0),\"\")","v":""},null,{"$f":"IFERROR(VLOOKUP(E1858,Participants!$B$3:$C$1002,2,0),\"\")","v":""}]
[null,null,null,{"$f":"IFERROR(VLOOKUP(C1859,Participants!$B$3:$C$1002,2,0),\"\")","v":""},null,{"$f":"IFERROR(VLOOKUP(E1859,Participants!$B$3:$C$1002,2,0),\"\")","v":""}]
[null,null,null,{"$f":"IFERROR(VLOOKUP(C1860,Participants!$B$3:$C$1002,2,0),\"\")","v":""},null,{"$f":"IFERROR(VLOOKUP(E1860,Participants!$B$3:$C$1002,2,0),\"\")","v":""}]
[null,null,null,{"$f":"IFERROR(VLOOKUP(C1861,Participants!$B$3:$C$1002,2,0),\"\")","v":""},null,{"$f":"IFERROR(VLOOKUP(E1861,Participants!$B$3:$C$1002,2,0),\"\")","v":""}]
[null,null,null,{"$f":"IFERROR(VLOOKUP(C1862,Participants!$B$3:$C$1002,2,0),\"\")","v":""},null,{"$f":"IFERROR(VLOOKUP(E1862,Participants!$B$3:$C$1002,2,0),\"\")","v":""}]
[null,null,null,{"$f":"IFERROR(VLOOKUP(C1863,Participants!$B$3:$C$1002,2,0),\"\")","v":""},null,{"$f":"IFERROR(VLOOKUP(E1863,Participants!$B$3:$C$1002,2,0),\"\")","v":""}]
[null,null,null,{"$f":"IFERROR(VLOOKUP(C1864,Participants!$B$3:$C$1002,2,0),\"\")","v":""},null,{"$f":"IFERROR(VLOOKUP(E1864,Participants!$B$3:$C$1002,2,0),\"\")","v":""}]
[null,null,null,{"$f":"IFERROR(VLOOKUP(C1865,Participants!$B$3:$C$1002,2,0),\"\")","v":""},null,{"$f":"IFERROR(VLOOKUP(E1865,Participants!$B$3:$C$1002,2,0),\"\")","v":""}]
[null,null,null,{"$f":"IFERROR(VLOOKUP(C1866,Participants!$B$3:$C$1002,2,0),\"\")","v":""},null,{"$f":"IFERROR(VLOOKUP(E1866,Participants!$B$3:$C$1002,2,0),\"\")","v":""}]
[null,null,null,{"$f":"IFERROR(VLOOKUP(C1867,Participants!$B$3:$C$1002,2,0),\"\")","v":""},null,{"$f":"IFERROR(VLOOKUP(E1867,Participants!$B$3:$C$1002,2,0),\"\")","v":""}]
[null,null,null,{"$f":"IFERROR(VLOOKUP(C1868,Participants!$B$3:$C$1002,2,0),\"\")","v":""},null,{"$f":"IFERROR(VLOOKUP(E1868,Participants!$B$3:$C$1002,2,0),\"\")","v":""}]
[null,null,null,{"$f":"IFERROR(VLOOKUP(C1869,Participants!$B$3:$C$1002,2,0),\"\")","v":""},null,{"$f":"IFERROR(VLOOKUP(E1869,Participants!$B$3:$C$1002,2,0),\"\")","v":""}]
[null,null,null,{"$f":"IFERROR(VLOOKUP(C1870,Participants!$B$3:$C$1002,2,0),\"\")","v":""},null,{"$f":"IFERROR(VLOOKUP(E1870,Participants!$B$3:$C$1002,2,0),\"\")","v":""}]
[null,null,null,{"$f":"IFERROR(VLOOKUP(C1871,Participants!$B$3:$C$1002,2,0),\"\")","v":""},null,{"$f":"IFERROR(VLOOKUP(E1871,Participants!$B$3:$C$1002,2,0),\"\")","v":""}]
[null,null,null,{"$f":"IFERROR(VLOOKUP(C1872,Participants!$B$3:$C$1002,2,0),\"\")","v":""},null,{"$f":"IFERROR(VLOOKUP(E1872,Participants!$B$3:$C$1002,2,0),\"\")","v":""}]
[null,null,null,{"$f":"IFERROR(VLOOKUP(C1873,Participants!$B$3:$C$1002,2,0),\"\")","v":""},null,{"$f":"IFERROR(VLOOKUP(E1873,Participants!$B$3:$C$1002,2,0),\"\")","v":""}]
[null,null,null,{"$f":"IFERROR(VLOOKUP(C1874,Participants!$B$3:$C$1002,2,0),\"\")","v":""},null,{"$f":"IFERROR(VLOOKUP(E1874,Participants!$B$3:$C$1002,2,0),\"\")","v":""}]
[null,null,null,{"$f":"IFERROR(VLOOKUP(C1875,Participants!$B$3:$C$1002,2,0),\"\")","v":""},null,{"$f":"IFERROR(VLOOKUP(E1875,Participants!$B$3:$C$1002,2,0),\"\")","v":""}]
[null,null,null,{"$f":"IFERROR(VLOOKUP(C1876,Participants!$B$3:$C$1002,2,0),\"\")","v":""},null,{"$f":"IFERROR(VLOOKUP(E1876,Participants!$B$3:$C$1002,2,0),\"\")","v":""}]
[null,null,null,{"$f":"IFERROR(VLOOKUP(C1877,Participants!$B$3:$C$1002,2,0),\"\")","v":""},null,{"$f":"IFERROR(VLOOKUP(E1877,Participants!$B$3:$C$1002,2,0),\"\")","v":""}]
[null,null,null,{"$f":"IFERROR(VLOOKUP(C1878,Participants!$B$3:$C$1002,2,0),\"\")","v":""},null,{"$f":"IFERROR(VLOOKUP(E1878,Participants!$B$3:$C$1002,2,0),\"\")","v":""}]
[null,null,null,{"$f":"IFERROR(VLOOKUP(C1879,Participants!$B$3:$C$1002,2,0),\"\")","v":""},null,{"$f":"IFERROR(VLOOKUP(E1879,Participants!$B$3:$C$1002,2,0),\"\")","v":""}]
[null,null,null,{"$f":"IFERROR(VLOOKUP(C1880,Participants!$B$3:$C$1002,2,0),\"\")","v":""},null,{"$f":"IFERROR(VLOOKUP(E1880,Participants!$B$3:$C$1002,2,0),\"\")","v":""}]
[null,null,null,{"$f":"IFERROR(VLOOKUP(C1881,Participants!$B$3:$C$1002,2,0),\"\")","v":""},null,{"$f":"IFERROR(VLOOKUP(E1881,Participants!$B$3:$C$1002,2,0),\"\")","v":""}]
[null,null,null,{"$f":"IFERROR(VLOOKUP(C1882,Participants!$B$3:$C$1002,2,0),\"\")","v":""},null,{"$f":"IFERROR(VLOOKUP(E1882,Participants!$B$3:$C$1002,2,0),\"\")","v":""}]
[null,null,null,{"$f":"IFERROR(VLOOKUP(C1883,Participants!$B$3:$C$1002,2,0),\"\")","v":""},null,{"$f":"IFERROR(VLOOKUP(E1883,Participants!$B$3:$C$1002,2,0),\"\")","v":""}]
[null,null,null,{"$f":"IFERROR(VLOOKUP(C1884,Participants!$B$3:$C$1002,2,0),\"\")","v":""},null,{"$f":"IFERROR(VLOOKUP(E1884,Participants!$B$3:$C$1002,2,0),\"\")","v":""}]
[null,null,null,{"$f":"IFERROR(VLOOKUP(C1885,Participants!$B$3:$C$1002,2,0),\"\")","v":""},null,{"$f":"IFERROR(VLOOKUP(E1885,Participants!$B$3:$C$1002,2,0),\"\")","v":""}]
[null,null,null,{"$f":"IFERROR(VLOOKUP(C1886,Participants!$B$3:$C$1002,2,0),\"\")","v":""},null,{"$f":"IFERROR(VLOOKUP(E1886,Participants!$B$3:$C$1002,2,0),\"\")","v":""}]
[null,null,null,{"$f":"IFERROR(VLOOKUP(C1887,Participants!$B$3:$C$1002,2,0),\"\")","v":""},null,{"$f":"IFERROR(VLOOKUP(E1887,Participants!$B$3:$C$1002,2,0),\"\")","v":""}]
[null,null,null,{"$f":"IFERROR(VLOOKUP(C1888,Participants!$B$3:$C$1002,2,0),\"\")","v":""},null,{"$f":"IFERROR(VLOOKUP(E1888,Participants!$B$3:$C$1002,2,0),\"\")","v":""}]
[null,null,null,{"$f":"IFERROR(VLOOKUP(C1889,Participants!$B$3:$C$1002,2,0),\"\")","v":""},null,{"$f":"IFERROR(VLOOKUP(E1889,Participants!$B$3:$C$1002,2,0),\"\")","v":""}]
[null,null,null,{"$f":"IFERROR(VLOOKUP(C1890,Participants!$B$3:$C$1002,2,0),\"\")","v":""},null,{"$f":"IFERROR(VLOOKUP(E1890,Participants!$B$3:$C$1002,2,0),\"\")","v":""}]
[null,null,null,{"$f":"IFERROR(VLOOKUP(C1891,Participants!$B$3:$C$1002,2,0),\"\")","v":""},null,{"$f":"IFERROR(VLOOKUP(E1891,Participants!$B$3:$C$1002,2,0),\"\")","v":""}]
[null,null,null,{"$f":"IFERROR(VLOOKUP(C1892,Participants!$B$3:$C$1002,2,0),\"\")","v":""},null,{"$f":"IFERROR(VLOOKUP(E1892,Participants!$B$3:$C$1002,2,0),\"\")","v":""}]
[null,null,null,{"$f":"IFERROR(VLOOKUP(C1893,Participants!$B$3:$C$1002,2,0),\"\")","v":""},null,{"$f":"IFERROR(VLOOKUP(E1893,Participants!$B$3:$C$1002,2,0),\"\")","v":""}]
[null,null,null,{"$f":"IFERROR(VLOOKUP(C1894,Participants!$B$3:$C$1002,2,0),\"\")","v":""},null,{"$f":"IFERROR(VLOOKUP(E1894,Participants!$B$3:$C$1002,2,0),\"\")","v":""}]
[null,null,null,{"$f":"IFERROR(VLOOKUP(C1895,Participants!$B$3:$C$1002,2,0),\"\")","v":""},null,{"$f":"IFERROR(VLOOKUP(E1895,Participants!$B$3:$C$1002,2,0),\"\")","v":""}]
[null,null,null,{"$f":"IFERROR(VLOOKUP(C1896,Participants!$B$3:$C$1002,2,0),\"\")","v":""},null,{"$f":"IFERROR(VLOOKUP(E1896,Participants!$B$3:$C$1002,2,0),\"\")","v":""}]
[null,null,null,{"$f":"IFERROR(VLOOKUP(C1897,Participants!$B$3:$C$1002,2,0),\"\")","v":""},null,{"$f":"IFERROR(VLOOKUP(E1897,Participants!$B$3:$C$1002,2,0),\"\")","v":""}]
[null,null,null,{"$f":"IFERROR(VLOOKUP(C1898,Participants!$B$3:$C$1002,2,0),\"\")","v":""},null,{"$f":"IFERROR(VLOOKUP(E1898,Participants!$B$3:$C$1002,2,0),\"\")","v":""}]
[null,null,null,{"$f":"IFERROR(VLOOKUP(C1899,Participants!$B$3:$C$1002,2,0),\"\")","v":""},null,{"$f":"IFERROR(VLOOKUP(E1899,Participants!$B$3:$C$1002,2,0),\"\")","v":""}]
[null,null,null,{"$f":"IFERROR(VLOOKUP(C1900,Participants!$B$3:$C$1002,2,0),\"\")","v":""},null,{"$f":"IFERROR(VLOOKUP(E1900,Participants!$B$3:$C$1002,2,0),\"\")","v":""}]
[null,null,null,{"$f":"IFERROR(VLOOKUP(C1901,Participants!$B$3:$C$1002,2,0),\"\")","v":""},null,{"$f":"IFERROR(VLOOKUP(E1901,Participants!$B$3:$C$1002,2,0),\"\")","v":""}]
[null,null,null,{"$f":"IFERROR(VLOOKUP(C1902,Participants!$B$3:$C$1002,2,0),\"\")","v":""},null,{"$f":"IFERROR(VLOOKUP(E1902,Participants!$B$3:$C$1002,2,0),\"\")","v":""}]
[null,null,null,{"$f":"IFERROR(VLOOKUP(C1903,Participants!$B$3:$C$1002,2,0),\"\")","v":""},null,{"$f":"IFERROR(VLOOKUP(E1903,Participants!$B$3:$C$1002,2,0),\"\")","v":""}]
[null,null,null,{"$f":"IFERROR(VLOOKUP(C1904,Participants!$B$3:$C$1002,2,0),\"\")","v":""},null,{"$f":"IFERROR(VLOOKUP(E1904,Participants!$B$3:$C$1002,2,0),\"\")","v":""}]
[null,null,null,{"$f":"IFERROR(VLOOKUP(C1905,Participants!$B$3:$C$1002,2,0),\"\")","v":""},null,{"$f":"IFERROR(VLOOKUP(E1905,Participants!$B$3:$C$1002,2,0),\"\")","v":""}]
[null,null,null,{"$f":"IFERROR(VLOOKUP(C1906,Participants!$B$3:$C$1002,2,0),\"\")","v":""},null,{"$f":"IFERROR(VLOOKUP(E1906,Participants!$B$3:$C$1002,2,0),\"\")","v":""}]
[null,null,null,{"$f":"IFERROR(VLOOKUP(C1907,Participants!$B$3:$C$1002,2,0),\"\")","v":""},null,{"$f":"IFERROR(VLOOKUP(E1907,Participants!$B$3:$C$1002,2,0),\"\")","v":""}]
[null,null,null,{"$f":"IFERROR(VLOOKUP(C1908,Participants!$B$3:$C$1002,2,0),\"\")","v":""},null,{"$f":"IFERROR(VLOOKUP(E1908,Participants!$B$3:$C$1002,2,0),\"\")","v":""}]
[null,null,null,{"$f":"IFERROR(VLOOKUP(C1909,Participants!$B$3:$C$1002,2,0),\"\")","v":""},null,{"$f":"IFERROR(VLOOKUP(E1909,Participants!$B$3:$C$1002,2,0),\"\")","v":""}]
[null,null,null,{"$f":"IFERROR(VLOOKUP(C1910,Participants!$B$3:$C$1002,2,0),\"\")","v":""},null,{"$f":"IFERROR(VLOOKUP(E1910,Participants!$B$3:$C$1002,2,0),\"\")","v":""}]
[null,null,null,{"$f":"IFERROR(VLOOKUP(C1911,Participants!$B$3:$C$1002,2,0),\"\")","v":""},null,{"$f":"IFERROR(VLOOKUP(E1911,Participants!$B$3:$C$1002,2,0),\"\")","v":""}]
[null,null,null,{"$f":"IFERROR(VLOOKUP(C1912,Participants!$B$3:$C$1002,2,0),\"\")","v":""},null,{"$f":"IFERROR(VLOOKUP(E1912,Participants!$B$3:$C$1002,2,0),\"\")","v":""}]
[null,null,null,{"$f":"IFERROR(VLOOKUP(C1913,Participants!$B$3:$C$1002,2,0),\"\")","v":""},null,{"$f":"IFERROR(VLOOKUP(E1913,Participants!$B$3:$C$1002,2,0),\"\")","v":""}]
[null,null,null,{"$f":"IFERROR(VLOOKUP(C1914,Participants!$B$3:$C$1002,2,0),\"\")","v":""},null,{"$f":"IFERROR(VLOOKUP(E1914,Participants!$B$3:$C$1002,2,0),\"\")","v":""}]
[null,null,null,{"$f":"IFERROR(VLOOKUP(C1915,Participants!$B$3:$C$1002,2,0),\"\")","v":""},null,{"$f":"IFERROR(VLOOKUP(E1915,Participants!$B$3:$C$1002,2,0),\"\")","v":""}]
[null,null,null,{"$f":"IFERROR(VLOOKUP(C1916,Participants!$B$3:$C$1002,2,0),\"\")","v":""},null,{"$f":"IFERROR(VLOOKUP(E1916,Participants!$B$3:$C$1002,2,0),\"\")","v":""}]
[null,null,null,{"$f":"IFERROR(VLOOKUP(C1917,Participants!$B$3:$C$1002,2,0),\"\")","v":""},null,{"$f":"IFERROR(VLOOKUP(E1917,Participants!$B$3:$C$1002,2,0),\"\")","v":""}]
[null,null,null,{"$f":"IFERROR(VLOOKUP(C1918,Participants!$B$3:$C$1002,2,0),\"\")","v":""},null,{"$f":"IFERROR(VLOOKUP(E1918,Participants!$B$3:$C$1002,2,0),\"\")","v":""}]
[null,null,null,{"$f":"IFERROR(VLOOKUP(C1919,Participants!$B$3:$C$1002,2,0),\"\")","v":""},null,{"$f":"IFERROR(VLOOKUP(E1919,Participants!$B$3:$C$1002,2,0),\"\")","v":""}]
[null,null,null,{"$f":"IFERROR(VLOOKUP(C1920,Participants!$B$3:$C$1002,2,0),\"\")","v":""},null,{"$f":"IFERROR(VLOOKUP(E1920,Participants!$B$3:$C$1002,2,0),\"\")","v":""}]
[null,null,null,{"$f":"IFERROR(VLOOKUP(C1921,Participants!$B$3:$C$1002,2,0),\"\")","v":""},null,{"$f":"IFERROR(VLOOKUP(E1921,Participants!$B$3:$C$1002,2,0),\"\")","v":""}]
[null,null,null,{"$f":"IFERROR(VLOOKUP(C1922,Participants!$B$3:$C$1002,2,0),\"\")","v":""},null,{"$f":"IFERROR(VLOOKUP(E1922,Participants!$B$3:$C$1002,2,0),\"\")","v":""}]
[null,null,null,{"$f":"IFERROR(VLOOKUP(C1923,Participants!$B$3:$C$1002,2,0),\"\")","v":""},null,{"$f":"IFERROR(VLOOKUP(E1923,Participants!$B$3:$C$1002,2,0),\"\")","v":""}]
[null,null,null,{"$f":"IFERROR(VLOOKUP(C1924,Participants!$B$3:$C$1002,2,0),\"\")","v":""},null,{"$f":"IFERROR(VLOOKUP(E1924,Participants!$B$3:$C$1002,2,0),\"\")","v":""}]
[null,null,null,{"$f":"IFERROR(VLOOKUP(C1925,Participants!$B$3:$C$1002,2,0),\"\")","v":""},null,{"$f":"IFERROR(VLOOKUP(E1925,Participants!$B$3:$C$1002,2,0),\"\")","v":""}]
[null,null,null,{"$f":"IFERROR(VLOOKUP(C1926,Participants!$B$3:$C$1002,2,0),\"\")","v":""},null,{"$f":"IFERROR(VLOOKUP(E1926,Participants!$B$3:$C$1002,2,0),\"\")","v":""}]
[null,null,null,{"$f":"IFERROR(VLOOKUP(C1927,Participants!$B$3:$C$1002,2,0),\"\")","v":""},null,{"$f":"IFERROR(VLOOKUP(E1927,Participants!$B$3:$C$1002,2,0),\"\")","v":""}]
[null,null,null,{"$f":"IFERROR(VLOOKUP(C1928,Participants!$B$3:$C$1002,2,0),\"\")","v":""},null,{"$f":"IFERROR(VLOOKUP(E1928,Participants!$B$3:$C$1002,2,0),\"\")","v":""}]
[null,null,null,{"$f":"IFERROR(VLOOKUP(C1929,Participants!$B$3:$C$1002,2,0),\"\")","v":""},null,{"$f":"IFERROR(VLOOKUP(E1929,Participants!$B$3:$C$1002,2,0),\"\")","v":""}]
[null,null,null,{"$f":"IFERROR(VLOOKUP(C1930,Participants!$B$3:$C$1002,2,0),\"\")","v":""},null,{"$f":"IFERROR(VLOOKUP(E1930,Participants!$B$3:$C$1002,2,0),\"\")","v":""}]
[null,null,null,{"$f":"IFERROR(VLOOKUP(C1931,Participants!$B$3:$C$1002,2,0),\"\")","v":""},null,{"$f":"IFERROR(VLOOKUP(E1931,Participants!$B$3:$C$1002,2,0),\"\")","v":""}]
[null,null,null,{"$f":"IFERROR(VLOOKUP(C1932,Participants!$B$3:$C$1002,2,0),\"\")","v":""},null,{"$f":"IFERROR(VLOOKUP(E1932,Participants!$B$3:$C$1002,2,0),\"\")","v":""}]
[null,null,null,{"$f":"IFERROR(VLOOKUP(C1933,Participants!$B$3:$C$1002,2,0),\"\")","v":""},null,{"$f":"IFERROR(VLOOKUP(E1933,Participants!$B$3:$C$1002,2,0),\"\")","v":""}]
[null,null,null,{"$f":"IFERROR(VLOOKUP(C1934,Participants!$B$3:$C$1002,2,0),\"\")","v":""},null,{"$f":"IFERROR(VLOOKUP(E1934,Participants!$B$3:$C$1002,2,0),\"\")","v":""}]
[null,null,null,{"$f":"IFERROR(VLOOKUP(C1935,Participants!$B$3:$C$1002,2,0),\"\")","v":""},null,{"$f":"IFERROR(VLOOKUP(E1935,Participants!$B$3:$C$1002,2,0),\"\")","v":""}]
[null,null,null,{"$f":"IFERROR(VLOOKUP(C1936,Participants!$B$3:$C$1002,2,0),\"\")","v":""},null,{"$f":"IFERROR(VLOOKUP(E1936,Participants!$B$3:$C$1002,2,0),\"\")","v":""}]
[null,null,null,{"$f":"IFERROR(VLOOKUP(C1937,Participants!$B$3:$C$1002,2,0),\"\")","v":""},null,{"$f":"IFERROR(VLOOKUP(E1937,Participants!$B$3:$C$1002,2,0),\"\")","v":""}]
[null,null,null,{"$f":"IFERROR(VLOOKUP(C1938,Participants!$B$3:$C$1002,2,0),\"\")","v":""},null,{"$f":"IFERROR(VLOOKUP(E1938,Participants!$B$3:$C$1002,2,0),\"\")","v":""}]
[null,null,null,{"$f":"IFERROR(VLOOKUP(C1939,Participants!$B$3:$C$1002,2,0),\"\")","v":""},null,{"$f":"IFERROR(VLOOKUP(E1939,Participants!$B$3:$C$1002,2,0),\"\")","v":""}]
[null,null,null,{"$f":"IFERROR(VLOOKUP(C1940,Participants!$B$3:$C$1002,2,0),\"\")","v":""},null,{"$f":"IFERROR(VLOOKUP(E1940,Participants!$B$3:$C$1002,2,0),\"\")","v":""}]
[null,null,null,{"$f":"IFERROR(VLOOKUP(C1941,Participants!$B$3:$C$1002,2,0),\"\")","v":""},null,{"$f":"IFERROR(VLOOKUP(E1941,Participants!$B$3:$C$1002,2,0),\"\")","v":""}]
[null,null,null,{"$f":"IFERROR(VLOOKUP(C1942,Participants!$B$3:$C$1002,2,0),\"\")","v":""},null,{"$f":"IFERROR(VLOOKUP(E1942,Participants!$B$3:$C$1002,2,0),\"\")","v":""}]
[null,null,null,{"$f":"IFERROR(VLOOKUP(C1943,Participants!$B$3:$C$1002,2,0),\"\")","v":""},null,{"$f":"IFERROR(VLOOKUP(E1943,Participants!$B$3:$C$1002,2,0),\"\")","v":""}]
[null,null,null,{"$f":"IFERROR(VLOOKUP(C1944,Participants!$B$3:$C$1002,2,0),\"\")","v":""},null,{"$f":"IFERROR(VLOOKUP(E1944,Participants!$B$3:$C$1002,2,0),\"\")","v":""}]
[null,null,null,{"$f":"IFERROR(VLOOKUP(C1945,Participants!$B$3:$C$1002,2,0),\"\")","v":""},null,{"$f":"IFERROR(VLOOKUP(E1945,Participants!$B$3:$C$1002,2,0),\"\")","v":""}]
[null,null,null,{"$f":"IFERROR(VLOOKUP(C1946,Participants!$B$3:$C$1002,2,0),\"\")","v":""},null,{"$f":"IFERROR(VLOOKUP(E1946,Participants!$B$3:$C$1002,2,0),\"\")","v":""}]
[null,null,null,{"$f":"IFERROR(VLOOKUP(C1947,Participants!$B$3:$C$1002,2,0),\"\")","v":""},null,{"$f":"IFERROR(VLOOKUP(E1947,Participants!$B$3:$C$1002,2,0),\"\")","v":""}]
[null,null,null,{"$f":"IFERROR(VLOOKUP(C1948,Participants!$B$3:$C$1002,2,0),\"\")","v":""},null,{"$f":"IFERROR(VLOOKUP(E1948,Participants!$B$3:$C$1002,2,0),\"\")","v":""}]
[null,null,null,{"$f":"IFERROR(VLOOKUP(C1949,Participants!$B$3:$C$1002,2,0),\"\")","v":""},null,{"$f":"IFERROR(VLOOKUP(E1949,Participants!$B$3:$C$1002,2,0),\"\")","v":""}]
[null,null,null,{"$f":"IFERROR(VLOOKUP(C1950,Participants!$B$3:$C$1002,2,0),\"\")","v":""},null,{"$f":"IFERROR(VLOOKUP(E1950,Participants!$B$3:$C$1002,2,0),\"\")","v":""}]
[null,null,null,{"$f":"IFERROR(VLOOKUP(C1951,Participants!$B$3:$C$1002,2,0),\"\")","v":""},null,{"$f":"IFERROR(VLOOKUP(E1951,Participants!$B$3:$C$1002,2,0),\"\")","v":""}]
[null,null,null,{"$f":"IFERROR(VLOOKUP(C1952,Participants!$B$3:$C$1002,2,0),\"\")","v":""},null,{"$f":"IFERROR(VLOOKUP(E1952,Participants!$B$3:$C$1002,2,0),\"\")","v":""}]
[null,null,null,{"$f":"IFERROR(VLOOKUP(C1953,Participants!$B$3:$C$1002,2,0),\"\")","v":""},null,{"$f":"IFERROR(VLOOKUP(E1953,Participants!$B$3:$C$1002,2,0),\"\")","v":""}]
[null,null,null,{"$f":"IFERROR(VLOOKUP(C1954,Participants!$B$3:$C$1002,2,0),\"\")","v":""},null,{"$f":"IFERROR(VLOOKUP(E1954,Participants!$B$3:$C$1002,2,0),\"\")","v":""}]
[null,null,null,{"$f":"IFERROR(VLOOKUP(C1955,Participants!$B$3:$C$1002,2,0),\"\")","v":""},null,{"$f":"IFERROR(VLOOKUP(E1955,Participants!$B$3:$C$1002,2,0),\"\")","v":""}]
[null,null,null,{"$f":"IFERROR(VLOOKUP(C1956,Participants!$B$3:$C$1002,2,0),\"\")","v":""},null,{"$f":"IFERROR(VLOOKUP(E1956,Participants!$B$3:$C$1002,2,0),\"\")","v":""}]
[null,null,null,{"$f":"IFERROR(VLOOKUP(C1957,Participants!$B$3:$C$1002,2,0),\"\")","v":""},null,{"$f":"IFERROR(VLOOKUP(E1957,Participants!$B$3:$C$1002,2,0),\"\")","v":""}]
[null,null,null,{"$f":"IFERROR(VLOOKUP(C1958,Participants!$B$3:$C$1002,2,0),\"\")","v":""},null,{"$f":"IFERROR(VLOOKUP(E1958,Participants!$B$3:$C$1002,2,0),\"\")","v":""}]
[null,null,null,{"$f":"IFERROR(VLOOKUP(C1959,Participants!$B$3:$C$1002,2,0),\"\")","v":""},null,{"$f":"IFERROR(VLOOKUP(E1959,Participants!$B$3:$C$1002,2,0),\"\")","v":""}]
[null,null,null,{"$f":"IFERROR(VLOOKUP(C1960,Participants!$B$3:$C$1002,2,0),\"\")","v":""},null,{"$f":"IFERROR(VLOOKUP(E1960,Participants!$B$3:$C$1002,2,0),\"\")","v":""}]
[null,null,null,{"$f":"IFERROR(VLOOKUP(C1961,Participants!$B$3:$C$1002,2,0),\"\")","v":""},null,{"$f":"IFERROR(VLOOKUP(E1961,Participants!$B$3:$C$1002,2,0),\"\")","v":""}]
[null,null,null,{"$f":"IFERROR(VLOOKUP(C1962,Participants!$B$3:$C$1002,2,0),\"\")","v":""},null,{"$f":"IFERROR(VLOOKUP(E1962,Participants!$B$3:$C$1002,2,0),\"\")","v":""}]
[null,null,null,{"$f":"IFERROR(VLOOKUP(C1963,Participants!$B$3:$C$1002,2,0),\"\")","v":""},null,{"$f":"IFERROR(VLOOKUP(E1963,Participants!$B$3:$C$1002,2,0),\"\")","v":""}]
[null,null,null,{"$f":"IFERROR(VLOOKUP(C1964,Participants!$B$3:$C$1002,2,0),\"\")","v":""},null,{"$f":"IFERROR(VLOOKUP(E1964,Participants!$B$3:$C$1002,2,0),\"\")","v":""}]
[null,null,null,{"$f":"IFERROR(VLOOKUP(C1965,Participants!$B$3:$C$1002,2,0),\"\")","v":""},null,{"$f":"IFERROR(VLOOKUP(E1965,Participants!$B$3:$C$1002,2,0),\"\")","v":""}]
[null,null,null,{"$f":"IFERROR(VLOOKUP(C1966,Participants!$B$3:$C$1002,2,0),\"\")","v":""},null,{"$f":"IFERROR(VLOOKUP(E1966,Participants!$B$3:$C$1002,2,0),\"\")","v":""}]
[null,null,null,{"$f":"IFERROR(VLOOKUP(C1967,Participants!$B$3:$C$1002,2,0),\"\")","v":""},null,{"$f":"IFERROR(VLOOKUP(E1967,Participants!$B$3:$C$1002,2,0),\"\")","v":""}]
[null,null,null,{"$f":"IFERROR(VLOOKUP(C1968,Participants!$B$3:$C$1002,2,0),\"\")","v":""},null,{"$f":"IFERROR(VLOOKUP(E1968,Participants!$B$3:$C$1002,2,0),\"\")","v":""}]
[null,null,null,{"$f":"IFERROR(VLOOKUP(C1969,Participants!$B$3:$C$1002,2,0),\"\")","v":""},null,{"$f":"IFERROR(VLOOKUP(E1969,Participants!$B$3:$C$1002,2,0),\"\")","v":""}]
[null,null,null,{"$f":"IFERROR(VLOOKUP(C1970,Participants!$B$3:$C$1002,2,0),\"\")","v":""},null,{"$f":"IFERROR(VLOOKUP(E1970,Participants!$B$3:$C$1002,2,0),\"\")","v":""}]
[null,null,null,{"$f":"IFERROR(VLOOKUP(C1971,Participants!$B$3:$C$1002,2,0),\"\")","v":""},null,{"$f":"IFERROR(VLOOKUP(E1971,Participants!$B$3:$C$1002,2,0),\"\")","v":""}]
[null,null,null,{"$f":"IFERROR(VLOOKUP(C1972,Participants!$B$3:$C$1002,2,0),\"\")","v":""},null,{"$f":"IFERROR(VLOOKUP(E1972,Participants!$B$3:$C$1002,2,0),\"\")","v":""}]
[null,null,null,{"$f":"IFERROR(VLOOKUP(C1973,Participants!$B$3:$C$1002,2,0),\"\")","v":""},null,{"$f":"IFERROR(VLOOKUP(E1973,Participants!$B$3:$C$1002,2,0),\"\")","v":""}]
[null,null,null,{"$f":"IFERROR(VLOOKUP(C1974,Participants!$B$3:$C$1002,2,0),\"\")","v":""},null,{"$f":"IFERROR(VLOOKUP(E1974,Participants!$B$3:$C$1002,2,0),\"\")","v":""}]
[null,null,null,{"$f":"IFERROR(VLOOKUP(C1975,Participants!$B$3:$C$1002,2,0),\"\")","v":""},null,{"$f":"IFERROR(VLOOKUP(E1975,Participants!$B$3:$C$1002,2,0),\"\")","v":""}]
[null,null,null,{"$f":"IFERROR(VLOOKUP(C1976,Participants!$B$3:$C$1002,2,0),\"\")","v":""},null,{"$f":"IFERROR(VLOOKUP(E1976,Participants!$B$3:$C$1002,2,0),\"\")","v":""}]
[null,null,null,{"$f":"IFERROR(VLOOKUP(C1977,Participants!$B$3:$C$1002,2,0),\"\")","v":""},null,{"$f":"IFERROR(VLOOKUP(E1977,Participants!$B$3:$C$1002,2,0),\"\")","v":""}]
[null,null,null,{"$f":"IFERROR(VLOOKUP(C1978,Participants!$B$3:$C$1002,2,0),\"\")","v":""},null,{"$f":"IFERROR(VLOOKUP(E1978,Participants!$B$3:$C$1002,2,0),\"\")","v":""}]
[null,null,null,{"$f":"IFERROR(VLOOKUP(C1979,Participants!$B$3:$C$1002,2,0),\"\")","v":""},null,{"$f":"IFERROR(VLOOKUP(E1979,Participants!$B$3:$C$1002,2,0),\"\")","v":""}]
[null,null,null,{"$f":"IFERROR(VLOOKUP(C1980,Participants!$B$3:$C$1002,2,0),\"\")","v":""},null,{"$f":"IFERROR(VLOOKUP(E1980,Participants!$B$3:$C$1002,2,0),\"\")","v":""}]
[null,null,null,{"$f":"IFERROR(VLOOKUP(C1981,Participants!$B$3:$C$1002,2,0),\"\")","v":""},null,{"$f":"IFERROR(VLOOKUP(E1981,Participants!$B$3:$C$1002,2,0),\"\")","v":""}]
[null,null,null,{"$f":"IFERROR(VLOOKUP(C1982,Participants!$B$3:$C$1002,2,0),\"\")","v":""},null,{"$f":"IFERROR(VLOOKUP(E1982,Participants!$B$3:$C$1002,2,0),\"\")","v":""}]
[null,null,null,{"$f":"IFERROR(VLOOKUP(C1983,Participants!$B$3:$C$1002,2,0),\"\")","v":""},null,{"$f":"IFERROR(VLOOKUP(E1983,Participants!$B$3:$C$1002,2,0),\"\")","v":""}]
[null,null,null,{"$f":"IFERROR(VLOOKUP(C1984,Participants!$B$3:$C$1002,2,0),\"\")","v":""},null,{"$f":"IFERROR(VLOOKUP(E1984,Participants!$B$3:$C$1002,2,0),\"\")","v":""}]
[null,null,null,{"$f":"IFERROR(VLOOKUP(C1985,Participants!$B$3:$C$1002,2,0),\"\")","v":""},null,{"$f":"IFERROR(VLOOKUP(E1985,Participants!$B$3:$C$1002,2,0),\"\")","v":""}]
[null,null,null,{"$f":"IFERROR(VLOOKUP(C1986,Participants!$B$3:$C$1002,2,0),\"\")","v":""},null,{"$f":"IFERROR(VLOOKUP(E1986,Participants!$B$3:$C$1002,2,0),\"\")","v":""}]
[null,null,null,{"$f":"IFERROR(VLOOKUP(C1987,Participants!$B$3:$C$1002,2,0),\"\")","v":""},null,{"$f":"IFERROR(VLOOKUP(E1987,Participants!$B$3:$C$1002,2,0),\"\")","v":""}]
[null,null,null,{"$f":"IFERROR(VLOOKUP(C1988,Participants!$B$3:$C$1002,2,0),\"\")","v":""},null,{"$f":"IFERROR(VLOOKUP(E1988,Participants!$B$3:$C$1002,2,0),\"\")","v":""}]
[null,null,null,{"$f":"IFERROR(VLOOKUP(C1989,Participants!$B$3:$C$1002,2,0),\"\")","v":""},null,{"$f":"IFERROR(VLOOKUP(E1989,Participants!$B$3:$C$1002,2,0),\"\")","v":""}]
[null,null,null,{"$f":"IFERROR(VLOOKUP(C1990,Participants!$B$3:$C$1002,2,0),\"\")","v":""},null,{"$f":"IFERROR(VLOOKUP(E1990,Participants!$B$3:$C$1002,2,0),\"\")","v":""}]
[null,null,null,{"$f":"IFERROR(VLOOKUP(C1991,Participants!$B$3:$C$1002,2,0),\"\")","v":""},null,{"$f":"IFERROR(VLOOKUP(E1991,Participants!$B$3:$C$1002,2,0),\"\")","v":""}]
[null,null,null,{"$f":"IFERROR(VLOOKUP(C1992,Participants!$B$3:$C$1002,2,0),\"\")","v":""},null,{"$f":"IFERROR(VLOOKUP(E1992,Participants!$B$3:$C$1002,2,0),\"\")","v":""}]
[null,null,null,{"$f":"IFERROR(VLOOKUP(C1993,Participants!$B$3:$C$1002,2,0),\"\")","v":""},null,{"$f":"IFERROR(VLOOKUP(E1993,Participants!$B$3:$C$1002,2,0),\"\")","v":""}]
[null,null,null,{"$f":"IFERROR(VLOOKUP(C1994,Participants!$B$3:$C$1002,2,0),\"\")","v":""},null,{"$f":"IFERROR(VLOOKUP(E1994,Participants!$B$3:$C$1002,2,0),\"\")","v":""}]
[null,null,null,{"$f":"IFERROR(VLOOKUP(C1995,Participants!$B$3:$C$1002,2,0),\"\")","v":""},null,{"$f":"IFERROR(VLOOKUP(E1995,Participants!$B$3:$C$1002,2,0),\"\")","v":""}]
[null,null,null,{"$f":"IFERROR(VLOOKUP(C1996,Participants!$B$3:$C$1002,2,0),\"\")","v":""},null,{"$f":"IFERROR(VLOOKUP(E1996,Participants!$B$3:$C$1002,2,0),\"\")","v":""}]
[null,null,null,{"$f":"IFERROR(VLOOKUP(C1997,Participants!$B$3:$C$1002,2,0),\"\")","v":""},null,{"$f":"IFERROR(VLOOKUP(E1997,Participants!$B$3:$C$1002,2,0),\"\")","v":""}]
[null,null,null,{"$f":"IFERROR(VLOOKUP(C1998,Participants!$B$3:$C$1002,2,0),\"\")","v":""},null,{"$f":"IFERROR(VLOOKUP(E1998,Participants!$B$3:$C$1002,2,0),\"\")","v":""}]
[null,null,null,{"$f":"IFERROR(VLOOKUP(C1999,Participants!$B$3:$C$1002,2,0),\"\")","v":""},null,{"$f":"IFERROR(VLOOKUP(E1999,Participants!$B$3:$C$1002,2,0),\"\")","v":""}]
[null,null,null,{"$f":"IFERROR(VLOOKUP(C2000,Participants!$B$3:$C$1002,2,0),\"\")","v":""},null,{"$f":"IFERROR(VLOOKUP(E2000,Participants!$B$3:$C$1002,2,0),\"\")","v":""}]
[null,null,null,{"$f":"IFERROR(VLOOKUP(C2001,Participants!$B$3:$C$1002,2,0),\"\")","v":""},null,{"$f":"IFERROR(VLOOKUP(E2001,Participants!$B$3:$C$1002,2,0),\"\")","v":""}]
[null,null,null,{"$f":"IFERROR(VLOOKUP(C2002,Participants!$B$3:$C$1002,2,0),\"\")","v":""},null,{"$f":"IFERROR(VLOOKUP(E2002,Participants!$B$3:$C$1002,2,0),\"\")","v":""}]
[null,null,null,{"$f":"IFERROR(VLOOKUP(C2003,Participants!$B$3:$C$1002,2,0),\"\")","v":""},null,{"$f":"IFERROR(VLOOKUP(E2003,Participants!$B$3:$C$1002,2,0),\"\")","v":""}]

{"sheet":"Template","index":4,"n_rows":2003,"n_cols":17,"rows_kept":2003,"cut":false,"hidden":false,"merged":[[0,8,2,8],[0,9,2,9],[0,10,2,10],[2,6,2,7]]}
[null,{"$f":"Sprache!$E$11","v":"Rangliste"},null,{"$f":"Sprache!$E$12","v":"Altes Datum:"},null,{"$f":"Sprache!$E$13","v":"Neues Datum:"},null,null,{"$f":"Sprache!$E$20","v":"Wichtung"},{"$f":"Sprache!$E$21","v":"Elfmetersch."},{"$f":"Sprache!$E$22","v":"KO-Runde"}]
[null,{"$f":"Sprache!$E$14","v":"Spiele"},null,null,"\u009e",null,null,null,null,null,null,null,"Neue Rangliste"]
[null,{"$f":"Sprache!$E$16","v":"Datum"},{"$f":"Sprache!$E$17","v":"ID 1"},null,{"$f":"Sprache!$E$18","v":"ID 2"},null,{"$f":"Sprache!$E$19","v":"Ergebnis"},null,null,null,null,null,"Rang","Name","Verein","Punkte","+/-"]
[null,null,null,{"$f":"IFERROR(VLOOKUP(C4,Participants!$B$3:$C$1002,2,0),\"\")","v":""},null,{"$f":"IFERROR(VLOOKUP(E4,Participants!$B$3:$C$1002,2,0),\"\")","v":""}]
[null,null,null,{"$f":"IFERROR(VLOOKUP(C5,Participants!$B$3:$C$1002,2,0),\"\")","v":""},null,{"$f":"IFERROR(VLOOKUP(E5,Participants!$B$3:$C$1002,2,0),\"\")","v":""}]
[null,null,null,{"$f":"IFERROR(VLOOKUP(C6,Participants!$B$3:$C$1002,2,0),\"\")","v":""},null,{"$f":"IFERROR(VLOOKUP(E6,Participants!$B$3:$C$1002,2,0),\"\")","v":""}]
[null,null,null,{"$f":"IFERROR(VLOOKUP(C7,Participants!$B$3:$C$1002,2,0),\"\")","v":""},null,{"$f":"IFERROR(VLOOKUP(E7,Participants!$B$3:$C$1002,2,0),\"\")","v":""}]
[null,null,null,{"$f":"IFERROR(VLOOKUP(C8,Participants!$B$3:$C$1002,2,0),\"\")","v":""},null,{"$f":"IFERROR(VLOOKUP(E8,Participants!$B$3:$C$1002,2,0),\"\")","v":""}]
[null,null,null,{"$f":"IFERROR(VLOOKUP(C9,Participants!$B$3:$C$1002,2,0),\"\")","v":""},null,{"$f":"IFERROR(VLOOKUP(E9,Participants!$B$3:$C$1002,2,0),\"\")","v":""}]
[null,null,null,{"$f":"IFERROR(VLOOKUP(C10,Participants!$B$3:$C$1002,2,0),\"\")","v":""},null,{"$f":"IFERROR(VLOOKUP(E10,Participants!$B$3:$C$1002,2,0),\"\")","v":""}]
[null,null,null,{"$f":"IFERROR(VLOOKUP(C11,Participants!$B$3:$C$1002,2,0),\"\")","v":""},null,{"$f":"IFERROR(VLOOKUP(E11,Participants!$B$3:$C$1002,2,0),\"\")","v":""}]
[null,null,null,{"$f":"IFERROR(VLOOKUP(C12,Participants!$B$3:$C$1002,2,0),\"\")","v":""},null,{"$f":"IFERROR(VLOOKUP(E12,Participants!$B$3:$C$1002,2,0),\"\")","v":""}]
[null,null,null,{"$f":"IFERROR(VLOOKUP(C13,Participants!$B$3:$C$1002,2,0),\"\")","v":""},null,{"$f":"IFERROR(VLOOKUP(E13,Participants!$B$3:$C$1002,2,0),\"\")","v":""}]
[null,null,null,{"$f":"IFERROR(VLOOKUP(C14,Participants!$B$3:$C$1002,2,0),\"\")","v":""},null,{"$f":"IFERROR(VLOOKUP(E14,Participants!$B$3:$C$1002,2,0),\"\")","v":""}]
[null,null,null,{"$f":"IFERROR(VLOOKUP(C15,Participants!$B$3:$C$1002,2,0),\"\")","v":""},null,{"$f":"IFERROR(VLOOKUP(E15,Participants!$B$3:$C$1002,2,0),\"\")","v":""}]
[null,null,null,{"$f":"IFERROR(VLOOKUP(C16,Participants!$B$3:$C$1002,2,0),\"\")","v":""},null,{"$f":"IFERROR(VLOOKUP(E16,Participants!$B$3:$C$1002,2,0),\"\")","v":""}]
[null,null,null,{"$f":"IFERROR(VLOOKUP(C17,Participants!$B$3:$C$1002,2,0),\"\")","v":""},null,{"$f":"IFERROR(VLOOKUP(E17,Participants!$B$3:$C$1002,2,0),\"\")","v":""}]
[null,null,null,{"$f":"IFERROR(VLOOKUP(C18,Participants!$B$3:$C$1002,2,0),\"\")","v":""},null,{"$f":"IFERROR(VLOOKUP(E18,Participants!$B$3:$C$1002,2,0),\"\")","v":""}]
[null,null,null,{"$f":"IFERROR(VLOOKUP(C19,Participants!$B$3:$C$1002,2,0),\"\")","v":""},null,{"$f":"IFERROR(VLOOKUP(E19,Participants!$B$3:$C$1002,2,0),\"\")","v":""}]
[null,null,null,{"$f":"IFERROR(VLOOKUP(C20,Participants!$B$3:$C$1002,2,0),\"\")","v":""},null,{"$f":"IFERROR(VLOOKUP(E20,Participants!$B$3:$C$1002,2,0),\"\")","v":""}]
[null,null,null,{"$f":"IFERROR(VLOOKUP(C21,Participants!$B$3:$C$1002,2,0),\"\")","v":""},null,{"$f":"IFERROR(VLOOKUP(E21,Participants!$B$3:$C$1002,2,0),\"\")","v":""}]
[null,null,null,{"$f":"IFERROR(VLOOKUP(C22,Participants!$B$3:$C$1002,2,0),\"\")","v":""},null,{"$f":"IFERROR(VLOOKUP(E22,Participants!$B$3:$C$1002,2,0),\"\")","v":""}]
[null,null,null,{"$f":"IFERROR(VLOOKUP(C23,Participants!$B$3:$C$1002,2,0),\"\")","v":""},null,{"$f":"IFERROR(VLOOKUP(E23,Participants!$B$3:$C$1002,2,0),\"\")","v":""}]
[null,null,null,{"$f":"IFERROR(VLOOKUP(C24,Participants!$B$3:$C$1002,2,0),\"\")","v":""},null,{"$f":"IFERROR(VLOOKUP(E24,Participants!$B$3:$C$1002,2,0),\"\")","v":""}]
[null,null,null,{"$f":"IFERROR(VLOOKUP(C25,Participants!$B$3:$C$1002,2,0),\"\")","v":""},null,{"$f":"IFERROR(VLOOKUP(E25,Participants!$B$3:$C$1002,2,0),\"\")","v":""}]
[null,null,null,{"$f":"IFERROR(VLOOKUP(C26,Participants!$B$3:$C$1002,2,0),\"\")","v":""},null,{"$f":"IFERROR(VLOOKUP(E26,Participants!$B$3:$C$1002,2,0),\"\")","v":""}]
[null,null,null,{"$f":"IFERROR(VLOOKUP(C27,Participants!$B$3:$C$1002,2,0),\"\")","v":""},null,{"$f":"IFERROR(VLOOKUP(E27,Participants!$B$3:$C$1002,2,0),\"\")","v":""}]
[null,null,null,{"$f":"IFERROR(VLOOKUP(C28,Participants!$B$3:$C$1002,2,0),\"\")","v":""},null,{"$f":"IFERROR(VLOOKUP(E28,Participants!$B$3:$C$1002,2,0),\"\")","v":""}]
[null,null,null,{"$f":"IFERROR(VLOOKUP(C29,Participants!$B$3:$C$1002,2,0),\"\")","v":""},null,{"$f":"IFERROR(VLOOKUP(E29,Participants!$B$3:$C$1002,2,0),\"\")","v":""}]
[null,null,null,{"$f":"IFERROR(VLOOKUP(C30,Participants!$B$3:$C$1002,2,0),\"\")","v":""},null,{"$f":"IFERROR(VLOOKUP(E30,Participants!$B$3:$C$1002,2,0),\"\")","v":""}]
[null,null,null,{"$f":"IFERROR(VLOOKUP(C31,Participants!$B$3:$C$1002,2,0),\"\")","v":""},null,{"$f":"IFERROR(VLOOKUP(E31,Participants!$B$3:$C$1002,2,0),\"\")","v":""}]
[null,null,null,{"$f":"IFERROR(VLOOKUP(C32,Participants!$B$3:$C$1002,2,0),\"\")","v":""},null,{"$f":"IFERROR(VLOOKUP(E32,Participants!$B$3:$C$1002,2,0),\"\")","v":""}]
[null,null,null,{"$f":"IFERROR(VLOOKUP(C33,Participants!$B$3:$C$1002,2,0),\"\")","v":""},null,{"$f":"IFERROR(VLOOKUP(E33,Participants!$B$3:$C$1002,2,0),\"\")","v":""}]
[null,null,null,{"$f":"IFERROR(VLOOKUP(C34,Participants!$B$3:$C$1002,2,0),\"\")","v":""},null,{"$f":"IFERROR(VLOOKUP(E34,Participants!$B$3:$C$1002,2,0),\"\")","v":""}]
[null,null,null,{"$f":"IFERROR(VLOOKUP(C35,Participants!$B$3:$C$1002,2,0),\"\")","v":""},null,{"$f":"IFERROR(VLOOKUP(E35,Participants!$B$3:$C$1002,2,0),\"\")","v":""}]
[null,null,null,{"$f":"IFERROR(VLOOKUP(C36,Participants!$B$3:$C$1002,2,0),\"\")","v":""},null,{"$f":"IFERROR(VLOOKUP(E36,Participants!$B$3:$C$1002,2,0),\"\")","v":""}]
[null,null,null,{"$f":"IFERROR(VLOOKUP(C37,Participants!$B$3:$C$1002,2,0),\"\")","v":""},null,{"$f":"IFERROR(VLOOKUP(E37,Participants!$B$3:$C$1002,2,0),\"\")","v":""}]
[null,null,null,{"$f":"IFERROR(VLOOKUP(C38,Participants!$B$3:$C$1002,2,0),\"\")","v":""},null,{"$f":"IFERROR(VLOOKUP(E38,Participants!$B$3:$C$1002,2,0),\"\")","v":""}]
[null,null,null,{"$f":"IFERROR(VLOOKUP(C39,Participants!$B$3:$C$1002,2,0),\"\")","v":""},null,{"$f":"IFERROR(VLOOKUP(E39,Participants!$B$3:$C$1002,2,0),\"\")","v":""}]
[null,null,null,{"$f":"IFERROR(VLOOKUP(C40,Participants!$B$3:$C$1002,2,0),\"\")","v":""},null,{"$f":"IFERROR(VLOOKUP(E40,Participants!$B$3:$C$1002,2,0),\"\")","v":""}]
[null,null,null,{"$f":"IFERROR(VLOOKUP(C41,Participants!$B$3:$C$1002,2,0),\"\")","v":""},null,{"$f":"IFERROR(VLOOKUP(E41,Participants!$B$3:$C$1002,2,0),\"\")","v":""}]
[null,null,null,{"$f":"IFERROR(VLOOKUP(C42,Participants!$B$3:$C$1002,2,0),\"\")","v":""},null,{"$f":"IFERROR(VLOOKUP(E42,Participants!$B$3:$C$1002,2,0),\"\")","v":""}]
[null,null,null,{"$f":"IFERROR(VLOOKUP(C43,Participants!$B$3:$C$1002,2,0),\"\")","v":""},null,{"$f":"IFERROR(VLOOKUP(E43,Participants!$B$3:$C$1002,2,0),\"\")","v":""}]
[null,null,null,{"$f":"IFERROR(VLOOKUP(C44,Participants!$B$3:$C$1002,2,0),\"\")","v":""},null,{"$f":"IFERROR(VLOOKUP(E44,Participants!$B$3:$C$1002,2,0),\"\")","v":""}]
[null,null,null,{"$f":"IFERROR(VLOOKUP(C45,Participants!$B$3:$C$1002,2,0),\"\")","v":""},null,{"$f":"IFERROR(VLOOKUP(E45,Participants!$B$3:$C$1002,2,0),\"\")","v":""}]
[null,null,null,{"$f":"IFERROR(VLOOKUP(C46,Participants!$B$3:$C$1002,2,0),\"\")","v":""},null,{"$f":"IFERROR(VLOOKUP(E46,Participants!$B$3:$C$1002,2,0),\"\")","v":""}]
[null,null,null,{"$f":"IFERROR(VLOOKUP(C47,Participants!$B$3:$C$1002,2,0),\"\")","v":""},null,{"$f":"IFERROR(VLOOKUP(E47,Participants!$B$3:$C$1002,2,0),\"\")","v":""}]
[null,null,null,{"$f":"IFERROR(VLOOKUP(C48,Participants!$B$3:$C$1002,2,0),\"\")","v":""},null,{"$f":"IFERROR(VLOOKUP(E48,Participants!$B$3:$C$1002,2,0),\"\")","v":""}]
[null,null,null,{"$f":"IFERROR(VLOOKUP(C49,Participants!$B$3:$C$1002,2,0),\"\")","v":""},null,{"$f":"IFERROR(VLOOKUP(E49,Participants!$B$3:$C$1002,2,0),\"\")","v":""}]
[null,null,null,{"$f":"IFERROR(VLOOKUP(C50,Participants!$B$3:$C$1002,2,0),\"\")","v":""},null,{"$f":"IFERROR(VLOOKUP(E50,Participants!$B$3:$C$1002,2,0),\"\")","v":""}]
[null,null,null,{"$f":"IFERROR(VLOOKUP(C51,Participants!$B$3:$C$1002,2,0),\"\")","v":""},null,{"$f":"IFERROR(VLOOKUP(E51,Participants!$B$3:$C$1002,2,0),\"\")","v":""}]
[null,null,null,{"$f":"IFERROR(VLOOKUP(C52,Participants!$B$3:$C$1002,2,0),\"\")","v":""},null,{"$f":"IFERROR(VLOOKUP(E52,Participants!$B$3:$C$1002,2,0),\"\")","v":""}]
[null,null,null,{"$f":"IFERROR(VLOOKUP(C53,Participants!$B$3:$C$1002,2,0),\"\")","v":""},null,{"$f":"IFERROR(VLOOKUP(E53,Participants!$B$3:$C$1002,2,0),\"\")","v":""}]
[null,null,null,{"$f":"IFERROR(VLOOKUP(C54,Participants!$B$3:$C$1002,2,0),\"\")","v":""},null,{"$f":"IFERROR(VLOOKUP(E54,Participants!$B$3:$C$1002,2,0),\"\")","v":""}]
[null,null,null,{"$f":"IFERROR(VLOOKUP(C55,Participants!$B$3:$C$1002,2,0),\"\")","v":""},null,{"$f":"IFERROR(VLOOKUP(E55,Participants!$B$3:$C$1002,2,0),\"\")","v":""}]
[null,null,null,{"$f":"IFERROR(VLOOKUP(C56,Participants!$B$3:$C$1002,2,0),\"\")","v":""},null,{"$f":"IFERROR(VLOOKUP(E56,Participants!$B$3:$C$1002,2,0),\"\")","v":""}]
[null,null,null,{"$f":"IFERROR(VLOOKUP(C57,Participants!$B$3:$C$1002,2,0),\"\")","v":""},null,{"$f":"IFERROR(VLOOKUP(E57,Participants!$B$3:$C$1002,2,0),\"\")","v":""}]
[null,null,null,{"$f":"IFERROR(VLOOKUP(C58,Participants!$B$3:$C$1002,2,0),\"\")","v":""},null,{"$f":"IFERROR(VLOOKUP(E58,Participants!$B$3:$C$1002,2,0),\"\")","v":""}]
[null,null,null,{"$f":"IFERROR(VLOOKUP(C59,Participants!$B$3:$C$1002,2,0),\"\")","v":""},null,{"$f":"IFERROR(VLOOKUP(E59,Participants!$B$3:$C$1002,2,0),\"\")","v":""}]
[null,null,null,{"$f":"IFERROR(VLOOKUP(C60,Participants!$B$3:$C$1002,2,0),\"\")","v":""},null,{"$f":"IFERROR(VLOOKUP(E60,Participants!$B$3:$C$1002,2,0),\"\")","v":""}]
[null,null,null,{"$f":"IFERROR(VLOOKUP(C61,Participants!$B$3:$C$1002,2,0),\"\")","v":""},null,{"$f":"IFERROR(VLOOKUP(E61,Participants!$B$3:$C$1002,2,0),\"\")","v":""}]
[null,null,null,{"$f":"IFERROR(VLOOKUP(C62,Participants!$B$3:$C$1002,2,0),\"\")","v":""},null,{"$f":"IFERROR(VLOOKUP(E62,Participants!$B$3:$C$1002,2,0),\"\")","v":""}]
[null,null,null,{"$f":"IFERROR(VLOOKUP(C63,Participants!$B$3:$C$1002,2,0),\"\")","v":""},null,{"$f":"IFERROR(VLOOKUP(E63,Participants!$B$3:$C$1002,2,0),\"\")","v":""}]
[null,null,null,{"$f":"IFERROR(VLOOKUP(C64,Participants!$B$3:$C$1002,2,0),\"\")","v":""},null,{"$f":"IFERROR(VLOOKUP(E64,Participants!$B$3:$C$1002,2,0),\"\")","v":""}]
[null,null,null,{"$f":"IFERROR(VLOOKUP(C65,Participants!$B$3:$C$1002,2,0),\"\")","v":""},null,{"$f":"IFERROR(VLOOKUP(E65,Participants!$B$3:$C$1002,2,0),\"\")","v":""}]
[null,null,null,{"$f":"IFERROR(VLOOKUP(C66,Participants!$B$3:$C$1002,2,0),\"\")","v":""},null,{"$f":"IFERROR(VLOOKUP(E66,Participants!$B$3:$C$1002,2,0),\"\")","v":""}]
[null,null,null,{"$f":"IFERROR(VLOOKUP(C67,Participants!$B$3:$C$1002,2,0),\"\")","v":""},null,{"$f":"IFERROR(VLOOKUP(E67,Participants!$B$3:$C$1002,2,0),\"\")","v":""}]
[null,null,null,{"$f":"IFERROR(VLOOKUP(C68,Participants!$B$3:$C$1002,2,0),\"\")","v":""},null,{"$f":"IFERROR(VLOOKUP(E68,Participants!$B$3:$C$1002,2,0),\"\")","v":""}]
[null,null,null,{"$f":"IFERROR(VLOOKUP(C69,Participants!$B$3:$C$1002,2,0),\"\")","v":""},null,{"$f":"IFERROR(VLOOKUP(E69,Participants!$B$3:$C$1002,2,0),\"\")","v":""}]
[null,null,null,{"$f":"IFERROR(VLOOKUP(C70,Participants!$B$3:$C$1002,2,0),\"\")","v":""},null,{"$f":"IFERROR(VLOOKUP(E70,Participants!$B$3:$C$1002,2,0),\"\")","v":""}]
[null,null,null,{"$f":"IFERROR(VLOOKUP(C71,Participants!$B$3:$C$1002,2,0),\"\")","v":""},null,{"$f":"IFERROR(VLOOKUP(E71,Participants!$B$3:$C$1002,2,0),\"\")","v":""}]
[null,null,null,{"$f":"IFERROR(VLOOKUP(C72,Participants!$B$3:$C$1002,2,0),\"\")","v":""},null,{"$f":"IFERROR(VLOOKUP(E72,Participants!$B$3:$C$1002,2,0),\"\")","v":""}]
[null,null,null,{"$f":"IFERROR(VLOOKUP(C73,Participants!$B$3:$C$1002,2,0),\"\")","v":""},null,{"$f":"IFERROR(VLOOKUP(E73,Participants!$B$3:$C$1002,2,0),\"\")","v":""}]
[null,null,null,{"$f":"IFERROR(VLOOKUP(C74,Participants!$B$3:$C$1002,2,0),\"\")","v":""},null,{"$f":"IFERROR(VLOOKUP(E74,Participants!$B$3:$C$1002,2,0),\"\")","v":""}]
[null,null,null,{"$f":"IFERROR(VLOOKUP(C75,Participants!$B$3:$C$1002,2,0),\"\")","v":""},null,{"$f":"IFERROR(VLOOKUP(E75,Participants!$B$3:$C$1002,2,0),\"\")","v":""}]
[null,null,null,{"$f":"IFERROR(VLOOKUP(C76,Participants!$B$3:$C$1002,2,0),\"\")","v":""},null,{"$f":"IFERROR(VLOOKUP(E76,Participants!$B$3:$C$1002,2,0),\"\")","v":""}]
[null,null,null,{"$f":"IFERROR(VLOOKUP(C77,Participants!$B$3:$C$1002,2,0),\"\")","v":""},null,{"$f":"IFERROR(VLOOKUP(E77,Participants!$B$3:$C$1002,2,0),\"\")","v":""}]
[null,null,null,{"$f":"IFERROR(VLOOKUP(C78,Participants!$B$3:$C$1002,2,0),\"\")","v":""},null,{"$f":"IFERROR(VLOOKUP(E78,Participants!$B$3:$C$1002,2,0),\"\")","v":""}]
[null,null,null,{"$f":"IFERROR(VLOOKUP(C79,Participants!$B$3:$C$1002,2,0),\"\")","v":""},null,{"$f":"IFERROR(VLOOKUP(E79,Participants!$B$3:$C$1002,2,0),\"\")","v":""}]
[null,null,null,{"$f":"IFERROR(VLOOKUP(C80,Participants!$B$3:$C$1002,2,0),\"\")","v":""},null,{"$f":"IFERROR(VLOOKUP(E80,Participants!$B$3:$C$1002,2,0),\"\")","v":""}]
[null,null,null,{"$f":"IFERROR(VLOOKUP(C81,Participants!$B$3:$C$1002,2,0),\"\")","v":""},null,{"$f":"IFERROR(VLOOKUP(E81,Participants!$B$3:$C$1002,2,0),\"\")","v":""}]
[null,null,null,{"$f":"IFERROR(VLOOKUP(C82,Participants!$B$3:$C$1002,2,0),\"\")","v":""},null,{"$f":"IFERROR(VLOOKUP(E82,Participants!$B$3:$C$1002,2,0),\"\")","v":""}]
[null,null,null,{"$f":"IFERROR(VLOOKUP(C83,Participants!$B$3:$C$1002,2,0),\"\")","v":""},null,{"$f":"IFERROR(VLOOKUP(E83,Participants!$B$3:$C$1002,2,0),\"\")","v":""}]
[null,null,null,{"$f":"IFERROR(VLOOKUP(C84,Participants!$B$3:$C$1002,2,0),\"\")","v":""},null,{"$f":"IFERROR(VLOOKUP(E84,Participants!$B$3:$C$1002,2,0),\"\")","v":""}]
[null,null,null,{"$f":"IFERROR(VLOOKUP(C85,Participants!$B$3:$C$1002,2,0),\"\")","v":""},null,{"$f":"IFERROR(VLOOKUP(E85,Participants!$B$3:$C$1002,2,0),\"\")","v":""}]
[null,null,null,{"$f":"IFERROR(VLOOKUP(C86,Participants!$B$3:$C$1002,2,0),\"\")","v":""},null,{"$f":"IFERROR(VLOOKUP(E86,Participants!$B$3:$C$1002,2,0),\"\")","v":""}]
[null,null,null,{"$f":"IFERROR(VLOOKUP(C87,Participants!$B$3:$C$1002,2,0),\"\")","v":""},null,{"$f":"IFERROR(VLOOKUP(E87,Participants!$B$3:$C$1002,2,0),\"\")","v":""}]
[null,null,null,{"$f":"IFERROR(VLOOKUP(C88,Participants!$B$3:$C$1002,2,0),\"\")","v":""},null,{"$f":"IFERROR(VLOOKUP(E88,Participants!$B$3:$C$1002,2,0),\"\")","v":""}]
[null,null,null,{"$f":"IFERROR(VLOOKUP(C89,Participants!$B$3:$C$1002,2,0),\"\")","v":""},null,{"$f":"IFERROR(VLOOKUP(E89,Participants!$B$3:$C$1002,2,0),\"\")","v":""}]
[null,null,null,{"$f":"IFERROR(VLOOKUP(C90,Participants!$B$3:$C$1002,2,0),\"\")","v":""},null,{"$f":"IFERROR(VLOOKUP(E90,Participants!$B$3:$C$1002,2,0),\"\")","v":""}]
[null,null,null,{"$f":"IFERROR(VLOOKUP(C91,Participants!$B$3:$C$1002,2,0),\"\")","v":""},null,{"$f":"IFERROR(VLOOKUP(E91,Participants!$B$3:$C$1002,2,0),\"\")","v":""}]
[null,null,null,{"$f":"IFERROR(VLOOKUP(C92,Participants!$B$3:$C$1002,2,0),\"\")","v":""},null,{"$f":"IFERROR(VLOOKUP(E92,Participants!$B$3:$C$1002,2,0),\"\")","v":""}]
[null,null,null,{"$f":"IFERROR(VLOOKUP(C93,Participants!$B$3:$C$1002,2,0),\"\")","v":""},null,{"$f":"IFERROR(VLOOKUP(E93,Participants!$B$3:$C$1002,2,0),\"\")","v":""}]
[null,null,null,{"$f":"IFERROR(VLOOKUP(C94,Participants!$B$3:$C$1002,2,0),\"\")","v":""},null,{"$f":"IFERROR(VLOOKUP(E94,Participants!$B$3:$C$1002,2,0),\"\")","v":""}]
[null,null,null,{"$f":"IFERROR(VLOOKUP(C95,Participants!$B$3:$C$1002,2,0),\"\")","v":""},null,{"$f":"IFERROR(VLOOKUP(E95,Participants!$B$3:$C$1002,2,0),\"\")","v":""}]
[null,null,null,{"$f":"IFERROR(VLOOKUP(C96,Participants!$B$3:$C$1002,2,0),\"\")","v":""},null,{"$f":"IFERROR(VLOOKUP(E96,Participants!$B$3:$C$1002,2,0),\"\")","v":""}]
[null,null,null,{"$f":"IFERROR(VLOOKUP(C97,Participants!$B$3:$C$1002,2,0),\"\")","v":""},null,{"$f":"IFERROR(VLOOKUP(E97,Participants!$B$3:$C$1002,2,0),\"\")","v":""}]
[null,null,null,{"$f":"IFERROR(VLOOKUP(C98,Participants!$B$3:$C$1002,2,0),\"\")","v":""},null,{"$f":"IFERROR(VLOOKUP(E98,Participants!$B$3:$C$1002,2,0),\"\")","v":""}]
[null,null,null,{"$f":"IFERROR(VLOOKUP(C99,Participants!$B$3:$C$1002,2,0),\"\")","v":""},null,{"$f":"IFERROR(VLOOKUP(E99,Participants!$B$3:$C$1002,2,0),\"\")","v":""}]
[null,null,null,{"$f":"IFERROR(VLOOKUP(C100,Participants!$B$3:$C$1002,2,0),\"\")","v":""},null,{"$f":"IFERROR(VLOOKUP(E100,Participants!$B$3:$C$1002,2,0),\"\")","v":""}]
[null,null,null,{"$f":"IFERROR(VLOOKUP(C101,Participants!$B$3:$C$1002,2,0),\"\")","v":""},null,{"$f":"IFERROR(VLOOKUP(E101,Participants!$B$3:$C$1002,2,0),\"\")","v":""}]
[null,null,null,{"$f":"IFERROR(VLOOKUP(C102,Participants!$B$3:$C$1002,2,0),\"\")","v":""},null,{"$f":"IFERROR(VLOOKUP(E102,Participants!$B$3:$C$1002,2,0),\"\")","v":""}]
[null,null,null,{"$f":"IFERROR(VLOOKUP(C103,Participants!$B$3:$C$1002,2,0),\"\")","v":""},null,{"$f":"IFERROR(VLOOKUP(E103,Participants!$B$3:$C$1002,2,0),\"\")","v":""}]
[null,null,null,{"$f":"IFERROR(VLOOKUP(C104,Participants!$B$3:$C$1002,2,0),\"\")","v":""},null,{"$f":"IFERROR(VLOOKUP(E104,Participants!$B$3:$C$1002,2,0),\"\")","v":""}]
[null,null,null,{"$f":"IFERROR(VLOOKUP(C105,Participants!$B$3:$C$1002,2,0),\"\")","v":""},null,{"$f":"IFERROR(VLOOKUP(E105,Participants!$B$3:$C$1002,2,0),\"\")","v":""}]
[null,null,null,{"$f":"IFERROR(VLOOKUP(C106,Participants!$B$3:$C$1002,2,0),\"\")","v":""},null,{"$f":"IFERROR(VLOOKUP(E106,Participants!$B$3:$C$1002,2,0),\"\")","v":""}]
[null,null,null,{"$f":"IFERROR(VLOOKUP(C107,Participants!$B$3:$C$1002,2,0),\"\")","v":""},null,{"$f":"IFERROR(VLOOKUP(E107,Participants!$B$3:$C$1002,2,0),\"\")","v":""}]
[null,null,null,{"$f":"IFERROR(VLOOKUP(C108,Participants!$B$3:$C$1002,2,0),\"\")","v":""},null,{"$f":"IFERROR(VLOOKUP(E108,Participants!$B$3:$C$1002,2,0),\"\")","v":""}]
[null,null,null,{"$f":"IFERROR(VLOOKUP(C109,Participants!$B$3:$C$1002,2,0),\"\")","v":""},null,{"$f":"IFERROR(VLOOKUP(E109,Participants!$B$3:$C$1002,2,0),\"\")","v":""}]
[null,null,null,{"$f":"IFERROR(VLOOKUP(C110,Participants!$B$3:$C$1002,2,0),\"\")","v":""},null,{"$f":"IFERROR(VLOOKUP(E110,Participants!$B$3:$C$1002,2,0),\"\")","v":""}]
[null,null,null,{"$f":"IFERROR(VLOOKUP(C111,Participants!$B$3:$C$1002,2,0),\"\")","v":""},null,{"$f":"IFERROR(VLOOKUP(E111,Participants!$B$3:$C$1002,2,0),\"\")","v":""}]
[null,null,null,{"$f":"IFERROR(VLOOKUP(C112,Participants!$B$3:$C$1002,2,0),\"\")","v":""},null,{"$f":"IFERROR(VLOOKUP(E112,Participants!$B$3:$C$1002,2,0),\"\")","v":""}]
[null,null,null,{"$f":"IFERROR(VLOOKUP(C113,Participants!$B$3:$C$1002,2,0),\"\")","v":""},null,{"$f":"IFERROR(VLOOKUP(E113,Participants!$B$3:$C$1002,2,0),\"\")","v":""}]
[null,null,null,{"$f":"IFERROR(VLOOKUP(C114,Participants!$B$3:$C$1002,2,0),\"\")","v":""},null,{"$f":"IFERROR(VLOOKUP(E114,Participants!$B$3:$C$1002,2,0),\"\")","v":""}]
[null,null,null,{"$f":"IFERROR(VLOOKUP(C115,Participants!$B$3:$C$1002,2,0),\"\")","v":""},null,{"$f":"IFERROR(VLOOKUP(E115,Participants!$B$3:$C$1002,2,0),\"\")","v":""}]
[null,null,null,{"$f":"IFERROR(VLOOKUP(C116,Participants!$B$3:$C$1002,2,0),\"\")","v":""},null,{"$f":"IFERROR(VLOOKUP(E116,Participants!$B$3:$C$1002,2,0),\"\")","v":""}]
[null,null,null,{"$f":"IFERROR(VLOOKUP(C117,Participants!$B$3:$C$1002,2,0),\"\")","v":""},null,{"$f":"IFERROR(VLOOKUP(E117,Participants!$B$3:$C$1002,2,0),\"\")","v":""}]
[null,null,null,{"$f":"IFERROR(VLOOKUP(C118,Participants!$B$3:$C$1002,2,0),\"\")","v":""},null,{"$f":"IFERROR(VLOOKUP(E118,Participants!$B$3:$C$1002,2,0),\"\")","v":""}]
[null,null,null,{"$f":"IFERROR(VLOOKUP(C119,Participants!$B$3:$C$1002,2,0),\"\")","v":""},null,{"$f":"IFERROR(VLOOKUP(E119,Participants!$B$3:$C$1002,2,0),\"\")","v":""}]
[null,null,null,{"$f":"IFERROR(VLOOKUP(C120,Participants!$B$3:$C$1002,2,0),\"\")","v":""},null,{"$f":"IFERROR(VLOOKUP(E120,Participants!$B$3:$C$1002,2,0),\"\")","v":""}]
[null,null,null,{"$f":"IFERROR(VLOOKUP(C121,Participants!$B$3:$C$1002,2,0),\"\")","v":""},null,{"$f":"IFERROR(VLOOKUP(E121,Participants!$B$3:$C$1002,2,0),\"\")","v":""}]
[null,null,null,{"$f":"IFERROR(VLOOKUP(C122,Participants!$B$3:$C$1002,2,0),\"\")","v":""},null,{"$f":"IFERROR(VLOOKUP(E122,Participants!$B$3:$C$1002,2,0),\"\")","v":""}]
[null,null,null,{"$f":"IFERROR(VLOOKUP(C123,Participants!$B$3:$C$1002,2,0),\"\")","v":""},null,{"$f":"IFERROR(VLOOKUP(E123,Participants!$B$3:$C$1002,2,0),\"\")","v":""}]
[null,null,null,{"$f":"IFERROR(VLOOKUP(C124,Participants!$B$3:$C$1002,2,0),\"\")","v":""},null,{"$f":"IFERROR(VLOOKUP(E124,Participants!$B$3:$C$1002,2,0),\"\")","v":""}]
[null,null,null,{"$f":"IFERROR(VLOOKUP(C125,Participants!$B$3:$C$1002,2,0),\"\")","v":""},null,{"$f":"IFERROR(VLOOKUP(E125,Participants!$B$3:$C$1002,2,0),\"\")","v":""}]
[null,null,null,{"$f":"IFERROR(VLOOKUP(C126,Participants!$B$3:$C$1002,2,0),\"\")","v":""},null,{"$f":"IFERROR(VLOOKUP(E126,Participants!$B$3:$C$1002,2,0),\"\")","v":""}]
[null,null,null,{"$f":"IFERROR(VLOOKUP(C127,Participants!$B$3:$C$1002,2,0),\"\")","v":""},null,{"$f":"IFERROR(VLOOKUP(E127,Participants!$B$3:$C$1002,2,0),\"\")","v":""}]
[null,null,null,{"$f":"IFERROR(VLOOKUP(C128,Participants!$B$3:$C$1002,2,0),\"\")","v":""},null,{"$f":"IFERROR(VLOOKUP(E128,Participants!$B$3:$C$1002,2,0),\"\")","v":""}]
[null,null,null,{"$f":"IFERROR(VLOOKUP(C129,Participants!$B$3:$C$1002,2,0),\"\")","v":""},null,{"$f":"IFERROR(VLOOKUP(E129,Participants!$B$3:$C$1002,2,0),\"\")","v":""}]
[null,null,null,{"$f":"IFERROR(VLOOKUP(C130,Participants!$B$3:$C$1002,2,0),\"\")","v":""},null,{"$f":"IFERROR(VLOOKUP(E130,Participants!$B$3:$C$1002,2,0),\"\")","v":""}]
[null,null,null,{"$f":"IFERROR(VLOOKUP(C131,Participants!$B$3:$C$1002,2,0),\"\")","v":""},null,{"$f":"IFERROR(VLOOKUP(E131,Participants!$B$3:$C$1002,2,0),\"\")","v":""}]
[null,null,null,{"$f":"IFERROR(VLOOKUP(C132,Participants!$B$3:$C$1002,2,0),\"\")","v":""},null,{"$f":"IFERROR(VLOOKUP(E132,Participants!$B$3:$C$1002,2,0),\"\")","v":""}]
[null,null,null,{"$f":"IFERROR(VLOOKUP(C133,Participants!$B$3:$C$1002,2,0),\"\")","v":""},null,{"$f":"IFERROR(VLOOKUP(E133,Participants!$B$3:$C$1002,2,0),\"\")","v":""}]
[null,null,null,{"$f":"IFERROR(VLOOKUP(C134,Participants!$B$3:$C$1002,2,0),\"\")","v":""},null,{"$f":"IFERROR(VLOOKUP(E134,Participants!$B$3:$C$1002,2,0),\"\")","v":""}]
[null,null,null,{"$f":"IFERROR(VLOOKUP(C135,Participants!$B$3:$C$1002,2,0),\"\")","v":""},null,{"$f":"IFERROR(VLOOKUP(E135,Participants!$B$3:$C$1002,2,0),\"\")","v":""}]
[null,null,null,{"$f":"IFERROR(VLOOKUP(C136,Participants!$B$3:$C$1002,2,0),\"\")","v":""},null,{"$f":"IFERROR(VLOOKUP(E136,Participants!$B$3:$C$1002,2,0),\"\")","v":""}]
[null,null,null,{"$f":"IFERROR(VLOOKUP(C137,Participants!$B$3:$C$1002,2,0),\"\")","v":""},null,{"$f":"IFERROR(VLOOKUP(E137,Participants!$B$3:$C$1002,2,0),\"\")","v":""}]
[null,null,null,{"$f":"IFERROR(VLOOKUP(C138,Participants!$B$3:$C$1002,2,0),\"\")","v":""},null,{"$f":"IFERROR(VLOOKUP(E138,Participants!$B$3:$C$1002,2,0),\"\")","v":""}]
[null,null,null,{"$f":"IFERROR(VLOOKUP(C139,Participants!$B$3:$C$1002,2,0),\"\")","v":""},null,{"$f":"IFERROR(VLOOKUP(E139,Participants!$B$3:$C$1002,2,0),\"\")","v":""}]
[null,null,null,{"$f":"IFERROR(VLOOKUP(C140,Participants!$B$3:$C$1002,2,0),\"\")","v":""},null,{"$f":"IFERROR(VLOOKUP(E140,Participants!$B$3:$C$1002,2,0),\"\")","v":""}]
[null,null,null,{"$f":"IFERROR(VLOOKUP(C141,Participants!$B$3:$C$1002,2,0),\"\")","v":""},null,{"$f":"IFERROR(VLOOKUP(E141,Participants!$B$3:$C$1002,2,0),\"\")","v":""}]
[null,null,null,{"$f":"IFERROR(VLOOKUP(C142,Participants!$B$3:$C$1002,2,0),\"\")","v":""},null,{"$f":"IFERROR(VLOOKUP(E142,Participants!$B$3:$C$1002,2,0),\"\")","v":""}]
[null,null,null,{"$f":"IFERROR(VLOOKUP(C143,Participants!$B$3:$C$1002,2,0),\"\")","v":""},null,{"$f":"IFERROR(VLOOKUP(E143,Participants!$B$3:$C$1002,2,0),\"\")","v":""}]
[null,null,null,{"$f":"IFERROR(VLOOKUP(C144,Participants!$B$3:$C$1002,2,0),\"\")","v":""},null,{"$f":"IFERROR(VLOOKUP(E144,Participants!$B$3:$C$1002,2,0),\"\")","v":""}]
[null,null,null,{"$f":"IFERROR(VLOOKUP(C145,Participants!$B$3:$C$1002,2,0),\"\")","v":""},null,{"$f":"IFERROR(VLOOKUP(E145,Participants!$B$3:$C$1002,2,0),\"\")","v":""}]
[null,null,null,{"$f":"IFERROR(VLOOKUP(C146,Participants!$B$3:$C$1002,2,0),\"\")","v":""},null,{"$f":"IFERROR(VLOOKUP(E146,Participants!$B$3:$C$1002,2,0),\"\")","v":""}]
[null,null,null,{"$f":"IFERROR(VLOOKUP(C147,Participants!$B$3:$C$1002,2,0),\"\")","v":""},null,{"$f":"IFERROR(VLOOKUP(E147,Participants!$B$3:$C$1002,2,0),\"\")","v":""}]
[null,null,null,{"$f":"IFERROR(VLOOKUP(C148,Participants!$B$3:$C$1002,2,0),\"\")","v":""},null,{"$f":"IFERROR(VLOOKUP(E148,Participants!$B$3:$C$1002,2,0),\"\")","v":""}]
[null,null,null,{"$f":"IFERROR(VLOOKUP(C149,Participants!$B$3:$C$1002,2,0),\"\")","v":""},null,{"$f":"IFERROR(VLOOKUP(E149,Participants!$B$3:$C$1002,2,0),\"\")","v":""}]
[null,null,null,{"$f":"IFERROR(VLOOKUP(C150,Participants!$B$3:$C$1002,2,0),\"\")","v":""},null,{"$f":"IFERROR(VLOOKUP(E150,Participants!$B$3:$C$1002,2,0),\"\")","v":""}]
[null,null,null,{"$f":"IFERROR(VLOOKUP(C151,Participants!$B$3:$C$1002,2,0),\"\")","v":""},null,{"$f":"IFERROR(VLOOKUP(E151,Participants!$B$3:$C$1002,2,0),\"\")","v":""}]
[null,null,null,{"$f":"IFERROR(VLOOKUP(C152,Participants!$B$3:$C$1002,2,0),\"\")","v":""},null,{"$f":"IFERROR(VLOOKUP(E152,Participants!$B$3:$C$1002,2,0),\"\")","v":""}]
[null,null,null,{"$f":"IFERROR(VLOOKUP(C153,Participants!$B$3:$C$1002,2,0),\"\")","v":""},null,{"$f":"IFERROR(VLOOKUP(E153,Participants!$B$3:$C$1002,2,0),\"\")","v":""}]
[null,null,null,{"$f":"IFERROR(VLOOKUP(C154,Participants!$B$3:$C$1002,2,0),\"\")","v":""},null,{"$f":"IFERROR(VLOOKUP(E154,Participants!$B$3:$C$1002,2,0),\"\")","v":""}]
[null,null,null,{"$f":"IFERROR(VLOOKUP(C155,Participants!$B$3:$C$1002,2,0),\"\")","v":""},null,{"$f":"IFERROR(VLOOKUP(E155,Participants!$B$3:$C$1002,2,0),\"\")","v":""}]
[null,null,null,{"$f":"IFERROR(VLOOKUP(C156,Participants!$B$3:$C$1002,2,0),\"\")","v":""},null,{"$f":"IFERROR(VLOOKUP(E156,Participants!$B$3:$C$1002,2,0),\"\")","v":""}]
[null,null,null,{"$f":"IFERROR(VLOOKUP(C157,Participants!$B$3:$C$1002,2,0),\"\")","v":""},null,{"$f":"IFERROR(VLOOKUP(E157,Participants!$B$3:$C$1002,2,0),\"\")","v":""}]
[null,null,null,{"$f":"IFERROR(VLOOKUP(C158,Participants!$B$3:$C$1002,2,0),\"\")","v":""},null,{"$f":"IFERROR(VLOOKUP(E158,Participants!$B$3:$C$1002,2,0),\"\")","v":""}]
[null,null,null,{"$f":"IFERROR(VLOOKUP(C159,Participants!$B$3:$C$1002,2,0),\"\")","v":""},null,{"$f":"IFERROR(VLOOKUP(E159,Participants!$B$3:$C$1002,2,0),\"\")","v":""}]
[null,null,null,{"$f":"IFERROR(VLOOKUP(C160,Participants!$B$3:$C$1002,2,0),\"\")","v":""},null,{"$f":"IFERROR(VLOOKUP(E160,Participants!$B$3:$C$1002,2,0),\"\")","v":""}]
[null,null,null,{"$f":"IFERROR(VLOOKUP(C161,Participants!$B$3:$C$1002,2,0),\"\")","v":""},null,{"$f":"IFERROR(VLOOKUP(E161,Participants!$B$3:$C$1002,2,0),\"\")","v":""}]
[null,null,null,{"$f":"IFERROR(VLOOKUP(C162,Participants!$B$3:$C$1002,2,0),\"\")","v":""},null,{"$f":"IFERROR(VLOOKUP(E162,Participants!$B$3:$C$1002,2,0),\"\")","v":""}]
[null,null,null,{"$f":"IFERROR(VLOOKUP(C163,Participants!$B$3:$C$1002,2,0),\"\")","v":""},null,{"$f":"IFERROR(VLOOKUP(E163,Participants!$B$3:$C$1002,2,0),\"\")","v":""}]
[null,null,null,{"$f":"IFERROR(VLOOKUP(C164,Participants!$B$3:$C$1002,2,0),\"\")","v":""},null,{"$f":"IFERROR(VLOOKUP(E164,Participants!$B$3:$C$1002,2,0),\"\")","v":""}]
[null,null,null,{"$f":"IFERROR(VLOOKUP(C165,Participants!$B$3:$C$1002,2,0),\"\")","v":""},null,{"$f":"IFERROR(VLOOKUP(E165,Participants!$B$3:$C$1002,2,0),\"\")","v":""}]
[null,null,null,{"$f":"IFERROR(VLOOKUP(C166,Participants!$B$3:$C$1002,2,0),\"\")","v":""},null,{"$f":"IFERROR(VLOOKUP(E166,Participants!$B$3:$C$1002,2,0),\"\")","v":""}]
[null,null,null,{"$f":"IFERROR(VLOOKUP(C167,Participants!$B$3:$C$1002,2,0),\"\")","v":""},null,{"$f":"IFERROR(VLOOKUP(E167,Participants!$B$3:$C$1002,2,0),\"\")","v":""}]
[null,null,null,{"$f":"IFERROR(VLOOKUP(C168,Participants!$B$3:$C$1002,2,0),\"\")","v":""},null,{"$f":"IFERROR(VLOOKUP(E168,Participants!$B$3:$C$1002,2,0),\"\")","v":""}]
[null,null,null,{"$f":"IFERROR(VLOOKUP(C169,Participants!$B$3:$C$1002,2,0),\"\")","v":""},null,{"$f":"IFERROR(VLOOKUP(E169,Participants!$B$3:$C$1002,2,0),\"\")","v":""}]
[null,null,null,{"$f":"IFERROR(VLOOKUP(C170,Participants!$B$3:$C$1002,2,0),\"\")","v":""},null,{"$f":"IFERROR(VLOOKUP(E170,Participants!$B$3:$C$1002,2,0),\"\")","v":""}]
[null,null,null,{"$f":"IFERROR(VLOOKUP(C171,Participants!$B$3:$C$1002,2,0),\"\")","v":""},null,{"$f":"IFERROR(VLOOKUP(E171,Participants!$B$3:$C$1002,2,0),\"\")","v":""}]
[null,null,null,{"$f":"IFERROR(VLOOKUP(C172,Participants!$B$3:$C$1002,2,0),\"\")","v":""},null,{"$f":"IFERROR(VLOOKUP(E172,Participants!$B$3:$C$1002,2,0),\"\")","v":""}]
[null,null,null,{"$f":"IFERROR(VLOOKUP(C173,Participants!$B$3:$C$1002,2,0),\"\")","v":""},null,{"$f":"IFERROR(VLOOKUP(E173,Participants!$B$3:$C$1002,2,0),\"\")","v":""}]
[null,null,null,{"$f":"IFERROR(VLOOKUP(C174,Participants!$B$3:$C$1002,2,0),\"\")","v":""},null,{"$f":"IFERROR(VLOOKUP(E174,Participants!$B$3:$C$1002,2,0),\"\")","v":""}]
[null,null,null,{"$f":"IFERROR(VLOOKUP(C175,Participants!$B$3:$C$1002,2,0),\"\")","v":""},null,{"$f":"IFERROR(VLOOKUP(E175,Participants!$B$3:$C$1002,2,0),\"\")","v":""}]
[null,null,null,{"$f":"IFERROR(VLOOKUP(C176,Participants!$B$3:$C$1002,2,0),\"\")","v":""},null,{"$f":"IFERROR(VLOOKUP(E176,Participants!$B$3:$C$1002,2,0),\"\")","v":""}]
[null,null,null,{"$f":"IFERROR(VLOOKUP(C177,Participants!$B$3:$C$1002,2,0),\"\")","v":""},null,{"$f":"IFERROR(VLOOKUP(E177,Participants!$B$3:$C$1002,2,0),\"\")","v":""}]
[null,null,null,{"$f":"IFERROR(VLOOKUP(C178,Participants!$B$3:$C$1002,2,0),\"\")","v":""},null,{"$f":"IFERROR(VLOOKUP(E178,Participants!$B$3:$C$1002,2,0),\"\")","v":""}]
[null,null,null,{"$f":"IFERROR(VLOOKUP(C179,Participants!$B$3:$C$1002,2,0),\"\")","v":""},null,{"$f":"IFERROR(VLOOKUP(E179,Participants!$B$3:$C$1002,2,0),\"\")","v":""}]
[null,null,null,{"$f":"IFERROR(VLOOKUP(C180,Participants!$B$3:$C$1002,2,0),\"\")","v":""},null,{"$f":"IFERROR(VLOOKUP(E180,Participants!$B$3:$C$1002,2,0),\"\")","v":""}]
[null,null,null,{"$f":"IFERROR(VLOOKUP(C181,Participants!$B$3:$C$1002,2,0),\"\")","v":""},null,{"$f":"IFERROR(VLOOKUP(E181,Participants!$B$3:$C$1002,2,0),\"\")","v":""}]
[null,null,null,{"$f":"IFERROR(VLOOKUP(C182,Participants!$B$3:$C$1002,2,0),\"\")","v":""},null,{"$f":"IFERROR(VLOOKUP(E182,Participants!$B$3:$C$1002,2,0),\"\")","v":""}]
[null,null,null,{"$f":"IFERROR(VLOOKUP(C183,Participants!$B$3:$C$1002,2,0),\"\")","v":""},null,{"$f":"IFERROR(VLOOKUP(E183,Participants!$B$3:$C$1002,2,0),\"\")","v":""}]
[null,null,null,{"$f":"IFERROR(VLOOKUP(C184,Participants!$B$3:$C$1002,2,0),\"\")","v":""},null,{"$f":"IFERROR(VLOOKUP(E184,Participants!$B$3:$C$1002,2,0),\"\")","v":""}]
[null,null,null,{"$f":"IFERROR(VLOOKUP(C185,Participants!$B$3:$C$1002,2,0),\"\")","v":""},null,{"$f":"IFERROR(VLOOKUP(E185,Participants!$B$3:$C$1002,2,0),\"\")","v":""}]
[null,null,null,{"$f":"IFERROR(VLOOKUP(C186,Participants!$B$3:$C$1002,2,0),\"\")","v":""},null,{"$f":"IFERROR(VLOOKUP(E186,Participants!$B$3:$C$1002,2,0),\"\")","v":""}]
[null,null,null,{"$f":"IFERROR(VLOOKUP(C187,Participants!$B$3:$C$1002,2,0),\"\")","v":""},null,{"$f":"IFERROR(VLOOKUP(E187,Participants!$B$3:$C$1002,2,0),\"\")","v":""}]
[null,null,null,{"$f":"IFERROR(VLOOKUP(C188,Participants!$B$3:$C$1002,2,0),\"\")","v":""},null,{"$f":"IFERROR(VLOOKUP(E188,Participants!$B$3:$C$1002,2,0),\"\")","v":""}]
[null,null,null,{"$f":"IFERROR(VLOOKUP(C189,Participants!$B$3:$C$1002,2,0),\"\")","v":""},null,{"$f":"IFERROR(VLOOKUP(E189,Participants!$B$3:$C$1002,2,0),\"\")","v":""}]
[null,null,null,{"$f":"IFERROR(VLOOKUP(C190,Participants!$B$3:$C$1002,2,0),\"\")","v":""},null,{"$f":"IFERROR(VLOOKUP(E190,Participants!$B$3:$C$1002,2,0),\"\")","v":""}]
[null,null,null,{"$f":"IFERROR(VLOOKUP(C191,Participants!$B$3:$C$1002,2,0),\"\")","v":""},null,{"$f":"IFERROR(VLOOKUP(E191,Participants!$B$3:$C$1002,2,0),\"\")","v":""}]
[null,null,null,{"$f":"IFERROR(VLOOKUP(C192,Participants!$B$3:$C$1002,2,0),\"\")","v":""},null,{"$f":"IFERROR(VLOOKUP(E192,Participants!$B$3:$C$1002,2,0),\"\")","v":""}]
[null,null,null,{"$f":"IFERROR(VLOOKUP(C193,Participants!$B$3:$C$1002,2,0),\"\")","v":""},null,{"$f":"IFERROR(VLOOKUP(E193,Participants!$B$3:$C$1002,2,0),\"\")","v":""}]
[null,null,null,{"$f":"IFERROR(VLOOKUP(C194,Participants!$B$3:$C$1002,2,0),\"\")","v":""},null,{"$f":"IFERROR(VLOOKUP(E194,Participants!$B$3:$C$1002,2,0),\"\")","v":""}]
[null,null,null,{"$f":"IFERROR(VLOOKUP(C195,Participants!$B$3:$C$1002,2,0),\"\")","v":""},null,{"$f":"IFERROR(VLOOKUP(E195,Participants!$B$3:$C$1002,2,0),\"\")","v":""}]
[null,null,null,{"$f":"IFERROR(VLOOKUP(C196,Participants!$B$3:$C$1002,2,0),\"\")","v":""},null,{"$f":"IFERROR(VLOOKUP(E196,Participants!$B$3:$C$1002,2,0),\"\")","v":""}]
[null,null,null,{"$f":"IFERROR(VLOOKUP(C197,Participants!$B$3:$C$1002,2,0),\"\")","v":""},null,{"$f":"IFERROR(VLOOKUP(E197,Participants!$B$3:$C$1002,2,0),\"\")","v":""}]
[null,null,null,{"$f":"IFERROR(VLOOKUP(C198,Participants!$B$3:$C$1002,2,0),\"\")","v":""},null,{"$f":"IFERROR(VLOOKUP(E198,Participants!$B$3:$C$1002,2,0),\"\")","v":""}]
[null,null,null,{"$f":"IFERROR(VLOOKUP(C199,Participants!$B$3:$C$1002,2,0),\"\")","v":""},null,{"$f":"IFERROR(VLOOKUP(E199,Participants!$B$3:$C$1002,2,0),\"\")","v":""}]
[null,null,null,{"$f":"IFERROR(VLOOKUP(C200,Participants!$B$3:$C$1002,2,0),\"\")","v":""},null,{"$f":"IFERROR(VLOOKUP(E200,Participants!$B$3:$C$1002,2,0),\"\")","v":""}]
[null,null,null,{"$f":"IFERROR(VLOOKUP(C201,Participants!$B$3:$C$1002,2,0),\"\")","v":""},null,{"$f":"IFERROR(VLOOKUP(E201,Participants!$B$3:$C$1002,2,0),\"\")","v":""}]
[null,null,null,{"$f":"IFERROR(VLOOKUP(C202,Participants!$B$3:$C$1002,2,0),\"\")","v":""},null,{"$f":"IFERROR(VLOOKUP(E202,Participants!$B$3:$C$1002,2,0),\"\")","v":""}]
[null,null,null,{"$f":"IFERROR(VLOOKUP(C203,Participants!$B$3:$C$1002,2,0),\"\")","v":""},null,{"$f":"IFERROR(VLOOKUP(E203,Participants!$B$3:$C$1002,2,0),\"\")","v":""}]
[null,null,null,{"$f":"IFERROR(VLOOKUP(C204,Participants!$B$3:$C$1002,2,0),\"\")","v":""},null,{"$f":"IFERROR(VLOOKUP(E204,Participants!$B$3:$C$1002,2,0),\"\")","v":""}]
[null,null,null,{"$f":"IFERROR(VLOOKUP(C205,Participants!$B$3:$C$1002,2,0),\"\")","v":""},null,{"$f":"IFERROR(VLOOKUP(E205,Participants!$B$3:$C$1002,2,0),\"\")","v":""}]
[null,null,null,{"$f":"IFERROR(VLOOKUP(C206,Participants!$B$3:$C$1002,2,0),\"\")","v":""},null,{"$f":"IFERROR(VLOOKUP(E206,Participants!$B$3:$C$1002,2,0),\"\")","v":""}]
[null,null,null,{"$f":"IFERROR(VLOOKUP(C207,Participants!$B$3:$C$1002,2,0),\"\")","v":""},null,{"$f":"IFERROR(VLOOKUP(E207,Participants!$B$3:$C$1002,2,0),\"\")","v":""}]
[null,null,null,{"$f":"IFERROR(VLOOKUP(C208,Participants!$B$3:$C$1002,2,0),\"\")","v":""},null,{"$f":"IFERROR(VLOOKUP(E208,Participants!$B$3:$C$1002,2,0),\"\")","v":""}]
[null,null,null,{"$f":"IFERROR(VLOOKUP(C209,Participants!$B$3:$C$1002,2,0),\"\")","v":""},null,{"$f":"IFERROR(VLOOKUP(E209,Participants!$B$3:$C$1002,2,0),\"\")","v":""}]
[null,null,null,{"$f":"IFERROR(VLOOKUP(C210,Participants!$B$3:$C$1002,2,0),\"\")","v":""},null,{"$f":"IFERROR(VLOOKUP(E210,Participants!$B$3:$C$1002,2,0),\"\")","v":""}]
[null,null,null,{"$f":"IFERROR(VLOOKUP(C211,Participants!$B$3:$C$1002,2,0),\"\")","v":""},null,{"$f":"IFERROR(VLOOKUP(E211,Participants!$B$3:$C$1002,2,0),\"\")","v":""}]
[null,null,null,{"$f":"IFERROR(VLOOKUP(C212,Participants!$B$3:$C$1002,2,0),\"\")","v":""},null,{"$f":"IFERROR(VLOOKUP(E212,Participants!$B$3:$C$1002,2,0),\"\")","v":""}]
[null,null,null,{"$f":"IFERROR(VLOOKUP(C213,Participants!$B$3:$C$1002,2,0),\"\")","v":""},null,{"$f":"IFERROR(VLOOKUP(E213,Participants!$B$3:$C$1002,2,0),\"\")","v":""}]
[null,null,null,{"$f":"IFERROR(VLOOKUP(C214,Participants!$B$3:$C$1002,2,0),\"\")","v":""},null,{"$f":"IFERROR(VLOOKUP(E214,Participants!$B$3:$C$1002,2,0),\"\")","v":""}]
[null,null,null,{"$f":"IFERROR(VLOOKUP(C215,Participants!$B$3:$C$1002,2,0),\"\")","v":""},null,{"$f":"IFERROR(VLOOKUP(E215,Participants!$B$3:$C$1002,2,0),\"\")","v":""}]
[null,null,null,{"$f":"IFERROR(VLOOKUP(C216,Participants!$B$3:$C$1002,2,0),\"\")","v":""},null,{"$f":"IFERROR(VLOOKUP(E216,Participants!$B$3:$C$1002,2,0),\"\")","v":""}]
[null,null,null,{"$f":"IFERROR(VLOOKUP(C217,Participants!$B$3:$C$1002,2,0),\"\")","v":""},null,{"$f":"IFERROR(VLOOKUP(E217,Participants!$B$3:$C$1002,2,0),\"\")","v":""}]
[null,null,null,{"$f":"IFERROR(VLOOKUP(C218,Participants!$B$3:$C$1002,2,0),\"\")","v":""},null,{"$f":"IFERROR(VLOOKUP(E218,Participants!$B$3:$C$1002,2,0),\"\")","v":""}]
[null,null,null,{"$f":"IFERROR(VLOOKUP(C219,Participants!$B$3:$C$1002,2,0),\"\")","v":""},null,{"$f":"IFERROR(VLOOKUP(E219,Participants!$B$3:$C$1002,2,0),\"\")","v":""}]
[null,null,null,{"$f":"IFERROR(VLOOKUP(C220,Participants!$B$3:$C$1002,2,0),\"\")","v":""},null,{"$f":"IFERROR(VLOOKUP(E220,Participants!$B$3:$C$1002,2,0),\"\")","v":""}]
[null,null,null,{"$f":"IFERROR(VLOOKUP(C221,Participants!$B$3:$C$1002,2,0),\"\")","v":""},null,{"$f":"IFERROR(VLOOKUP(E221,Participants!$B$3:$C$1002,2,0),\"\")","v":""}]
[null,null,null,{"$f":"IFERROR(VLOOKUP(C222,Participants!$B$3:$C$1002,2,0),\"\")","v":""},null,{"$f":"IFERROR(VLOOKUP(E222,Participants!$B$3:$C$1002,2,0),\"\")","v":""}]
[null,null,null,{"$f":"IFERROR(VLOOKUP(C223,Participants!$B$3:$C$1002,2,0),\"\")","v":""},null,{"$f":"IFERROR(VLOOKUP(E223,Participants!$B$3:$C$1002,2,0),\"\")","v":""}]
[null,null,null,{"$f":"IFERROR(VLOOKUP(C224,Participants!$B$3:$C$1002,2,0),\"\")","v":""},null,{"$f":"IFERROR(VLOOKUP(E224,Participants!$B$3:$C$1002,2,0),\"\")","v":""}]
[null,null,null,{"$f":"IFERROR(VLOOKUP(C225,Participants!$B$3:$C$1002,2,0),\"\")","v":""},null,{"$f":"IFERROR(VLOOKUP(E225,Participants!$B$3:$C$1002,2,0),\"\")","v":""}]
[null,null,null,{"$f":"IFERROR(VLOOKUP(C226,Participants!$B$3:$C$1002,2,0),\"\")","v":""},null,{"$f":"IFERROR(VLOOKUP(E226,Participants!$B$3:$C$1002,2,0),\"\")","v":""}]
[null,null,null,{"$f":"IFERROR(VLOOKUP(C227,Participants!$B$3:$C$1002,2,0),\"\")","v":""},null,{"$f":"IFERROR(VLOOKUP(E227,Participants!$B$3:$C$1002,2,0),\"\")","v":""}]
[null,null,null,{"$f":"IFERROR(VLOOKUP(C228,Participants!$B$3:$C$1002,2,0),\"\")","v":""},null,{"$f":"IFERROR(VLOOKUP(E228,Participants!$B$3:$C$1002,2,0),\"\")","v":""}]
[null,null,null,{"$f":"IFERROR(VLOOKUP(C229,Participants!$B$3:$C$1002,2,0),\"\")","v":""},null,{"$f":"IFERROR(VLOOKUP(E229,Participants!$B$3:$C$1002,2,0),\"\")","v":""}]
[null,null,null,{"$f":"IFERROR(VLOOKUP(C230,Participants!$B$3:$C$1002,2,0),\"\")","v":""},null,{"$f":"IFERROR(VLOOKUP(E230,Participants!$B$3:$C$1002,2,0),\"\")","v":""}]
[null,null,null,{"$f":"IFERROR(VLOOKUP(C231,Participants!$B$3:$C$1002,2,0),\"\")","v":""},null,{"$f":"IFERROR(VLOOKUP(E231,Participants!$B$3:$C$1002,2,0),\"\")","v":""}]
[null,null,null,{"$f":"IFERROR(VLOOKUP(C232,Participants!$B$3:$C$1002,2,0),\"\")","v":""},null,{"$f":"IFERROR(VLOOKUP(E232,Participants!$B$3:$C$1002,2,0),\"\")","v":""}]
[null,null,null,{"$f":"IFERROR(VLOOKUP(C233,Participants!$B$3:$C$1002,2,0),\"\")","v":""},null,{"$f":"IFERROR(VLOOKUP(E233,Participants!$B$3:$C$1002,2,0),\"\")","v":""}]
[null,null,null,{"$f":"IFERROR(VLOOKUP(C234,Participants!$B$3:$C$1002,2,0),\"\")","v":""},null,{"$f":"IFERROR(VLOOKUP(E234,Participants!$B$3:$C$1002,2,0),\"\")","v":""}]
[null,null,null,{"$f":"IFERROR(VLOOKUP(C235,Participants!$B$3:$C$1002,2,0),\"\")","v":""},null,{"$f":"IFERROR(VLOOKUP(E235,Participants!$B$3:$C$1002,2,0),\"\")","v":""}]
[null,null,null,{"$f":"IFERROR(VLOOKUP(C236,Participants!$B$3:$C$1002,2,0),\"\")","v":""},null,{"$f":"IFERROR(VLOOKUP(E236,Participants!$B$3:$C$1002,2,0),\"\")","v":""}]
[null,null,null,{"$f":"IFERROR(VLOOKUP(C237,Participants!$B$3:$C$1002,2,0),\"\")","v":""},null,{"$f":"IFERROR(VLOOKUP(E237,Participants!$B$3:$C$1002,2,0),\"\")","v":""}]
[null,null,null,{"$f":"IFERROR(VLOOKUP(C238,Participants!$B$3:$C$1002,2,0),\"\")","v":""},null,{"$f":"IFERROR(VLOOKUP(E238,Participants!$B$3:$C$1002,2,0),\"\")","v":""}]
[null,null,null,{"$f":"IFERROR(VLOOKUP(C239,Participants!$B$3:$C$1002,2,0),\"\")","v":""},null,{"$f":"IFERROR(VLOOKUP(E239,Participants!$B$3:$C$1002,2,0),\"\")","v":""}]
[null,null,null,{"$f":"IFERROR(VLOOKUP(C240,Participants!$B$3:$C$1002,2,0),\"\")","v":""},null,{"$f":"IFERROR(VLOOKUP(E240,Participants!$B$3:$C$1002,2,0),\"\")","v":""}]
[null,null,null,{"$f":"IFERROR(VLOOKUP(C241,Participants!$B$3:$C$1002,2,0),\"\")","v":""},null,{"$f":"IFERROR(VLOOKUP(E241,Participants!$B$3:$C$1002,2,0),\"\")","v":""}]
[null,null,null,{"$f":"IFERROR(VLOOKUP(C242,Participants!$B$3:$C$1002,2,0),\"\")","v":""},null,{"$f":"IFERROR(VLOOKUP(E242,Participants!$B$3:$C$1002,2,0),\"\")","v":""}]
[null,null,null,{"$f":"IFERROR(VLOOKUP(C243,Participants!$B$3:$C$1002,2,0),\"\")","v":""},null,{"$f":"IFERROR(VLOOKUP(E243,Participants!$B$3:$C$1002,2,0),\"\")","v":""}]
[null,null,null,{"$f":"IFERROR(VLOOKUP(C244,Participants!$B$3:$C$1002,2,0),\"\")","v":""},null,{"$f":"IFERROR(VLOOKUP(E244,Participants!$B$3:$C$1002,2,0),\"\")","v":""}]
[null,null,null,{"$f":"IFERROR(VLOOKUP(C245,Participants!$B$3:$C$1002,2,0),\"\")","v":""},null,{"$f":"IFERROR(VLOOKUP(E245,Participants!$B$3:$C$1002,2,0),\"\")","v":""}]
[null,null,null,{"$f":"IFERROR(VLOOKUP(C246,Participants!$B$3:$C$1002,2,0),\"\")","v":""},null,{"$f":"IFERROR(VLOOKUP(E246,Participants!$B$3:$C$1002,2,0),\"\")","v":""}]
[null,null,null,{"$f":"IFERROR(VLOOKUP(C247,Participants!$B$3:$C$1002,2,0),\"\")","v":""},null,{"$f":"IFERROR(VLOOKUP(E247,Participants!$B$3:$C$1002,2,0),\"\")","v":""}]
[null,null,null,{"$f":"IFERROR(VLOOKUP(C248,Participants!$B$3:$C$1002,2,0),\"\")","v":""},null,{"$f":"IFERROR(VLOOKUP(E248,Participants!$B$3:$C$1002,2,0),\"\")","v":""}]
[null,null,null,{"$f":"IFERROR(VLOOKUP(C249,Participants!$B$3:$C$1002,2,0),\"\")","v":""},null,{"$f":"IFERROR(VLOOKUP(E249,Participants!$B$3:$C$1002,2,0),\"\")","v":""}]
[null,null,null,{"$f":"IFERROR(VLOOKUP(C250,Participants!$B$3:$C$1002,2,0),\"\")","v":""},null,{"$f":"IFERROR(VLOOKUP(E250,Participants!$B$3:$C$1002,2,0),\"\")","v":""}]
[null,null,null,{"$f":"IFERROR(VLOOKUP(C251,Participants!$B$3:$C$1002,2,0),\"\")","v":""},null,{"$f":"IFERROR(VLOOKUP(E251,Participants!$B$3:$C$1002,2,0),\"\")","v":""}]
[null,null,null,{"$f":"IFERROR(VLOOKUP(C252,Participants!$B$3:$C$1002,2,0),\"\")","v":""},null,{"$f":"IFERROR(VLOOKUP(E252,Participants!$B$3:$C$1002,2,0),\"\")","v":""}]
[null,null,null,{"$f":"IFERROR(VLOOKUP(C253,Participants!$B$3:$C$1002,2,0),\"\")","v":""},null,{"$f":"IFERROR(VLOOKUP(E253,Participants!$B$3:$C$1002,2,0),\"\")","v":""}]
[null,null,null,{"$f":"IFERROR(VLOOKUP(C254,Participants!$B$3:$C$1002,2,0),\"\")","v":""},null,{"$f":"IFERROR(VLOOKUP(E254,Participants!$B$3:$C$1002,2,0),\"\")","v":""}]
[null,null,null,{"$f":"IFERROR(VLOOKUP(C255,Participants!$B$3:$C$1002,2,0),\"\")","v":""},null,{"$f":"IFERROR(VLOOKUP(E255,Participants!$B$3:$C$1002,2,0),\"\")","v":""}]
[null,null,null,{"$f":"IFERROR(VLOOKUP(C256,Participants!$B$3:$C$1002,2,0),\"\")","v":""},null,{"$f":"IFERROR(VLOOKUP(E256,Participants!$B$3:$C$1002,2,0),\"\")","v":""}]
[null,null,null,{"$f":"IFERROR(VLOOKUP(C257,Participants!$B$3:$C$1002,2,0),\"\")","v":""},null,{"$f":"IFERROR(VLOOKUP(E257,Participants!$B$3:$C$1002,2,0),\"\")","v":""}]
[null,null,null,{"$f":"IFERROR(VLOOKUP(C258,Participants!$B$3:$C$1002,2,0),\"\")","v":""},null,{"$f":"IFERROR(VLOOKUP(E258,Participants!$B$3:$C$1002,2,0),\"\")","v":""}]
[null,null,null,{"$f":"IFERROR(VLOOKUP(C259,Participants!$B$3:$C$1002,2,0),\"\")","v":""},null,{"$f":"IFERROR(VLOOKUP(E259,Participants!$B$3:$C$1002,2,0),\"\")","v":""}]
[null,null,null,{"$f":"IFERROR(VLOOKUP(C260,Participants!$B$3:$C$1002,2,0),\"\")","v":""},null,{"$f":"IFERROR(VLOOKUP(E260,Participants!$B$3:$C$1002,2,0),\"\")","v":""}]
[null,null,null,{"$f":"IFERROR(VLOOKUP(C261,Participants!$B$3:$C$1002,2,0),\"\")","v":""},null,{"$f":"IFERROR(VLOOKUP(E261,Participants!$B$3:$C$1002,2,0),\"\")","v":""}]
[null,null,null,{"$f":"IFERROR(VLOOKUP(C262,Participants!$B$3:$C$1002,2,0),\"\")","v":""},null,{"$f":"IFERROR(VLOOKUP(E262,Participants!$B$3:$C$1002,2,0),\"\")","v":""}]
[null,null,null,{"$f":"IFERROR(VLOOKUP(C263,Participants!$B$3:$C$1002,2,0),\"\")","v":""},null,{"$f":"IFERROR(VLOOKUP(E263,Participants!$B$3:$C$1002,2,0),\"\")","v":""}]
[null,null,null,{"$f":"IFERROR(VLOOKUP(C264,Participants!$B$3:$C$1002,2,0),\"\")","v":""},null,{"$f":"IFERROR(VLOOKUP(E264,Participants!$B$3:$C$1002,2,0),\"\")","v":""}]
[null,null,null,{"$f":"IFERROR(VLOOKUP(C265,Participants!$B$3:$C$1002,2,0),\"\")","v":""},null,{"$f":"IFERROR(VLOOKUP(E265,Participants!$B$3:$C$1002,2,0),\"\")","v":""}]
[null,null,null,{"$f":"IFERROR(VLOOKUP(C266,Participants!$B$3:$C$1002,2,0),\"\")","v":""},null,{"$f":"IFERROR(VLOOKUP(E266,Participants!$B$3:$C$1002,2,0),\"\")","v":""}]
[null,null,null,{"$f":"IFERROR(VLOOKUP(C267,Participants!$B$3:$C$1002,2,0),\"\")","v":""},null,{"$f":"IFERROR(VLOOKUP(E267,Participants!$B$3:$C$1002,2,0),\"\")","v":""}]
[null,null,null,{"$f":"IFERROR(VLOOKUP(C268,Participants!$B$3:$C$1002,2,0),\"\")","v":""},null,{"$f":"IFERROR(VLOOKUP(E268,Participants!$B$3:$C$1002,2,0),\"\")","v":""}]
[null,null,null,{"$f":"IFERROR(VLOOKUP(C269,Participants!$B$3:$C$1002,2,0),\"\")","v":""},null,{"$f":"IFERROR(VLOOKUP(E269,Participants!$B$3:$C$1002,2,0),\"\")","v":""}]
[null,null,null,{"$f":"IFERROR(VLOOKUP(C270,Participants!$B$3:$C$1002,2,0),\"\")","v":""},null,{"$f":"IFERROR(VLOOKUP(E270,Participants!$B$3:$C$1002,2,0),\"\")","v":""}]
[null,null,null,{"$f":"IFERROR(VLOOKUP(C271,Participants!$B$3:$C$1002,2,0),\"\")","v":""},null,{"$f":"IFERROR(VLOOKUP(E271,Participants!$B$3:$C$1002,2,0),\"\")","v":""}]
[null,null,null,{"$f":"IFERROR(VLOOKUP(C272,Participants!$B$3:$C$1002,2,0),\"\")","v":""},null,{"$f":"IFERROR(VLOOKUP(E272,Participants!$B$3:$C$1002,2,0),\"\")","v":""}]
[null,null,null,{"$f":"IFERROR(VLOOKUP(C273,Participants!$B$3:$C$1002,2,0),\"\")","v":""},null,{"$f":"IFERROR(VLOOKUP(E273,Participants!$B$3:$C$1002,2,0),\"\")","v":""}]
[null,null,null,{"$f":"IFERROR(VLOOKUP(C274,Participants!$B$3:$C$1002,2,0),\"\")","v":""},null,{"$f":"IFERROR(VLOOKUP(E274,Participants!$B$3:$C$1002,2,0),\"\")","v":""}]
[null,null,null,{"$f":"IFERROR(VLOOKUP(C275,Participants!$B$3:$C$1002,2,0),\"\")","v":""},null,{"$f":"IFERROR(VLOOKUP(E275,Participants!$B$3:$C$1002,2,0),\"\")","v":""}]
[null,null,null,{"$f":"IFERROR(VLOOKUP(C276,Participants!$B$3:$C$1002,2,0),\"\")","v":""},null,{"$f":"IFERROR(VLOOKUP(E276,Participants!$B$3:$C$1002,2,0),\"\")","v":""}]
[null,null,null,{"$f":"IFERROR(VLOOKUP(C277,Participants!$B$3:$C$1002,2,0),\"\")","v":""},null,{"$f":"IFERROR(VLOOKUP(E277,Participants!$B$3:$C$1002,2,0),\"\")","v":""}]
[null,null,null,{"$f":"IFERROR(VLOOKUP(C278,Participants!$B$3:$C$1002,2,0),\"\")","v":""},null,{"$f":"IFERROR(VLOOKUP(E278,Participants!$B$3:$C$1002,2,0),\"\")","v":""}]
[null,null,null,{"$f":"IFERROR(VLOOKUP(C279,Participants!$B$3:$C$1002,2,0),\"\")","v":""},null,{"$f":"IFERROR(VLOOKUP(E279,Participants!$B$3:$C$1002,2,0),\"\")","v":""}]
[null,null,null,{"$f":"IFERROR(VLOOKUP(C280,Participants!$B$3:$C$1002,2,0),\"\")","v":""},null,{"$f":"IFERROR(VLOOKUP(E280,Participants!$B$3:$C$1002,2,0),\"\")","v":""}]
[null,null,null,{"$f":"IFERROR(VLOOKUP(C281,Participants!$B$3:$C$1002,2,0),\"\")","v":""},null,{"$f":"IFERROR(VLOOKUP(E281,Participants!$B$3:$C$1002,2,0),\"\")","v":""}]
[null,null,null,{"$f":"IFERROR(VLOOKUP(C282,Participants!$B$3:$C$1002,2,0),\"\")","v":""},null,{"$f":"IFERROR(VLOOKUP(E282,Participants!$B$3:$C$1002,2,0),\"\")","v":""}]
[null,null,null,{"$f":"IFERROR(VLOOKUP(C283,Participants!$B$3:$C$1002,2,0),\"\")","v":""},null,{"$f":"IFERROR(VLOOKUP(E283,Participants!$B$3:$C$1002,2,0),\"\")","v":""}]
[null,null,null,{"$f":"IFERROR(VLOOKUP(C284,Participants!$B$3:$C$1002,2,0),\"\")","v":""},null,{"$f":"IFERROR(VLOOKUP(E284,Participants!$B$3:$C$1002,2,0),\"\")","v":""}]
[null,null,null,{"$f":"IFERROR(VLOOKUP(C285,Participants!$B$3:$C$1002,2,0),\"\")","v":""},null,{"$f":"IFERROR(VLOOKUP(E285,Participants!$B$3:$C$1002,2,0),\"\")","v":""}]
[null,null,null,{"$f":"IFERROR(VLOOKUP(C286,Participants!$B$3:$C$1002,2,0),\"\")","v":""},null,{"$f":"IFERROR(VLOOKUP(E286,Participants!$B$3:$C$1002,2,0),\"\")","v":""}]
[null,null,null,{"$f":"IFERROR(VLOOKUP(C287,Participants!$B$3:$C$1002,2,0),\"\")","v":""},null,{"$f":"IFERROR(VLOOKUP(E287,Participants!$B$3:$C$1002,2,0),\"\")","v":""}]
[null,null,null,{"$f":"IFERROR(VLOOKUP(C288,Participants!$B$3:$C$1002,2,0),\"\")","v":""},null,{"$f":"IFERROR(VLOOKUP(E288,Participants!$B$3:$C$1002,2,0),\"\")","v":""}]
[null,null,null,{"$f":"IFERROR(VLOOKUP(C289,Participants!$B$3:$C$1002,2,0),\"\")","v":""},null,{"$f":"IFERROR(VLOOKUP(E289,Participants!$B$3:$C$1002,2,0),\"\")","v":""}]
[null,null,null,{"$f":"IFERROR(VLOOKUP(C290,Participants!$B$3:$C$1002,2,0),\"\")","v":""},null,{"$f":"IFERROR(VLOOKUP(E290,Participants!$B$3:$C$1002,2,0),\"\")","v":""}]
[null,null,null,{"$f":"IFERROR(VLOOKUP(C291,Participants!$B$3:$C$1002,2,0),\"\")","v":""},null,{"$f":"IFERROR(VLOOKUP(E291,Participants!$B$3:$C$1002,2,0),\"\")","v":""}]
[null,null,null,{"$f":"IFERROR(VLOOKUP(C292,Participants!$B$3:$C$1002,2,0),\"\")","v":""},null,{"$f":"IFERROR(VLOOKUP(E292,Participants!$B$3:$C$1002,2,0),\"\")","v":""}]
[null,null,null,{"$f":"IFERROR(VLOOKUP(C293,Participants!$B$3:$C$1002,2,0),\"\")","v":""},null,{"$f":"IFERROR(VLOOKUP(E293,Participants!$B$3:$C$1002,2,0),\"\")","v":""}]
[null,null,null,{"$f":"IFERROR(VLOOKUP(C294,Participants!$B$3:$C$1002,2,0),\"\")","v":""},null,{"$f":"IFERROR(VLOOKUP(E294,Participants!$B$3:$C$1002,2,0),\"\")","v":""}]
[null,null,null,{"$f":"IFERROR(VLOOKUP(C295,Participants!$B$3:$C$1002,2,0),\"\")","v":""},null,{"$f":"IFERROR(VLOOKUP(E295,Participants!$B$3:$C$1002,2,0),\"\")","v":""}]
[null,null,null,{"$f":"IFERROR(VLOOKUP(C296,Participants!$B$3:$C$1002,2,0),\"\")","v":""},null,{"$f":"IFERROR(VLOOKUP(E296,Participants!$B$3:$C$1002,2,0),\"\")","v":""}]
[null,null,null,{"$f":"IFERROR(VLOOKUP(C297,Participants!$B$3:$C$1002,2,0),\"\")","v":""},null,{"$f":"IFERROR(VLOOKUP(E297,Participants!$B$3:$C$1002,2,0),\"\")","v":""}]
[null,null,null,{"$f":"IFERROR(VLOOKUP(C298,Participants!$B$3:$C$1002,2,0),\"\")","v":""},null,{"$f":"IFERROR(VLOOKUP(E298,Participants!$B$3:$C$1002,2,0),\"\")","v":""}]
[null,null,null,{"$f":"IFERROR(VLOOKUP(C299,Participants!$B$3:$C$1002,2,0),\"\")","v":""},null,{"$f":"IFERROR(VLOOKUP(E299,Participants!$B$3:$C$1002,2,0),\"\")","v":""}]
[null,null,null,{"$f":"IFERROR(VLOOKUP(C300,Participants!$B$3:$C$1002,2,0),\"\")","v":""},null,{"$f":"IFERROR(VLOOKUP(E300,Participants!$B$3:$C$1002,2,0),\"\")","v":""}]
[null,null,null,{"$f":"IFERROR(VLOOKUP(C301,Participants!$B$3:$C$1002,2,0),\"\")","v":""},null,{"$f":"IFERROR(VLOOKUP(E301,Participants!$B$3:$C$1002,2,0),\"\")","v":""}]
[null,null,null,{"$f":"IFERROR(VLOOKUP(C302,Participants!$B$3:$C$1002,2,0),\"\")","v":""},null,{"$f":"IFERROR(VLOOKUP(E302,Participants!$B$3:$C$1002,2,0),\"\")","v":""}]
[null,null,null,{"$f":"IFERROR(VLOOKUP(C303,Participants!$B$3:$C$1002,2,0),\"\")","v":""},null,{"$f":"IFERROR(VLOOKUP(E303,Participants!$B$3:$C$1002,2,0),\"\")","v":""}]
[null,null,null,{"$f":"IFERROR(VLOOKUP(C304,Participants!$B$3:$C$1002,2,0),\"\")","v":""},null,{"$f":"IFERROR(VLOOKUP(E304,Participants!$B$3:$C$1002,2,0),\"\")","v":""}]
[null,null,null,{"$f":"IFERROR(VLOOKUP(C305,Participants!$B$3:$C$1002,2,0),\"\")","v":""},null,{"$f":"IFERROR(VLOOKUP(E305,Participants!$B$3:$C$1002,2,0),\"\")","v":""}]
[null,null,null,{"$f":"IFERROR(VLOOKUP(C306,Participants!$B$3:$C$1002,2,0),\"\")","v":""},null,{"$f":"IFERROR(VLOOKUP(E306,Participants!$B$3:$C$1002,2,0),\"\")","v":""}]
[null,null,null,{"$f":"IFERROR(VLOOKUP(C307,Participants!$B$3:$C$1002,2,0),\"\")","v":""},null,{"$f":"IFERROR(VLOOKUP(E307,Participants!$B$3:$C$1002,2,0),\"\")","v":""}]
[null,null,null,{"$f":"IFERROR(VLOOKUP(C308,Participants!$B$3:$C$1002,2,0),\"\")","v":""},null,{"$f":"IFERROR(VLOOKUP(E308,Participants!$B$3:$C$1002,2,0),\"\")","v":""}]
[null,null,null,{"$f":"IFERROR(VLOOKUP(C309,Participants!$B$3:$C$1002,2,0),\"\")","v":""},null,{"$f":"IFERROR(VLOOKUP(E309,Participants!$B$3:$C$1002,2,0),\"\")","v":""}]
[null,null,null,{"$f":"IFERROR(VLOOKUP(C310,Participants!$B$3:$C$1002,2,0),\"\")","v":""},null,{"$f":"IFERROR(VLOOKUP(E310,Participants!$B$3:$C$1002,2,0),\"\")","v":""}]
[null,null,null,{"$f":"IFERROR(VLOOKUP(C311,Participants!$B$3:$C$1002,2,0),\"\")","v":""},null,{"$f":"IFERROR(VLOOKUP(E311,Participants!$B$3:$C$1002,2,0),\"\")","v":""}]
[null,null,null,{"$f":"IFERROR(VLOOKUP(C312,Participants!$B$3:$C$1002,2,0),\"\")","v":""},null,{"$f":"IFERROR(VLOOKUP(E312,Participants!$B$3:$C$1002,2,0),\"\")","v":""}]
[null,null,null,{"$f":"IFERROR(VLOOKUP(C313,Participants!$B$3:$C$1002,2,0),\"\")","v":""},null,{"$f":"IFERROR(VLOOKUP(E313,Participants!$B$3:$C$1002,2,0),\"\")","v":""}]
[null,null,null,{"$f":"IFERROR(VLOOKUP(C314,Participants!$B$3:$C$1002,2,0),\"\")","v":""},null,{"$f":"IFERROR(VLOOKUP(E314,Participants!$B$3:$C$1002,2,0),\"\")","v":""}]
[null,null,null,{"$f":"IFERROR(VLOOKUP(C315,Participants!$B$3:$C$1002,2,0),\"\")","v":""},null,{"$f":"IFERROR(VLOOKUP(E315,Participants!$B$3:$C$1002,2,0),\"\")","v":""}]
[null,null,null,{"$f":"IFERROR(VLOOKUP(C316,Participants!$B$3:$C$1002,2,0),\"\")","v":""},null,{"$f":"IFERROR(VLOOKUP(E316,Participants!$B$3:$C$1002,2,0),\"\")","v":""}]
[null,null,null,{"$f":"IFERROR(VLOOKUP(C317,Participants!$B$3:$C$1002,2,0),\"\")","v":""},null,{"$f":"IFERROR(VLOOKUP(E317,Participants!$B$3:$C$1002,2,0),\"\")","v":""}]
[null,null,null,{"$f":"IFERROR(VLOOKUP(C318,Participants!$B$3:$C$1002,2,0),\"\")","v":""},null,{"$f":"IFERROR(VLOOKUP(E318,Participants!$B$3:$C$1002,2,0),\"\")","v":""}]
[null,null,null,{"$f":"IFERROR(VLOOKUP(C319,Participants!$B$3:$C$1002,2,0),\"\")","v":""},null,{"$f":"IFERROR(VLOOKUP(E319,Participants!$B$3:$C$1002,2,0),\"\")","v":""}]
[null,null,null,{"$f":"IFERROR(VLOOKUP(C320,Participants!$B$3:$C$1002,2,0),\"\")","v":""},null,{"$f":"IFERROR(VLOOKUP(E320,Participants!$B$3:$C$1002,2,0),\"\")","v":""}]
[null,null,null,{"$f":"IFERROR(VLOOKUP(C321,Participants!$B$3:$C$1002,2,0),\"\")","v":""},null,{"$f":"IFERROR(VLOOKUP(E321,Participants!$B$3:$C$1002,2,0),\"\")","v":""}]
[null,null,null,{"$f":"IFERROR(VLOOKUP(C322,Participants!$B$3:$C$1002,2,0),\"\")","v":""},null,{"$f":"IFERROR(VLOOKUP(E322,Participants!$B$3:$C$1002,2,0),\"\")","v":""}]
[null,null,null,{"$f":"IFERROR(VLOOKUP(C323,Participants!$B$3:$C$1002,2,0),\"\")","v":""},null,{"$f":"IFERROR(VLOOKUP(E323,Participants!$B$3:$C$1002,2,0),\"\")","v":""}]
[null,null,null,{"$f":"IFERROR(VLOOKUP(C324,Participants!$B$3:$C$1002,2,0),\"\")","v":""},null,{"$f":"IFERROR(VLOOKUP(E324,Participants!$B$3:$C$1002,2,0),\"\")","v":""}]
[null,null,null,{"$f":"IFERROR(VLOOKUP(C325,Participants!$B$3:$C$1002,2,0),\"\")","v":""},null,{"$f":"IFERROR(VLOOKUP(E325,Participants!$B$3:$C$1002,2,0),\"\")","v":""}]
[null,null,null,{"$f":"IFERROR(VLOOKUP(C326,Participants!$B$3:$C$1002,2,0),\"\")","v":""},null,{"$f":"IFERROR(VLOOKUP(E326,Participants!$B$3:$C$1002,2,0),\"\")","v":""}]
[null,null,null,{"$f":"IFERROR(VLOOKUP(C327,Participants!$B$3:$C$1002,2,0),\"\")","v":""},null,{"$f":"IFERROR(VLOOKUP(E327,Participants!$B$3:$C$1002,2,0),\"\")","v":""}]
[null,null,null,{"$f":"IFERROR(VLOOKUP(C328,Participants!$B$3:$C$1002,2,0),\"\")","v":""},null,{"$f":"IFERROR(VLOOKUP(E328,Participants!$B$3:$C$1002,2,0),\"\")","v":""}]
[null,null,null,{"$f":"IFERROR(VLOOKUP(C329,Participants!$B$3:$C$1002,2,0),\"\")","v":""},null,{"$f":"IFERROR(VLOOKUP(E329,Participants!$B$3:$C$1002,2,0),\"\")","v":""}]
[null,null,null,{"$f":"IFERROR(VLOOKUP(C330,Participants!$B$3:$C$1002,2,0),\"\")","v":""},null,{"$f":"IFERROR(VLOOKUP(E330,Participants!$B$3:$C$1002,2,0),\"\")","v":""}]
[null,null,null,{"$f":"IFERROR(VLOOKUP(C331,Participants!$B$3:$C$1002,2,0),\"\")","v":""},null,{"$f":"IFERROR(VLOOKUP(E331,Participants!$B$3:$C$1002,2,0),\"\")","v":""}]
[null,null,null,{"$f":"IFERROR(VLOOKUP(C332,Participants!$B$3:$C$1002,2,0),\"\")","v":""},null,{"$f":"IFERROR(VLOOKUP(E332,Participants!$B$3:$C$1002,2,0),\"\")","v":""}]
[null,null,null,{"$f":"IFERROR(VLOOKUP(C333,Participants!$B$3:$C$1002,2,0),\"\")","v":""},null,{"$f":"IFERROR(VLOOKUP(E333,Participants!$B$3:$C$1002,2,0),\"\")","v":""}]
[null,null,null,{"$f":"IFERROR(VLOOKUP(C334,Participants!$B$3:$C$1002,2,0),\"\")","v":""},null,{"$f":"IFERROR(VLOOKUP(E334,Participants!$B$3:$C$1002,2,0),\"\")","v":""}]
[null,null,null,{"$f":"IFERROR(VLOOKUP(C335,Participants!$B$3:$C$1002,2,0),\"\")","v":""},null,{"$f":"IFERROR(VLOOKUP(E335,Participants!$B$3:$C$1002,2,0),\"\")","v":""}]
[null,null,null,{"$f":"IFERROR(VLOOKUP(C336,Participants!$B$3:$C$1002,2,0),\"\")","v":""},null,{"$f":"IFERROR(VLOOKUP(E336,Participants!$B$3:$C$1002,2,0),\"\")","v":""}]
[null,null,null,{"$f":"IFERROR(VLOOKUP(C337,Participants!$B$3:$C$1002,2,0),\"\")","v":""},null,{"$f":"IFERROR(VLOOKUP(E337,Participants!$B$3:$C$1002,2,0),\"\")","v":""}]
[null,null,null,{"$f":"IFERROR(VLOOKUP(C338,Participants!$B$3:$C$1002,2,0),\"\")","v":""},null,{"$f":"IFERROR(VLOOKUP(E338,Participants!$B$3:$C$1002,2,0),\"\")","v":""}]
[null,null,null,{"$f":"IFERROR(VLOOKUP(C339,Participants!$B$3:$C$1002,2,0),\"\")","v":""},null,{"$f":"IFERROR(VLOOKUP(E339,Participants!$B$3:$C$1002,2,0),\"\")","v":""}]
[null,null,null,{"$f":"IFERROR(VLOOKUP(C340,Participants!$B$3:$C$1002,2,0),\"\")","v":""},null,{"$f":"IFERROR(VLOOKUP(E340,Participants!$B$3:$C$1002,2,0),\"\")","v":""}]
[null,null,null,{"$f":"IFERROR(VLOOKUP(C341,Participants!$B$3:$C$1002,2,0),\"\")","v":""},null,{"$f":"IFERROR(VLOOKUP(E341,Participants!$B$3:$C$1002,2,0),\"\")","v":""}]
[null,null,null,{"$f":"IFERROR(VLOOKUP(C342,Participants!$B$3:$C$1002,2,0),\"\")","v":""},null,{"$f":"IFERROR(VLOOKUP(E342,Participants!$B$3:$C$1002,2,0),\"\")","v":""}]
[null,null,null,{"$f":"IFERROR(VLOOKUP(C343,Participants!$B$3:$C$1002,2,0),\"\")","v":""},null,{"$f":"IFERROR(VLOOKUP(E343,Participants!$B$3:$C$1002,2,0),\"\")","v":""}]
[null,null,null,{"$f":"IFERROR(VLOOKUP(C344,Participants!$B$3:$C$1002,2,0),\"\")","v":""},null,{"$f":"IFERROR(VLOOKUP(E344,Participants!$B$3:$C$1002,2,0),\"\")","v":""}]
[null,null,null,{"$f":"IFERROR(VLOOKUP(C345,Participants!$B$3:$C$1002,2,0),\"\")","v":""},null,{"$f":"IFERROR(VLOOKUP(E345,Participants!$B$3:$C$1002,2,0),\"\")","v":""}]
[null,null,null,{"$f":"IFERROR(VLOOKUP(C346,Participants!$B$3:$C$1002,2,0),\"\")","v":""},null,{"$f":"IFERROR(VLOOKUP(E346,Participants!$B$3:$C$1002,2,0),\"\")","v":""}]
[null,null,null,{"$f":"IFERROR(VLOOKUP(C347,Participants!$B$3:$C$1002,2,0),\"\")","v":""},null,{"$f":"IFERROR(VLOOKUP(E347,Participants!$B$3:$C$1002,2,0),\"\")","v":""}]
[null,null,null,{"$f":"IFERROR(VLOOKUP(C348,Participants!$B$3:$C$1002,2,0),\"\")","v":""},null,{"$f":"IFERROR(VLOOKUP(E348,Participants!$B$3:$C$1002,2,0),\"\")","v":""}]
[null,null,null,{"$f":"IFERROR(VLOOKUP(C349,Participants!$B$3:$C$1002,2,0),\"\")","v":""},null,{"$f":"IFERROR(VLOOKUP(E349,Participants!$B$3:$C$1002,2,0),\"\")","v":""}]
[null,null,null,{"$f":"IFERROR(VLOOKUP(C350,Participants!$B$3:$C$1002,2,0),\"\")","v":""},null,{"$f":"IFERROR(VLOOKUP(E350,Participants!$B$3:$C$1002,2,0),\"\")","v":""}]
[null,null,null,{"$f":"IFERROR(VLOOKUP(C351,Participants!$B$3:$C$1002,2,0),\"\")","v":""},null,{"$f":"IFERROR(VLOOKUP(E351,Participants!$B$3:$C$1002,2,0),\"\")","v":""}]
[null,null,null,{"$f":"IFERROR(VLOOKUP(C352,Participants!$B$3:$C$1002,2,0),\"\")","v":""},null,{"$f":"IFERROR(VLOOKUP(E352,Participants!$B$3:$C$1002,2,0),\"\")","v":""}]
[null,null,null,{"$f":"IFERROR(VLOOKUP(C353,Participants!$B$3:$C$1002,2,0),\"\")","v":""},null,{"$f":"IFERROR(VLOOKUP(E353,Participants!$B$3:$C$1002,2,0),\"\")","v":""}]
[null,null,null,{"$f":"IFERROR(VLOOKUP(C354,Participants!$B$3:$C$1002,2,0),\"\")","v":""},null,{"$f":"IFERROR(VLOOKUP(E354,Participants!$B$3:$C$1002,2,0),\"\")","v":""}]
[null,null,null,{"$f":"IFERROR(VLOOKUP(C355,Participants!$B$3:$C$1002,2,0),\"\")","v":""},null,{"$f":"IFERROR(VLOOKUP(E355,Participants!$B$3:$C$1002,2,0),\"\")","v":""}]
[null,null,null,{"$f":"IFERROR(VLOOKUP(C356,Participants!$B$3:$C$1002,2,0),\"\")","v":""},null,{"$f":"IFERROR(VLOOKUP(E356,Participants!$B$3:$C$1002,2,0),\"\")","v":""}]
[null,null,null,{"$f":"IFERROR(VLOOKUP(C357,Participants!$B$3:$C$1002,2,0),\"\")","v":""},null,{"$f":"IFERROR(VLOOKUP(E357,Participants!$B$3:$C$1002,2,0),\"\")","v":""}]
[null,null,null,{"$f":"IFERROR(VLOOKUP(C358,Participants!$B$3:$C$1002,2,0),\"\")","v":""},null,{"$f":"IFERROR(VLOOKUP(E358,Participants!$B$3:$C$1002,2,0),\"\")","v":""}]
[null,null,null,{"$f":"IFERROR(VLOOKUP(C359,Participants!$B$3:$C$1002,2,0),\"\")","v":""},null,{"$f":"IFERROR(VLOOKUP(E359,Participants!$B$3:$C$1002,2,0),\"\")","v":""}]
[null,null,null,{"$f":"IFERROR(VLOOKUP(C360,Participants!$B$3:$C$1002,2,0),\"\")","v":""},null,{"$f":"IFERROR(VLOOKUP(E360,Participants!$B$3:$C$1002,2,0),\"\")","v":""}]
[null,null,null,{"$f":"IFERROR(VLOOKUP(C361,Participants!$B$3:$C$1002,2,0),\"\")","v":""},null,{"$f":"IFERROR(VLOOKUP(E361,Participants!$B$3:$C$1002,2,0),\"\")","v":""}]
[null,null,null,{"$f":"IFERROR(VLOOKUP(C362,Participants!$B$3:$C$1002,2,0),\"\")","v":""},null,{"$f":"IFERROR(VLOOKUP(E362,Participants!$B$3:$C$1002,2,0),\"\")","v":""}]
[null,null,null,{"$f":"IFERROR(VLOOKUP(C363,Participants!$B$3:$C$1002,2,0),\"\")","v":""},null,{"$f":"IFERROR(VLOOKUP(E363,Participants!$B$3:$C$1002,2,0),\"\")","v":""}]
[null,null,null,{"$f":"IFERROR(VLOOKUP(C364,Participants!$B$3:$C$1002,2,0),\"\")","v":""},null,{"$f":"IFERROR(VLOOKUP(E364,Participants!$B$3:$C$1002,2,0),\"\")","v":""}]
[null,null,null,{"$f":"IFERROR(VLOOKUP(C365,Participants!$B$3:$C$1002,2,0),\"\")","v":""},null,{"$f":"IFERROR(VLOOKUP(E365,Participants!$B$3:$C$1002,2,0),\"\")","v":""}]
[null,null,null,{"$f":"IFERROR(VLOOKUP(C366,Participants!$B$3:$C$1002,2,0),\"\")","v":""},null,{"$f":"IFERROR(VLOOKUP(E366,Participants!$B$3:$C$1002,2,0),\"\")","v":""}]
[null,null,null,{"$f":"IFERROR(VLOOKUP(C367,Participants!$B$3:$C$1002,2,0),\"\")","v":""},null,{"$f":"IFERROR(VLOOKUP(E367,Participants!$B$3:$C$1002,2,0),\"\")","v":""}]
[null,null,null,{"$f":"IFERROR(VLOOKUP(C368,Participants!$B$3:$C$1002,2,0),\"\")","v":""},null,{"$f":"IFERROR(VLOOKUP(E368,Participants!$B$3:$C$1002,2,0),\"\")","v":""}]
[null,null,null,{"$f":"IFERROR(VLOOKUP(C369,Participants!$B$3:$C$1002,2,0),\"\")","v":""},null,{"$f":"IFERROR(VLOOKUP(E369,Participants!$B$3:$C$1002,2,0),\"\")","v":""}]
[null,null,null,{"$f":"IFERROR(VLOOKUP(C370,Participants!$B$3:$C$1002,2,0),\"\")","v":""},null,{"$f":"IFERROR(VLOOKUP(E370,Participants!$B$3:$C$1002,2,0),\"\")","v":""}]
[null,null,null,{"$f":"IFERROR(VLOOKUP(C371,Participants!$B$3:$C$1002,2,0),\"\")","v":""},null,{"$f":"IFERROR(VLOOKUP(E371,Participants!$B$3:$C$1002,2,0),\"\")","v":""}]
[null,null,null,{"$f":"IFERROR(VLOOKUP(C372,Participants!$B$3:$C$1002,2,0),\"\")","v":""},null,{"$f":"IFERROR(VLOOKUP(E372,Participants!$B$3:$C$1002,2,0),\"\")","v":""}]
[null,null,null,{"$f":"IFERROR(VLOOKUP(C373,Participants!$B$3:$C$1002,2,0),\"\")","v":""},null,{"$f":"IFERROR(VLOOKUP(E373,Participants!$B$3:$C$1002,2,0),\"\")","v":""}]
[null,null,null,{"$f":"IFERROR(VLOOKUP(C374,Participants!$B$3:$C$1002,2,0),\"\")","v":""},null,{"$f":"IFERROR(VLOOKUP(E374,Participants!$B$3:$C$1002,2,0),\"\")","v":""}]
[null,null,null,{"$f":"IFERROR(VLOOKUP(C375,Participants!$B$3:$C$1002,2,0),\"\")","v":""},null,{"$f":"IFERROR(VLOOKUP(E375,Participants!$B$3:$C$1002,2,0),\"\")","v":""}]
[null,null,null,{"$f":"IFERROR(VLOOKUP(C376,Participants!$B$3:$C$1002,2,0),\"\")","v":""},null,{"$f":"IFERROR(VLOOKUP(E376,Participants!$B$3:$C$1002,2,0),\"\")","v":""}]
[null,null,null,{"$f":"IFERROR(VLOOKUP(C377,Participants!$B$3:$C$1002,2,0),\"\")","v":""},null,{"$f":"IFERROR(VLOOKUP(E377,Participants!$B$3:$C$1002,2,0),\"\")","v":""}]
[null,null,null,{"$f":"IFERROR(VLOOKUP(C378,Participants!$B$3:$C$1002,2,0),\"\")","v":""},null,{"$f":"IFERROR(VLOOKUP(E378,Participants!$B$3:$C$1002,2,0),\"\")","v":""}]
[null,null,null,{"$f":"IFERROR(VLOOKUP(C379,Participants!$B$3:$C$1002,2,0),\"\")","v":""},null,{"$f":"IFERROR(VLOOKUP(E379,Participants!$B$3:$C$1002,2,0),\"\")","v":""}]
[null,null,null,{"$f":"IFERROR(VLOOKUP(C380,Participants!$B$3:$C$1002,2,0),\"\")","v":""},null,{"$f":"IFERROR(VLOOKUP(E380,Participants!$B$3:$C$1002,2,0),\"\")","v":""}]
[null,null,null,{"$f":"IFERROR(VLOOKUP(C381,Participants!$B$3:$C$1002,2,0),\"\")","v":""},null,{"$f":"IFERROR(VLOOKUP(E381,Participants!$B$3:$C$1002,2,0),\"\")","v":""}]
[null,null,null,{"$f":"IFERROR(VLOOKUP(C382,Participants!$B$3:$C$1002,2,0),\"\")","v":""},null,{"$f":"IFERROR(VLOOKUP(E382,Participants!$B$3:$C$1002,2,0),\"\")","v":""}]
[null,null,null,{"$f":"IFERROR(VLOOKUP(C383,Participants!$B$3:$C$1002,2,0),\"\")","v":""},null,{"$f":"IFERROR(VLOOKUP(E383,Participants!$B$3:$C$1002,2,0),\"\")","v":""}]
[null,null,null,{"$f":"IFERROR(VLOOKUP(C384,Participants!$B$3:$C$1002,2,0),\"\")","v":""},null,{"$f":"IFERROR(VLOOKUP(E384,Participants!$B$3:$C$1002,2,0),\"\")","v":""}]
[null,null,null,{"$f":"IFERROR(VLOOKUP(C385,Participants!$B$3:$C$1002,2,0),\"\")","v":""},null,{"$f":"IFERROR(VLOOKUP(E385,Participants!$B$3:$C$1002,2,0),\"\")","v":""}]
[null,null,null,{"$f":"IFERROR(VLOOKUP(C386,Participants!$B$3:$C$1002,2,0),\"\")","v":""},null,{"$f":"IFERROR(VLOOKUP(E386,Participants!$B$3:$C$1002,2,0),\"\")","v":""}]
[null,null,null,{"$f":"IFERROR(VLOOKUP(C387,Participants!$B$3:$C$1002,2,0),\"\")","v":""},null,{"$f":"IFERROR(VLOOKUP(E387,Participants!$B$3:$C$1002,2,0),\"\")","v":""}]
[null,null,null,{"$f":"IFERROR(VLOOKUP(C388,Participants!$B$3:$C$1002,2,0),\"\")","v":""},null,{"$f":"IFERROR(VLOOKUP(E388,Participants!$B$3:$C$1002,2,0),\"\")","v":""}]
[null,null,null,{"$f":"IFERROR(VLOOKUP(C389,Participants!$B$3:$C$1002,2,0),\"\")","v":""},null,{"$f":"IFERROR(VLOOKUP(E389,Participants!$B$3:$C$1002,2,0),\"\")","v":""}]
[null,null,null,{"$f":"IFERROR(VLOOKUP(C390,Participants!$B$3:$C$1002,2,0),\"\")","v":""},null,{"$f":"IFERROR(VLOOKUP(E390,Participants!$B$3:$C$1002,2,0),\"\")","v":""}]
[null,null,null,{"$f":"IFERROR(VLOOKUP(C391,Participants!$B$3:$C$1002,2,0),\"\")","v":""},null,{"$f":"IFERROR(VLOOKUP(E391,Participants!$B$3:$C$1002,2,0),\"\")","v":""}]
[null,null,null,{"$f":"IFERROR(VLOOKUP(C392,Participants!$B$3:$C$1002,2,0),\"\")","v":""},null,{"$f":"IFERROR(VLOOKUP(E392,Participants!$B$3:$C$1002,2,0),\"\")","v":""}]
[null,null,null,{"$f":"IFERROR(VLOOKUP(C393,Participants!$B$3:$C$1002,2,0),\"\")","v":""},null,{"$f":"IFERROR(VLOOKUP(E393,Participants!$B$3:$C$1002,2,0),\"\")","v":""}]
[null,null,null,{"$f":"IFERROR(VLOOKUP(C394,Participants!$B$3:$C$1002,2,0),\"\")","v":""},null,{"$f":"IFERROR(VLOOKUP(E394,Participants!$B$3:$C$1002,2,0),\"\")","v":""}]
[null,null,null,{"$f":"IFERROR(VLOOKUP(C395,Participants!$B$3:$C$1002,2,0),\"\")","v":""},null,{"$f":"IFERROR(VLOOKUP(E395,Participants!$B$3:$C$1002,2,0),\"\")","v":""}]
[null,null,null,{"$f":"IFERROR(VLOOKUP(C396,Participants!$B$3:$C$1002,2,0),\"\")","v":""},null,{"$f":"IFERROR(VLOOKUP(E396,Participants!$B$3:$C$1002,2,0),\"\")","v":""}]
[null,null,null,{"$f":"IFERROR(VLOOKUP(C397,Participants!$B$3:$C$1002,2,0),\"\")","v":""},null,{"$f":"IFERROR(VLOOKUP(E397,Participants!$B$3:$C$1002,2,0),\"\")","v":""}]
[null,null,null,{"$f":"IFERROR(VLOOKUP(C398,Participants!$B$3:$C$1002,2,0),\"\")","v":""},null,{"$f":"IFERROR(VLOOKUP(E398,Participants!$B$3:$C$1002,2,0),\"\")","v":""}]
[null,null,null,{"$f":"IFERROR(VLOOKUP(C399,Participants!$B$3:$C$1002,2,0),\"\")","v":""},null,{"$f":"IFERROR(VLOOKUP(E399,Participants!$B$3:$C$1002,2,0),\"\")","v":""}]
[null,null,null,{"$f":"IFERROR(VLOOKUP(C400,Participants!$B$3:$C$1002,2,0),\"\")","v":""},null,{"$f":"IFERROR(VLOOKUP(E400,Participants!$B$3:$C$1002,2,0),\"\")","v":""}]
[null,null,null,{"$f":"IFERROR(VLOOKUP(C401,Participants!$B$3:$C$1002,2,0),\"\")","v":""},null,{"$f":"IFERROR(VLOOKUP(E401,Participants!$B$3:$C$1002,2,0),\"\")","v":""}]
[null,null,null,{"$f":"IFERROR(VLOOKUP(C402,Participants!$B$3:$C$1002,2,0),\"\")","v":""},null,{"$f":"IFERROR(VLOOKUP(E402,Participants!$B$3:$C$1002,2,0),\"\")","v":""}]
[null,null,null,{"$f":"IFERROR(VLOOKUP(C403,Participants!$B$3:$C$1002,2,0),\"\")","v":""},null,{"$f":"IFERROR(VLOOKUP(E403,Participants!$B$3:$C$1002,2,0),\"\")","v":""}]
[null,null,null,{"$f":"IFERROR(VLOOKUP(C404,Participants!$B$3:$C$1002,2,0),\"\")","v":""},null,{"$f":"IFERROR(VLOOKUP(E404,Participants!$B$3:$C$1002,2,0),\"\")","v":""}]
[null,null,null,{"$f":"IFERROR(VLOOKUP(C405,Participants!$B$3:$C$1002,2,0),\"\")","v":""},null,{"$f":"IFERROR(VLOOKUP(E405,Participants!$B$3:$C$1002,2,0),\"\")","v":""}]
[null,null,null,{"$f":"IFERROR(VLOOKUP(C406,Participants!$B$3:$C$1002,2,0),\"\")","v":""},null,{"$f":"IFERROR(VLOOKUP(E406,Participants!$B$3:$C$1002,2,0),\"\")","v":""}]
[null,null,null,{"$f":"IFERROR(VLOOKUP(C407,Participants!$B$3:$C$1002,2,0),\"\")","v":""},null,{"$f":"IFERROR(VLOOKUP(E407,Participants!$B$3:$C$1002,2,0),\"\")","v":""}]
[null,null,null,{"$f":"IFERROR(VLOOKUP(C408,Participants!$B$3:$C$1002,2,0),\"\")","v":""},null,{"$f":"IFERROR(VLOOKUP(E408,Participants!$B$3:$C$1002,2,0),\"\")","v":""}]
[null,null,null,{"$f":"IFERROR(VLOOKUP(C409,Participants!$B$3:$C$1002,2,0),\"\")","v":""},null,{"$f":"IFERROR(VLOOKUP(E409,Participants!$B$3:$C$1002,2,0),\"\")","v":""}]
[null,null,null,{"$f":"IFERROR(VLOOKUP(C410,Participants!$B$3:$C$1002,2,0),\"\")","v":""},null,{"$f":"IFERROR(VLOOKUP(E410,Participants!$B$3:$C$1002,2,0),\"\")","v":""}]
[null,null,null,{"$f":"IFERROR(VLOOKUP(C411,Participants!$B$3:$C$1002,2,0),\"\")","v":""},null,{"$f":"IFERROR(VLOOKUP(E411,Participants!$B$3:$C$1002,2,0),\"\")","v":""}]
[null,null,null,{"$f":"IFERROR(VLOOKUP(C412,Participants!$B$3:$C$1002,2,0),\"\")","v":""},null,{"$f":"IFERROR(VLOOKUP(E412,Participants!$B$3:$C$1002,2,0),\"\")","v":""}]
[null,null,null,{"$f":"IFERROR(VLOOKUP(C413,Participants!$B$3:$C$1002,2,0),\"\")","v":""},null,{"$f":"IFERROR(VLOOKUP(E413,Participants!$B$3:$C$1002,2,0),\"\")","v":""}]
[null,null,null,{"$f":"IFERROR(VLOOKUP(C414,Participants!$B$3:$C$1002,2,0),\"\")","v":""},null,{"$f":"IFERROR(VLOOKUP(E414,Participants!$B$3:$C$1002,2,0),\"\")","v":""}]
[null,null,null,{"$f":"IFERROR(VLOOKUP(C415,Participants!$B$3:$C$1002,2,0),\"\")","v":""},null,{"$f":"IFERROR(VLOOKUP(E415,Participants!$B$3:$C$1002,2,0),\"\")","v":""}]
[null,null,null,{"$f":"IFERROR(VLOOKUP(C416,Participants!$B$3:$C$1002,2,0),\"\")","v":""},null,{"$f":"IFERROR(VLOOKUP(E416,Participants!$B$3:$C$1002,2,0),\"\")","v":""}]
[null,null,null,{"$f":"IFERROR(VLOOKUP(C417,Participants!$B$3:$C$1002,2,0),\"\")","v":""},null,{"$f":"IFERROR(VLOOKUP(E417,Participants!$B$3:$C$1002,2,0),\"\")","v":""}]
[null,null,null,{"$f":"IFERROR(VLOOKUP(C418,Participants!$B$3:$C$1002,2,0),\"\")","v":""},null,{"$f":"IFERROR(VLOOKUP(E418,Participants!$B$3:$C$1002,2,0),\"\")","v":""}]
[null,null,null,{"$f":"IFERROR(VLOOKUP(C419,Participants!$B$3:$C$1002,2,0),\"\")","v":""},null,{"$f":"IFERROR(VLOOKUP(E419,Participants!$B$3:$C$1002,2,0),\"\")","v":""}]
[null,null,null,{"$f":"IFERROR(VLOOKUP(C420,Participants!$B$3:$C$1002,2,0),\"\")","v":""},null,{"$f":"IFERROR(VLOOKUP(E420,Participants!$B$3:$C$1002,2,0),\"\")","v":""}]
[null,null,null,{"$f":"IFERROR(VLOOKUP(C421,Participants!$B$3:$C$1002,2,0),\"\")","v":""},null,{"$f":"IFERROR(VLOOKUP(E421,Participants!$B$3:$C$1002,2,0),\"\")","v":""}]
[null,null,null,{"$f":"IFERROR(VLOOKUP(C422,Participants!$B$3:$C$1002,2,0),\"\")","v":""},null,{"$f":"IFERROR(VLOOKUP(E422,Participants!$B$3:$C$1002,2,0),\"\")","v":""}]
[null,null,null,{"$f":"IFERROR(VLOOKUP(C423,Participants!$B$3:$C$1002,2,0),\"\")","v":""},null,{"$f":"IFERROR(VLOOKUP(E423,Participants!$B$3:$C$1002,2,0),\"\")","v":""}]
[null,null,null,{"$f":"IFERROR(VLOOKUP(C424,Participants!$B$3:$C$1002,2,0),\"\")","v":""},null,{"$f":"IFERROR(VLOOKUP(E424,Participants!$B$3:$C$1002,2,0),\"\")","v":""}]
[null,null,null,{"$f":"IFERROR(VLOOKUP(C425,Participants!$B$3:$C$1002,2,0),\"\")","v":""},null,{"$f":"IFERROR(VLOOKUP(E425,Participants!$B$3:$C$1002,2,0),\"\")","v":""}]
[null,null,null,{"$f":"IFERROR(VLOOKUP(C426,Participants!$B$3:$C$1002,2,0),\"\")","v":""},null,{"$f":"IFERROR(VLOOKUP(E426,Participants!$B$3:$C$1002,2,0),\"\")","v":""}]
[null,null,null,{"$f":"IFERROR(VLOOKUP(C427,Participants!$B$3:$C$1002,2,0),\"\")","v":""},null,{"$f":"IFERROR(VLOOKUP(E427,Participants!$B$3:$C$1002,2,0),\"\")","v":""}]
[null,null,null,{"$f":"IFERROR(VLOOKUP(C428,Participants!$B$3:$C$1002,2,0),\"\")","v":""},null,{"$f":"IFERROR(VLOOKUP(E428,Participants!$B$3:$C$1002,2,0),\"\")","v":""}]
[null,null,null,{"$f":"IFERROR(VLOOKUP(C429,Participants!$B$3:$C$1002,2,0),\"\")","v":""},null,{"$f":"IFERROR(VLOOKUP(E429,Participants!$B$3:$C$1002,2,0),\"\")","v":""}]
[null,null,null,{"$f":"IFERROR(VLOOKUP(C430,Participants!$B$3:$C$1002,2,0),\"\")","v":""},null,{"$f":"IFERROR(VLOOKUP(E430,Participants!$B$3:$C$1002,2,0),\"\")","v":""}]
[null,null,null,{"$f":"IFERROR(VLOOKUP(C431,Participants!$B$3:$C$1002,2,0),\"\")","v":""},null,{"$f":"IFERROR(VLOOKUP(E431,Participants!$B$3:$C$1002,2,0),\"\")","v":""}]
[null,null,null,{"$f":"IFERROR(VLOOKUP(C432,Participants!$B$3:$C$1002,2,0),\"\")","v":""},null,{"$f":"IFERROR(VLOOKUP(E432,Participants!$B$3:$C$1002,2,0),\"\")","v":""}]
[null,null,null,{"$f":"IFERROR(VLOOKUP(C433,Participants!$B$3:$C$1002,2,0),\"\")","v":""},null,{"$f":"IFERROR(VLOOKUP(E433,Participants!$B$3:$C$1002,2,0),\"\")","v":""}]
[null,null,null,{"$f":"IFERROR(VLOOKUP(C434,Participants!$B$3:$C$1002,2,0),\"\")","v":""},null,{"$f":"IFERROR(VLOOKUP(E434,Participants!$B$3:$C$1002,2,0),\"\")","v":""}]
[null,null,null,{"$f":"IFERROR(VLOOKUP(C435,Participants!$B$3:$C$1002,2,0),\"\")","v":""},null,{"$f":"IFERROR(VLOOKUP(E435,Participants!$B$3:$C$1002,2,0),\"\")","v":""}]
[null,null,null,{"$f":"IFERROR(VLOOKUP(C436,Participants!$B$3:$C$1002,2,0),\"\")","v":""},null,{"$f":"IFERROR(VLOOKUP(E436,Participants!$B$3:$C$1002,2,0),\"\")","v":""}]
[null,null,null,{"$f":"IFERROR(VLOOKUP(C437,Participants!$B$3:$C$1002,2,0),\"\")","v":""},null,{"$f":"IFERROR(VLOOKUP(E437,Participants!$B$3:$C$1002,2,0),\"\")","v":""}]
[null,null,null,{"$f":"IFERROR(VLOOKUP(C438,Participants!$B$3:$C$1002,2,0),\"\")","v":""},null,{"$f":"IFERROR(VLOOKUP(E438,Participants!$B$3:$C$1002,2,0),\"\")","v":""}]
[null,null,null,{"$f":"IFERROR(VLOOKUP(C439,Participants!$B$3:$C$1002,2,0),\"\")","v":""},null,{"$f":"IFERROR(VLOOKUP(E439,Participants!$B$3:$C$1002,2,0),\"\")","v":""}]
[null,null,null,{"$f":"IFERROR(VLOOKUP(C440,Participants!$B$3:$C$1002,2,0),\"\")","v":""},null,{"$f":"IFERROR(VLOOKUP(E440,Participants!$B$3:$C$1002,2,0),\"\")","v":""}]
[null,null,null,{"$f":"IFERROR(VLOOKUP(C441,Participants!$B$3:$C$1002,2,0),\"\")","v":""},null,{"$f":"IFERROR(VLOOKUP(E441,Participants!$B$3:$C$1002,2,0),\"\")","v":""}]
[null,null,null,{"$f":"IFERROR(VLOOKUP(C442,Participants!$B$3:$C$1002,2,0),\"\")","v":""},null,{"$f":"IFERROR(VLOOKUP(E442,Participants!$B$3:$C$1002,2,0),\"\")","v":""}]
[null,null,null,{"$f":"IFERROR(VLOOKUP(C443,Participants!$B$3:$C$1002,2,0),\"\")","v":""},null,{"$f":"IFERROR(VLOOKUP(E443,Participants!$B$3:$C$1002,2,0),\"\")","v":""}]
[null,null,null,{"$f":"IFERROR(VLOOKUP(C444,Participants!$B$3:$C$1002,2,0),\"\")","v":""},null,{"$f":"IFERROR(VLOOKUP(E444,Participants!$B$3:$C$1002,2,0),\"\")","v":""}]
[null,null,null,{"$f":"IFERROR(VLOOKUP(C445,Participants!$B$3:$C$1002,2,0),\"\")","v":""},null,{"$f":"IFERROR(VLOOKUP(E445,Participants!$B$3:$C$1002,2,0),\"\")","v":""}]
[null,null,null,{"$f":"IFERROR(VLOOKUP(C446,Participants!$B$3:$C$1002,2,0),\"\")","v":""},null,{"$f":"IFERROR(VLOOKUP(E446,Participants!$B$3:$C$1002,2,0),\"\")","v":""}]
[null,null,null,{"$f":"IFERROR(VLOOKUP(C447,Participants!$B$3:$C$1002,2,0),\"\")","v":""},null,{"$f":"IFERROR(VLOOKUP(E447,Participants!$B$3:$C$1002,2,0),\"\")","v":""}]
[null,null,null,{"$f":"IFERROR(VLOOKUP(C448,Participants!$B$3:$C$1002,2,0),\"\")","v":""},null,{"$f":"IFERROR(VLOOKUP(E448,Participants!$B$3:$C$1002,2,0),\"\")","v":""}]
[null,null,null,{"$f":"IFERROR(VLOOKUP(C449,Participants!$B$3:$C$1002,2,0),\"\")","v":""},null,{"$f":"IFERROR(VLOOKUP(E449,Participants!$B$3:$C$1002,2,0),\"\")","v":""}]
[null,null,null,{"$f":"IFERROR(VLOOKUP(C450,Participants!$B$3:$C$1002,2,0),\"\")","v":""},null,{"$f":"IFERROR(VLOOKUP(E450,Participants!$B$3:$C$1002,2,0),\"\")","v":""}]
[null,null,null,{"$f":"IFERROR(VLOOKUP(C451,Participants!$B$3:$C$1002,2,0),\"\")","v":""},null,{"$f":"IFERROR(VLOOKUP(E451,Participants!$B$3:$C$1002,2,0),\"\")","v":""}]
[null,null,null,{"$f":"IFERROR(VLOOKUP(C452,Participants!$B$3:$C$1002,2,0),\"\")","v":""},null,{"$f":"IFERROR(VLOOKUP(E452,Participants!$B$3:$C$1002,2,0),\"\")","v":""}]
[null,null,null,{"$f":"IFERROR(VLOOKUP(C453,Participants!$B$3:$C$1002,2,0),\"\")","v":""},null,{"$f":"IFERROR(VLOOKUP(E453,Participants!$B$3:$C$1002,2,0),\"\")","v":""}]
[null,null,null,{"$f":"IFERROR(VLOOKUP(C454,Participants!$B$3:$C$1002,2,0),\"\")","v":""},null,{"$f":"IFERROR(VLOOKUP(E454,Participants!$B$3:$C$1002,2,0),\"\")","v":""}]
[null,null,null,{"$f":"IFERROR(VLOOKUP(C455,Participants!$B$3:$C$1002,2,0),\"\")","v":""},null,{"$f":"IFERROR(VLOOKUP(E455,Participants!$B$3:$C$1002,2,0),\"\")","v":""}]
[null,null,null,{"$f":"IFERROR(VLOOKUP(C456,Participants!$B$3:$C$1002,2,0),\"\")","v":""},null,{"$f":"IFERROR(VLOOKUP(E456,Participants!$B$3:$C$1002,2,0),\"\")","v":""}]
[null,null,null,{"$f":"IFERROR(VLOOKUP(C457,Participants!$B$3:$C$1002,2,0),\"\")","v":""},null,{"$f":"IFERROR(VLOOKUP(E457,Participants!$B$3:$C$1002,2,0),\"\")","v":""}]
[null,null,null,{"$f":"IFERROR(VLOOKUP(C458,Participants!$B$3:$C$1002,2,0),\"\")","v":""},null,{"$f":"IFERROR(VLOOKUP(E458,Participants!$B$3:$C$1002,2,0),\"\")","v":""}]
[null,null,null,{"$f":"IFERROR(VLOOKUP(C459,Participants!$B$3:$C$1002,2,0),\"\")","v":""},null,{"$f":"IFERROR(VLOOKUP(E459,Participants!$B$3:$C$1002,2,0),\"\")","v":""}]
[null,null,null,{"$f":"IFERROR(VLOOKUP(C460,Participants!$B$3:$C$1002,2,0),\"\")","v":""},null,{"$f":"IFERROR(VLOOKUP(E460,Participants!$B$3:$C$1002,2,0),\"\")","v":""}]
[null,null,null,{"$f":"IFERROR(VLOOKUP(C461,Participants!$B$3:$C$1002,2,0),\"\")","v":""},null,{"$f":"IFERROR(VLOOKUP(E461,Participants!$B$3:$C$1002,2,0),\"\")","v":""}]
[null,null,null,{"$f":"IFERROR(VLOOKUP(C462,Participants!$B$3:$C$1002,2,0),\"\")","v":""},null,{"$f":"IFERROR(VLOOKUP(E462,Participants!$B$3:$C$1002,2,0),\"\")","v":""}]
[null,null,null,{"$f":"IFERROR(VLOOKUP(C463,Participants!$B$3:$C$1002,2,0),\"\")","v":""},null,{"$f":"IFERROR(VLOOKUP(E463,Participants!$B$3:$C$1002,2,0),\"\")","v":""}]
[null,null,null,{"$f":"IFERROR(VLOOKUP(C464,Participants!$B$3:$C$1002,2,0),\"\")","v":""},null,{"$f":"IFERROR(VLOOKUP(E464,Participants!$B$3:$C$1002,2,0),\"\")","v":""}]
[null,null,null,{"$f":"IFERROR(VLOOKUP(C465,Participants!$B$3:$C$1002,2,0),\"\")","v":""},null,{"$f":"IFERROR(VLOOKUP(E465,Participants!$B$3:$C$1002,2,0),\"\")","v":""}]
[null,null,null,{"$f":"IFERROR(VLOOKUP(C466,Participants!$B$3:$C$1002,2,0),\"\")","v":""},null,{"$f":"IFERROR(VLOOKUP(E466,Participants!$B$3:$C$1002,2,0),\"\")","v":""}]
[null,null,null,{"$f":"IFERROR(VLOOKUP(C467,Participants!$B$3:$C$1002,2,0),\"\")","v":""},null,{"$f":"IFERROR(VLOOKUP(E467,Participants!$B$3:$C$1002,2,0),\"\")","v":""}]
[null,null,null,{"$f":"IFERROR(VLOOKUP(C468,Participants!$B$3:$C$1002,2,0),\"\")","v":""},null,{"$f":"IFERROR(VLOOKUP(E468,Participants!$B$3:$C$1002,2,0),\"\")","v":""}]
[null,null,null,{"$f":"IFERROR(VLOOKUP(C469,Participants!$B$3:$C$1002,2,0),\"\")","v":""},null,{"$f":"IFERROR(VLOOKUP(E469,Participants!$B$3:$C$1002,2,0),\"\")","v":""}]
[null,null,null,{"$f":"IFERROR(VLOOKUP(C470,Participants!$B$3:$C$1002,2,0),\"\")","v":""},null,{"$f":"IFERROR(VLOOKUP(E470,Participants!$B$3:$C$1002,2,0),\"\")","v":""}]
[null,null,null,{"$f":"IFERROR(VLOOKUP(C471,Participants!$B$3:$C$1002,2,0),\"\")","v":""},null,{"$f":"IFERROR(VLOOKUP(E471,Participants!$B$3:$C$1002,2,0),\"\")","v":""}]
[null,null,null,{"$f":"IFERROR(VLOOKUP(C472,Participants!$B$3:$C$1002,2,0),\"\")","v":""},null,{"$f":"IFERROR(VLOOKUP(E472,Participants!$B$3:$C$1002,2,0),\"\")","v":""}]
[null,null,null,{"$f":"IFERROR(VLOOKUP(C473,Participants!$B$3:$C$1002,2,0),\"\")","v":""},null,{"$f":"IFERROR(VLOOKUP(E473,Participants!$B$3:$C$1002,2,0),\"\")","v":""}]
[null,null,null,{"$f":"IFERROR(VLOOKUP(C474,Participants!$B$3:$C$1002,2,0),\"\")","v":""},null,{"$f":"IFERROR(VLOOKUP(E474,Participants!$B$3:$C$1002,2,0),\"\")","v":""}]
[null,null,null,{"$f":"IFERROR(VLOOKUP(C475,Participants!$B$3:$C$1002,2,0),\"\")","v":""},null,{"$f":"IFERROR(VLOOKUP(E475,Participants!$B$3:$C$1002,2,0),\"\")","v":""}]
[null,null,null,{"$f":"IFERROR(VLOOKUP(C476,Participants!$B$3:$C$1002,2,0),\"\")","v":""},null,{"$f":"IFERROR(VLOOKUP(E476,Participants!$B$3:$C$1002,2,0),\"\")","v":""}]
[null,null,null,{"$f":"IFERROR(VLOOKUP(C477,Participants!$B$3:$C$1002,2,0),\"\")","v":""},null,{"$f":"IFERROR(VLOOKUP(E477,Participants!$B$3:$C$1002,2,0),\"\")","v":""}]
[null,null,null,{"$f":"IFERROR(VLOOKUP(C478,Participants!$B$3:$C$1002,2,0),\"\")","v":""},null,{"$f":"IFERROR(VLOOKUP(E478,Participants!$B$3:$C$1002,2,0),\"\")","v":""}]
[null,null,null,{"$f":"IFERROR(VLOOKUP(C479,Participants!$B$3:$C$1002,2,0),\"\")","v":""},null,{"$f":"IFERROR(VLOOKUP(E479,Participants!$B$3:$C$1002,2,0),\"\")","v":""}]
[null,null,null,{"$f":"IFERROR(VLOOKUP(C480,Participants!$B$3:$C$1002,2,0),\"\")","v":""},null,{"$f":"IFERROR(VLOOKUP(E480,Participants!$B$3:$C$1002,2,0),\"\")","v":""}]
[null,null,null,{"$f":"IFERROR(VLOOKUP(C481,Participants!$B$3:$C$1002,2,0),\"\")","v":""},null,{"$f":"IFERROR(VLOOKUP(E481,Participants!$B$3:$C$1002,2,0),\"\")","v":""}]
[null,null,null,{"$f":"IFERROR(VLOOKUP(C482,Participants!$B$3:$C$1002,2,0),\"\")","v":""},null,{"$f":"IFERROR(VLOOKUP(E482,Participants!$B$3:$C$1002,2,0),\"\")","v":""}]
[null,null,null,{"$f":"IFERROR(VLOOKUP(C483,Participants!$B$3:$C$1002,2,0),\"\")","v":""},null,{"$f":"IFERROR(VLOOKUP(E483,Participants!$B$3:$C$1002,2,0),\"\")","v":""}]
[null,null,null,{"$f":"IFERROR(VLOOKUP(C484,Participants!$B$3:$C$1002,2,0),\"\")","v":""},null,{"$f":"IFERROR(VLOOKUP(E484,Participants!$B$3:$C$1002,2,0),\"\")","v":""}]
[null,null,null,{"$f":"IFERROR(VLOOKUP(C485,Participants!$B$3:$C$1002,2,0),\"\")","v":""},null,{"$f":"IFERROR(VLOOKUP(E485,Participants!$B$3:$C$1002,2,0),\"\")","v":""}]
[null,null,null,{"$f":"IFERROR(VLOOKUP(C486,Participants!$B$3:$C$1002,2,0),\"\")","v":""},null,{"$f":"IFERROR(VLOOKUP(E486,Participants!$B$3:$C$1002,2,0),\"\")","v":""}]
[null,null,null,{"$f":"IFERROR(VLOOKUP(C487,Participants!$B$3:$C$1002,2,0),\"\")","v":""},null,{"$f":"IFERROR(VLOOKUP(E487,Participants!$B$3:$C$1002,2,0),\"\")","v":""}]
[null,null,null,{"$f":"IFERROR(VLOOKUP(C488,Participants!$B$3:$C$1002,2,0),\"\")","v":""},null,{"$f":"IFERROR(VLOOKUP(E488,Participants!$B$3:$C$1002,2,0),\"\")","v":""}]
[null,null,null,{"$f":"IFERROR(VLOOKUP(C489,Participants!$B$3:$C$1002,2,0),\"\")","v":""},null,{"$f":"IFERROR(VLOOKUP(E489,Participants!$B$3:$C$1002,2,0),\"\")","v":""}]
[null,null,null,{"$f":"IFERROR(VLOOKUP(C490,Participants!$B$3:$C$1002,2,0),\"\")","v":""},null,{"$f":"IFERROR(VLOOKUP(E490,Participants!$B$3:$C$1002,2,0),\"\")","v":""}]
[null,null,null,{"$f":"IFERROR(VLOOKUP(C491,Participants!$B$3:$C$1002,2,0),\"\")","v":""},null,{"$f":"IFERROR(VLOOKUP(E491,Participants!$B$3:$C$1002,2,0),\"\")","v":""}]
[null,null,null,{"$f":"IFERROR(VLOOKUP(C492,Participants!$B$3:$C$1002,2,0),\"\")","v":""},null,{"$f":"IFERROR(VLOOKUP(E492,Participants!$B$3:$C$1002,2,0),\"\")","v":""}]
[null,null,null,{"$f":"IFERROR(VLOOKUP(C493,Participants!$B$3:$C$1002,2,0),\"\")","v":""},null,{"$f":"IFERROR(VLOOKUP(E493,Participants!$B$3:$C$1002,2,0),\"\")","v":""}]
[null,null,null,{"$f":"IFERROR(VLOOKUP(C494,Participants!$B$3:$C$1002,2,0),\"\")","v":""},null,{"$f":"IFERROR(VLOOKUP(E494,Participants!$B$3:$C$1002,2,0),\"\")","v":""}]
[null,null,null,{"$f":"IFERROR(VLOOKUP(C495,Participants!$B$3:$C$1002,2,0),\"\")","v":""},null,{"$f":"IFERROR(VLOOKUP(E495,Participants!$B$3:$C$1002,2,0),\"\")","v":""}]
[null,null,null,{"$f":"IFERROR(VLOOKUP(C496,Participants!$B$3:$C$1002,2,0),\"\")","v":""},null,{"$f":"IFERROR(VLOOKUP(E496,Participants!$B$3:$C$1002,2,0),\"\")","v":""}]
[null,null,null,{"$f":"IFERROR(VLOOKUP(C497,Participants!$B$3:$C$1002,2,0),\"\")","v":""},null,{"$f":"IFERROR(VLOOKUP(E497,Participants!$B$3:$C$1002,2,0),\"\")","v":""}]
[null,null,null,{"$f":"IFERROR(VLOOKUP(C498,Participants!$B$3:$C$1002,2,0),\"\")","v":""},null,{"$f":"IFERROR(VLOOKUP(E498,Participants!$B$3:$C$1002,2,0),\"\")","v":""}]
[null,null,null,{"$f":"IFERROR(VLOOKUP(C499,Participants!$B$3:$C$1002,2,0),\"\")","v":""},null,{"$f":"IFERROR(VLOOKUP(E499,Participants!$B$3:$C$1002,2,0),\"\")","v":""}]
[null,null,null,{"$f":"IFERROR(VLOOKUP(C500,Participants!$B$3:$C$1002,2,0),\"\")","v":""},null,{"$f":"IFERROR(VLOOKUP(E500,Participants!$B$3:$C$1002,2,0),\"\")","v":""}]
[null,null,null,{"$f":"IFERROR(VLOOKUP(C501,Participants!$B$3:$C$1002,2,0),\"\")","v":""},null,{"$f":"IFERROR(VLOOKUP(E501,Participants!$B$3:$C$1002,2,0),\"\")","v":""}]
[null,null,null,{"$f":"IFERROR(VLOOKUP(C502,Participants!$B$3:$C$1002,2,0),\"\")","v":""},null,{"$f":"IFERROR(VLOOKUP(E502,Participants!$B$3:$C$1002,2,0),\"\")","v":""}]
[null,null,null,{"$f":"IFERROR(VLOOKUP(C503,Participants!$B$3:$C$1002,2,0),\"\")","v":""},null,{"$f":"IFERROR(VLOOKUP(E503,Participants!$B$3:$C$1002,2,0),\"\")","v":""}]
[null,null,null,{"$f":"IFERROR(VLOOKUP(C504,Participants!$B$3:$C$1002,2,0),\"\")","v":""},null,{"$f":"IFERROR(VLOOKUP(E504,Participants!$B$3:$C$1002,2,0),\"\")","v":""}]
[null,null,null,{"$f":"IFERROR(VLOOKUP(C505,Participants!$B$3:$C$1002,2,0),\"\")","v":""},null,{"$f":"IFERROR(VLOOKUP(E505,Participants!$B$3:$C$1002,2,0),\"\")","v":""}]
[null,null,null,{"$f":"IFERROR(VLOOKUP(C506,Participants!$B$3:$C$1002,2,0),\"\")","v":""},null,{"$f":"IFERROR(VLOOKUP(E506,Participants!$B$3:$C$1002,2,0),\"\")","v":""}]
[null,null,null,{"$f":"IFERROR(VLOOKUP(C507,Participants!$B$3:$C$1002,2,0),\"\")","v":""},null,{"$f":"IFERROR(VLOOKUP(E507,Participants!$B$3:$C$1002,2,0),\"\")","v":""}]
[null,null,null,{"$f":"IFERROR(VLOOKUP(C508,Participants!$B$3:$C$1002,2,0),\"\")","v":""},null,{"$f":"IFERROR(VLOOKUP(E508,Participants!$B$3:$C$1002,2,0),\"\")","v":""}]
[null,null,null,{"$f":"IFERROR(VLOOKUP(C509,Participants!$B$3:$C$1002,2,0),\"\")","v":""},null,{"$f":"IFERROR(VLOOKUP(E509,Participants!$B$3:$C$1002,2,0),\"\")","v":""}]
[null,null,null,{"$f":"IFERROR(VLOOKUP(C510,Participants!$B$3:$C$1002,2,0),\"\")","v":""},null,{"$f":"IFERROR(VLOOKUP(E510,Participants!$B$3:$C$1002,2,0),\"\")","v":""}]
[null,null,null,{"$f":"IFERROR(VLOOKUP(C511,Participants!$B$3:$C$1002,2,0),\"\")","v":""},null,{"$f":"IFERROR(VLOOKUP(E511,Participants!$B$3:$C$1002,2,0),\"\")","v":""}]
[null,null,null,{"$f":"IFERROR(VLOOKUP(C512,Participants!$B$3:$C$1002,2,0),\"\")","v":""},null,{"$f":"IFERROR(VLOOKUP(E512,Participants!$B$3:$C$1002,2,0),\"\")","v":""}]
[null,null,null,{"$f":"IFERROR(VLOOKUP(C513,Participants!$B$3:$C$1002,2,0),\"\")","v":""},null,{"$f":"IFERROR(VLOOKUP(E513,Participants!$B$3:$C$1002,2,0),\"\")","v":""}]
[null,null,null,{"$f":"IFERROR(VLOOKUP(C514,Participants!$B$3:$C$1002,2,0),\"\")","v":""},null,{"$f":"IFERROR(VLOOKUP(E514,Participants!$B$3:$C$1002,2,0),\"\")","v":""}]
[null,null,null,{"$f":"IFERROR(VLOOKUP(C515,Participants!$B$3:$C$1002,2,0),\"\")","v":""},null,{"$f":"IFERROR(VLOOKUP(E515,Participants!$B$3:$C$1002,2,0),\"\")","v":""}]
[null,null,null,{"$f":"IFERROR(VLOOKUP(C516,Participants!$B$3:$C$1002,2,0),\"\")","v":""},null,{"$f":"IFERROR(VLOOKUP(E516,Participants!$B$3:$C$1002,2,0),\"\")","v":""}]
[null,null,null,{"$f":"IFERROR(VLOOKUP(C517,Participants!$B$3:$C$1002,2,0),\"\")","v":""},null,{"$f":"IFERROR(VLOOKUP(E517,Participants!$B$3:$C$1002,2,0),\"\")","v":""}]
[null,null,null,{"$f":"IFERROR(VLOOKUP(C518,Participants!$B$3:$C$1002,2,0),\"\")","v":""},null,{"$f":"IFERROR(VLOOKUP(E518,Participants!$B$3:$C$1002,2,0),\"\")","v":""}]
[null,null,null,{"$f":"IFERROR(VLOOKUP(C519,Participants!$B$3:$C$1002,2,0),\"\")","v":""},null,{"$f":"IFERROR(VLOOKUP(E519,Participants!$B$3:$C$1002,2,0),\"\")","v":""}]
[null,null,null,{"$f":"IFERROR(VLOOKUP(C520,Participants!$B$3:$C$1002,2,0),\"\")","v":""},null,{"$f":"IFERROR(VLOOKUP(E520,Participants!$B$3:$C$1002,2,0),\"\")","v":""}]
[null,null,null,{"$f":"IFERROR(VLOOKUP(C521,Participants!$B$3:$C$1002,2,0),\"\")","v":""},null,{"$f":"IFERROR(VLOOKUP(E521,Participants!$B$3:$C$1002,2,0),\"\")","v":""}]
[null,null,null,{"$f":"IFERROR(VLOOKUP(C522,Participants!$B$3:$C$1002,2,0),\"\")","v":""},null,{"$f":"IFERROR(VLOOKUP(E522,Participants!$B$3:$C$1002,2,0),\"\")","v":""}]
[null,null,null,{"$f":"IFERROR(VLOOKUP(C523,Participants!$B$3:$C$1002,2,0),\"\")","v":""},null,{"$f":"IFERROR(VLOOKUP(E523,Participants!$B$3:$C$1002,2,0),\"\")","v":""}]
[null,null,null,{"$f":"IFERROR(VLOOKUP(C524,Participants!$B$3:$C$1002,2,0),\"\")","v":""},null,{"$f":"IFERROR(VLOOKUP(E524,Participants!$B$3:$C$1002,2,0),\"\")","v":""}]
[null,null,null,{"$f":"IFERROR(VLOOKUP(C525,Participants!$B$3:$C$1002,2,0),\"\")","v":""},null,{"$f":"IFERROR(VLOOKUP(E525,Participants!$B$3:$C$1002,2,0),\"\")","v":""}]
[null,null,null,{"$f":"IFERROR(VLOOKUP(C526,Participants!$B$3:$C$1002,2,0),\"\")","v":""},null,{"$f":"IFERROR(VLOOKUP(E526,Participants!$B$3:$C$1002,2,0),\"\")","v":""}]
[null,null,null,{"$f":"IFERROR(VLOOKUP(C527,Participants!$B$3:$C$1002,2,0),\"\")","v":""},null,{"$f":"IFERROR(VLOOKUP(E527,Participants!$B$3:$C$1002,2,0),\"\")","v":""}]
[null,null,null,{"$f":"IFERROR(VLOOKUP(C528,Participants!$B$3:$C$1002,2,0),\"\")","v":""},null,{"$f":"IFERROR(VLOOKUP(E528,Participants!$B$3:$C$1002,2,0),\"\")","v":""}]
[null,null,null,{"$f":"IFERROR(VLOOKUP(C529,Participants!$B$3:$C$1002,2,0),\"\")","v":""},null,{"$f":"IFERROR(VLOOKUP(E529,Participants!$B$3:$C$1002,2,0),\"\")","v":""}]
[null,null,null,{"$f":"IFERROR(VLOOKUP(C530,Participants!$B$3:$C$1002,2,0),\"\")","v":""},null,{"$f":"IFERROR(VLOOKUP(E530,Participants!$B$3:$C$1002,2,0),\"\")","v":""}]
[null,null,null,{"$f":"IFERROR(VLOOKUP(C531,Participants!$B$3:$C$1002,2,0),\"\")","v":""},null,{"$f":"IFERROR(VLOOKUP(E531,Participants!$B$3:$C$1002,2,0),\"\")","v":""}]
[null,null,null,{"$f":"IFERROR(VLOOKUP(C532,Participants!$B$3:$C$1002,2,0),\"\")","v":""},null,{"$f":"IFERROR(VLOOKUP(E532,Participants!$B$3:$C$1002,2,0),\"\")","v":""}]
[null,null,null,{"$f":"IFERROR(VLOOKUP(C533,Participants!$B$3:$C$1002,2,0),\"\")","v":""},null,{"$f":"IFERROR(VLOOKUP(E533,Participants!$B$3:$C$1002,2,0),\"\")","v":""}]
[null,null,null,{"$f":"IFERROR(VLOOKUP(C534,Participants!$B$3:$C$1002,2,0),\"\")","v":""},null,{"$f":"IFERROR(VLOOKUP(E534,Participants!$B$3:$C$1002,2,0),\"\")","v":""}]
[null,null,null,{"$f":"IFERROR(VLOOKUP(C535,Participants!$B$3:$C$1002,2,0),\"\")","v":""},null,{"$f":"IFERROR(VLOOKUP(E535,Participants!$B$3:$C$1002,2,0),\"\")","v":""}]
[null,null,null,{"$f":"IFERROR(VLOOKUP(C536,Participants!$B$3:$C$1002,2,0),\"\")","v":""},null,{"$f":"IFERROR(VLOOKUP(E536,Participants!$B$3:$C$1002,2,0),\"\")","v":""}]
[null,null,null,{"$f":"IFERROR(VLOOKUP(C537,Participants!$B$3:$C$1002,2,0),\"\")","v":""},null,{"$f":"IFERROR(VLOOKUP(E537,Participants!$B$3:$C$1002,2,0),\"\")","v":""}]
[null,null,null,{"$f":"IFERROR(VLOOKUP(C538,Participants!$B$3:$C$1002,2,0),\"\")","v":""},null,{"$f":"IFERROR(VLOOKUP(E538,Participants!$B$3:$C$1002,2,0),\"\")","v":""}]
[null,null,null,{"$f":"IFERROR(VLOOKUP(C539,Participants!$B$3:$C$1002,2,0),\"\")","v":""},null,{"$f":"IFERROR(VLOOKUP(E539,Participants!$B$3:$C$1002,2,0),\"\")","v":""}]
[null,null,null,{"$f":"IFERROR(VLOOKUP(C540,Participants!$B$3:$C$1002,2,0),\"\")","v":""},null,{"$f":"IFERROR(VLOOKUP(E540,Participants!$B$3:$C$1002,2,0),\"\")","v":""}]
[null,null,null,{"$f":"IFERROR(VLOOKUP(C541,Participants!$B$3:$C$1002,2,0),\"\")","v":""},null,{"$f":"IFERROR(VLOOKUP(E541,Participants!$B$3:$C$1002,2,0),\"\")","v":""}]
[null,null,null,{"$f":"IFERROR(VLOOKUP(C542,Participants!$B$3:$C$1002,2,0),\"\")","v":""},null,{"$f":"IFERROR(VLOOKUP(E542,Participants!$B$3:$C$1002,2,0),\"\")","v":""}]
[null,null,null,{"$f":"IFERROR(VLOOKUP(C543,Participants!$B$3:$C$1002,2,0),\"\")","v":""},null,{"$f":"IFERROR(VLOOKUP(E543,Participants!$B$3:$C$1002,2,0),\"\")","v":""}]
[null,null,null,{"$f":"IFERROR(VLOOKUP(C544,Participants!$B$3:$C$1002,2,0),\"\")","v":""},null,{"$f":"IFERROR(VLOOKUP(E544,Participants!$B$3:$C$1002,2,0),\"\")","v":""}]
[null,null,null,{"$f":"IFERROR(VLOOKUP(C545,Participants!$B$3:$C$1002,2,0),\"\")","v":""},null,{"$f":"IFERROR(VLOOKUP(E545,Participants!$B$3:$C$1002,2,0),\"\")","v":""}]
[null,null,null,{"$f":"IFERROR(VLOOKUP(C546,Participants!$B$3:$C$1002,2,0),\"\")","v":""},null,{"$f":"IFERROR(VLOOKUP(E546,Participants!$B$3:$C$1002,2,0),\"\")","v":""}]
[null,null,null,{"$f":"IFERROR(VLOOKUP(C547,Participants!$B$3:$C$1002,2,0),\"\")","v":""},null,{"$f":"IFERROR(VLOOKUP(E547,Participants!$B$3:$C$1002,2,0),\"\")","v":""}]
[null,null,null,{"$f":"IFERROR(VLOOKUP(C548,Participants!$B$3:$C$1002,2,0),\"\")","v":""},null,{"$f":"IFERROR(VLOOKUP(E548,Participants!$B$3:$C$1002,2,0),\"\")","v":""}]
[null,null,null,{"$f":"IFERROR(VLOOKUP(C549,Participants!$B$3:$C$1002,2,0),\"\")","v":""},null,{"$f":"IFERROR(VLOOKUP(E549,Participants!$B$3:$C$1002,2,0),\"\")","v":""}]
[null,null,null,{"$f":"IFERROR(VLOOKUP(C550,Participants!$B$3:$C$1002,2,0),\"\")","v":""},null,{"$f":"IFERROR(VLOOKUP(E550,Participants!$B$3:$C$1002,2,0),\"\")","v":""}]
[null,null,null,{"$f":"IFERROR(VLOOKUP(C551,Participants!$B$3:$C$1002,2,0),\"\")","v":""},null,{"$f":"IFERROR(VLOOKUP(E551,Participants!$B$3:$C$1002,2,0),\"\")","v":""}]
[null,null,null,{"$f":"IFERROR(VLOOKUP(C552,Participants!$B$3:$C$1002,2,0),\"\")","v":""},null,{"$f":"IFERROR(VLOOKUP(E552,Participants!$B$3:$C$1002,2,0),\"\")","v":""}]
[null,null,null,{"$f":"IFERROR(VLOOKUP(C553,Participants!$B$3:$C$1002,2,0),\"\")","v":""},null,{"$f":"IFERROR(VLOOKUP(E553,Participants!$B$3:$C$1002,2,0),\"\")","v":""}]
[null,null,null,{"$f":"IFERROR(VLOOKUP(C554,Participants!$B$3:$C$1002,2,0),\"\")","v":""},null,{"$f":"IFERROR(VLOOKUP(E554,Participants!$B$3:$C$1002,2,0),\"\")","v":""}]
[null,null,null,{"$f":"IFERROR(VLOOKUP(C555,Participants!$B$3:$C$1002,2,0),\"\")","v":""},null,{"$f":"IFERROR(VLOOKUP(E555,Participants!$B$3:$C$1002,2,0),\"\")","v":""}]
[null,null,null,{"$f":"IFERROR(VLOOKUP(C556,Participants!$B$3:$C$1002,2,0),\"\")","v":""},null,{"$f":"IFERROR(VLOOKUP(E556,Participants!$B$3:$C$1002,2,0),\"\")","v":""}]
[null,null,null,{"$f":"IFERROR(VLOOKUP(C557,Participants!$B$3:$C$1002,2,0),\"\")","v":""},null,{"$f":"IFERROR(VLOOKUP(E557,Participants!$B$3:$C$1002,2,0),\"\")","v":""}]
[null,null,null,{"$f":"IFERROR(VLOOKUP(C558,Participants!$B$3:$C$1002,2,0),\"\")","v":""},null,{"$f":"IFERROR(VLOOKUP(E558,Participants!$B$3:$C$1002,2,0),\"\")","v":""}]
[null,null,null,{"$f":"IFERROR(VLOOKUP(C559,Participants!$B$3:$C$1002,2,0),\"\")","v":""},null,{"$f":"IFERROR(VLOOKUP(E559,Participants!$B$3:$C$1002,2,0),\"\")","v":""}]
[null,null,null,{"$f":"IFERROR(VLOOKUP(C560,Participants!$B$3:$C$1002,2,0),\"\")","v":""},null,{"$f":"IFERROR(VLOOKUP(E560,Participants!$B$3:$C$1002,2,0),\"\")","v":""}]
[null,null,null,{"$f":"IFERROR(VLOOKUP(C561,Participants!$B$3:$C$1002,2,0),\"\")","v":""},null,{"$f":"IFERROR(VLOOKUP(E561,Participants!$B$3:$C$1002,2,0),\"\")","v":""}]
[null,null,null,{"$f":"IFERROR(VLOOKUP(C562,Participants!$B$3:$C$1002,2,0),\"\")","v":""},null,{"$f":"IFERROR(VLOOKUP(E562,Participants!$B$3:$C$1002,2,0),\"\")","v":""}]
[null,null,null,{"$f":"IFERROR(VLOOKUP(C563,Participants!$B$3:$C$1002,2,0),\"\")","v":""},null,{"$f":"IFERROR(VLOOKUP(E563,Participants!$B$3:$C$1002,2,0),\"\")","v":""}]
[null,null,null,{"$f":"IFERROR(VLOOKUP(C564,Participants!$B$3:$C$1002,2,0),\"\")","v":""},null,{"$f":"IFERROR(VLOOKUP(E564,Participants!$B$3:$C$1002,2,0),\"\")","v":""}]
[null,null,null,{"$f":"IFERROR(VLOOKUP(C565,Participants!$B$3:$C$1002,2,0),\"\")","v":""},null,{"$f":"IFERROR(VLOOKUP(E565,Participants!$B$3:$C$1002,2,0),\"\")","v":""}]
[null,null,null,{"$f":"IFERROR(VLOOKUP(C566,Participants!$B$3:$C$1002,2,0),\"\")","v":""},null,{"$f":"IFERROR(VLOOKUP(E566,Participants!$B$3:$C$1002,2,0),\"\")","v":""}]
[null,null,null,{"$f":"IFERROR(VLOOKUP(C567,Participants!$B$3:$C$1002,2,0),\"\")","v":""},null,{"$f":"IFERROR(VLOOKUP(E567,Participants!$B$3:$C$1002,2,0),\"\")","v":""}]
[null,null,null,{"$f":"IFERROR(VLOOKUP(C568,Participants!$B$3:$C$1002,2,0),\"\")","v":""},null,{"$f":"IFERROR(VLOOKUP(E568,Participants!$B$3:$C$1002,2,0),\"\")","v":""}]
[null,null,null,{"$f":"IFERROR(VLOOKUP(C569,Participants!$B$3:$C$1002,2,0),\"\")","v":""},null,{"$f":"IFERROR(VLOOKUP(E569,Participants!$B$3:$C$1002,2,0),\"\")","v":""}]
[null,null,null,{"$f":"IFERROR(VLOOKUP(C570,Participants!$B$3:$C$1002,2,0),\"\")","v":""},null,{"$f":"IFERROR(VLOOKUP(E570,Participants!$B$3:$C$1002,2,0),\"\")","v":""}]
[null,null,null,{"$f":"IFERROR(VLOOKUP(C571,Participants!$B$3:$C$1002,2,0),\"\")","v":""},null,{"$f":"IFERROR(VLOOKUP(E571,Participants!$B$3:$C$1002,2,0),\"\")","v":""}]
[null,null,null,{"$f":"IFERROR(VLOOKUP(C572,Participants!$B$3:$C$1002,2,0),\"\")","v":""},null,{"$f":"IFERROR(VLOOKUP(E572,Participants!$B$3:$C$1002,2,0),\"\")","v":""}]
[null,null,null,{"$f":"IFERROR(VLOOKUP(C573,Participants!$B$3:$C$1002,2,0),\"\")","v":""},null,{"$f":"IFERROR(VLOOKUP(E573,Participants!$B$3:$C$1002,2,0),\"\")","v":""}]
[null,null,null,{"$f":"IFERROR(VLOOKUP(C574,Participants!$B$3:$C$1002,2,0),\"\")","v":""},null,{"$f":"IFERROR(VLOOKUP(E574,Participants!$B$3:$C$1002,2,0),\"\")","v":""}]
[null,null,null,{"$f":"IFERROR(VLOOKUP(C575,Participants!$B$3:$C$1002,2,0),\"\")","v":""},null,{"$f":"IFERROR(VLOOKUP(E575,Participants!$B$3:$C$1002,2,0),\"\")","v":""}]
[null,null,null,{"$f":"IFERROR(VLOOKUP(C576,Participants!$B$3:$C$1002,2,0),\"\")","v":""},null,{"$f":"IFERROR(VLOOKUP(E576,Participants!$B$3:$C$1002,2,0),\"\")","v":""}]
[null,null,null,{"$f":"IFERROR(VLOOKUP(C577,Participants!$B$3:$C$1002,2,0),\"\")","v":""},null,{"$f":"IFERROR(VLOOKUP(E577,Participants!$B$3:$C$1002,2,0),\"\")","v":""}]
[null,null,null,{"$f":"IFERROR(VLOOKUP(C578,Participants!$B$3:$C$1002,2,0),\"\")","v":""},null,{"$f":"IFERROR(VLOOKUP(E578,Participants!$B$3:$C$1002,2,0),\"\")","v":""}]
[null,null,null,{"$f":"IFERROR(VLOOKUP(C579,Participants!$B$3:$C$1002,2,0),\"\")","v":""},null,{"$f":"IFERROR(VLOOKUP(E579,Participants!$B$3:$C$1002,2,0),\"\")","v":""}]
[null,null,null,{"$f":"IFERROR(VLOOKUP(C580,Participants!$B$3:$C$1002,2,0),\"\")","v":""},null,{"$f":"IFERROR(VLOOKUP(E580,Participants!$B$3:$C$1002,2,0),\"\")","v":""}]
[null,null,null,{"$f":"IFERROR(VLOOKUP(C581,Participants!$B$3:$C$1002,2,0),\"\")","v":""},null,{"$f":"IFERROR(VLOOKUP(E581,Participants!$B$3:$C$1002,2,0),\"\")","v":""}]
[null,null,null,{"$f":"IFERROR(VLOOKUP(C582,Participants!$B$3:$C$1002,2,0),\"\")","v":""},null,{"$f":"IFERROR(VLOOKUP(E582,Participants!$B$3:$C$1002,2,0),\"\")","v":""}]
[null,null,null,{"$f":"IFERROR(VLOOKUP(C583,Participants!$B$3:$C$1002,2,0),\"\")","v":""},null,{"$f":"IFERROR(VLOOKUP(E583,Participants!$B$3:$C$1002,2,0),\"\")","v":""}]
[null,null,null,{"$f":"IFERROR(VLOOKUP(C584,Participants!$B$3:$C$1002,2,0),\"\")","v":""},null,{"$f":"IFERROR(VLOOKUP(E584,Participants!$B$3:$C$1002,2,0),\"\")","v":""}]
[null,null,null,{"$f":"IFERROR(VLOOKUP(C585,Participants!$B$3:$C$1002,2,0),\"\")","v":""},null,{"$f":"IFERROR(VLOOKUP(E585,Participants!$B$3:$C$1002,2,0),\"\")","v":""}]
[null,null,null,{"$f":"IFERROR(VLOOKUP(C586,Participants!$B$3:$C$1002,2,0),\"\")","v":""},null,{"$f":"IFERROR(VLOOKUP(E586,Participants!$B$3:$C$1002,2,0),\"\")","v":""}]
[null,null,null,{"$f":"IFERROR(VLOOKUP(C587,Participants!$B$3:$C$1002,2,0),\"\")","v":""},null,{"$f":"IFERROR(VLOOKUP(E587,Participants!$B$3:$C$1002,2,0),\"\")","v":""}]
[null,null,null,{"$f":"IFERROR(VLOOKUP(C588,Participants!$B$3:$C$1002,2,0),\"\")","v":""},null,{"$f":"IFERROR(VLOOKUP(E588,Participants!$B$3:$C$1002,2,0),\"\")","v":""}]
[null,null,null,{"$f":"IFERROR(VLOOKUP(C589,Participants!$B$3:$C$1002,2,0),\"\")","v":""},null,{"$f":"IFERROR(VLOOKUP(E589,Participants!$B$3:$C$1002,2,0),\"\")","v":""}]
[null,null,null,{"$f":"IFERROR(VLOOKUP(C590,Participants!$B$3:$C$1002,2,0),\"\")","v":""},null,{"$f":"IFERROR(VLOOKUP(E590,Participants!$B$3:$C$1002,2,0),\"\")","v":""}]
[null,null,null,{"$f":"IFERROR(VLOOKUP(C591,Participants!$B$3:$C$1002,2,0),\"\")","v":""},null,{"$f":"IFERROR(VLOOKUP(E591,Participants!$B$3:$C$1002,2,0),\"\")","v":""}]
[null,null,null,{"$f":"IFERROR(VLOOKUP(C592,Participants!$B$3:$C$1002,2,0),\"\")","v":""},null,{"$f":"IFERROR(VLOOKUP(E592,Participants!$B$3:$C$1002,2,0),\"\")","v":""}]
[null,null,null,{"$f":"IFERROR(VLOOKUP(C593,Participants!$B$3:$C$1002,2,0),\"\")","v":""},null,{"$f":"IFERROR(VLOOKUP(E593,Participants!$B$3:$C$1002,2,0),\"\")","v":""}]
[null,null,null,{"$f":"IFERROR(VLOOKUP(C594,Participants!$B$3:$C$1002,2,0),\"\")","v":""},null,{"$f":"IFERROR(VLOOKUP(E594,Participants!$B$3:$C$1002,2,0),\"\")","v":""}]
[null,null,null,{"$f":"IFERROR(VLOOKUP(C595,Participants!$B$3:$C$1002,2,0),\"\")","v":""},null,{"$f":"IFERROR(VLOOKUP(E595,Participants!$B$3:$C$1002,2,0),\"\")","v":""}]
[null,null,null,{"$f":"IFERROR(VLOOKUP(C596,Participants!$B$3:$C$1002,2,0),\"\")","v":""},null,{"$f":"IFERROR(VLOOKUP(E596,Participants!$B$3:$C$1002,2,0),\"\")","v":""}]
[null,null,null,{"$f":"IFERROR(VLOOKUP(C597,Participants!$B$3:$C$1002,2,0),\"\")","v":""},null,{"$f":"IFERROR(VLOOKUP(E597,Participants!$B$3:$C$1002,2,0),\"\")","v":""}]
[null,null,null,{"$f":"IFERROR(VLOOKUP(C598,Participants!$B$3:$C$1002,2,0),\"\")","v":""},null,{"$f":"IFERROR(VLOOKUP(E598,Participants!$B$3:$C$1002,2,0),\"\")","v":""}]
[null,null,null,{"$f":"IFERROR(VLOOKUP(C599,Participants!$B$3:$C$1002,2,0),\"\")","v":""},null,{"$f":"IFERROR(VLOOKUP(E599,Participants!$B$3:$C$1002,2,0),\"\")","v":""}]
[null,null,null,{"$f":"IFERROR(VLOOKUP(C600,Participants!$B$3:$C$1002,2,0),\"\")","v":""},null,{"$f":"IFERROR(VLOOKUP(E600,Participants!$B$3:$C$1002,2,0),\"\")","v":""}]
[null,null,null,{"$f":"IFERROR(VLOOKUP(C601,Participants!$B$3:$C$1002,2,0),\"\")","v":""},null,{"$f":"IFERROR(VLOOKUP(E601,Participants!$B$3:$C$1002,2,0),\"\")","v":""}]
[null,null,null,{"$f":"IFERROR(VLOOKUP(C602,Participants!$B$3:$C$1002,2,0),\"\")","v":""},null,{"$f":"IFERROR(VLOOKUP(E602,Participants!$B$3:$C$1002,2,0),\"\")","v":""}]
[null,null,null,{"$f":"IFERROR(VLOOKUP(C603,Participants!$B$3:$C$1002,2,0),\"\")","v":""},null,{"$f":"IFERROR(VLOOKUP(E603,Participants!$B$3:$C$1002,2,0),\"\")","v":""}]
[null,null,null,{"$f":"IFERROR(VLOOKUP(C604,Participants!$B$3:$C$1002,2,0),\"\")","v":""},null,{"$f":"IFERROR(VLOOKUP(E604,Participants!$B$3:$C$1002,2,0),\"\")","v":""}]
[null,null,null,{"$f":"IFERROR(VLOOKUP(C605,Participants!$B$3:$C$1002,2,0),\"\")","v":""},null,{"$f":"IFERROR(VLOOKUP(E605,Participants!$B$3:$C$1002,2,0),\"\")","v":""}]
[null,null,null,{"$f":"IFERROR(VLOOKUP(C606,Participants!$B$3:$C$1002,2,0),\"\")","v":""},null,{"$f":"IFERROR(VLOOKUP(E606,Participants!$B$3:$C$1002,2,0),\"\")","v":""}]
[null,null,null,{"$f":"IFERROR(VLOOKUP(C607,Participants!$B$3:$C$1002,2,0),\"\")","v":""},null,{"$f":"IFERROR(VLOOKUP(E607,Participants!$B$3:$C$1002,2,0),\"\")","v":""}]
[null,null,null,{"$f":"IFERROR(VLOOKUP(C608,Participants!$B$3:$C$1002,2,0),\"\")","v":""},null,{"$f":"IFERROR(VLOOKUP(E608,Participants!$B$3:$C$1002,2,0),\"\")","v":""}]
[null,null,null,{"$f":"IFERROR(VLOOKUP(C609,Participants!$B$3:$C$1002,2,0),\"\")","v":""},null,{"$f":"IFERROR(VLOOKUP(E609,Participants!$B$3:$C$1002,2,0),\"\")","v":""}]
[null,null,null,{"$f":"IFERROR(VLOOKUP(C610,Participants!$B$3:$C$1002,2,0),\"\")","v":""},null,{"$f":"IFERROR(VLOOKUP(E610,Participants!$B$3:$C$1002,2,0),\"\")","v":""}]
[null,null,null,{"$f":"IFERROR(VLOOKUP(C611,Participants!$B$3:$C$1002,2,0),\"\")","v":""},null,{"$f":"IFERROR(VLOOKUP(E611,Participants!$B$3:$C$1002,2,0),\"\")","v":""}]
[null,null,null,{"$f":"IFERROR(VLOOKUP(C612,Participants!$B$3:$C$1002,2,0),\"\")","v":""},null,{"$f":"IFERROR(VLOOKUP(E612,Participants!$B$3:$C$1002,2,0),\"\")","v":""}]
[null,null,null,{"$f":"IFERROR(VLOOKUP(C613,Participants!$B$3:$C$1002,2,0),\"\")","v":""},null,{"$f":"IFERROR(VLOOKUP(E613,Participants!$B$3:$C$1002,2,0),\"\")","v":""}]
[null,null,null,{"$f":"IFERROR(VLOOKUP(C614,Participants!$B$3:$C$1002,2,0),\"\")","v":""},null,{"$f":"IFERROR(VLOOKUP(E614,Participants!$B$3:$C$1002,2,0),\"\")","v":""}]
[null,null,null,{"$f":"IFERROR(VLOOKUP(C615,Participants!$B$3:$C$1002,2,0),\"\")","v":""},null,{"$f":"IFERROR(VLOOKUP(E615,Participants!$B$3:$C$1002,2,0),\"\")","v":""}]
[null,null,null,{"$f":"IFERROR(VLOOKUP(C616,Participants!$B$3:$C$1002,2,0),\"\")","v":""},null,{"$f":"IFERROR(VLOOKUP(E616,Participants!$B$3:$C$1002,2,0),\"\")","v":""}]
[null,null,null,{"$f":"IFERROR(VLOOKUP(C617,Participants!$B$3:$C$1002,2,0),\"\")","v":""},null,{"$f":"IFERROR(VLOOKUP(E617,Participants!$B$3:$C$1002,2,0),\"\")","v":""}]
[null,null,null,{"$f":"IFERROR(VLOOKUP(C618,Participants!$B$3:$C$1002,2,0),\"\")","v":""},null,{"$f":"IFERROR(VLOOKUP(E618,Participants!$B$3:$C$1002,2,0),\"\")","v":""}]
[null,null,null,{"$f":"IFERROR(VLOOKUP(C619,Participants!$B$3:$C$1002,2,0),\"\")","v":""},null,{"$f":"IFERROR(VLOOKUP(E619,Participants!$B$3:$C$1002,2,0),\"\")","v":""}]
[null,null,null,{"$f":"IFERROR(VLOOKUP(C620,Participants!$B$3:$C$1002,2,0),\"\")","v":""},null,{"$f":"IFERROR(VLOOKUP(E620,Participants!$B$3:$C$1002,2,0),\"\")","v":""}]
[null,null,null,{"$f":"IFERROR(VLOOKUP(C621,Participants!$B$3:$C$1002,2,0),\"\")","v":""},null,{"$f":"IFERROR(VLOOKUP(E621,Participants!$B$3:$C$1002,2,0),\"\")","v":""}]
[null,null,null,{"$f":"IFERROR(VLOOKUP(C622,Participants!$B$3:$C$1002,2,0),\"\")","v":""},null,{"$f":"IFERROR(VLOOKUP(E622,Participants!$B$3:$C$1002,2,0),\"\")","v":""}]
[null,null,null,{"$f":"IFERROR(VLOOKUP(C623,Participants!$B$3:$C$1002,2,0),\"\")","v":""},null,{"$f":"IFERROR(VLOOKUP(E623,Participants!$B$3:$C$1002,2,0),\"\")","v":""}]
[null,null,null,{"$f":"IFERROR(VLOOKUP(C624,Participants!$B$3:$C$1002,2,0),\"\")","v":""},null,{"$f":"IFERROR(VLOOKUP(E624,Participants!$B$3:$C$1002,2,0),\"\")","v":""}]
[null,null,null,{"$f":"IFERROR(VLOOKUP(C625,Participants!$B$3:$C$1002,2,0),\"\")","v":""},null,{"$f":"IFERROR(VLOOKUP(E625,Participants!$B$3:$C$1002,2,0),\"\")","v":""}]
[null,null,null,{"$f":"IFERROR(VLOOKUP(C626,Participants!$B$3:$C$1002,2,0),\"\")","v":""},null,{"$f":"IFERROR(VLOOKUP(E626,Participants!$B$3:$C$1002,2,0),\"\")","v":""}]
[null,null,null,{"$f":"IFERROR(VLOOKUP(C627,Participants!$B$3:$C$1002,2,0),\"\")","v":""},null,{"$f":"IFERROR(VLOOKUP(E627,Participants!$B$3:$C$1002,2,0),\"\")","v":""}]
[null,null,null,{"$f":"IFERROR(VLOOKUP(C628,Participants!$B$3:$C$1002,2,0),\"\")","v":""},null,{"$f":"IFERROR(VLOOKUP(E628,Participants!$B$3:$C$1002,2,0),\"\")","v":""}]
[null,null,null,{"$f":"IFERROR(VLOOKUP(C629,Participants!$B$3:$C$1002,2,0),\"\")","v":""},null,{"$f":"IFERROR(VLOOKUP(E629,Participants!$B$3:$C$1002,2,0),\"\")","v":""}]
[null,null,null,{"$f":"IFERROR(VLOOKUP(C630,Participants!$B$3:$C$1002,2,0),\"\")","v":""},null,{"$f":"IFERROR(VLOOKUP(E630,Participants!$B$3:$C$1002,2,0),\"\")","v":""}]
[null,null,null,{"$f":"IFERROR(VLOOKUP(C631,Participants!$B$3:$C$1002,2,0),\"\")","v":""},null,{"$f":"IFERROR(VLOOKUP(E631,Participants!$B$3:$C$1002,2,0),\"\")","v":""}]
[null,null,null,{"$f":"IFERROR(VLOOKUP(C632,Participants!$B$3:$C$1002,2,0),\"\")","v":""},null,{"$f":"IFERROR(VLOOKUP(E632,Participants!$B$3:$C$1002,2,0),\"\")","v":""}]
[null,null,null,{"$f":"IFERROR(VLOOKUP(C633,Participants!$B$3:$C$1002,2,0),\"\")","v":""},null,{"$f":"IFERROR(VLOOKUP(E633,Participants!$B$3:$C$1002,2,0),\"\")","v":""}]
[null,null,null,{"$f":"IFERROR(VLOOKUP(C634,Participants!$B$3:$C$1002,2,0),\"\")","v":""},null,{"$f":"IFERROR(VLOOKUP(E634,Participants!$B$3:$C$1002,2,0),\"\")","v":""}]
[null,null,null,{"$f":"IFERROR(VLOOKUP(C635,Participants!$B$3:$C$1002,2,0),\"\")","v":""},null,{"$f":"IFERROR(VLOOKUP(E635,Participants!$B$3:$C$1002,2,0),\"\")","v":""}]
[null,null,null,{"$f":"IFERROR(VLOOKUP(C636,Participants!$B$3:$C$1002,2,0),\"\")","v":""},null,{"$f":"IFERROR(VLOOKUP(E636,Participants!$B$3:$C$1002,2,0),\"\")","v":""}]
[null,null,null,{"$f":"IFERROR(VLOOKUP(C637,Participants!$B$3:$C$1002,2,0),\"\")","v":""},null,{"$f":"IFERROR(VLOOKUP(E637,Participants!$B$3:$C$1002,2,0),\"\")","v":""}]
[null,null,null,{"$f":"IFERROR(VLOOKUP(C638,Participants!$B$3:$C$1002,2,0),\"\")","v":""},null,{"$f":"IFERROR(VLOOKUP(E638,Participants!$B$3:$C$1002,2,0),\"\")","v":""}]
[null,null,null,{"$f":"IFERROR(VLOOKUP(C639,Participants!$B$3:$C$1002,2,0),\"\")","v":""},null,{"$f":"IFERROR(VLOOKUP(E639,Participants!$B$3:$C$1002,2,0),\"\")","v":""}]
[null,null,null,{"$f":"IFERROR(VLOOKUP(C640,Participants!$B$3:$C$1002,2,0),\"\")","v":""},null,{"$f":"IFERROR(VLOOKUP(E640,Participants!$B$3:$C$1002,2,0),\"\")","v":""}]
[null,null,null,{"$f":"IFERROR(VLOOKUP(C641,Participants!$B$3:$C$1002,2,0),\"\")","v":""},null,{"$f":"IFERROR(VLOOKUP(E641,Participants!$B$3:$C$1002,2,0),\"\")","v":""}]
[null,null,null,{"$f":"IFERROR(VLOOKUP(C642,Participants!$B$3:$C$1002,2,0),\"\")","v":""},null,{"$f":"IFERROR(VLOOKUP(E642,Participants!$B$3:$C$1002,2,0),\"\")","v":""}]
[null,null,null,{"$f":"IFERROR(VLOOKUP(C643,Participants!$B$3:$C$1002,2,0),\"\")","v":""},null,{"$f":"IFERROR(VLOOKUP(E643,Participants!$B$3:$C$1002,2,0),\"\")","v":""}]
[null,null,null,{"$f":"IFERROR(VLOOKUP(C644,Participants!$B$3:$C$1002,2,0),\"\")","v":""},null,{"$f":"IFERROR(VLOOKUP(E644,Participants!$B$3:$C$1002,2,0),\"\")","v":""}]
[null,null,null,{"$f":"IFERROR(VLOOKUP(C645,Participants!$B$3:$C$1002,2,0),\"\")","v":""},null,{"$f":"IFERROR(VLOOKUP(E645,Participants!$B$3:$C$1002,2,0),\"\")","v":""}]
[null,null,null,{"$f":"IFERROR(VLOOKUP(C646,Participants!$B$3:$C$1002,2,0),\"\")","v":""},null,{"$f":"IFERROR(VLOOKUP(E646,Participants!$B$3:$C$1002,2,0),\"\")","v":""}]
[null,null,null,{"$f":"IFERROR(VLOOKUP(C647,Participants!$B$3:$C$1002,2,0),\"\")","v":""},null,{"$f":"IFERROR(VLOOKUP(E647,Participants!$B$3:$C$1002,2,0),\"\")","v":""}]
[null,null,null,{"$f":"IFERROR(VLOOKUP(C648,Participants!$B$3:$C$1002,2,0),\"\")","v":""},null,{"$f":"IFERROR(VLOOKUP(E648,Participants!$B$3:$C$1002,2,0),\"\")","v":""}]
[null,null,null,{"$f":"IFERROR(VLOOKUP(C649,Participants!$B$3:$C$1002,2,0),\"\")","v":""},null,{"$f":"IFERROR(VLOOKUP(E649,Participants!$B$3:$C$1002,2,0),\"\")","v":""}]
[null,null,null,{"$f":"IFERROR(VLOOKUP(C650,Participants!$B$3:$C$1002,2,0),\"\")","v":""},null,{"$f":"IFERROR(VLOOKUP(E650,Participants!$B$3:$C$1002,2,0),\"\")","v":""}]
[null,null,null,{"$f":"IFERROR(VLOOKUP(C651,Participants!$B$3:$C$1002,2,0),\"\")","v":""},null,{"$f":"IFERROR(VLOOKUP(E651,Participants!$B$3:$C$1002,2,0),\"\")","v":""}]
[null,null,null,{"$f":"IFERROR(VLOOKUP(C652,Participants!$B$3:$C$1002,2,0),\"\")","v":""},null,{"$f":"IFERROR(VLOOKUP(E652,Participants!$B$3:$C$1002,2,0),\"\")","v":""}]
[null,null,null,{"$f":"IFERROR(VLOOKUP(C653,Participants!$B$3:$C$1002,2,0),\"\")","v":""},null,{"$f":"IFERROR(VLOOKUP(E653,Participants!$B$3:$C$1002,2,0),\"\")","v":""}]
[null,null,null,{"$f":"IFERROR(VLOOKUP(C654,Participants!$B$3:$C$1002,2,0),\"\")","v":""},null,{"$f":"IFERROR(VLOOKUP(E654,Participants!$B$3:$C$1002,2,0),\"\")","v":""}]
[null,null,null,{"$f":"IFERROR(VLOOKUP(C655,Participants!$B$3:$C$1002,2,0),\"\")","v":""},null,{"$f":"IFERROR(VLOOKUP(E655,Participants!$B$3:$C$1002,2,0),\"\")","v":""}]
[null,null,null,{"$f":"IFERROR(VLOOKUP(C656,Participants!$B$3:$C$1002,2,0),\"\")","v":""},null,{"$f":"IFERROR(VLOOKUP(E656,Participants!$B$3:$C$1002,2,0),\"\")","v":""}]
[null,null,null,{"$f":"IFERROR(VLOOKUP(C657,Participants!$B$3:$C$1002,2,0),\"\")","v":""},null,{"$f":"IFERROR(VLOOKUP(E657,Participants!$B$3:$C$1002,2,0),\"\")","v":""}]
[null,null,null,{"$f":"IFERROR(VLOOKUP(C658,Participants!$B$3:$C$1002,2,0),\"\")","v":""},null,{"$f":"IFERROR(VLOOKUP(E658,Participants!$B$3:$C$1002,2,0),\"\")","v":""}]
[null,null,null,{"$f":"IFERROR(VLOOKUP(C659,Participants!$B$3:$C$1002,2,0),\"\")","v":""},null,{"$f":"IFERROR(VLOOKUP(E659,Participants!$B$3:$C$1002,2,0),\"\")","v":""}]
[null,null,null,{"$f":"IFERROR(VLOOKUP(C660,Participants!$B$3:$C$1002,2,0),\"\")","v":""},null,{"$f":"IFERROR(VLOOKUP(E660,Participants!$B$3:$C$1002,2,0),\"\")","v":""}]
[null,null,null,{"$f":"IFERROR(VLOOKUP(C661,Participants!$B$3:$C$1002,2,0),\"\")","v":""},null,{"$f":"IFERROR(VLOOKUP(E661,Participants!$B$3:$C$1002,2,0),\"\")","v":""}]
[null,null,null,{"$f":"IFERROR(VLOOKUP(C662,Participants!$B$3:$C$1002,2,0),\"\")","v":""},null,{"$f":"IFERROR(VLOOKUP(E662,Participants!$B$3:$C$1002,2,0),\"\")","v":""}]
[null,null,null,{"$f":"IFERROR(VLOOKUP(C663,Participants!$B$3:$C$1002,2,0),\"\")","v":""},null,{"$f":"IFERROR(VLOOKUP(E663,Participants!$B$3:$C$1002,2,0),\"\")","v":""}]
[null,null,null,{"$f":"IFERROR(VLOOKUP(C664,Participants!$B$3:$C$1002,2,0),\"\")","v":""},null,{"$f":"IFERROR(VLOOKUP(E664,Participants!$B$3:$C$1002,2,0),\"\")","v":""}]
[null,null,null,{"$f":"IFERROR(VLOOKUP(C665,Participants!$B$3:$C$1002,2,0),\"\")","v":""},null,{"$f":"IFERROR(VLOOKUP(E665,Participants!$B$3:$C$1002,2,0),\"\")","v":""}]
[null,null,null,{"$f":"IFERROR(VLOOKUP(C666,Participants!$B$3:$C$1002,2,0),\"\")","v":""},null,{"$f":"IFERROR(VLOOKUP(E666,Participants!$B$3:$C$1002,2,0),\"\")","v":""}]
[null,null,null,{"$f":"IFERROR(VLOOKUP(C667,Participants!$B$3:$C$1002,2,0),\"\")","v":""},null,{"$f":"IFERROR(VLOOKUP(E667,Participants!$B$3:$C$1002,2,0),\"\")","v":""}]
[null,null,null,{"$f":"IFERROR(VLOOKUP(C668,Participants!$B$3:$C$1002,2,0),\"\")","v":""},null,{"$f":"IFERROR(VLOOKUP(E668,Participants!$B$3:$C$1002,2,0),\"\")","v":""}]
[null,null,null,{"$f":"IFERROR(VLOOKUP(C669,Participants!$B$3:$C$1002,2,0),\"\")","v":""},null,{"$f":"IFERROR(VLOOKUP(E669,Participants!$B$3:$C$1002,2,0),\"\")","v":""}]
[null,null,null,{"$f":"IFERROR(VLOOKUP(C670,Participants!$B$3:$C$1002,2,0),\"\")","v":""},null,{"$f":"IFERROR(VLOOKUP(E670,Participants!$B$3:$C$1002,2,0),\"\")","v":""}]
[null,null,null,{"$f":"IFERROR(VLOOKUP(C671,Participants!$B$3:$C$1002,2,0),\"\")","v":""},null,{"$f":"IFERROR(VLOOKUP(E671,Participants!$B$3:$C$1002,2,0),\"\")","v":""}]
[null,null,null,{"$f":"IFERROR(VLOOKUP(C672,Participants!$B$3:$C$1002,2,0),\"\")","v":""},null,{"$f":"IFERROR(VLOOKUP(E672,Participants!$B$3:$C$1002,2,0),\"\")","v":""}]
[null,null,null,{"$f":"IFERROR(VLOOKUP(C673,Participants!$B$3:$C$1002,2,0),\"\")","v":""},null,{"$f":"IFERROR(VLOOKUP(E673,Participants!$B$3:$C$1002,2,0),\"\")","v":""}]
[null,null,null,{"$f":"IFERROR(VLOOKUP(C674,Participants!$B$3:$C$1002,2,0),\"\")","v":""},null,{"$f":"IFERROR(VLOOKUP(E674,Participants!$B$3:$C$1002,2,0),\"\")","v":""}]
[null,null,null,{"$f":"IFERROR(VLOOKUP(C675,Participants!$B$3:$C$1002,2,0),\"\")","v":""},null,{"$f":"IFERROR(VLOOKUP(E675,Participants!$B$3:$C$1002,2,0),\"\")","v":""}]
[null,null,null,{"$f":"IFERROR(VLOOKUP(C676,Participants!$B$3:$C$1002,2,0),\"\")","v":""},null,{"$f":"IFERROR(VLOOKUP(E676,Participants!$B$3:$C$1002,2,0),\"\")","v":""}]
[null,null,null,{"$f":"IFERROR(VLOOKUP(C677,Participants!$B$3:$C$1002,2,0),\"\")","v":""},null,{"$f":"IFERROR(VLOOKUP(E677,Participants!$B$3:$C$1002,2,0),\"\")","v":""}]
[null,null,null,{"$f":"IFERROR(VLOOKUP(C678,Participants!$B$3:$C$1002,2,0),\"\")","v":""},null,{"$f":"IFERROR(VLOOKUP(E678,Participants!$B$3:$C$1002,2,0),\"\")","v":""}]
[null,null,null,{"$f":"IFERROR(VLOOKUP(C679,Participants!$B$3:$C$1002,2,0),\"\")","v":""},null,{"$f":"IFERROR(VLOOKUP(E679,Participants!$B$3:$C$1002,2,0),\"\")","v":""}]
[null,null,null,{"$f":"IFERROR(VLOOKUP(C680,Participants!$B$3:$C$1002,2,0),\"\")","v":""},null,{"$f":"IFERROR(VLOOKUP(E680,Participants!$B$3:$C$1002,2,0),\"\")","v":""}]
[null,null,null,{"$f":"IFERROR(VLOOKUP(C681,Participants!$B$3:$C$1002,2,0),\"\")","v":""},null,{"$f":"IFERROR(VLOOKUP(E681,Participants!$B$3:$C$1002,2,0),\"\")","v":""}]
[null,null,null,{"$f":"IFERROR(VLOOKUP(C682,Participants!$B$3:$C$1002,2,0),\"\")","v":""},null,{"$f":"IFERROR(VLOOKUP(E682,Participants!$B$3:$C$1002,2,0),\"\")","v":""}]
[null,null,null,{"$f":"IFERROR(VLOOKUP(C683,Participants!$B$3:$C$1002,2,0),\"\")","v":""},null,{"$f":"IFERROR(VLOOKUP(E683,Participants!$B$3:$C$1002,2,0),\"\")","v":""}]
[null,null,null,{"$f":"IFERROR(VLOOKUP(C684,Participants!$B$3:$C$1002,2,0),\"\")","v":""},null,{"$f":"IFERROR(VLOOKUP(E684,Participants!$B$3:$C$1002,2,0),\"\")","v":""}]
[null,null,null,{"$f":"IFERROR(VLOOKUP(C685,Participants!$B$3:$C$1002,2,0),\"\")","v":""},null,{"$f":"IFERROR(VLOOKUP(E685,Participants!$B$3:$C$1002,2,0),\"\")","v":""}]
[null,null,null,{"$f":"IFERROR(VLOOKUP(C686,Participants!$B$3:$C$1002,2,0),\"\")","v":""},null,{"$f":"IFERROR(VLOOKUP(E686,Participants!$B$3:$C$1002,2,0),\"\")","v":""}]
[null,null,null,{"$f":"IFERROR(VLOOKUP(C687,Participants!$B$3:$C$1002,2,0),\"\")","v":""},null,{"$f":"IFERROR(VLOOKUP(E687,Participants!$B$3:$C$1002,2,0),\"\")","v":""}]
[null,null,null,{"$f":"IFERROR(VLOOKUP(C688,Participants!$B$3:$C$1002,2,0),\"\")","v":""},null,{"$f":"IFERROR(VLOOKUP(E688,Participants!$B$3:$C$1002,2,0),\"\")","v":""}]
[null,null,null,{"$f":"IFERROR(VLOOKUP(C689,Participants!$B$3:$C$1002,2,0),\"\")","v":""},null,{"$f":"IFERROR(VLOOKUP(E689,Participants!$B$3:$C$1002,2,0),\"\")","v":""}]
[null,null,null,{"$f":"IFERROR(VLOOKUP(C690,Participants!$B$3:$C$1002,2,0),\"\")","v":""},null,{"$f":"IFERROR(VLOOKUP(E690,Participants!$B$3:$C$1002,2,0),\"\")","v":""}]
[null,null,null,{"$f":"IFERROR(VLOOKUP(C691,Participants!$B$3:$C$1002,2,0),\"\")","v":""},null,{"$f":"IFERROR(VLOOKUP(E691,Participants!$B$3:$C$1002,2,0),\"\")","v":""}]
[null,null,null,{"$f":"IFERROR(VLOOKUP(C692,Participants!$B$3:$C$1002,2,0),\"\")","v":""},null,{"$f":"IFERROR(VLOOKUP(E692,Participants!$B$3:$C$1002,2,0),\"\")","v":""}]
[null,null,null,{"$f":"IFERROR(VLOOKUP(C693,Participants!$B$3:$C$1002,2,0),\"\")","v":""},null,{"$f":"IFERROR(VLOOKUP(E693,Participants!$B$3:$C$1002,2,0),\"\")","v":""}]
[null,null,null,{"$f":"IFERROR(VLOOKUP(C694,Participants!$B$3:$C$1002,2,0),\"\")","v":""},null,{"$f":"IFERROR(VLOOKUP(E694,Participants!$B$3:$C$1002,2,0),\"\")","v":""}]
[null,null,null,{"$f":"IFERROR(VLOOKUP(C695,Participants!$B$3:$C$1002,2,0),\"\")","v":""},null,{"$f":"IFERROR(VLOOKUP(E695,Participants!$B$3:$C$1002,2,0),\"\")","v":""}]
[null,null,null,{"$f":"IFERROR(VLOOKUP(C696,Participants!$B$3:$C$1002,2,0),\"\")","v":""},null,{"$f":"IFERROR(VLOOKUP(E696,Participants!$B$3:$C$1002,2,0),\"\")","v":""}]
[null,null,null,{"$f":"IFERROR(VLOOKUP(C697,Participants!$B$3:$C$1002,2,0),\"\")","v":""},null,{"$f":"IFERROR(VLOOKUP(E697,Participants!$B$3:$C$1002,2,0),\"\")","v":""}]
[null,null,null,{"$f":"IFERROR(VLOOKUP(C698,Participants!$B$3:$C$1002,2,0),\"\")","v":""},null,{"$f":"IFERROR(VLOOKUP(E698,Participants!$B$3:$C$1002,2,0),\"\")","v":""}]
[null,null,null,{"$f":"IFERROR(VLOOKUP(C699,Participants!$B$3:$C$1002,2,0),\"\")","v":""},null,{"$f":"IFERROR(VLOOKUP(E699,Participants!$B$3:$C$1002,2,0),\"\")","v":""}]
[null,null,null,{"$f":"IFERROR(VLOOKUP(C700,Participants!$B$3:$C$1002,2,0),\"\")","v":""},null,{"$f":"IFERROR(VLOOKUP(E700,Participants!$B$3:$C$1002,2,0),\"\")","v":""}]
[null,null,null,{"$f":"IFERROR(VLOOKUP(C701,Participants!$B$3:$C$1002,2,0),\"\")","v":""},null,{"$f":"IFERROR(VLOOKUP(E701,Participants!$B$3:$C$1002,2,0),\"\")","v":""}]
[null,null,null,{"$f":"IFERROR(VLOOKUP(C702,Participants!$B$3:$C$1002,2,0),\"\")","v":""},null,{"$f":"IFERROR(VLOOKUP(E702,Participants!$B$3:$C$1002,2,0),\"\")","v":""}]
[null,null,null,{"$f":"IFERROR(VLOOKUP(C703,Participants!$B$3:$C$1002,2,0),\"\")","v":""},null,{"$f":"IFERROR(VLOOKUP(E703,Participants!$B$3:$C$1002,2,0),\"\")","v":""}]
[null,null,null,{"$f":"IFERROR(VLOOKUP(C704,Participants!$B$3:$C$1002,2,0),\"\")","v":""},null,{"$f":"IFERROR(VLOOKUP(E704,Participants!$B$3:$C$1002,2,0),\"\")","v":""}]
[null,null,null,{"$f":"IFERROR(VLOOKUP(C705,Participants!$B$3:$C$1002,2,0),\"\")","v":""},null,{"$f":"IFERROR(VLOOKUP(E705,Participants!$B$3:$C$1002,2,0),\"\")","v":""}]
[null,null,null,{"$f":"IFERROR(VLOOKUP(C706,Participants!$B$3:$C$1002,2,0),\"\")","v":""},null,{"$f":"IFERROR(VLOOKUP(E706,Participants!$B$3:$C$1002,2,0),\"\")","v":""}]
[null,null,null,{"$f":"IFERROR(VLOOKUP(C707,Participants!$B$3:$C$1002,2,0),\"\")","v":""},null,{"$f":"IFERROR(VLOOKUP(E707,Participants!$B$3:$C$1002,2,0),\"\")","v":""}]
[null,null,null,{"$f":"IFERROR(VLOOKUP(C708,Participants!$B$3:$C$1002,2,0),\"\")","v":""},null,{"$f":"IFERROR(VLOOKUP(E708,Participants!$B$3:$C$1002,2,0),\"\")","v":""}]
[null,null,null,{"$f":"IFERROR(VLOOKUP(C709,Participants!$B$3:$C$1002,2,0),\"\")","v":""},null,{"$f":"IFERROR(VLOOKUP(E709,Participants!$B$3:$C$1002,2,0),\"\")","v":""}]
[null,null,null,{"$f":"IFERROR(VLOOKUP(C710,Participants!$B$3:$C$1002,2,0),\"\")","v":""},null,{"$f":"IFERROR(VLOOKUP(E710,Participants!$B$3:$C$1002,2,0),\"\")","v":""}]
[null,null,null,{"$f":"IFERROR(VLOOKUP(C711,Participants!$B$3:$C$1002,2,0),\"\")","v":""},null,{"$f":"IFERROR(VLOOKUP(E711,Participants!$B$3:$C$1002,2,0),\"\")","v":""}]
[null,null,null,{"$f":"IFERROR(VLOOKUP(C712,Participants!$B$3:$C$1002,2,0),\"\")","v":""},null,{"$f":"IFERROR(VLOOKUP(E712,Participants!$B$3:$C$1002,2,0),\"\")","v":""}]
[null,null,null,{"$f":"IFERROR(VLOOKUP(C713,Participants!$B$3:$C$1002,2,0),\"\")","v":""},null,{"$f":"IFERROR(VLOOKUP(E713,Participants!$B$3:$C$1002,2,0),\"\")","v":""}]
[null,null,null,{"$f":"IFERROR(VLOOKUP(C714,Participants!$B$3:$C$1002,2,0),\"\")","v":""},null,{"$f":"IFERROR(VLOOKUP(E714,Participants!$B$3:$C$1002,2,0),\"\")","v":""}]
[null,null,null,{"$f":"IFERROR(VLOOKUP(C715,Participants!$B$3:$C$1002,2,0),\"\")","v":""},null,{"$f":"IFERROR(VLOOKUP(E715,Participants!$B$3:$C$1002,2,0),\"\")","v":""}]
[null,null,null,{"$f":"IFERROR(VLOOKUP(C716,Participants!$B$3:$C$1002,2,0),\"\")","v":""},null,{"$f":"IFERROR(VLOOKUP(E716,Participants!$B$3:$C$1002,2,0),\"\")","v":""}]
[null,null,null,{"$f":"IFERROR(VLOOKUP(C717,Participants!$B$3:$C$1002,2,0),\"\")","v":""},null,{"$f":"IFERROR(VLOOKUP(E717,Participants!$B$3:$C$1002,2,0),\"\")","v":""}]
[null,null,null,{"$f":"IFERROR(VLOOKUP(C718,Participants!$B$3:$C$1002,2,0),\"\")","v":""},null,{"$f":"IFERROR(VLOOKUP(E718,Participants!$B$3:$C$1002,2,0),\"\")","v":""}]
[null,null,null,{"$f":"IFERROR(VLOOKUP(C719,Participants!$B$3:$C$1002,2,0),\"\")","v":""},null,{"$f":"IFERROR(VLOOKUP(E719,Participants!$B$3:$C$1002,2,0),\"\")","v":""}]
[null,null,null,{"$f":"IFERROR(VLOOKUP(C720,Participants!$B$3:$C$1002,2,0),\"\")","v":""},null,{"$f":"IFERROR(VLOOKUP(E720,Participants!$B$3:$C$1002,2,0),\"\")","v":""}]
[null,null,null,{"$f":"IFERROR(VLOOKUP(C721,Participants!$B$3:$C$1002,2,0),\"\")","v":""},null,{"$f":"IFERROR(VLOOKUP(E721,Participants!$B$3:$C$1002,2,0),\"\")","v":""}]
[null,null,null,{"$f":"IFERROR(VLOOKUP(C722,Participants!$B$3:$C$1002,2,0),\"\")","v":""},null,{"$f":"IFERROR(VLOOKUP(E722,Participants!$B$3:$C$1002,2,0),\"\")","v":""}]
[null,null,null,{"$f":"IFERROR(VLOOKUP(C723,Participants!$B$3:$C$1002,2,0),\"\")","v":""},null,{"$f":"IFERROR(VLOOKUP(E723,Participants!$B$3:$C$1002,2,0),\"\")","v":""}]
[null,null,null,{"$f":"IFERROR(VLOOKUP(C724,Participants!$B$3:$C$1002,2,0),\"\")","v":""},null,{"$f":"IFERROR(VLOOKUP(E724,Participants!$B$3:$C$1002,2,0),\"\")","v":""}]
[null,null,null,{"$f":"IFERROR(VLOOKUP(C725,Participants!$B$3:$C$1002,2,0),\"\")","v":""},null,{"$f":"IFERROR(VLOOKUP(E725,Participants!$B$3:$C$1002,2,0),\"\")","v":""}]
[null,null,null,{"$f":"IFERROR(VLOOKUP(C726,Participants!$B$3:$C$1002,2,0),\"\")","v":""},null,{"$f":"IFERROR(VLOOKUP(E726,Participants!$B$3:$C$1002,2,0),\"\")","v":""}]
[null,null,null,{"$f":"IFERROR(VLOOKUP(C727,Participants!$B$3:$C$1002,2,0),\"\")","v":""},null,{"$f":"IFERROR(VLOOKUP(E727,Participants!$B$3:$C$1002,2,0),\"\")","v":""}]
[null,null,null,{"$f":"IFERROR(VLOOKUP(C728,Participants!$B$3:$C$1002,2,0),\"\")","v":""},null,{"$f":"IFERROR(VLOOKUP(E728,Participants!$B$3:$C$1002,2,0),\"\")","v":""}]
[null,null,null,{"$f":"IFERROR(VLOOKUP(C729,Participants!$B$3:$C$1002,2,0),\"\")","v":""},null,{"$f":"IFERROR(VLOOKUP(E729,Participants!$B$3:$C$1002,2,0),\"\")","v":""}]
[null,null,null,{"$f":"IFERROR(VLOOKUP(C730,Participants!$B$3:$C$1002,2,0),\"\")","v":""},null,{"$f":"IFERROR(VLOOKUP(E730,Participants!$B$3:$C$1002,2,0),\"\")","v":""}]
[null,null,null,{"$f":"IFERROR(VLOOKUP(C731,Participants!$B$3:$C$1002,2,0),\"\")","v":""},null,{"$f":"IFERROR(VLOOKUP(E731,Participants!$B$3:$C$1002,2,0),\"\")","v":""}]
[null,null,null,{"$f":"IFERROR(VLOOKUP(C732,Participants!$B$3:$C$1002,2,0),\"\")","v":""},null,{"$f":"IFERROR(VLOOKUP(E732,Participants!$B$3:$C$1002,2,0),\"\")","v":""}]
[null,null,null,{"$f":"IFERROR(VLOOKUP(C733,Participants!$B$3:$C$1002,2,0),\"\")","v":""},null,{"$f":"IFERROR(VLOOKUP(E733,Participants!$B$3:$C$1002,2,0),\"\")","v":""}]
[null,null,null,{"$f":"IFERROR(VLOOKUP(C734,Participants!$B$3:$C$1002,2,0),\"\")","v":""},null,{"$f":"IFERROR(VLOOKUP(E734,Participants!$B$3:$C$1002,2,0),\"\")","v":""}]
[null,null,null,{"$f":"IFERROR(VLOOKUP(C735,Participants!$B$3:$C$1002,2,0),\"\")","v":""},null,{"$f":"IFERROR(VLOOKUP(E735,Participants!$B$3:$C$1002,2,0),\"\")","v":""}]
[null,null,null,{"$f":"IFERROR(VLOOKUP(C736,Participants!$B$3:$C$1002,2,0),\"\")","v":""},null,{"$f":"IFERROR(VLOOKUP(E736,Participants!$B$3:$C$1002,2,0),\"\")","v":""}]
[null,null,null,{"$f":"IFERROR(VLOOKUP(C737,Participants!$B$3:$C$1002,2,0),\"\")","v":""},null,{"$f":"IFERROR(VLOOKUP(E737,Participants!$B$3:$C$1002,2,0),\"\")","v":""}]
[null,null,null,{"$f":"IFERROR(VLOOKUP(C738,Participants!$B$3:$C$1002,2,0),\"\")","v":""},null,{"$f":"IFERROR(VLOOKUP(E738,Participants!$B$3:$C$1002,2,0),\"\")","v":""}]
[null,null,null,{"$f":"IFERROR(VLOOKUP(C739,Participants!$B$3:$C$1002,2,0),\"\")","v":""},null,{"$f":"IFERROR(VLOOKUP(E739,Participants!$B$3:$C$1002,2,0),\"\")","v":""}]
[null,null,null,{"$f":"IFERROR(VLOOKUP(C740,Participants!$B$3:$C$1002,2,0),\"\")","v":""},null,{"$f":"IFERROR(VLOOKUP(E740,Participants!$B$3:$C$1002,2,0),\"\")","v":""}]
[null,null,null,{"$f":"IFERROR(VLOOKUP(C741,Participants!$B$3:$C$1002,2,0),\"\")","v":""},null,{"$f":"IFERROR(VLOOKUP(E741,Participants!$B$3:$C$1002,2,0),\"\")","v":""}]
[null,null,null,{"$f":"IFERROR(VLOOKUP(C742,Participants!$B$3:$C$1002,2,0),\"\")","v":""},null,{"$f":"IFERROR(VLOOKUP(E742,Participants!$B$3:$C$1002,2,0),\"\")","v":""}]
[null,null,null,{"$f":"IFERROR(VLOOKUP(C743,Participants!$B$3:$C$1002,2,0),\"\")","v":""},null,{"$f":"IFERROR(VLOOKUP(E743,Participants!$B$3:$C$1002,2,0),\"\")","v":""}]
[null,null,null,{"$f":"IFERROR(VLOOKUP(C744,Participants!$B$3:$C$1002,2,0),\"\")","v":""},null,{"$f":"IFERROR(VLOOKUP(E744,Participants!$B$3:$C$1002,2,0),\"\")","v":""}]
[null,null,null,{"$f":"IFERROR(VLOOKUP(C745,Participants!$B$3:$C$1002,2,0),\"\")","v":""},null,{"$f":"IFERROR(VLOOKUP(E745,Participants!$B$3:$C$1002,2,0),\"\")","v":""}]
[null,null,null,{"$f":"IFERROR(VLOOKUP(C746,Participants!$B$3:$C$1002,2,0),\"\")","v":""},null,{"$f":"IFERROR(VLOOKUP(E746,Participants!$B$3:$C$1002,2,0),\"\")","v":""}]
[null,null,null,{"$f":"IFERROR(VLOOKUP(C747,Participants!$B$3:$C$1002,2,0),\"\")","v":""},null,{"$f":"IFERROR(VLOOKUP(E747,Participants!$B$3:$C$1002,2,0),\"\")","v":""}]
[null,null,null,{"$f":"IFERROR(VLOOKUP(C748,Participants!$B$3:$C$1002,2,0),\"\")","v":""},null,{"$f":"IFERROR(VLOOKUP(E748,Participants!$B$3:$C$1002,2,0),\"\")","v":""}]
[null,null,null,{"$f":"IFERROR(VLOOKUP(C749,Participants!$B$3:$C$1002,2,0),\"\")","v":""},null,{"$f":"IFERROR(VLOOKUP(E749,Participants!$B$3:$C$1002,2,0),\"\")","v":""}]
[null,null,null,{"$f":"IFERROR(VLOOKUP(C750,Participants!$B$3:$C$1002,2,0),\"\")","v":""},null,{"$f":"IFERROR(VLOOKUP(E750,Participants!$B$3:$C$1002,2,0),\"\")","v":""}]
[null,null,null,{"$f":"IFERROR(VLOOKUP(C751,Participants!$B$3:$C$1002,2,0),\"\")","v":""},null,{"$f":"IFERROR(VLOOKUP(E751,Participants!$B$3:$C$1002,2,0),\"\")","v":""}]
[null,null,null,{"$f":"IFERROR(VLOOKUP(C752,Participants!$B$3:$C$1002,2,0),\"\")","v":""},null,{"$f":"IFERROR(VLOOKUP(E752,Participants!$B$3:$C$1002,2,0),\"\")","v":""}]
[null,null,null,{"$f":"IFERROR(VLOOKUP(C753,Participants!$B$3:$C$1002,2,0),\"\")","v":""},null,{"$f":"IFERROR(VLOOKUP(E753,Participants!$B$3:$C$1002,2,0),\"\")","v":""}]
[null,null,null,{"$f":"IFERROR(VLOOKUP(C754,Participants!$B$3:$C$1002,2,0),\"\")","v":""},null,{"$f":"IFERROR(VLOOKUP(E754,Participants!$B$3:$C$1002,2,0),\"\")","v":""}]
[null,null,null,{"$f":"IFERROR(VLOOKUP(C755,Participants!$B$3:$C$1002,2,0),\"\")","v":""},null,{"$f":"IFERROR(VLOOKUP(E755,Participants!$B$3:$C$1002,2,0),\"\")","v":""}]
[null,null,null,{"$f":"IFERROR(VLOOKUP(C756,Participants!$B$3:$C$1002,2,0),\"\")","v":""},null,{"$f":"IFERROR(VLOOKUP(E756,Participants!$B$3:$C$1002,2,0),\"\")","v":""}]
[null,null,null,{"$f":"IFERROR(VLOOKUP(C757,Participants!$B$3:$C$1002,2,0),\"\")","v":""},null,{"$f":"IFERROR(VLOOKUP(E757,Participants!$B$3:$C$1002,2,0),\"\")","v":""}]
[null,null,null,{"$f":"IFERROR(VLOOKUP(C758,Participants!$B$3:$C$1002,2,0),\"\")","v":""},null,{"$f":"IFERROR(VLOOKUP(E758,Participants!$B$3:$C$1002,2,0),\"\")","v":""}]
[null,null,null,{"$f":"IFERROR(VLOOKUP(C759,Participants!$B$3:$C$1002,2,0),\"\")","v":""},null,{"$f":"IFERROR(VLOOKUP(E759,Participants!$B$3:$C$1002,2,0),\"\")","v":""}]
[null,null,null,{"$f":"IFERROR(VLOOKUP(C760,Participants!$B$3:$C$1002,2,0),\"\")","v":""},null,{"$f":"IFERROR(VLOOKUP(E760,Participants!$B$3:$C$1002,2,0),\"\")","v":""}]
[null,null,null,{"$f":"IFERROR(VLOOKUP(C761,Participants!$B$3:$C$1002,2,0),\"\")","v":""},null,{"$f":"IFERROR(VLOOKUP(E761,Participants!$B$3:$C$1002,2,0),\"\")","v":""}]
[null,null,null,{"$f":"IFERROR(VLOOKUP(C762,Participants!$B$3:$C$1002,2,0),\"\")","v":""},null,{"$f":"IFERROR(VLOOKUP(E762,Participants!$B$3:$C$1002,2,0),\"\")","v":""}]
[null,null,null,{"$f":"IFERROR(VLOOKUP(C763,Participants!$B$3:$C$1002,2,0),\"\")","v":""},null,{"$f":"IFERROR(VLOOKUP(E763,Participants!$B$3:$C$1002,2,0),\"\")","v":""}]
[null,null,null,{"$f":"IFERROR(VLOOKUP(C764,Participants!$B$3:$C$1002,2,0),\"\")","v":""},null,{"$f":"IFERROR(VLOOKUP(E764,Participants!$B$3:$C$1002,2,0),\"\")","v":""}]
[null,null,null,{"$f":"IFERROR(VLOOKUP(C765,Participants!$B$3:$C$1002,2,0),\"\")","v":""},null,{"$f":"IFERROR(VLOOKUP(E765,Participants!$B$3:$C$1002,2,0),\"\")","v":""}]
[null,null,null,{"$f":"IFERROR(VLOOKUP(C766,Participants!$B$3:$C$1002,2,0),\"\")","v":""},null,{"$f":"IFERROR(VLOOKUP(E766,Participants!$B$3:$C$1002,2,0),\"\")","v":""}]
[null,null,null,{"$f":"IFERROR(VLOOKUP(C767,Participants!$B$3:$C$1002,2,0),\"\")","v":""},null,{"$f":"IFERROR(VLOOKUP(E767,Participants!$B$3:$C$1002,2,0),\"\")","v":""}]
[null,null,null,{"$f":"IFERROR(VLOOKUP(C768,Participants!$B$3:$C$1002,2,0),\"\")","v":""},null,{"$f":"IFERROR(VLOOKUP(E768,Participants!$B$3:$C$1002,2,0),\"\")","v":""}]
[null,null,null,{"$f":"IFERROR(VLOOKUP(C769,Participants!$B$3:$C$1002,2,0),\"\")","v":""},null,{"$f":"IFERROR(VLOOKUP(E769,Participants!$B$3:$C$1002,2,0),\"\")","v":""}]
[null,null,null,{"$f":"IFERROR(VLOOKUP(C770,Participants!$B$3:$C$1002,2,0),\"\")","v":""},null,{"$f":"IFERROR(VLOOKUP(E770,Participants!$B$3:$C$1002,2,0),\"\")","v":""}]
[null,null,null,{"$f":"IFERROR(VLOOKUP(C771,Participants!$B$3:$C$1002,2,0),\"\")","v":""},null,{"$f":"IFERROR(VLOOKUP(E771,Participants!$B$3:$C$1002,2,0),\"\")","v":""}]
[null,null,null,{"$f":"IFERROR(VLOOKUP(C772,Participants!$B$3:$C$1002,2,0),\"\")","v":""},null,{"$f":"IFERROR(VLOOKUP(E772,Participants!$B$3:$C$1002,2,0),\"\")","v":""}]
[null,null,null,{"$f":"IFERROR(VLOOKUP(C773,Participants!$B$3:$C$1002,2,0),\"\")","v":""},null,{"$f":"IFERROR(VLOOKUP(E773,Participants!$B$3:$C$1002,2,0),\"\")","v":""}]
[null,null,null,{"$f":"IFERROR(VLOOKUP(C774,Participants!$B$3:$C$1002,2,0),\"\")","v":""},null,{"$f":"IFERROR(VLOOKUP(E774,Participants!$B$3:$C$1002,2,0),\"\")","v":""}]
[null,null,null,{"$f":"IFERROR(VLOOKUP(C775,Participants!$B$3:$C$1002,2,0),\"\")","v":""},null,{"$f":"IFERROR(VLOOKUP(E775,Participants!$B$3:$C$1002,2,0),\"\")","v":""}]
[null,null,null,{"$f":"IFERROR(VLOOKUP(C776,Participants!$B$3:$C$1002,2,0),\"\")","v":""},null,{"$f":"IFERROR(VLOOKUP(E776,Participants!$B$3:$C$1002,2,0),\"\")","v":""}]
[null,null,null,{"$f":"IFERROR(VLOOKUP(C777,Participants!$B$3:$C$1002,2,0),\"\")","v":""},null,{"$f":"IFERROR(VLOOKUP(E777,Participants!$B$3:$C$1002,2,0),\"\")","v":""}]
[null,null,null,{"$f":"IFERROR(VLOOKUP(C778,Participants!$B$3:$C$1002,2,0),\"\")","v":""},null,{"$f":"IFERROR(VLOOKUP(E778,Participants!$B$3:$C$1002,2,0),\"\")","v":""}]
[null,null,null,{"$f":"IFERROR(VLOOKUP(C779,Participants!$B$3:$C$1002,2,0),\"\")","v":""},null,{"$f":"IFERROR(VLOOKUP(E779,Participants!$B$3:$C$1002,2,0),\"\")","v":""}]
[null,null,null,{"$f":"IFERROR(VLOOKUP(C780,Participants!$B$3:$C$1002,2,0),\"\")","v":""},null,{"$f":"IFERROR(VLOOKUP(E780,Participants!$B$3:$C$1002,2,0),\"\")","v":""}]
[null,null,null,{"$f":"IFERROR(VLOOKUP(C781,Participants!$B$3:$C$1002,2,0),\"\")","v":""},null,{"$f":"IFERROR(VLOOKUP(E781,Participants!$B$3:$C$1002,2,0),\"\")","v":""}]
[null,null,null,{"$f":"IFERROR(VLOOKUP(C782,Participants!$B$3:$C$1002,2,0),\"\")","v":""},null,{"$f":"IFERROR(VLOOKUP(E782,Participants!$B$3:$C$1002,2,0),\"\")","v":""}]
[null,null,null,{"$f":"IFERROR(VLOOKUP(C783,Participants!$B$3:$C$1002,2,0),\"\")","v":""},null,{"$f":"IFERROR(VLOOKUP(E783,Participants!$B$3:$C$1002,2,0),\"\")","v":""}]
[null,null,null,{"$f":"IFERROR(VLOOKUP(C784,Participants!$B$3:$C$1002,2,0),\"\")","v":""},null,{"$f":"IFERROR(VLOOKUP(E784,Participants!$B$3:$C$1002,2,0),\"\")","v":""}]
[null,null,null,{"$f":"IFERROR(VLOOKUP(C785,Participants!$B$3:$C$1002,2,0),\"\")","v":""},null,{"$f":"IFERROR(VLOOKUP(E785,Participants!$B$3:$C$1002,2,0),\"\")","v":""}]
[null,null,null,{"$f":"IFERROR(VLOOKUP(C786,Participants!$B$3:$C$1002,2,0),\"\")","v":""},null,{"$f":"IFERROR(VLOOKUP(E786,Participants!$B$3:$C$1002,2,0),\"\")","v":""}]
[null,null,null,{"$f":"IFERROR(VLOOKUP(C787,Participants!$B$3:$C$1002,2,0),\"\")","v":""},null,{"$f":"IFERROR(VLOOKUP(E787,Participants!$B$3:$C$1002,2,0),\"\")","v":""}]
[null,null,null,{"$f":"IFERROR(VLOOKUP(C788,Participants!$B$3:$C$1002,2,0),\"\")","v":""},null,{"$f":"IFERROR(VLOOKUP(E788,Participants!$B$3:$C$1002,2,0),\"\")","v":""}]
[null,null,null,{"$f":"IFERROR(VLOOKUP(C789,Participants!$B$3:$C$1002,2,0),\"\")","v":""},null,{"$f":"IFERROR(VLOOKUP(E789,Participants!$B$3:$C$1002,2,0),\"\")","v":""}]
[null,null,null,{"$f":"IFERROR(VLOOKUP(C790,Participants!$B$3:$C$1002,2,0),\"\")","v":""},null,{"$f":"IFERROR(VLOOKUP(E790,Participants!$B$3:$C$1002,2,0),\"\")","v":""}]
[null,null,null,{"$f":"IFERROR(VLOOKUP(C791,Participants!$B$3:$C$1002,2,0),\"\")","v":""},null,{"$f":"IFERROR(VLOOKUP(E791,Participants!$B$3:$C$1002,2,0),\"\")","v":""}]
[null,null,null,{"$f":"IFERROR(VLOOKUP(C792,Participants!$B$3:$C$1002,2,0),\"\")","v":""},null,{"$f":"IFERROR(VLOOKUP(E792,Participants!$B$3:$C$1002,2,0),\"\")","v":""}]
[null,null,null,{"$f":"IFERROR(VLOOKUP(C793,Participants!$B$3:$C$1002,2,0),\"\")","v":""},null,{"$f":"IFERROR(VLOOKUP(E793,Participants!$B$3:$C$1002,2,0),\"\")","v":""}]
[null,null,null,{"$f":"IFERROR(VLOOKUP(C794,Participants!$B$3:$C$1002,2,0),\"\")","v":""},null,{"$f":"IFERROR(VLOOKUP(E794,Participants!$B$3:$C$1002,2,0),\"\")","v":""}]
[null,null,null,{"$f":"IFERROR(VLOOKUP(C795,Participants!$B$3:$C$1002,2,0),\"\")","v":""},null,{"$f":"IFERROR(VLOOKUP(E795,Participants!$B$3:$C$1002,2,0),\"\")","v":""}]
[null,null,null,{"$f":"IFERROR(VLOOKUP(C796,Participants!$B$3:$C$1002,2,0),\"\")","v":""},null,{"$f":"IFERROR(VLOOKUP(E796,Participants!$B$3:$C$1002,2,0),\"\")","v":""}]
[null,null,null,{"$f":"IFERROR(VLOOKUP(C797,Participants!$B$3:$C$1002,2,0),\"\")","v":""},null,{"$f":"IFERROR(VLOOKUP(E797,Participants!$B$3:$C$1002,2,0),\"\")","v":""}]
[null,null,null,{"$f":"IFERROR(VLOOKUP(C798,Participants!$B$3:$C$1002,2,0),\"\")","v":""},null,{"$f":"IFERROR(VLOOKUP(E798,Participants!$B$3:$C$1002,2,0),\"\")","v":""}]
[null,null,null,{"$f":"IFERROR(VLOOKUP(C799,Participants!$B$3:$C$1002,2,0),\"\")","v":""},null,{"$f":"IFERROR(VLOOKUP(E799,Participants!$B$3:$C$1002,2,0),\"\")","v":""}]
[null,null,null,{"$f":"IFERROR(VLOOKUP(C800,Participants!$B$3:$C$1002,2,0),\"\")","v":""},null,{"$f":"IFERROR(VLOOKUP(E800,Participants!$B$3:$C$1002,2,0),\"\")","v":""}]
[null,null,null,{"$f":"IFERROR(VLOOKUP(C801,Participants!$B$3:$C$1002,2,0),\"\")","v":""},null,{"$f":"IFERROR(VLOOKUP(E801,Participants!$B$3:$C$1002,2,0),\"\")","v":""}]
[null,null,null,{"$f":"IFERROR(VLOOKUP(C802,Participants!$B$3:$C$1002,2,0),\"\")","v":""},null,{"$f":"IFERROR(VLOOKUP(E802,Participants!$B$3:$C$1002,2,0),\"\")","v":""}]
[null,null,null,{"$f":"IFERROR(VLOOKUP(C803,Participants!$B$3:$C$1002,2,0),\"\")","v":""},null,{"$f":"IFERROR(VLOOKUP(E803,Participants!$B$3:$C$1002,2,0),\"\")","v":""}]
[null,null,null,{"$f":"IFERROR(VLOOKUP(C804,Participants!$B$3:$C$1002,2,0),\"\")","v":""},null,{"$f":"IFERROR(VLOOKUP(E804,Participants!$B$3:$C$1002,2,0),\"\")","v":""}]
[null,null,null,{"$f":"IFERROR(VLOOKUP(C805,Participants!$B$3:$C$1002,2,0),\"\")","v":""},null,{"$f":"IFERROR(VLOOKUP(E805,Participants!$B$3:$C$1002,2,0),\"\")","v":""}]
[null,null,null,{"$f":"IFERROR(VLOOKUP(C806,Participants!$B$3:$C$1002,2,0),\"\")","v":""},null,{"$f":"IFERROR(VLOOKUP(E806,Participants!$B$3:$C$1002,2,0),\"\")","v":""}]
[null,null,null,{"$f":"IFERROR(VLOOKUP(C807,Participants!$B$3:$C$1002,2,0),\"\")","v":""},null,{"$f":"IFERROR(VLOOKUP(E807,Participants!$B$3:$C$1002,2,0),\"\")","v":""}]
[null,null,null,{"$f":"IFERROR(VLOOKUP(C808,Participants!$B$3:$C$1002,2,0),\"\")","v":""},null,{"$f":"IFERROR(VLOOKUP(E808,Participants!$B$3:$C$1002,2,0),\"\")","v":""}]
[null,null,null,{"$f":"IFERROR(VLOOKUP(C809,Participants!$B$3:$C$1002,2,0),\"\")","v":""},null,{"$f":"IFERROR(VLOOKUP(E809,Participants!$B$3:$C$1002,2,0),\"\")","v":""}]
[null,null,null,{"$f":"IFERROR(VLOOKUP(C810,Participants!$B$3:$C$1002,2,0),\"\")","v":""},null,{"$f":"IFERROR(VLOOKUP(E810,Participants!$B$3:$C$1002,2,0),\"\")","v":""}]
[null,null,null,{"$f":"IFERROR(VLOOKUP(C811,Participants!$B$3:$C$1002,2,0),\"\")","v":""},null,{"$f":"IFERROR(VLOOKUP(E811,Participants!$B$3:$C$1002,2,0),\"\")","v":""}]
[null,null,null,{"$f":"IFERROR(VLOOKUP(C812,Participants!$B$3:$C$1002,2,0),\"\")","v":""},null,{"$f":"IFERROR(VLOOKUP(E812,Participants!$B$3:$C$1002,2,0),\"\")","v":""}]
[null,null,null,{"$f":"IFERROR(VLOOKUP(C813,Participants!$B$3:$C$1002,2,0),\"\")","v":""},null,{"$f":"IFERROR(VLOOKUP(E813,Participants!$B$3:$C$1002,2,0),\"\")","v":""}]
[null,null,null,{"$f":"IFERROR(VLOOKUP(C814,Participants!$B$3:$C$1002,2,0),\"\")","v":""},null,{"$f":"IFERROR(VLOOKUP(E814,Participants!$B$3:$C$1002,2,0),\"\")","v":""}]
[null,null,null,{"$f":"IFERROR(VLOOKUP(C815,Participants!$B$3:$C$1002,2,0),\"\")","v":""},null,{"$f":"IFERROR(VLOOKUP(E815,Participants!$B$3:$C$1002,2,0),\"\")","v":""}]
[null,null,null,{"$f":"IFERROR(VLOOKUP(C816,Participants!$B$3:$C$1002,2,0),\"\")","v":""},null,{"$f":"IFERROR(VLOOKUP(E816,Participants!$B$3:$C$1002,2,0),\"\")","v":""}]
[null,null,null,{"$f":"IFERROR(VLOOKUP(C817,Participants!$B$3:$C$1002,2,0),\"\")","v":""},null,{"$f":"IFERROR(VLOOKUP(E817,Participants!$B$3:$C$1002,2,0),\"\")","v":""}]
[null,null,null,{"$f":"IFERROR(VLOOKUP(C818,Participants!$B$3:$C$1002,2,0),\"\")","v":""},null,{"$f":"IFERROR(VLOOKUP(E818,Participants!$B$3:$C$1002,2,0),\"\")","v":""}]
[null,null,null,{"$f":"IFERROR(VLOOKUP(C819,Participants!$B$3:$C$1002,2,0),\"\")","v":""},null,{"$f":"IFERROR(VLOOKUP(E819,Participants!$B$3:$C$1002,2,0),\"\")","v":""}]
[null,null,null,{"$f":"IFERROR(VLOOKUP(C820,Participants!$B$3:$C$1002,2,0),\"\")","v":""},null,{"$f":"IFERROR(VLOOKUP(E820,Participants!$B$3:$C$1002,2,0),\"\")","v":""}]
[null,null,null,{"$f":"IFERROR(VLOOKUP(C821,Participants!$B$3:$C$1002,2,0),\"\")","v":""},null,{"$f":"IFERROR(VLOOKUP(E821,Participants!$B$3:$C$1002,2,0),\"\")","v":""}]
[null,null,null,{"$f":"IFERROR(VLOOKUP(C822,Participants!$B$3:$C$1002,2,0),\"\")","v":""},null,{"$f":"IFERROR(VLOOKUP(E822,Participants!$B$3:$C$1002,2,0),\"\")","v":""}]
[null,null,null,{"$f":"IFERROR(VLOOKUP(C823,Participants!$B$3:$C$1002,2,0),\"\")","v":""},null,{"$f":"IFERROR(VLOOKUP(E823,Participants!$B$3:$C$1002,2,0),\"\")","v":""}]
[null,null,null,{"$f":"IFERROR(VLOOKUP(C824,Participants!$B$3:$C$1002,2,0),\"\")","v":""},null,{"$f":"IFERROR(VLOOKUP(E824,Participants!$B$3:$C$1002,2,0),\"\")","v":""}]
[null,null,null,{"$f":"IFERROR(VLOOKUP(C825,Participants!$B$3:$C$1002,2,0),\"\")","v":""},null,{"$f":"IFERROR(VLOOKUP(E825,Participants!$B$3:$C$1002,2,0),\"\")","v":""}]
[null,null,null,{"$f":"IFERROR(VLOOKUP(C826,Participants!$B$3:$C$1002,2,0),\"\")","v":""},null,{"$f":"IFERROR(VLOOKUP(E826,Participants!$B$3:$C$1002,2,0),\"\")","v":""}]
[null,null,null,{"$f":"IFERROR(VLOOKUP(C827,Participants!$B$3:$C$1002,2,0),\"\")","v":""},null,{"$f":"IFERROR(VLOOKUP(E827,Participants!$B$3:$C$1002,2,0),\"\")","v":""}]
[null,null,null,{"$f":"IFERROR(VLOOKUP(C828,Participants!$B$3:$C$1002,2,0),\"\")","v":""},null,{"$f":"IFERROR(VLOOKUP(E828,Participants!$B$3:$C$1002,2,0),\"\")","v":""}]
[null,null,null,{"$f":"IFERROR(VLOOKUP(C829,Participants!$B$3:$C$1002,2,0),\"\")","v":""},null,{"$f":"IFERROR(VLOOKUP(E829,Participants!$B$3:$C$1002,2,0),\"\")","v":""}]
[null,null,null,{"$f":"IFERROR(VLOOKUP(C830,Participants!$B$3:$C$1002,2,0),\"\")","v":""},null,{"$f":"IFERROR(VLOOKUP(E830,Participants!$B$3:$C$1002,2,0),\"\")","v":""}]
[null,null,null,{"$f":"IFERROR(VLOOKUP(C831,Participants!$B$3:$C$1002,2,0),\"\")","v":""},null,{"$f":"IFERROR(VLOOKUP(E831,Participants!$B$3:$C$1002,2,0),\"\")","v":""}]
[null,null,null,{"$f":"IFERROR(VLOOKUP(C832,Participants!$B$3:$C$1002,2,0),\"\")","v":""},null,{"$f":"IFERROR(VLOOKUP(E832,Participants!$B$3:$C$1002,2,0),\"\")","v":""}]
[null,null,null,{"$f":"IFERROR(VLOOKUP(C833,Participants!$B$3:$C$1002,2,0),\"\")","v":""},null,{"$f":"IFERROR(VLOOKUP(E833,Participants!$B$3:$C$1002,2,0),\"\")","v":""}]
[null,null,null,{"$f":"IFERROR(VLOOKUP(C834,Participants!$B$3:$C$1002,2,0),\"\")","v":""},null,{"$f":"IFERROR(VLOOKUP(E834,Participants!$B$3:$C$1002,2,0),\"\")","v":""}]
[null,null,null,{"$f":"IFERROR(VLOOKUP(C835,Participants!$B$3:$C$1002,2,0),\"\")","v":""},null,{"$f":"IFERROR(VLOOKUP(E835,Participants!$B$3:$C$1002,2,0),\"\")","v":""}]
[null,null,null,{"$f":"IFERROR(VLOOKUP(C836,Participants!$B$3:$C$1002,2,0),\"\")","v":""},null,{"$f":"IFERROR(VLOOKUP(E836,Participants!$B$3:$C$1002,2,0),\"\")","v":""}]
[null,null,null,{"$f":"IFERROR(VLOOKUP(C837,Participants!$B$3:$C$1002,2,0),\"\")","v":""},null,{"$f":"IFERROR(VLOOKUP(E837,Participants!$B$3:$C$1002,2,0),\"\")","v":""}]
[null,null,null,{"$f":"IFERROR(VLOOKUP(C838,Participants!$B$3:$C$1002,2,0),\"\")","v":""},null,{"$f":"IFERROR(VLOOKUP(E838,Participants!$B$3:$C$1002,2,0),\"\")","v":""}]
[null,null,null,{"$f":"IFERROR(VLOOKUP(C839,Participants!$B$3:$C$1002,2,0),\"\")","v":""},null,{"$f":"IFERROR(VLOOKUP(E839,Participants!$B$3:$C$1002,2,0),\"\")","v":""}]
[null,null,null,{"$f":"IFERROR(VLOOKUP(C840,Participants!$B$3:$C$1002,2,0),\"\")","v":""},null,{"$f":"IFERROR(VLOOKUP(E840,Participants!$B$3:$C$1002,2,0),\"\")","v":""}]
[null,null,null,{"$f":"IFERROR(VLOOKUP(C841,Participants!$B$3:$C$1002,2,0),\"\")","v":""},null,{"$f":"IFERROR(VLOOKUP(E841,Participants!$B$3:$C$1002,2,0),\"\")","v":""}]
[null,null,null,{"$f":"IFERROR(VLOOKUP(C842,Participants!$B$3:$C$1002,2,0),\"\")","v":""},null,{"$f":"IFERROR(VLOOKUP(E842,Participants!$B$3:$C$1002,2,0),\"\")","v":""}]
[null,null,null,{"$f":"IFERROR(VLOOKUP(C843,Participants!$B$3:$C$1002,2,0),\"\")","v":""},null,{"$f":"IFERROR(VLOOKUP(E843,Participants!$B$3:$C$1002,2,0),\"\")","v":""}]
[null,null,null,{"$f":"IFERROR(VLOOKUP(C844,Participants!$B$3:$C$1002,2,0),\"\")","v":""},null,{"$f":"IFERROR(VLOOKUP(E844,Participants!$B$3:$C$1002,2,0),\"\")","v":""}]
[null,null,null,{"$f":"IFERROR(VLOOKUP(C845,Participants!$B$3:$C$1002,2,0),\"\")","v":""},null,{"$f":"IFERROR(VLOOKUP(E845,Participants!$B$3:$C$1002,2,0),\"\")","v":""}]
[null,null,null,{"$f":"IFERROR(VLOOKUP(C846,Participants!$B$3:$C$1002,2,0),\"\")","v":""},null,{"$f":"IFERROR(VLOOKUP(E846,Participants!$B$3:$C$1002,2,0),\"\")","v":""}]
[null,null,null,{"$f":"IFERROR(VLOOKUP(C847,Participants!$B$3:$C$1002,2,0),\"\")","v":""},null,{"$f":"IFERROR(VLOOKUP(E847,Participants!$B$3:$C$1002,2,0),\"\")","v":""}]
[null,null,null,{"$f":"IFERROR(VLOOKUP(C848,Participants!$B$3:$C$1002,2,0),\"\")","v":""},null,{"$f":"IFERROR(VLOOKUP(E848,Participants!$B$3:$C$1002,2,0),\"\")","v":""}]
[null,null,null,{"$f":"IFERROR(VLOOKUP(C849,Participants!$B$3:$C$1002,2,0),\"\")","v":""},null,{"$f":"IFERROR(VLOOKUP(E849,Participants!$B$3:$C$1002,2,0),\"\")","v":""}]
[null,null,null,{"$f":"IFERROR(VLOOKUP(C850,Participants!$B$3:$C$1002,2,0),\"\")","v":""},null,{"$f":"IFERROR(VLOOKUP(E850,Participants!$B$3:$C$1002,2,0),\"\")","v":""}]
[null,null,null,{"$f":"IFERROR(VLOOKUP(C851,Participants!$B$3:$C$1002,2,0),\"\")","v":""},null,{"$f":"IFERROR(VLOOKUP(E851,Participants!$B$3:$C$1002,2,0),\"\")","v":""}]
[null,null,null,{"$f":"IFERROR(VLOOKUP(C852,Participants!$B$3:$C$1002,2,0),\"\")","v":""},null,{"$f":"IFERROR(VLOOKUP(E852,Participants!$B$3:$C$1002,2,0),\"\")","v":""}]
[null,null,null,{"$f":"IFERROR(VLOOKUP(C853,Participants!$B$3:$C$1002,2,0),\"\")","v":""},null,{"$f":"IFERROR(VLOOKUP(E853,Participants!$B$3:$C$1002,2,0),\"\")","v":""}]
[null,null,null,{"$f":"IFERROR(VLOOKUP(C854,Participants!$B$3:$C$1002,2,0),\"\")","v":""},null,{"$f":"IFERROR(VLOOKUP(E854,Participants!$B$3:$C$1002,2,0),\"\")","v":""}]
[null,null,null,{"$f":"IFERROR(VLOOKUP(C855,Participants!$B$3:$C$1002,2,0),\"\")","v":""},null,{"$f":"IFERROR(VLOOKUP(E855,Participants!$B$3:$C$1002,2,0),\"\")","v":""}]
[null,null,null,{"$f":"IFERROR(VLOOKUP(C856,Participants!$B$3:$C$1002,2,0),\"\")","v":""},null,{"$f":"IFERROR(VLOOKUP(E856,Participants!$B$3:$C$1002,2,0),\"\")","v":""}]
[null,null,null,{"$f":"IFERROR(VLOOKUP(C857,Participants!$B$3:$C$1002,2,0),\"\")","v":""},null,{"$f":"IFERROR(VLOOKUP(E857,Participants!$B$3:$C$1002,2,0),\"\")","v":""}]
[null,null,null,{"$f":"IFERROR(VLOOKUP(C858,Participants!$B$3:$C$1002,2,0),\"\")","v":""},null,{"$f":"IFERROR(VLOOKUP(E858,Participants!$B$3:$C$1002,2,0),\"\")","v":""}]
[null,null,null,{"$f":"IFERROR(VLOOKUP(C859,Participants!$B$3:$C$1002,2,0),\"\")","v":""},null,{"$f":"IFERROR(VLOOKUP(E859,Participants!$B$3:$C$1002,2,0),\"\")","v":""}]
[null,null,null,{"$f":"IFERROR(VLOOKUP(C860,Participants!$B$3:$C$1002,2,0),\"\")","v":""},null,{"$f":"IFERROR(VLOOKUP(E860,Participants!$B$3:$C$1002,2,0),\"\")","v":""}]
[null,null,null,{"$f":"IFERROR(VLOOKUP(C861,Participants!$B$3:$C$1002,2,0),\"\")","v":""},null,{"$f":"IFERROR(VLOOKUP(E861,Participants!$B$3:$C$1002,2,0),\"\")","v":""}]
[null,null,null,{"$f":"IFERROR(VLOOKUP(C862,Participants!$B$3:$C$1002,2,0),\"\")","v":""},null,{"$f":"IFERROR(VLOOKUP(E862,Participants!$B$3:$C$1002,2,0),\"\")","v":""}]
[null,null,null,{"$f":"IFERROR(VLOOKUP(C863,Participants!$B$3:$C$1002,2,0),\"\")","v":""},null,{"$f":"IFERROR(VLOOKUP(E863,Participants!$B$3:$C$1002,2,0),\"\")","v":""}]
[null,null,null,{"$f":"IFERROR(VLOOKUP(C864,Participants!$B$3:$C$1002,2,0),\"\")","v":""},null,{"$f":"IFERROR(VLOOKUP(E864,Participants!$B$3:$C$1002,2,0),\"\")","v":""}]
[null,null,null,{"$f":"IFERROR(VLOOKUP(C865,Participants!$B$3:$C$1002,2,0),\"\")","v":""},null,{"$f":"IFERROR(VLOOKUP(E865,Participants!$B$3:$C$1002,2,0),\"\")","v":""}]
[null,null,null,{"$f":"IFERROR(VLOOKUP(C866,Participants!$B$3:$C$1002,2,0),\"\")","v":""},null,{"$f":"IFERROR(VLOOKUP(E866,Participants!$B$3:$C$1002,2,0),\"\")","v":""}]
[null,null,null,{"$f":"IFERROR(VLOOKUP(C867,Participants!$B$3:$C$1002,2,0),\"\")","v":""},null,{"$f":"IFERROR(VLOOKUP(E867,Participants!$B$3:$C$1002,2,0),\"\")","v":""}]
[null,null,null,{"$f":"IFERROR(VLOOKUP(C868,Participants!$B$3:$C$1002,2,0),\"\")","v":""},null,{"$f":"IFERROR(VLOOKUP(E868,Participants!$B$3:$C$1002,2,0),\"\")","v":""}]
[null,null,null,{"$f":"IFERROR(VLOOKUP(C869,Participants!$B$3:$C$1002,2,0),\"\")","v":""},null,{"$f":"IFERROR(VLOOKUP(E869,Participants!$B$3:$C$1002,2,0),\"\")","v":""}]
[null,null,null,{"$f":"IFERROR(VLOOKUP(C870,Participants!$B$3:$C$1002,2,0),\"\")","v":""},null,{"$f":"IFERROR(VLOOKUP(E870,Participants!$B$3:$C$1002,2,0),\"\")","v":""}]
[null,null,null,{"$f":"IFERROR(VLOOKUP(C871,Participants!$B$3:$C$1002,2,0),\"\")","v":""},null,{"$f":"IFERROR(VLOOKUP(E871,Participants!$B$3:$C$1002,2,0),\"\")","v":""}]
[null,null,null,{"$f":"IFERROR(VLOOKUP(C872,Participants!$B$3:$C$1002,2,0),\"\")","v":""},null,{"$f":"IFERROR(VLOOKUP(E872,Participants!$B$3:$C$1002,2,0),\"\")","v":""}]
[null,null,null,{"$f":"IFERROR(VLOOKUP(C873,Participants!$B$3:$C$1002,2,0),\"\")","v":""},null,{"$f":"IFERROR(VLOOKUP(E873,Participants!$B$3:$C$1002,2,0),\"\")","v":""}]
[null,null,null,{"$f":"IFERROR(VLOOKUP(C874,Participants!$B$3:$C$1002,2,0),\"\")","v":""},null,{"$f":"IFERROR(VLOOKUP(E874,Participants!$B$3:$C$1002,2,0),\"\")","v":""}]
[null,null,null,{"$f":"IFERROR(VLOOKUP(C875,Participants!$B$3:$C$1002,2,0),\"\")","v":""},null,{"$f":"IFERROR(VLOOKUP(E875,Participants!$B$3:$C$1002,2,0),\"\")","v":""}]
[null,null,null,{"$f":"IFERROR(VLOOKUP(C876,Participants!$B$3:$C$1002,2,0),\"\")","v":""},null,{"$f":"IFERROR(VLOOKUP(E876,Participants!$B$3:$C$1002,2,0),\"\")","v":""}]
[null,null,null,{"$f":"IFERROR(VLOOKUP(C877,Participants!$B$3:$C$1002,2,0),\"\")","v":""},null,{"$f":"IFERROR(VLOOKUP(E877,Participants!$B$3:$C$1002,2,0),\"\")","v":""}]
[null,null,null,{"$f":"IFERROR(VLOOKUP(C878,Participants!$B$3:$C$1002,2,0),\"\")","v":""},null,{"$f":"IFERROR(VLOOKUP(E878,Participants!$B$3:$C$1002,2,0),\"\")","v":""}]
[null,null,null,{"$f":"IFERROR(VLOOKUP(C879,Participants!$B$3:$C$1002,2,0),\"\")","v":""},null,{"$f":"IFERROR(VLOOKUP(E879,Participants!$B$3:$C$1002,2,0),\"\")","v":""}]
[null,null,null,{"$f":"IFERROR(VLOOKUP(C880,Participants!$B$3:$C$1002,2,0),\"\")","v":""},null,{"$f":"IFERROR(VLOOKUP(E880,Participants!$B$3:$C$1002,2,0),\"\")","v":""}]
[null,null,null,{"$f":"IFERROR(VLOOKUP(C881,Participants!$B$3:$C$1002,2,0),\"\")","v":""},null,{"$f":"IFERROR(VLOOKUP(E881,Participants!$B$3:$C$1002,2,0),\"\")","v":""}]
[null,null,null,{"$f":"IFERROR(VLOOKUP(C882,Participants!$B$3:$C$1002,2,0),\"\")","v":""},null,{"$f":"IFERROR(VLOOKUP(E882,Participants!$B$3:$C$1002,2,0),\"\")","v":""}]
[null,null,null,{"$f":"IFERROR(VLOOKUP(C883,Participants!$B$3:$C$1002,2,0),\"\")","v":""},null,{"$f":"IFERROR(VLOOKUP(E883,Participants!$B$3:$C$1002,2,0),\"\")","v":""}]
[null,null,null,{"$f":"IFERROR(VLOOKUP(C884,Participants!$B$3:$C$1002,2,0),\"\")","v":""},null,{"$f":"IFERROR(VLOOKUP(E884,Participants!$B$3:$C$1002,2,0),\"\")","v":""}]
[null,null,null,{"$f":"IFERROR(VLOOKUP(C885,Participants!$B$3:$C$1002,2,0),\"\")","v":""},null,{"$f":"IFERROR(VLOOKUP(E885,Participants!$B$3:$C$1002,2,0),\"\")","v":""}]
[null,null,null,{"$f":"IFERROR(VLOOKUP(C886,Participants!$B$3:$C$1002,2,0),\"\")","v":""},null,{"$f":"IFERROR(VLOOKUP(E886,Participants!$B$3:$C$1002,2,0),\"\")","v":""}]
[null,null,null,{"$f":"IFERROR(VLOOKUP(C887,Participants!$B$3:$C$1002,2,0),\"\")","v":""},null,{"$f":"IFERROR(VLOOKUP(E887,Participants!$B$3:$C$1002,2,0),\"\")","v":""}]
[null,null,null,{"$f":"IFERROR(VLOOKUP(C888,Participants!$B$3:$C$1002,2,0),\"\")","v":""},null,{"$f":"IFERROR(VLOOKUP(E888,Participants!$B$3:$C$1002,2,0),\"\")","v":""}]
[null,null,null,{"$f":"IFERROR(VLOOKUP(C889,Participants!$B$3:$C$1002,2,0),\"\")","v":""},null,{"$f":"IFERROR(VLOOKUP(E889,Participants!$B$3:$C$1002,2,0),\"\")","v":""}]
[null,null,null,{"$f":"IFERROR(VLOOKUP(C890,Participants!$B$3:$C$1002,2,0),\"\")","v":""},null,{"$f":"IFERROR(VLOOKUP(E890,Participants!$B$3:$C$1002,2,0),\"\")","v":""}]
[null,null,null,{"$f":"IFERROR(VLOOKUP(C891,Participants!$B$3:$C$1002,2,0),\"\")","v":""},null,{"$f":"IFERROR(VLOOKUP(E891,Participants!$B$3:$C$1002,2,0),\"\")","v":""}]
[null,null,null,{"$f":"IFERROR(VLOOKUP(C892,Participants!$B$3:$C$1002,2,0),\"\")","v":""},null,{"$f":"IFERROR(VLOOKUP(E892,Participants!$B$3:$C$1002,2,0),\"\")","v":""}]
[null,null,null,{"$f":"IFERROR(VLOOKUP(C893,Participants!$B$3:$C$1002,2,0),\"\")","v":""},null,{"$f":"IFERROR(VLOOKUP(E893,Participants!$B$3:$C$1002,2,0),\"\")","v":""}]
[null,null,null,{"$f":"IFERROR(VLOOKUP(C894,Participants!$B$3:$C$1002,2,0),\"\")","v":""},null,{"$f":"IFERROR(VLOOKUP(E894,Participants!$B$3:$C$1002,2,0),\"\")","v":""}]
[null,null,null,{"$f":"IFERROR(VLOOKUP(C895,Participants!$B$3:$C$1002,2,0),\"\")","v":""},null,{"$f":"IFERROR(VLOOKUP(E895,Participants!$B$3:$C$1002,2,0),\"\")","v":""}]
[null,null,null,{"$f":"IFERROR(VLOOKUP(C896,Participants!$B$3:$C$1002,2,0),\"\")","v":""},null,{"$f":"IFERROR(VLOOKUP(E896,Participants!$B$3:$C$1002,2,0),\"\")","v":""}]
[null,null,null,{"$f":"IFERROR(VLOOKUP(C897,Participants!$B$3:$C$1002,2,0),\"\")","v":""},null,{"$f":"IFERROR(VLOOKUP(E897,Participants!$B$3:$C$1002,2,0),\"\")","v":""}]
[null,null,null,{"$f":"IFERROR(VLOOKUP(C898,Participants!$B$3:$C$1002,2,0),\"\")","v":""},null,{"$f":"IFERROR(VLOOKUP(E898,Participants!$B$3:$C$1002,2,0),\"\")","v":""}]
[null,null,null,{"$f":"IFERROR(VLOOKUP(C899,Participants!$B$3:$C$1002,2,0),\"\")","v":""},null,{"$f":"IFERROR(VLOOKUP(E899,Participants!$B$3:$C$1002,2,0),\"\")","v":""}]
[null,null,null,{"$f":"IFERROR(VLOOKUP(C900,Participants!$B$3:$C$1002,2,0),\"\")","v":""},null,{"$f":"IFERROR(VLOOKUP(E900,Participants!$B$3:$C$1002,2,0),\"\")","v":""}]
[null,null,null,{"$f":"IFERROR(VLOOKUP(C901,Participants!$B$3:$C$1002,2,0),\"\")","v":""},null,{"$f":"IFERROR(VLOOKUP(E901,Participants!$B$3:$C$1002,2,0),\"\")","v":""}]
[null,null,null,{"$f":"IFERROR(VLOOKUP(C902,Participants!$B$3:$C$1002,2,0),\"\")","v":""},null,{"$f":"IFERROR(VLOOKUP(E902,Participants!$B$3:$C$1002,2,0),\"\")","v":""}]
[null,null,null,{"$f":"IFERROR(VLOOKUP(C903,Participants!$B$3:$C$1002,2,0),\"\")","v":""},null,{"$f":"IFERROR(VLOOKUP(E903,Participants!$B$3:$C$1002,2,0),\"\")","v":""}]
[null,null,null,{"$f":"IFERROR(VLOOKUP(C904,Participants!$B$3:$C$1002,2,0),\"\")","v":""},null,{"$f":"IFERROR(VLOOKUP(E904,Participants!$B$3:$C$1002,2,0),\"\")","v":""}]
[null,null,null,{"$f":"IFERROR(VLOOKUP(C905,Participants!$B$3:$C$1002,2,0),\"\")","v":""},null,{"$f":"IFERROR(VLOOKUP(E905,Participants!$B$3:$C$1002,2,0),\"\")","v":""}]
[null,null,null,{"$f":"IFERROR(VLOOKUP(C906,Participants!$B$3:$C$1002,2,0),\"\")","v":""},null,{"$f":"IFERROR(VLOOKUP(E906,Participants!$B$3:$C$1002,2,0),\"\")","v":""}]
[null,null,null,{"$f":"IFERROR(VLOOKUP(C907,Participants!$B$3:$C$1002,2,0),\"\")","v":""},null,{"$f":"IFERROR(VLOOKUP(E907,Participants!$B$3:$C$1002,2,0),\"\")","v":""}]
[null,null,null,{"$f":"IFERROR(VLOOKUP(C908,Participants!$B$3:$C$1002,2,0),\"\")","v":""},null,{"$f":"IFERROR(VLOOKUP(E908,Participants!$B$3:$C$1002,2,0),\"\")","v":""}]
[null,null,null,{"$f":"IFERROR(VLOOKUP(C909,Participants!$B$3:$C$1002,2,0),\"\")","v":""},null,{"$f":"IFERROR(VLOOKUP(E909,Participants!$B$3:$C$1002,2,0),\"\")","v":""}]
[null,null,null,{"$f":"IFERROR(VLOOKUP(C910,Participants!$B$3:$C$1002,2,0),\"\")","v":""},null,{"$f":"IFERROR(VLOOKUP(E910,Participants!$B$3:$C$1002,2,0),\"\")","v":""}]
[null,null,null,{"$f":"IFERROR(VLOOKUP(C911,Participants!$B$3:$C$1002,2,0),\"\")","v":""},null,{"$f":"IFERROR(VLOOKUP(E911,Participants!$B$3:$C$1002,2,0),\"\")","v":""}]
[null,null,null,{"$f":"IFERROR(VLOOKUP(C912,Participants!$B$3:$C$1002,2,0),\"\")","v":""},null,{"$f":"IFERROR(VLOOKUP(E912,Participants!$B$3:$C$1002,2,0),\"\")","v":""}]
[null,null,null,{"$f":"IFERROR(VLOOKUP(C913,Participants!$B$3:$C$1002,2,0),\"\")","v":""},null,{"$f":"IFERROR(VLOOKUP(E913,Participants!$B$3:$C$1002,2,0),\"\")","v":""}]
[null,null,null,{"$f":"IFERROR(VLOOKUP(C914,Participants!$B$3:$C$1002,2,0),\"\")","v":""},null,{"$f":"IFERROR(VLOOKUP(E914,Participants!$B$3:$C$1002,2,0),\"\")","v":""}]
[null,null,null,{"$f":"IFERROR(VLOOKUP(C915,Participants!$B$3:$C$1002,2,0),\"\")","v":""},null,{"$f":"IFERROR(VLOOKUP(E915,Participants!$B$3:$C$1002,2,0),\"\")","v":""}]
[null,null,null,{"$f":"IFERROR(VLOOKUP(C916,Participants!$B$3:$C$1002,2,0),\"\")","v":""},null,{"$f":"IFERROR(VLOOKUP(E916,Participants!$B$3:$C$1002,2,0),\"\")","v":""}]
[null,null,null,{"$f":"IFERROR(VLOOKUP(C917,Participants!$B$3:$C$1002,2,0),\"\")","v":""},null,{"$f":"IFERROR(VLOOKUP(E917,Participants!$B$3:$C$1002,2,0),\"\")","v":""}]
[null,null,null,{"$f":"IFERROR(VLOOKUP(C918,Participants!$B$3:$C$1002,2,0),\"\")","v":""},null,{"$f":"IFERROR(VLOOKUP(E918,Participants!$B$3:$C$1002,2,0),\"\")","v":""}]
[null,null,null,{"$f":"IFERROR(VLOOKUP(C919,Participants!$B$3:$C$1002,2,0),\"\")","v":""},null,{"$f":"IFERROR(VLOOKUP(E919,Participants!$B$3:$C$1002,2,0),\"\")","v":""}]
[null,null,null,{"$f":"IFERROR(VLOOKUP(C920,Participants!$B$3:$C$1002,2,0),\"\")","v":""},null,{"$f":"IFERROR(VLOOKUP(E920,Participants!$B$3:$C$1002,2,0),\"\")","v":""}]
[null,null,null,{"$f":"IFERROR(VLOOKUP(C921,Participants!$B$3:$C$1002,2,0),\"\")","v":""},null,{"$f":"IFERROR(VLOOKUP(E921,Participants!$B$3:$C$1002,2,0),\"\")","v":""}]
[null,null,null,{"$f":"IFERROR(VLOOKUP(C922,Participants!$B$3:$C$1002,2,0),\"\")","v":""},null,{"$f":"IFERROR(VLOOKUP(E922,Participants!$B$3:$C$1002,2,0),\"\")","v":""}]
[null,null,null,{"$f":"IFERROR(VLOOKUP(C923,Participants!$B$3:$C$1002,2,0),\"\")","v":""},null,{"$f":"IFERROR(VLOOKUP(E923,Participants!$B$3:$C$1002,2,0),\"\")","v":""}]
[null,null,null,{"$f":"IFERROR(VLOOKUP(C924,Participants!$B$3:$C$1002,2,0),\"\")","v":""},null,{"$f":"IFERROR(VLOOKUP(E924,Participants!$B$3:$C$1002,2,0),\"\")","v":""}]
[null,null,null,{"$f":"IFERROR(VLOOKUP(C925,Participants!$B$3:$C$1002,2,0),\"\")","v":""},null,{"$f":"IFERROR(VLOOKUP(E925,Participants!$B$3:$C$1002,2,0),\"\")","v":""}]
[null,null,null,{"$f":"IFERROR(VLOOKUP(C926,Participants!$B$3:$C$1002,2,0),\"\")","v":""},null,{"$f":"IFERROR(VLOOKUP(E926,Participants!$B$3:$C$1002,2,0),\"\")","v":""}]
[null,null,null,{"$f":"IFERROR(VLOOKUP(C927,Participants!$B$3:$C$1002,2,0),\"\")","v":""},null,{"$f":"IFERROR(VLOOKUP(E927,Participants!$B$3:$C$1002,2,0),\"\")","v":""}]
[null,null,null,{"$f":"IFERROR(VLOOKUP(C928,Participants!$B$3:$C$1002,2,0),\"\")","v":""},null,{"$f":"IFERROR(VLOOKUP(E928,Participants!$B$3:$C$1002,2,0),\"\")","v":""}]
[null,null,null,{"$f":"IFERROR(VLOOKUP(C929,Participants!$B$3:$C$1002,2,0),\"\")","v":""},null,{"$f":"IFERROR(VLOOKUP(E929,Participants!$B$3:$C$1002,2,0),\"\")","v":""}]
[null,null,null,{"$f":"IFERROR(VLOOKUP(C930,Participants!$B$3:$C$1002,2,0),\"\")","v":""},null,{"$f":"IFERROR(VLOOKUP(E930,Participants!$B$3:$C$1002,2,0),\"\")","v":""}]
[null,null,null,{"$f":"IFERROR(VLOOKUP(C931,Participants!$B$3:$C$1002,2,0),\"\")","v":""},null,{"$f":"IFERROR(VLOOKUP(E931,Participants!$B$3:$C$1002,2,0),\"\")","v":""}]
[null,null,null,{"$f":"IFERROR(VLOOKUP(C932,Participants!$B$3:$C$1002,2,0),\"\")","v":""},null,{"$f":"IFERROR(VLOOKUP(E932,Participants!$B$3:$C$1002,2,0),\"\")","v":""}]
[null,null,null,{"$f":"IFERROR(VLOOKUP(C933,Participants!$B$3:$C$1002,2,0),\"\")","v":""},null,{"$f":"IFERROR(VLOOKUP(E933,Participants!$B$3:$C$1002,2,0),\"\")","v":""}]
[null,null,null,{"$f":"IFERROR(VLOOKUP(C934,Participants!$B$3:$C$1002,2,0),\"\")","v":""},null,{"$f":"IFERROR(VLOOKUP(E934,Participants!$B$3:$C$1002,2,0),\"\")","v":""}]
[null,null,null,{"$f":"IFERROR(VLOOKUP(C935,Participants!$B$3:$C$1002,2,0),\"\")","v":""},null,{"$f":"IFERROR(VLOOKUP(E935,Participants!$B$3:$C$1002,2,0),\"\")","v":""}]
[null,null,null,{"$f":"IFERROR(VLOOKUP(C936,Participants!$B$3:$C$1002,2,0),\"\")","v":""},null,{"$f":"IFERROR(VLOOKUP(E936,Participants!$B$3:$C$1002,2,0),\"\")","v":""}]
[null,null,null,{"$f":"IFERROR(VLOOKUP(C937,Participants!$B$3:$C$1002,2,0),\"\")","v":""},null,{"$f":"IFERROR(VLOOKUP(E937,Participants!$B$3:$C$1002,2,0),\"\")","v":""}]
[null,null,null,{"$f":"IFERROR(VLOOKUP(C938,Participants!$B$3:$C$1002,2,0),\"\")","v":""},null,{"$f":"IFERROR(VLOOKUP(E938,Participants!$B$3:$C$1002,2,0),\"\")","v":""}]
[null,null,null,{"$f":"IFERROR(VLOOKUP(C939,Participants!$B$3:$C$1002,2,0),\"\")","v":""},null,{"$f":"IFERROR(VLOOKUP(E939,Participants!$B$3:$C$1002,2,0),\"\")","v":""}]
[null,null,null,{"$f":"IFERROR(VLOOKUP(C940,Participants!$B$3:$C$1002,2,0),\"\")","v":""},null,{"$f":"IFERROR(VLOOKUP(E940,Participants!$B$3:$C$1002,2,0),\"\")","v":""}]
[null,null,null,{"$f":"IFERROR(VLOOKUP(C941,Participants!$B$3:$C$1002,2,0),\"\")","v":""},null,{"$f":"IFERROR(VLOOKUP(E941,Participants!$B$3:$C$1002,2,0),\"\")","v":""}]
[null,null,null,{"$f":"IFERROR(VLOOKUP(C942,Participants!$B$3:$C$1002,2,0),\"\")","v":""},null,{"$f":"IFERROR(VLOOKUP(E942,Participants!$B$3:$C$1002,2,0),\"\")","v":""}]
[null,null,null,{"$f":"IFERROR(VLOOKUP(C943,Participants!$B$3:$C$1002,2,0),\"\")","v":""},null,{"$f":"IFERROR(VLOOKUP(E943,Participants!$B$3:$C$1002,2,0),\"\")","v":""}]
[null,null,null,{"$f":"IFERROR(VLOOKUP(C944,Participants!$B$3:$C$1002,2,0),\"\")","v":""},null,{"$f":"IFERROR(VLOOKUP(E944,Participants!$B$3:$C$1002,2,0),\"\")","v":""}]
[null,null,null,{"$f":"IFERROR(VLOOKUP(C945,Participants!$B$3:$C$1002,2,0),\"\")","v":""},null,{"$f":"IFERROR(VLOOKUP(E945,Participants!$B$3:$C$1002,2,0),\"\")","v":""}]
[null,null,null,{"$f":"IFERROR(VLOOKUP(C946,Participants!$B$3:$C$1002,2,0),\"\")","v":""},null,{"$f":"IFERROR(VLOOKUP(E946,Participants!$B$3:$C$1002,2,0),\"\")","v":""}]
[null,null,null,{"$f":"IFERROR(VLOOKUP(C947,Participants!$B$3:$C$1002,2,0),\"\")","v":""},null,{"$f":"IFERROR(VLOOKUP(E947,Participants!$B$3:$C$1002,2,0),\"\")","v":""}]
[null,null,null,{"$f":"IFERROR(VLOOKUP(C948,Participants!$B$3:$C$1002,2,0),\"\")","v":""},null,{"$f":"IFERROR(VLOOKUP(E948,Participants!$B$3:$C$1002,2,0),\"\")","v":""}]
[null,null,null,{"$f":"IFERROR(VLOOKUP(C949,Participants!$B$3:$C$1002,2,0),\"\")","v":""},null,{"$f":"IFERROR(VLOOKUP(E949,Participants!$B$3:$C$1002,2,0),\"\")","v":""}]
[null,null,null,{"$f":"IFERROR(VLOOKUP(C950,Participants!$B$3:$C$1002,2,0),\"\")","v":""},null,{"$f":"IFERROR(VLOOKUP(E950,Participants!$B$3:$C$1002,2,0),\"\")","v":""}]
[null,null,null,{"$f":"IFERROR(VLOOKUP(C951,Participants!$B$3:$C$1002,2,0),\"\")","v":""},null,{"$f":"IFERROR(VLOOKUP(E951,Participants!$B$3:$C$1002,2,0),\"\")","v":""}]
[null,null,null,{"$f":"IFERROR(VLOOKUP(C952,Participants!$B$3:$C$1002,2,0),\"\")","v":""},null,{"$f":"IFERROR(VLOOKUP(E952,Participants!$B$3:$C$1002,2,0),\"\")","v":""}]
[null,null,null,{"$f":"IFERROR(VLOOKUP(C953,Participants!$B$3:$C$1002,2,0),\"\")","v":""},null,{"$f":"IFERROR(VLOOKUP(E953,Participants!$B$3:$C$1002,2,0),\"\")","v":""}]
[null,null,null,{"$f":"IFERROR(VLOOKUP(C954,Participants!$B$3:$C$1002,2,0),\"\")","v":""},null,{"$f":"IFERROR(VLOOKUP(E954,Participants!$B$3:$C$1002,2,0),\"\")","v":""}]
[null,null,null,{"$f":"IFERROR(VLOOKUP(C955,Participants!$B$3:$C$1002,2,0),\"\")","v":""},null,{"$f":"IFERROR(VLOOKUP(E955,Participants!$B$3:$C$1002,2,0),\"\")","v":""}]
[null,null,null,{"$f":"IFERROR(VLOOKUP(C956,Participants!$B$3:$C$1002,2,0),\"\")","v":""},null,{"$f":"IFERROR(VLOOKUP(E956,Participants!$B$3:$C$1002,2,0),\"\")","v":""}]
[null,null,null,{"$f":"IFERROR(VLOOKUP(C957,Participants!$B$3:$C$1002,2,0),\"\")","v":""},null,{"$f":"IFERROR(VLOOKUP(E957,Participants!$B$3:$C$1002,2,0),\"\")","v":""}]
[null,null,null,{"$f":"IFERROR(VLOOKUP(C958,Participants!$B$3:$C$1002,2,0),\"\")","v":""},null,{"$f":"IFERROR(VLOOKUP(E958,Participants!$B$3:$C$1002,2,0),\"\")","v":""}]
[null,null,null,{"$f":"IFERROR(VLOOKUP(C959,Participants!$B$3:$C$1002,2,0),\"\")","v":""},null,{"$f":"IFERROR(VLOOKUP(E959,Participants!$B$3:$C$1002,2,0),\"\")","v":""}]
[null,null,null,{"$f":"IFERROR(VLOOKUP(C960,Participants!$B$3:$C$1002,2,0),\"\")","v":""},null,{"$f":"IFERROR(VLOOKUP(E960,Participants!$B$3:$C$1002,2,0),\"\")","v":""}]
[null,null,null,{"$f":"IFERROR(VLOOKUP(C961,Participants!$B$3:$C$1002,2,0),\"\")","v":""},null,{"$f":"IFERROR(VLOOKUP(E961,Participants!$B$3:$C$1002,2,0),\"\")","v":""}]
[null,null,null,{"$f":"IFERROR(VLOOKUP(C962,Participants!$B$3:$C$1002,2,0),\"\")","v":""},null,{"$f":"IFERROR(VLOOKUP(E962,Participants!$B$3:$C$1002,2,0),\"\")","v":""}]
[null,null,null,{"$f":"IFERROR(VLOOKUP(C963,Participants!$B$3:$C$1002,2,0),\"\")","v":""},null,{"$f":"IFERROR(VLOOKUP(E963,Participants!$B$3:$C$1002,2,0),\"\")","v":""}]
[null,null,null,{"$f":"IFERROR(VLOOKUP(C964,Participants!$B$3:$C$1002,2,0),\"\")","v":""},null,{"$f":"IFERROR(VLOOKUP(E964,Participants!$B$3:$C$1002,2,0),\"\")","v":""}]
[null,null,null,{"$f":"IFERROR(VLOOKUP(C965,Participants!$B$3:$C$1002,2,0),\"\")","v":""},null,{"$f":"IFERROR(VLOOKUP(E965,Participants!$B$3:$C$1002,2,0),\"\")","v":""}]
[null,null,null,{"$f":"IFERROR(VLOOKUP(C966,Participants!$B$3:$C$1002,2,0),\"\")","v":""},null,{"$f":"IFERROR(VLOOKUP(E966,Participants!$B$3:$C$1002,2,0),\"\")","v":""}]
[null,null,null,{"$f":"IFERROR(VLOOKUP(C967,Participants!$B$3:$C$1002,2,0),\"\")","v":""},null,{"$f":"IFERROR(VLOOKUP(E967,Participants!$B$3:$C$1002,2,0),\"\")","v":""}]
[null,null,null,{"$f":"IFERROR(VLOOKUP(C968,Participants!$B$3:$C$1002,2,0),\"\")","v":""},null,{"$f":"IFERROR(VLOOKUP(E968,Participants!$B$3:$C$1002,2,0),\"\")","v":""}]
[null,null,null,{"$f":"IFERROR(VLOOKUP(C969,Participants!$B$3:$C$1002,2,0),\"\")","v":""},null,{"$f":"IFERROR(VLOOKUP(E969,Participants!$B$3:$C$1002,2,0),\"\")","v":""}]
[null,null,null,{"$f":"IFERROR(VLOOKUP(C970,Participants!$B$3:$C$1002,2,0),\"\")","v":""},null,{"$f":"IFERROR(VLOOKUP(E970,Participants!$B$3:$C$1002,2,0),\"\")","v":""}]
[null,null,null,{"$f":"IFERROR(VLOOKUP(C971,Participants!$B$3:$C$1002,2,0),\"\")","v":""},null,{"$f":"IFERROR(VLOOKUP(E971,Participants!$B$3:$C$1002,2,0),\"\")","v":""}]
[null,null,null,{"$f":"IFERROR(VLOOKUP(C972,Participants!$B$3:$C$1002,2,0),\"\")","v":""},null,{"$f":"IFERROR(VLOOKUP(E972,Participants!$B$3:$C$1002,2,0),\"\")","v":""}]
[null,null,null,{"$f":"IFERROR(VLOOKUP(C973,Participants!$B$3:$C$1002,2,0),\"\")","v":""},null,{"$f":"IFERROR(VLOOKUP(E973,Participants!$B$3:$C$1002,2,0),\"\")","v":""}]
[null,null,null,{"$f":"IFERROR(VLOOKUP(C974,Participants!$B$3:$C$1002,2,0),\"\")","v":""},null,{"$f":"IFERROR(VLOOKUP(E974,Participants!$B$3:$C$1002,2,0),\"\")","v":""}]
[null,null,null,{"$f":"IFERROR(VLOOKUP(C975,Participants!$B$3:$C$1002,2,0),\"\")","v":""},null,{"$f":"IFERROR(VLOOKUP(E975,Participants!$B$3:$C$1002,2,0),\"\")","v":""}]
[null,null,null,{"$f":"IFERROR(VLOOKUP(C976,Participants!$B$3:$C$1002,2,0),\"\")","v":""},null,{"$f":"IFERROR(VLOOKUP(E976,Participants!$B$3:$C$1002,2,0),\"\")","v":""}]
[null,null,null,{"$f":"IFERROR(VLOOKUP(C977,Participants!$B$3:$C$1002,2,0),\"\")","v":""},null,{"$f":"IFERROR(VLOOKUP(E977,Participants!$B$3:$C$1002,2,0),\"\")","v":""}]
[null,null,null,{"$f":"IFERROR(VLOOKUP(C978,Participants!$B$3:$C$1002,2,0),\"\")","v":""},null,{"$f":"IFERROR(VLOOKUP(E978,Participants!$B$3:$C$1002,2,0),\"\")","v":""}]
[null,null,null,{"$f":"IFERROR(VLOOKUP(C979,Participants!$B$3:$C$1002,2,0),\"\")","v":""},null,{"$f":"IFERROR(VLOOKUP(E979,Participants!$B$3:$C$1002,2,0),\"\")","v":""}]
[null,null,null,{"$f":"IFERROR(VLOOKUP(C980,Participants!$B$3:$C$1002,2,0),\"\")","v":""},null,{"$f":"IFERROR(VLOOKUP(E980,Participants!$B$3:$C$1002,2,0),\"\")","v":""}]
[null,null,null,{"$f":"IFERROR(VLOOKUP(C981,Participants!$B$3:$C$1002,2,0),\"\")","v":""},null,{"$f":"IFERROR(VLOOKUP(E981,Participants!$B$3:$C$1002,2,0),\"\")","v":""}]
[null,null,null,{"$f":"IFERROR(VLOOKUP(C982,Participants!$B$3:$C$1002,2,0),\"\")","v":""},null,{"$f":"IFERROR(VLOOKUP(E982,Participants!$B$3:$C$1002,2,0),\"\")","v":""}]
[null,null,null,{"$f":"IFERROR(VLOOKUP(C983,Participants!$B$3:$C$1002,2,0),\"\")","v":""},null,{"$f":"IFERROR(VLOOKUP(E983,Participants!$B$3:$C$1002,2,0),\"\")","v":""}]
[null,null,null,{"$f":"IFERROR(VLOOKUP(C984,Participants!$B$3:$C$1002,2,0),\"\")","v":""},null,{"$f":"IFERROR(VLOOKUP(E984,Participants!$B$3:$C$1002,2,0),\"\")","v":""}]
[null,null,null,{"$f":"IFERROR(VLOOKUP(C985,Participants!$B$3:$C$1002,2,0),\"\")","v":""},null,{"$f":"IFERROR(VLOOKUP(E985,Participants!$B$3:$C$1002,2,0),\"\")","v":""}]
[null,null,null,{"$f":"IFERROR(VLOOKUP(C986,Participants!$B$3:$C$1002,2,0),\"\")","v":""},null,{"$f":"IFERROR(VLOOKUP(E986,Participants!$B$3:$C$1002,2,0),\"\")","v":""}]
[null,null,null,{"$f":"IFERROR(VLOOKUP(C987,Participants!$B$3:$C$1002,2,0),\"\")","v":""},null,{"$f":"IFERROR(VLOOKUP(E987,Participants!$B$3:$C$1002,2,0),\"\")","v":""}]
[null,null,null,{"$f":"IFERROR(VLOOKUP(C988,Participants!$B$3:$C$1002,2,0),\"\")","v":""},null,{"$f":"IFERROR(VLOOKUP(E988,Participants!$B$3:$C$1002,2,0),\"\")","v":""}]
[null,null,null,{"$f":"IFERROR(VLOOKUP(C989,Participants!$B$3:$C$1002,2,0),\"\")","v":""},null,{"$f":"IFERROR(VLOOKUP(E989,Participants!$B$3:$C$1002,2,0),\"\")","v":""}]
[null,null,null,{"$f":"IFERROR(VLOOKUP(C990,Participants!$B$3:$C$1002,2,0),\"\")","v":""},null,{"$f":"IFERROR(VLOOKUP(E990,Participants!$B$3:$C$1002,2,0),\"\")","v":""}]
[null,null,null,{"$f":"IFERROR(VLOOKUP(C991,Participants!$B$3:$C$1002,2,0),\"\")","v":""},null,{"$f":"IFERROR(VLOOKUP(E991,Participants!$B$3:$C$1002,2,0),\"\")","v":""}]
[null,null,null,{"$f":"IFERROR(VLOOKUP(C992,Participants!$B$3:$C$1002,2,0),\"\")","v":""},null,{"$f":"IFERROR(VLOOKUP(E992,Participants!$B$3:$C$1002,2,0),\"\")","v":""}]
[null,null,null,{"$f":"IFERROR(VLOOKUP(C993,Participants!$B$3:$C$1002,2,0),\"\")","v":""},null,{"$f":"IFERROR(VLOOKUP(E993,Participants!$B$3:$C$1002,2,0),\"\")","v":""}]
[null,null,null,{"$f":"IFERROR(VLOOKUP(C994,Participants!$B$3:$C$1002,2,0),\"\")","v":""},null,{"$f":"IFERROR(VLOOKUP(E994,Participants!$B$3:$C$1002,2,0),\"\")","v":""}]
[null,null,null,{"$f":"IFERROR(VLOOKUP(C995,Participants!$B$3:$C$1002,2,0),\"\")","v":""},null,{"$f":"IFERROR(VLOOKUP(E995,Participants!$B$3:$C$1002,2,0),\"\")","v":""}]
[null,null,null,{"$f":"IFERROR(VLOOKUP(C996,Participants!$B$3:$C$1002,2,0),\"\")","v":""},null,{"$f":"IFERROR(VLOOKUP(E996,Participants!$B$3:$C$1002,2,0),\"\")","v":""}]
[null,null,null,{"$f":"IFERROR(VLOOKUP(C997,Participants!$B$3:$C$1002,2,0),\"\")","v":""},null,{"$f":"IFERROR(VLOOKUP(E997,Participants!$B$3:$C$1002,2,0),\"\")","v":""}]
[null,null,null,{"$f":"IFERROR(VLOOKUP(C998,Participants!$B$3:$C$1002,2,0),\"\")","v":""},null,{"$f":"IFERROR(VLOOKUP(E998,Participants!$B$3:$C$1002,2,0),\"\")","v":""}]
[null,null,null,{"$f":"IFERROR(VLOOKUP(C999,Participants!$B$3:$C$1002,2,0),\"\")","v":""},null,{"$f":"IFERROR(VLOOKUP(E999,Participants!$B$3:$C$1002,2,0),\"\")","v":""}]
[null,null,null,{"$f":"IFERROR(VLOOKUP(C1000,Participants!$B$3:$C$1002,2,0),\"\")","v":""},null,{"$f":"IFERROR(VLOOKUP(E1000,Participants!$B$3:$C$1002,2,0),\"\")","v":""}]
[null,null,null,{"$f":"IFERROR(VLOOKUP(C1001,Participants!$B$3:$C$1002,2,0),\"\")","v":""},null,{"$f":"IFERROR(VLOOKUP(E1001,Participants!$B$3:$C$1002,2,0),\"\")","v":""}]
[null,null,null,{"$f":"IFERROR(VLOOKUP(C1002,Participants!$B$3:$C$1002,2,0),\"\")","v":""},null,{"$f":"IFERROR(VLOOKUP(E1002,Participants!$B$3:$C$1002,2,0),\"\")","v":""}]
[null,null,null,{"$f":"IFERROR(VLOOKUP(C1003,Participants!$B$3:$C$1002,2,0),\"\")","v":""},null,{"$f":"IFERROR(VLOOKUP(E1003,Participants!$B$3:$C$1002,2,0),\"\")","v":""}]
[null,null,null,{"$f":"IFERROR(VLOOKUP(C1004,Participants!$B$3:$C$1002,2,0),\"\")","v":""},null,{"$f":"IFERROR(VLOOKUP(E1004,Participants!$B$3:$C$1002,2,0),\"\")","v":""}]
[null,null,null,{"$f":"IFERROR(VLOOKUP(C1005,Participants!$B$3:$C$1002,2,0),\"\")","v":""},null,{"$f":"IFERROR(VLOOKUP(E1005,Participants!$B$3:$C$1002,2,0),\"\")","v":""}]
[null,null,null,{"$f":"IFERROR(VLOOKUP(C1006,Participants!$B$3:$C$1002,2,0),\"\")","v":""},null,{"$f":"IFERROR(VLOOKUP(E1006,Participants!$B$3:$C$1002,2,0),\"\")","v":""}]
[null,null,null,{"$f":"IFERROR(VLOOKUP(C1007,Participants!$B$3:$C$1002,2,0),\"\")","v":""},null,{"$f":"IFERROR(VLOOKUP(E1007,Participants!$B$3:$C$1002,2,0),\"\")","v":""}]
[null,null,null,{"$f":"IFERROR(VLOOKUP(C1008,Participants!$B$3:$C$1002,2,0),\"\")","v":""},null,{"$f":"IFERROR(VLOOKUP(E1008,Participants!$B$3:$C$1002,2,0),\"\")","v":""}]
[null,null,null,{"$f":"IFERROR(VLOOKUP(C1009,Participants!$B$3:$C$1002,2,0),\"\")","v":""},null,{"$f":"IFERROR(VLOOKUP(E1009,Participants!$B$3:$C$1002,2,0),\"\")","v":""}]
[null,null,null,{"$f":"IFERROR(VLOOKUP(C1010,Participants!$B$3:$C$1002,2,0),\"\")","v":""},null,{"$f":"IFERROR(VLOOKUP(E1010,Participants!$B$3:$C$1002,2,0),\"\")","v":""}]
[null,null,null,{"$f":"IFERROR(VLOOKUP(C1011,Participants!$B$3:$C$1002,2,0),\"\")","v":""},null,{"$f":"IFERROR(VLOOKUP(E1011,Participants!$B$3:$C$1002,2,0),\"\")","v":""}]
[null,null,null,{"$f":"IFERROR(VLOOKUP(C1012,Participants!$B$3:$C$1002,2,0),\"\")","v":""},null,{"$f":"IFERROR(VLOOKUP(E1012,Participants!$B$3:$C$1002,2,0),\"\")","v":""}]
[null,null,null,{"$f":"IFERROR(VLOOKUP(C1013,Participants!$B$3:$C$1002,2,0),\"\")","v":""},null,{"$f":"IFERROR(VLOOKUP(E1013,Participants!$B$3:$C$1002,2,0),\"\")","v":""}]
[null,null,null,{"$f":"IFERROR(VLOOKUP(C1014,Participants!$B$3:$C$1002,2,0),\"\")","v":""},null,{"$f":"IFERROR(VLOOKUP(E1014,Participants!$B$3:$C$1002,2,0),\"\")","v":""}]
[null,null,null,{"$f":"IFERROR(VLOOKUP(C1015,Participants!$B$3:$C$1002,2,0),\"\")","v":""},null,{"$f":"IFERROR(VLOOKUP(E1015,Participants!$B$3:$C$1002,2,0),\"\")","v":""}]
[null,null,null,{"$f":"IFERROR(VLOOKUP(C1016,Participants!$B$3:$C$1002,2,0),\"\")","v":""},null,{"$f":"IFERROR(VLOOKUP(E1016,Participants!$B$3:$C$1002,2,0),\"\")","v":""}]
[null,null,null,{"$f":"IFERROR(VLOOKUP(C1017,Participants!$B$3:$C$1002,2,0),\"\")","v":""},null,{"$f":"IFERROR(VLOOKUP(E1017,Participants!$B$3:$C$1002,2,0),\"\")","v":""}]
[null,null,null,{"$f":"IFERROR(VLOOKUP(C1018,Participants!$B$3:$C$1002,2,0),\"\")","v":""},null,{"$f":"IFERROR(VLOOKUP(E1018,Participants!$B$3:$C$1002,2,0),\"\")","v":""}]
[null,null,null,{"$f":"IFERROR(VLOOKUP(C1019,Participants!$B$3:$C$1002,2,0),\"\")","v":""},null,{"$f":"IFERROR(VLOOKUP(E1019,Participants!$B$3:$C$1002,2,0),\"\")","v":""}]
[null,null,null,{"$f":"IFERROR(VLOOKUP(C1020,Participants!$B$3:$C$1002,2,0),\"\")","v":""},null,{"$f":"IFERROR(VLOOKUP(E1020,Participants!$B$3:$C$1002,2,0),\"\")","v":""}]
[null,null,null,{"$f":"IFERROR(VLOOKUP(C1021,Participants!$B$3:$C$1002,2,0),\"\")","v":""},null,{"$f":"IFERROR(VLOOKUP(E1021,Participants!$B$3:$C$1002,2,0),\"\")","v":""}]
[null,null,null,{"$f":"IFERROR(VLOOKUP(C1022,Participants!$B$3:$C$1002,2,0),\"\")","v":""},null,{"$f":"IFERROR(VLOOKUP(E1022,Participants!$B$3:$C$1002,2,0),\"\")","v":""}]
[null,null,null,{"$f":"IFERROR(VLOOKUP(C1023,Participants!$B$3:$C$1002,2,0),\"\")","v":""},null,{"$f":"IFERROR(VLOOKUP(E1023,Participants!$B$3:$C$1002,2,0),\"\")","v":""}]
[null,null,null,{"$f":"IFERROR(VLOOKUP(C1024,Participants!$B$3:$C$1002,2,0),\"\")","v":""},null,{"$f":"IFERROR(VLOOKUP(E1024,Participants!$B$3:$C$1002,2,0),\"\")","v":""}]
[null,null,null,{"$f":"IFERROR(VLOOKUP(C1025,Participants!$B$3:$C$1002,2,0),\"\")","v":""},null,{"$f":"IFERROR(VLOOKUP(E1025,Participants!$B$3:$C$1002,2,0),\"\")","v":""}]
[null,null,null,{"$f":"IFERROR(VLOOKUP(C1026,Participants!$B$3:$C$1002,2,0),\"\")","v":""},null,{"$f":"IFERROR(VLOOKUP(E1026,Participants!$B$3:$C$1002,2,0),\"\")","v":""}]
[null,null,null,{"$f":"IFERROR(VLOOKUP(C1027,Participants!$B$3:$C$1002,2,0),\"\")","v":""},null,{"$f":"IFERROR(VLOOKUP(E1027,Participants!$B$3:$C$1002,2,0),\"\")","v":""}]
[null,null,null,{"$f":"IFERROR(VLOOKUP(C1028,Participants!$B$3:$C$1002,2,0),\"\")","v":""},null,{"$f":"IFERROR(VLOOKUP(E1028,Participants!$B$3:$C$1002,2,0),\"\")","v":""}]
[null,null,null,{"$f":"IFERROR(VLOOKUP(C1029,Participants!$B$3:$C$1002,2,0),\"\")","v":""},null,{"$f":"IFERROR(VLOOKUP(E1029,Participants!$B$3:$C$1002,2,0),\"\")","v":""}]
[null,null,null,{"$f":"IFERROR(VLOOKUP(C1030,Participants!$B$3:$C$1002,2,0),\"\")","v":""},null,{"$f":"IFERROR(VLOOKUP(E1030,Participants!$B$3:$C$1002,2,0),\"\")","v":""}]
[null,null,null,{"$f":"IFERROR(VLOOKUP(C1031,Participants!$B$3:$C$1002,2,0),\"\")","v":""},null,{"$f":"IFERROR(VLOOKUP(E1031,Participants!$B$3:$C$1002,2,0),\"\")","v":""}]
[null,null,null,{"$f":"IFERROR(VLOOKUP(C1032,Participants!$B$3:$C$1002,2,0),\"\")","v":""},null,{"$f":"IFERROR(VLOOKUP(E1032,Participants!$B$3:$C$1002,2,0),\"\")","v":""}]
[null,null,null,{"$f":"IFERROR(VLOOKUP(C1033,Participants!$B$3:$C$1002,2,0),\"\")","v":""},null,{"$f":"IFERROR(VLOOKUP(E1033,Participants!$B$3:$C$1002,2,0),\"\")","v":""}]
[null,null,null,{"$f":"IFERROR(VLOOKUP(C1034,Participants!$B$3:$C$1002,2,0),\"\")","v":""},null,{"$f":"IFERROR(VLOOKUP(E1034,Participants!$B$3:$C$1002,2,0),\"\")","v":""}]
[null,null,null,{"$f":"IFERROR(VLOOKUP(C1035,Participants!$B$3:$C$1002,2,0),\"\")","v":""},null,{"$f":"IFERROR(VLOOKUP(E1035,Participants!$B$3:$C$1002,2,0),\"\")","v":""}]
[null,null,null,{"$f":"IFERROR(VLOOKUP(C1036,Participants!$B$3:$C$1002,2,0),\"\")","v":""},null,{"$f":"IFERROR(VLOOKUP(E1036,Participants!$B$3:$C$1002,2,0),\"\")","v":""}]
[null,null,null,{"$f":"IFERROR(VLOOKUP(C1037,Participants!$B$3:$C$1002,2,0),\"\")","v":""},null,{"$f":"IFERROR(VLOOKUP(E1037,Participants!$B$3:$C$1002,2,0),\"\")","v":""}]
[null,null,null,{"$f":"IFERROR(VLOOKUP(C1038,Participants!$B$3:$C$1002,2,0),\"\")","v":""},null,{"$f":"IFERROR(VLOOKUP(E1038,Participants!$B$3:$C$1002,2,0),\"\")","v":""}]
[null,null,null,{"$f":"IFERROR(VLOOKUP(C1039,Participants!$B$3:$C$1002,2,0),\"\")","v":""},null,{"$f":"IFERROR(VLOOKUP(E1039,Participants!$B$3:$C$1002,2,0),\"\")","v":""}]
[null,null,null,{"$f":"IFERROR(VLOOKUP(C1040,Participants!$B$3:$C$1002,2,0),\"\")","v":""},null,{"$f":"IFERROR(VLOOKUP(E1040,Participants!$B$3:$C$1002,2,0),\"\")","v":""}]
[null,null,null,{"$f":"IFERROR(VLOOKUP(C1041,Participants!$B$3:$C$1002,2,0),\"\")","v":""},null,{"$f":"IFERROR(VLOOKUP(E1041,Participants!$B$3:$C$1002,2,0),\"\")","v":""}]
[null,null,null,{"$f":"IFERROR(VLOOKUP(C1042,Participants!$B$3:$C$1002,2,0),\"\")","v":""},null,{"$f":"IFERROR(VLOOKUP(E1042,Participants!$B$3:$C$1002,2,0),\"\")","v":""}]
[null,null,null,{"$f":"IFERROR(VLOOKUP(C1043,Participants!$B$3:$C$1002,2,0),\"\")","v":""},null,{"$f":"IFERROR(VLOOKUP(E1043,Participants!$B$3:$C$1002,2,0),\"\")","v":""}]
[null,null,null,{"$f":"IFERROR(VLOOKUP(C1044,Participants!$B$3:$C$1002,2,0),\"\")","v":""},null,{"$f":"IFERROR(VLOOKUP(E1044,Participants!$B$3:$C$1002,2,0),\"\")","v":""}]
[null,null,null,{"$f":"IFERROR(VLOOKUP(C1045,Participants!$B$3:$C$1002,2,0),\"\")","v":""},null,{"$f":"IFERROR(VLOOKUP(E1045,Participants!$B$3:$C$1002,2,0),\"\")","v":""}]
[null,null,null,{"$f":"IFERROR(VLOOKUP(C1046,Participants!$B$3:$C$1002,2,0),\"\")","v":""},null,{"$f":"IFERROR(VLOOKUP(E1046,Participants!$B$3:$C$1002,2,0),\"\")","v":""}]
[null,null,null,{"$f":"IFERROR(VLOOKUP(C1047,Participants!$B$3:$C$1002,2,0),\"\")","v":""},null,{"$f":"IFERROR(VLOOKUP(E1047,Participants!$B$3:$C$1002,2,0),\"\")","v":""}]
[null,null,null,{"$f":"IFERROR(VLOOKUP(C1048,Participants!$B$3:$C$1002,2,0),\"\")","v":""},null,{"$f":"IFERROR(VLOOKUP(E1048,Participants!$B$3:$C$1002,2,0),\"\")","v":""}]
[null,null,null,{"$f":"IFERROR(VLOOKUP(C1049,Participants!$B$3:$C$1002,2,0),\"\")","v":""},null,{"$f":"IFERROR(VLOOKUP(E1049,Participants!$B$3:$C$1002,2,0),\"\")","v":""}]
[null,null,null,{"$f":"IFERROR(VLOOKUP(C1050,Participants!$B$3:$C$1002,2,0),\"\")","v":""},null,{"$f":"IFERROR(VLOOKUP(E1050,Participants!$B$3:$C$1002,2,0),\"\")","v":""}]
[null,null,null,{"$f":"IFERROR(VLOOKUP(C1051,Participants!$B$3:$C$1002,2,0),\"\")","v":""},null,{"$f":"IFERROR(VLOOKUP(E1051,Participants!$B$3:$C$1002,2,0),\"\")","v":""}]
[null,null,null,{"$f":"IFERROR(VLOOKUP(C1052,Participants!$B$3:$C$1002,2,0),\"\")","v":""},null,{"$f":"IFERROR(VLOOKUP(E1052,Participants!$B$3:$C$1002,2,0),\"\")","v":""}]
[null,null,null,{"$f":"IFERROR(VLOOKUP(C1053,Participants!$B$3:$C$1002,2,0),\"\")","v":""},null,{"$f":"IFERROR(VLOOKUP(E1053,Participants!$B$3:$C$1002,2,0),\"\")","v":""}]
[null,null,null,{"$f":"IFERROR(VLOOKUP(C1054,Participants!$B$3:$C$1002,2,0),\"\")","v":""},null,{"$f":"IFERROR(VLOOKUP(E1054,Participants!$B$3:$C$1002,2,0),\"\")","v":""}]
[null,null,null,{"$f":"IFERROR(VLOOKUP(C1055,Participants!$B$3:$C$1002,2,0),\"\")","v":""},null,{"$f":"IFERROR(VLOOKUP(E1055,Participants!$B$3:$C$1002,2,0),\"\")","v":""}]
[null,null,null,{"$f":"IFERROR(VLOOKUP(C1056,Participants!$B$3:$C$1002,2,0),\"\")","v":""},null,{"$f":"IFERROR(VLOOKUP(E1056,Participants!$B$3:$C$1002,2,0),\"\")","v":""}]
[null,null,null,{"$f":"IFERROR(VLOOKUP(C1057,Participants!$B$3:$C$1002,2,0),\"\")","v":""},null,{"$f":"IFERROR(VLOOKUP(E1057,Participants!$B$3:$C$1002,2,0),\"\")","v":""}]
[null,null,null,{"$f":"IFERROR(VLOOKUP(C1058,Participants!$B$3:$C$1002,2,0),\"\")","v":""},null,{"$f":"IFERROR(VLOOKUP(E1058,Participants!$B$3:$C$1002,2,0),\"\")","v":""}]
[null,null,null,{"$f":"IFERROR(VLOOKUP(C1059,Participants!$B$3:$C$1002,2,0),\"\")","v":""},null,{"$f":"IFERROR(VLOOKUP(E1059,Participants!$B$3:$C$1002,2,0),\"\")","v":""}]
[null,null,null,{"$f":"IFERROR(VLOOKUP(C1060,Participants!$B$3:$C$1002,2,0),\"\")","v":""},null,{"$f":"IFERROR(VLOOKUP(E1060,Participants!$B$3:$C$1002,2,0),\"\")","v":""}]
[null,null,null,{"$f":"IFERROR(VLOOKUP(C1061,Participants!$B$3:$C$1002,2,0),\"\")","v":""},null,{"$f":"IFERROR(VLOOKUP(E1061,Participants!$B$3:$C$1002,2,0),\"\")","v":""}]
[null,null,null,{"$f":"IFERROR(VLOOKUP(C1062,Participants!$B$3:$C$1002,2,0),\"\")","v":""},null,{"$f":"IFERROR(VLOOKUP(E1062,Participants!$B$3:$C$1002,2,0),\"\")","v":""}]
[null,null,null,{"$f":"IFERROR(VLOOKUP(C1063,Participants!$B$3:$C$1002,2,0),\"\")","v":""},null,{"$f":"IFERROR(VLOOKUP(E1063,Participants!$B$3:$C$1002,2,0),\"\")","v":""}]
[null,null,null,{"$f":"IFERROR(VLOOKUP(C1064,Participants!$B$3:$C$1002,2,0),\"\")","v":""},null,{"$f":"IFERROR(VLOOKUP(E1064,Participants!$B$3:$C$1002,2,0),\"\")","v":""}]
[null,null,null,{"$f":"IFERROR(VLOOKUP(C1065,Participants!$B$3:$C$1002,2,0),\"\")","v":""},null,{"$f":"IFERROR(VLOOKUP(E1065,Participants!$B$3:$C$1002,2,0),\"\")","v":""}]
[null,null,null,{"$f":"IFERROR(VLOOKUP(C1066,Participants!$B$3:$C$1002,2,0),\"\")","v":""},null,{"$f":"IFERROR(VLOOKUP(E1066,Participants!$B$3:$C$1002,2,0),\"\")","v":""}]
[null,null,null,{"$f":"IFERROR(VLOOKUP(C1067,Participants!$B$3:$C$1002,2,0),\"\")","v":""},null,{"$f":"IFERROR(VLOOKUP(E1067,Participants!$B$3:$C$1002,2,0),\"\")","v":""}]
[null,null,null,{"$f":"IFERROR(VLOOKUP(C1068,Participants!$B$3:$C$1002,2,0),\"\")","v":""},null,{"$f":"IFERROR(VLOOKUP(E1068,Participants!$B$3:$C$1002,2,0),\"\")","v":""}]
[null,null,null,{"$f":"IFERROR(VLOOKUP(C1069,Participants!$B$3:$C$1002,2,0),\"\")","v":""},null,{"$f":"IFERROR(VLOOKUP(E1069,Participants!$B$3:$C$1002,2,0),\"\")","v":""}]
[null,null,null,{"$f":"IFERROR(VLOOKUP(C1070,Participants!$B$3:$C$1002,2,0),\"\")","v":""},null,{"$f":"IFERROR(VLOOKUP(E1070,Participants!$B$3:$C$1002,2,0),\"\")","v":""}]
[null,null,null,{"$f":"IFERROR(VLOOKUP(C1071,Participants!$B$3:$C$1002,2,0),\"\")","v":""},null,{"$f":"IFERROR(VLOOKUP(E1071,Participants!$B$3:$C$1002,2,0),\"\")","v":""}]
[null,null,null,{"$f":"IFERROR(VLOOKUP(C1072,Participants!$B$3:$C$1002,2,0),\"\")","v":""},null,{"$f":"IFERROR(VLOOKUP(E1072,Participants!$B$3:$C$1002,2,0),\"\")","v":""}]
[null,null,null,{"$f":"IFERROR(VLOOKUP(C1073,Participants!$B$3:$C$1002,2,0),\"\")","v":""},null,{"$f":"IFERROR(VLOOKUP(E1073,Participants!$B$3:$C$1002,2,0),\"\")","v":""}]
[null,null,null,{"$f":"IFERROR(VLOOKUP(C1074,Participants!$B$3:$C$1002,2,0),\"\")","v":""},null,{"$f":"IFERROR(VLOOKUP(E1074,Participants!$B$3:$C$1002,2,0),\"\")","v":""}]
[null,null,null,{"$f":"IFERROR(VLOOKUP(C1075,Participants!$B$3:$C$1002,2,0),\"\")","v":""},null,{"$f":"IFERROR(VLOOKUP(E1075,Participants!$B$3:$C$1002,2,0),\"\")","v":""}]
[null,null,null,{"$f":"IFERROR(VLOOKUP(C1076,Participants!$B$3:$C$1002,2,0),\"\")","v":""},null,{"$f":"IFERROR(VLOOKUP(E1076,Participants!$B$3:$C$1002,2,0),\"\")","v":""}]
[null,null,null,{"$f":"IFERROR(VLOOKUP(C1077,Participants!$B$3:$C$1002,2,0),\"\")","v":""},null,{"$f":"IFERROR(VLOOKUP(E1077,Participants!$B$3:$C$1002,2,0),\"\")","v":""}]
[null,null,null,{"$f":"IFERROR(VLOOKUP(C1078,Participants!$B$3:$C$1002,2,0),\"\")","v":""},null,{"$f":"IFERROR(VLOOKUP(E1078,Participants!$B$3:$C$1002,2,0),\"\")","v":""}]
[null,null,null,{"$f":"IFERROR(VLOOKUP(C1079,Participants!$B$3:$C$1002,2,0),\"\")","v":""},null,{"$f":"IFERROR(VLOOKUP(E1079,Participants!$B$3:$C$1002,2,0),\"\")","v":""}]
[null,null,null,{"$f":"IFERROR(VLOOKUP(C1080,Participants!$B$3:$C$1002,2,0),\"\")","v":""},null,{"$f":"IFERROR(VLOOKUP(E1080,Participants!$B$3:$C$1002,2,0),\"\")","v":""}]
[null,null,null,{"$f":"IFERROR(VLOOKUP(C1081,Participants!$B$3:$C$1002,2,0),\"\")","v":""},null,{"$f":"IFERROR(VLOOKUP(E1081,Participants!$B$3:$C$1002,2,0),\"\")","v":""}]
[null,null,null,{"$f":"IFERROR(VLOOKUP(C1082,Participants!$B$3:$C$1002,2,0),\"\")","v":""},null,{"$f":"IFERROR(VLOOKUP(E1082,Participants!$B$3:$C$1002,2,0),\"\")","v":""}]
[null,null,null,{"$f":"IFERROR(VLOOKUP(C1083,Participants!$B$3:$C$1002,2,0),\"\")","v":""},null,{"$f":"IFERROR(VLOOKUP(E1083,Participants!$B$3:$C$1002,2,0),\"\")","v":""}]
[null,null,null,{"$f":"IFERROR(VLOOKUP(C1084,Participants!$B$3:$C$1002,2,0),\"\")","v":""},null,{"$f":"IFERROR(VLOOKUP(E1084,Participants!$B$3:$C$1002,2,0),\"\")","v":""}]
[null,null,null,{"$f":"IFERROR(VLOOKUP(C1085,Participants!$B$3:$C$1002,2,0),\"\")","v":""},null,{"$f":"IFERROR(VLOOKUP(E1085,Participants!$B$3:$C$1002,2,0),\"\")","v":""}]
[null,null,null,{"$f":"IFERROR(VLOOKUP(C1086,Participants!$B$3:$C$1002,2,0),\"\")","v":""},null,{"$f":"IFERROR(VLOOKUP(E1086,Participants!$B$3:$C$1002,2,0),\"\")","v":""}]
[null,null,null,{"$f":"IFERROR(VLOOKUP(C1087,Participants!$B$3:$C$1002,2,0),\"\")","v":""},null,{"$f":"IFERROR(VLOOKUP(E1087,Participants!$B$3:$C$1002,2,0),\"\")","v":""}]
[null,null,null,{"$f":"IFERROR(VLOOKUP(C1088,Participants!$B$3:$C$1002,2,0),\"\")","v":""},null,{"$f":"IFERROR(VLOOKUP(E1088,Participants!$B$3:$C$1002,2,0),\"\")","v":""}]
[null,null,null,{"$f":"IFERROR(VLOOKUP(C1089,Participants!$B$3:$C$1002,2,0),\"\")","v":""},null,{"$f":"IFERROR(VLOOKUP(E1089,Participants!$B$3:$C$1002,2,0),\"\")","v":""}]
[null,null,null,{"$f":"IFERROR(VLOOKUP(C1090,Participants!$B$3:$C$1002,2,0),\"\")","v":""},null,{"$f":"IFERROR(VLOOKUP(E1090,Participants!$B$3:$C$1002,2,0),\"\")","v":""}]
[null,null,null,{"$f":"IFERROR(VLOOKUP(C1091,Participants!$B$3:$C$1002,2,0),\"\")","v":""},null,{"$f":"IFERROR(VLOOKUP(E1091,Participants!$B$3:$C$1002,2,0),\"\")","v":""}]
[null,null,null,{"$f":"IFERROR(VLOOKUP(C1092,Participants!$B$3:$C$1002,2,0),\"\")","v":""},null,{"$f":"IFERROR(VLOOKUP(E1092,Participants!$B$3:$C$1002,2,0),\"\")","v":""}]
[null,null,null,{"$f":"IFERROR(VLOOKUP(C1093,Participants!$B$3:$C$1002,2,0),\"\")","v":""},null,{"$f":"IFERROR(VLOOKUP(E1093,Participants!$B$3:$C$1002,2,0),\"\")","v":""}]
[null,null,null,{"$f":"IFERROR(VLOOKUP(C1094,Participants!$B$3:$C$1002,2,0),\"\")","v":""},null,{"$f":"IFERROR(VLOOKUP(E1094,Participants!$B$3:$C$1002,2,0),\"\")","v":""}]
[null,null,null,{"$f":"IFERROR(VLOOKUP(C1095,Participants!$B$3:$C$1002,2,0),\"\")","v":""},null,{"$f":"IFERROR(VLOOKUP(E1095,Participants!$B$3:$C$1002,2,0),\"\")","v":""}]
[null,null,null,{"$f":"IFERROR(VLOOKUP(C1096,Participants!$B$3:$C$1002,2,0),\"\")","v":""},null,{"$f":"IFERROR(VLOOKUP(E1096,Participants!$B$3:$C$1002,2,0),\"\")","v":""}]
[null,null,null,{"$f":"IFERROR(VLOOKUP(C1097,Participants!$B$3:$C$1002,2,0),\"\")","v":""},null,{"$f":"IFERROR(VLOOKUP(E1097,Participants!$B$3:$C$1002,2,0),\"\")","v":""}]
[null,null,null,{"$f":"IFERROR(VLOOKUP(C1098,Participants!$B$3:$C$1002,2,0),\"\")","v":""},null,{"$f":"IFERROR(VLOOKUP(E1098,Participants!$B$3:$C$1002,2,0),\"\")","v":""}]
[null,null,null,{"$f":"IFERROR(VLOOKUP(C1099,Participants!$B$3:$C$1002,2,0),\"\")","v":""},null,{"$f":"IFERROR(VLOOKUP(E1099,Participants!$B$3:$C$1002,2,0),\"\")","v":""}]
[null,null,null,{"$f":"IFERROR(VLOOKUP(C1100,Participants!$B$3:$C$1002,2,0),\"\")","v":""},null,{"$f":"IFERROR(VLOOKUP(E1100,Participants!$B$3:$C$1002,2,0),\"\")","v":""}]
[null,null,null,{"$f":"IFERROR(VLOOKUP(C1101,Participants!$B$3:$C$1002,2,0),\"\")","v":""},null,{"$f":"IFERROR(VLOOKUP(E1101,Participants!$B$3:$C$1002,2,0),\"\")","v":""}]
[null,null,null,{"$f":"IFERROR(VLOOKUP(C1102,Participants!$B$3:$C$1002,2,0),\"\")","v":""},null,{"$f":"IFERROR(VLOOKUP(E1102,Participants!$B$3:$C$1002,2,0),\"\")","v":""}]
[null,null,null,{"$f":"IFERROR(VLOOKUP(C1103,Participants!$B$3:$C$1002,2,0),\"\")","v":""},null,{"$f":"IFERROR(VLOOKUP(E1103,Participants!$B$3:$C$1002,2,0),\"\")","v":""}]
[null,null,null,{"$f":"IFERROR(VLOOKUP(C1104,Participants!$B$3:$C$1002,2,0),\"\")","v":""},null,{"$f":"IFERROR(VLOOKUP(E1104,Participants!$B$3:$C$1002,2,0),\"\")","v":""}]
[null,null,null,{"$f":"IFERROR(VLOOKUP(C1105,Participants!$B$3:$C$1002,2,0),\"\")","v":""},null,{"$f":"IFERROR(VLOOKUP(E1105,Participants!$B$3:$C$1002,2,0),\"\")","v":""}]
[null,null,null,{"$f":"IFERROR(VLOOKUP(C1106,Participants!$B$3:$C$1002,2,0),\"\")","v":""},null,{"$f":"IFERROR(VLOOKUP(E1106,Participants!$B$3:$C$1002,2,0),\"\")","v":""}]
[null,null,null,{"$f":"IFERROR(VLOOKUP(C1107,Participants!$B$3:$C$1002,2,0),\"\")","v":""},null,{"$f":"IFERROR(VLOOKUP(E1107,Participants!$B$3:$C$1002,2,0),\"\")","v":""}]
[null,null,null,{"$f":"IFERROR(VLOOKUP(C1108,Participants!$B$3:$C$1002,2,0),\"\")","v":""},null,{"$f":"IFERROR(VLOOKUP(E1108,Participants!$B$3:$C$1002,2,0),\"\")","v":""}]
[null,null,null,{"$f":"IFERROR(VLOOKUP(C1109,Participants!$B$3:$C$1002,2,0),\"\")","v":""},null,{"$f":"IFERROR(VLOOKUP(E1109,Participants!$B$3:$C$1002,2,0),\"\")","v":""}]
[null,null,null,{"$f":"IFERROR(VLOOKUP(C1110,Participants!$B$3:$C$1002,2,0),\"\")","v":""},null,{"$f":"IFERROR(VLOOKUP(E1110,Participants!$B$3:$C$1002,2,0),\"\")","v":""}]
[null,null,null,{"$f":"IFERROR(VLOOKUP(C1111,Participants!$B$3:$C$1002,2,0),\"\")","v":""},null,{"$f":"IFERROR(VLOOKUP(E1111,Participants!$B$3:$C$1002,2,0),\"\")","v":""}]
[null,null,null,{"$f":"IFERROR(VLOOKUP(C1112,Participants!$B$3:$C$1002,2,0),\"\")","v":""},null,{"$f":"IFERROR(VLOOKUP(E1112,Participants!$B$3:$C$1002,2,0),\"\")","v":""}]
[null,null,null,{"$f":"IFERROR(VLOOKUP(C1113,Participants!$B$3:$C$1002,2,0),\"\")","v":""},null,{"$f":"IFERROR(VLOOKUP(E1113,Participants!$B$3:$C$1002,2,0),\"\")","v":""}]
[null,null,null,{"$f":"IFERROR(VLOOKUP(C1114,Participants!$B$3:$C$1002,2,0),\"\")","v":""},null,{"$f":"IFERROR(VLOOKUP(E1114,Participants!$B$3:$C$1002,2,0),\"\")","v":""}]
[null,null,null,{"$f":"IFERROR(VLOOKUP(C1115,Participants!$B$3:$C$1002,2,0),\"\")","v":""},null,{"$f":"IFERROR(VLOOKUP(E1115,Participants!$B$3:$C$1002,2,0),\"\")","v":""}]
[null,null,null,{"$f":"IFERROR(VLOOKUP(C1116,Participants!$B$3:$C$1002,2,0),\"\")","v":""},null,{"$f":"IFERROR(VLOOKUP(E1116,Participants!$B$3:$C$1002,2,0),\"\")","v":""}]
[null,null,null,{"$f":"IFERROR(VLOOKUP(C1117,Participants!$B$3:$C$1002,2,0),\"\")","v":""},null,{"$f":"IFERROR(VLOOKUP(E1117,Participants!$B$3:$C$1002,2,0),\"\")","v":""}]
[null,null,null,{"$f":"IFERROR(VLOOKUP(C1118,Participants!$B$3:$C$1002,2,0),\"\")","v":""},null,{"$f":"IFERROR(VLOOKUP(E1118,Participants!$B$3:$C$1002,2,0),\"\")","v":""}]
[null,null,null,{"$f":"IFERROR(VLOOKUP(C1119,Participants!$B$3:$C$1002,2,0),\"\")","v":""},null,{"$f":"IFERROR(VLOOKUP(E1119,Participants!$B$3:$C$1002,2,0),\"\")","v":""}]
[null,null,null,{"$f":"IFERROR(VLOOKUP(C1120,Participants!$B$3:$C$1002,2,0),\"\")","v":""},null,{"$f":"IFERROR(VLOOKUP(E1120,Participants!$B$3:$C$1002,2,0),\"\")","v":""}]
[null,null,null,{"$f":"IFERROR(VLOOKUP(C1121,Participants!$B$3:$C$1002,2,0),\"\")","v":""},null,{"$f":"IFERROR(VLOOKUP(E1121,Participants!$B$3:$C$1002,2,0),\"\")","v":""}]
[null,null,null,{"$f":"IFERROR(VLOOKUP(C1122,Participants!$B$3:$C$1002,2,0),\"\")","v":""},null,{"$f":"IFERROR(VLOOKUP(E1122,Participants!$B$3:$C$1002,2,0),\"\")","v":""}]
[null,null,null,{"$f":"IFERROR(VLOOKUP(C1123,Participants!$B$3:$C$1002,2,0),\"\")","v":""},null,{"$f":"IFERROR(VLOOKUP(E1123,Participants!$B$3:$C$1002,2,0),\"\")","v":""}]
[null,null,null,{"$f":"IFERROR(VLOOKUP(C1124,Participants!$B$3:$C$1002,2,0),\"\")","v":""},null,{"$f":"IFERROR(VLOOKUP(E1124,Participants!$B$3:$C$1002,2,0),\"\")","v":""}]
[null,null,null,{"$f":"IFERROR(VLOOKUP(C1125,Participants!$B$3:$C$1002,2,0),\"\")","v":""},null,{"$f":"IFERROR(VLOOKUP(E1125,Participants!$B$3:$C$1002,2,0),\"\")","v":""}]
[null,null,null,{"$f":"IFERROR(VLOOKUP(C1126,Participants!$B$3:$C$1002,2,0),\"\")","v":""},null,{"$f":"IFERROR(VLOOKUP(E1126,Participants!$B$3:$C$1002,2,0),\"\")","v":""}]
[null,null,null,{"$f":"IFERROR(VLOOKUP(C1127,Participants!$B$3:$C$1002,2,0),\"\")","v":""},null,{"$f":"IFERROR(VLOOKUP(E1127,Participants!$B$3:$C$1002,2,0),\"\")","v":""}]
[null,null,null,{"$f":"IFERROR(VLOOKUP(C1128,Participants!$B$3:$C$1002,2,0),\"\")","v":""},null,{"$f":"IFERROR(VLOOKUP(E1128,Participants!$B$3:$C$1002,2,0),\"\")","v":""}]
[null,null,null,{"$f":"IFERROR(VLOOKUP(C1129,Participants!$B$3:$C$1002,2,0),\"\")","v":""},null,{"$f":"IFERROR(VLOOKUP(E1129,Participants!$B$3:$C$1002,2,0),\"\")","v":""}]
[null,null,null,{"$f":"IFERROR(VLOOKUP(C1130,Participants!$B$3:$C$1002,2,0),\"\")","v":""},null,{"$f":"IFERROR(VLOOKUP(E1130,Participants!$B$3:$C$1002,2,0),\"\")","v":""}]
[null,null,null,{"$f":"IFERROR(VLOOKUP(C1131,Participants!$B$3:$C$1002,2,0),\"\")","v":""},null,{"$f":"IFERROR(VLOOKUP(E1131,Participants!$B$3:$C$1002,2,0),\"\")","v":""}]
[null,null,null,{"$f":"IFERROR(VLOOKUP(C1132,Participants!$B$3:$C$1002,2,0),\"\")","v":""},null,{"$f":"IFERROR(VLOOKUP(E1132,Participants!$B$3:$C$1002,2,0),\"\")","v":""}]
[null,null,null,{"$f":"IFERROR(VLOOKUP(C1133,Participants!$B$3:$C$1002,2,0),\"\")","v":""},null,{"$f":"IFERROR(VLOOKUP(E1133,Participants!$B$3:$C$1002,2,0),\"\")","v":""}]
[null,null,null,{"$f":"IFERROR(VLOOKUP(C1134,Participants!$B$3:$C$1002,2,0),\"\")","v":""},null,{"$f":"IFERROR(VLOOKUP(E1134,Participants!$B$3:$C$1002,2,0),\"\")","v":""}]
[null,null,null,{"$f":"IFERROR(VLOOKUP(C1135,Participants!$B$3:$C$1002,2,0),\"\")","v":""},null,{"$f":"IFERROR(VLOOKUP(E1135,Participants!$B$3:$C$1002,2,0),\"\")","v":""}]
[null,null,null,{"$f":"IFERROR(VLOOKUP(C1136,Participants!$B$3:$C$1002,2,0),\"\")","v":""},null,{"$f":"IFERROR(VLOOKUP(E1136,Participants!$B$3:$C$1002,2,0),\"\")","v":""}]
[null,null,null,{"$f":"IFERROR(VLOOKUP(C1137,Participants!$B$3:$C$1002,2,0),\"\")","v":""},null,{"$f":"IFERROR(VLOOKUP(E1137,Participants!$B$3:$C$1002,2,0),\"\")","v":""}]
[null,null,null,{"$f":"IFERROR(VLOOKUP(C1138,Participants!$B$3:$C$1002,2,0),\"\")","v":""},null,{"$f":"IFERROR(VLOOKUP(E1138,Participants!$B$3:$C$1002,2,0),\"\")","v":""}]
[null,null,null,{"$f":"IFERROR(VLOOKUP(C1139,Participants!$B$3:$C$1002,2,0),\"\")","v":""},null,{"$f":"IFERROR(VLOOKUP(E1139,Participants!$B$3:$C$1002,2,0),\"\")","v":""}]
[null,null,null,{"$f":"IFERROR(VLOOKUP(C1140,Participants!$B$3:$C$1002,2,0),\"\")","v":""},null,{"$f":"IFERROR(VLOOKUP(E1140,Participants!$B$3:$C$1002,2,0),\"\")","v":""}]
[null,null,null,{"$f":"IFERROR(VLOOKUP(C1141,Participants!$B$3:$C$1002,2,0),\"\")","v":""},null,{"$f":"IFERROR(VLOOKUP(E1141,Participants!$B$3:$C$1002,2,0),\"\")","v":""}]
[null,null,null,{"$f":"IFERROR(VLOOKUP(C1142,Participants!$B$3:$C$1002,2,0),\"\")","v":""},null,{"$f":"IFERROR(VLOOKUP(E1142,Participants!$B$3:$C$1002,2,0),\"\")","v":""}]
[null,null,null,{"$f":"IFERROR(VLOOKUP(C1143,Participants!$B$3:$C$1002,2,0),\"\")","v":""},null,{"$f":"IFERROR(VLOOKUP(E1143,Participants!$B$3:$C$1002,2,0),\"\")","v":""}]
[null,null,null,{"$f":"IFERROR(VLOOKUP(C1144,Participants!$B$3:$C$1002,2,0),\"\")","v":""},null,{"$f":"IFERROR(VLOOKUP(E1144,Participants!$B$3:$C$1002,2,0),\"\")","v":""}]
[null,null,null,{"$f":"IFERROR(VLOOKUP(C1145,Participants!$B$3:$C$1002,2,0),\"\")","v":""},null,{"$f":"IFERROR(VLOOKUP(E1145,Participants!$B$3:$C$1002,2,0),\"\")","v":""}]
[null,null,null,{"$f":"IFERROR(VLOOKUP(C1146,Participants!$B$3:$C$1002,2,0),\"\")","v":""},null,{"$f":"IFERROR(VLOOKUP(E1146,Participants!$B$3:$C$1002,2,0),\"\")","v":""}]
[null,null,null,{"$f":"IFERROR(VLOOKUP(C1147,Participants!$B$3:$C$1002,2,0),\"\")","v":""},null,{"$f":"IFERROR(VLOOKUP(E1147,Participants!$B$3:$C$1002,2,0),\"\")","v":""}]
[null,null,null,{"$f":"IFERROR(VLOOKUP(C1148,Participants!$B$3:$C$1002,2,0),\"\")","v":""},null,{"$f":"IFERROR(VLOOKUP(E1148,Participants!$B$3:$C$1002,2,0),\"\")","v":""}]
[null,null,null,{"$f":"IFERROR(VLOOKUP(C1149,Participants!$B$3:$C$1002,2,0),\"\")","v":""},null,{"$f":"IFERROR(VLOOKUP(E1149,Participants!$B$3:$C$1002,2,0),\"\")","v":""}]
[null,null,null,{"$f":"IFERROR(VLOOKUP(C1150,Participants!$B$3:$C$1002,2,0),\"\")","v":""},null,{"$f":"IFERROR(VLOOKUP(E1150,Participants!$B$3:$C$1002,2,0),\"\")","v":""}]
[null,null,null,{"$f":"IFERROR(VLOOKUP(C1151,Participants!$B$3:$C$1002,2,0),\"\")","v":""},null,{"$f":"IFERROR(VLOOKUP(E1151,Participants!$B$3:$C$1002,2,0),\"\")","v":""}]
[null,null,null,{"$f":"IFERROR(VLOOKUP(C1152,Participants!$B$3:$C$1002,2,0),\"\")","v":""},null,{"$f":"IFERROR(VLOOKUP(E1152,Participants!$B$3:$C$1002,2,0),\"\")","v":""}]
[null,null,null,{"$f":"IFERROR(VLOOKUP(C1153,Participants!$B$3:$C$1002,2,0),\"\")","v":""},null,{"$f":"IFERROR(VLOOKUP(E1153,Participants!$B$3:$C$1002,2,0),\"\")","v":""}]
[null,null,null,{"$f":"IFERROR(VLOOKUP(C1154,Participants!$B$3:$C$1002,2,0),\"\")","v":""},null,{"$f":"IFERROR(VLOOKUP(E1154,Participants!$B$3:$C$1002,2,0),\"\")","v":""}]
[null,null,null,{"$f":"IFERROR(VLOOKUP(C1155,Participants!$B$3:$C$1002,2,0),\"\")","v":""},null,{"$f":"IFERROR(VLOOKUP(E1155,Participants!$B$3:$C$1002,2,0),\"\")","v":""}]
[null,null,null,{"$f":"IFERROR(VLOOKUP(C1156,Participants!$B$3:$C$1002,2,0),\"\")","v":""},null,{"$f":"IFERROR(VLOOKUP(E1156,Participants!$B$3:$C$1002,2,0),\"\")","v":""}]
[null,null,null,{"$f":"IFERROR(VLOOKUP(C1157,Participants!$B$3:$C$1002,2,0),\"\")","v":""},null,{"$f":"IFERROR(VLOOKUP(E1157,Participants!$B$3:$C$1002,2,0),\"\")","v":""}]
[null,null,null,{"$f":"IFERROR(VLOOKUP(C1158,Participants!$B$3:$C$1002,2,0),\"\")","v":""},null,{"$f":"IFERROR(VLOOKUP(E1158,Participants!$B$3:$C$1002,2,0),\"\")","v":""}]
[null,null,null,{"$f":"IFERROR(VLOOKUP(C1159,Participants!$B$3:$C$1002,2,0),\"\")","v":""},null,{"$f":"IFERROR(VLOOKUP(E1159,Participants!$B$3:$C$1002,2,0),\"\")","v":""}]
[null,null,null,{"$f":"IFERROR(VLOOKUP(C1160,Participants!$B$3:$C$1002,2,0),\"\")","v":""},null,{"$f":"IFERROR(VLOOKUP(E1160,Participants!$B$3:$C$1002,2,0),\"\")","v":""}]
[null,null,null,{"$f":"IFERROR(VLOOKUP(C1161,Participants!$B$3:$C$1002,2,0),\"\")","v":""},null,{"$f":"IFERROR(VLOOKUP(E1161,Participants!$B$3:$C$1002,2,0),\"\")","v":""}]
[null,null,null,{"$f":"IFERROR(VLOOKUP(C1162,Participants!$B$3:$C$1002,2,0),\"\")","v":""},null,{"$f":"IFERROR(VLOOKUP(E1162,Participants!$B$3:$C$1002,2,0),\"\")","v":""}]
[null,null,null,{"$f":"IFERROR(VLOOKUP(C1163,Participants!$B$3:$C$1002,2,0),\"\")","v":""},null,{"$f":"IFERROR(VLOOKUP(E1163,Participants!$B$3:$C$1002,2,0),\"\")","v":""}]
[null,null,null,{"$f":"IFERROR(VLOOKUP(C1164,Participants!$B$3:$C$1002,2,0),\"\")","v":""},null,{"$f":"IFERROR(VLOOKUP(E1164,Participants!$B$3:$C$1002,2,0),\"\")","v":""}]
[null,null,null,{"$f":"IFERROR(VLOOKUP(C1165,Participants!$B$3:$C$1002,2,0),\"\")","v":""},null,{"$f":"IFERROR(VLOOKUP(E1165,Participants!$B$3:$C$1002,2,0),\"\")","v":""}]
[null,null,null,{"$f":"IFERROR(VLOOKUP(C1166,Participants!$B$3:$C$1002,2,0),\"\")","v":""},null,{"$f":"IFERROR(VLOOKUP(E1166,Participants!$B$3:$C$1002,2,0),\"\")","v":""}]
[null,null,null,{"$f":"IFERROR(VLOOKUP(C1167,Participants!$B$3:$C$1002,2,0),\"\")","v":""},null,{"$f":"IFERROR(VLOOKUP(E1167,Participants!$B$3:$C$1002,2,0),\"\")","v":""}]
[null,null,null,{"$f":"IFERROR(VLOOKUP(C1168,Participants!$B$3:$C$1002,2,0),\"\")","v":""},null,{"$f":"IFERROR(VLOOKUP(E1168,Participants!$B$3:$C$1002,2,0),\"\")","v":""}]
[null,null,null,{"$f":"IFERROR(VLOOKUP(C1169,Participants!$B$3:$C$1002,2,0),\"\")","v":""},null,{"$f":"IFERROR(VLOOKUP(E1169,Participants!$B$3:$C$1002,2,0),\"\")","v":""}]
[null,null,null,{"$f":"IFERROR(VLOOKUP(C1170,Participants!$B$3:$C$1002,2,0),\"\")","v":""},null,{"$f":"IFERROR(VLOOKUP(E1170,Participants!$B$3:$C$1002,2,0),\"\")","v":""}]
[null,null,null,{"$f":"IFERROR(VLOOKUP(C1171,Participants!$B$3:$C$1002,2,0),\"\")","v":""},null,{"$f":"IFERROR(VLOOKUP(E1171,Participants!$B$3:$C$1002,2,0),\"\")","v":""}]
[null,null,null,{"$f":"IFERROR(VLOOKUP(C1172,Participants!$B$3:$C$1002,2,0),\"\")","v":""},null,{"$f":"IFERROR(VLOOKUP(E1172,Participants!$B$3:$C$1002,2,0),\"\")","v":""}]
[null,null,null,{"$f":"IFERROR(VLOOKUP(C1173,Participants!$B$3:$C$1002,2,0),\"\")","v":""},null,{"$f":"IFERROR(VLOOKUP(E1173,Participants!$B$3:$C$1002,2,0),\"\")","v":""}]
[null,null,null,{"$f":"IFERROR(VLOOKUP(C1174,Participants!$B$3:$C$1002,2,0),\"\")","v":""},null,{"$f":"IFERROR(VLOOKUP(E1174,Participants!$B$3:$C$1002,2,0),\"\")","v":""}]
[null,null,null,{"$f":"IFERROR(VLOOKUP(C1175,Participants!$B$3:$C$1002,2,0),\"\")","v":""},null,{"$f":"IFERROR(VLOOKUP(E1175,Participants!$B$3:$C$1002,2,0),\"\")","v":""}]
[null,null,null,{"$f":"IFERROR(VLOOKUP(C1176,Participants!$B$3:$C$1002,2,0),\"\")","v":""},null,{"$f":"IFERROR(VLOOKUP(E1176,Participants!$B$3:$C$1002,2,0),\"\")","v":""}]
[null,null,null,{"$f":"IFERROR(VLOOKUP(C1177,Participants!$B$3:$C$1002,2,0),\"\")","v":""},null,{"$f":"IFERROR(VLOOKUP(E1177,Participants!$B$3:$C$1002,2,0),\"\")","v":""}]
[null,null,null,{"$f":"IFERROR(VLOOKUP(C1178,Participants!$B$3:$C$1002,2,0),\"\")","v":""},null,{"$f":"IFERROR(VLOOKUP(E1178,Participants!$B$3:$C$1002,2,0),\"\")","v":""}]
[null,null,null,{"$f":"IFERROR(VLOOKUP(C1179,Participants!$B$3:$C$1002,2,0),\"\")","v":""},null,{"$f":"IFERROR(VLOOKUP(E1179,Participants!$B$3:$C$1002,2,0),\"\")","v":""}]
[null,null,null,{"$f":"IFERROR(VLOOKUP(C1180,Participants!$B$3:$C$1002,2,0),\"\")","v":""},null,{"$f":"IFERROR(VLOOKUP(E1180,Participants!$B$3:$C$1002,2,0),\"\")","v":""}]
[null,null,null,{"$f":"IFERROR(VLOOKUP(C1181,Participants!$B$3:$C$1002,2,0),\"\")","v":""},null,{"$f":"IFERROR(VLOOKUP(E1181,Participants!$B$3:$C$1002,2,0),\"\")","v":""}]
[null,null,null,{"$f":"IFERROR(VLOOKUP(C1182,Participants!$B$3:$C$1002,2,0),\"\")","v":""},null,{"$f":"IFERROR(VLOOKUP(E1182,Participants!$B$3:$C$1002,2,0),\"\")","v":""}]
[null,null,null,{"$f":"IFERROR(VLOOKUP(C1183,Participants!$B$3:$C$1002,2,0),\"\")","v":""},null,{"$f":"IFERROR(VLOOKUP(E1183,Participants!$B$3:$C$1002,2,0),\"\")","v":""}]
[null,null,null,{"$f":"IFERROR(VLOOKUP(C1184,Participants!$B$3:$C$1002,2,0),\"\")","v":""},null,{"$f":"IFERROR(VLOOKUP(E1184,Participants!$B$3:$C$1002,2,0),\"\")","v":""}]
[null,null,null,{"$f":"IFERROR(VLOOKUP(C1185,Participants!$B$3:$C$1002,2,0),\"\")","v":""},null,{"$f":"IFERROR(VLOOKUP(E1185,Participants!$B$3:$C$1002,2,0),\"\")","v":""}]
[null,null,null,{"$f":"IFERROR(VLOOKUP(C1186,Participants!$B$3:$C$1002,2,0),\"\")","v":""},null,{"$f":"IFERROR(VLOOKUP(E1186,Participants!$B$3:$C$1002,2,0),\"\")","v":""}]
[null,null,null,{"$f":"IFERROR(VLOOKUP(C1187,Participants!$B$3:$C$1002,2,0),\"\")","v":""},null,{"$f":"IFERROR(VLOOKUP(E1187,Participants!$B$3:$C$1002,2,0),\"\")","v":""}]
[null,null,null,{"$f":"IFERROR(VLOOKUP(C1188,Participants!$B$3:$C$1002,2,0),\"\")","v":""},null,{"$f":"IFERROR(VLOOKUP(E1188,Participants!$B$3:$C$1002,2,0),\"\")","v":""}]
[null,null,null,{"$f":"IFERROR(VLOOKUP(C1189,Participants!$B$3:$C$1002,2,0),\"\")","v":""},null,{"$f":"IFERROR(VLOOKUP(E1189,Participants!$B$3:$C$1002,2,0),\"\")","v":""}]
[null,null,null,{"$f":"IFERROR(VLOOKUP(C1190,Participants!$B$3:$C$1002,2,0),\"\")","v":""},null,{"$f":"IFERROR(VLOOKUP(E1190,Participants!$B$3:$C$1002,2,0),\"\")","v":""}]
[null,null,null,{"$f":"IFERROR(VLOOKUP(C1191,Participants!$B$3:$C$1002,2,0),\"\")","v":""},null,{"$f":"IFERROR(VLOOKUP(E1191,Participants!$B$3:$C$1002,2,0),\"\")","v":""}]
[null,null,null,{"$f":"IFERROR(VLOOKUP(C1192,Participants!$B$3:$C$1002,2,0),\"\")","v":""},null,{"$f":"IFERROR(VLOOKUP(E1192,Participants!$B$3:$C$1002,2,0),\"\")","v":""}]
[null,null,null,{"$f":"IFERROR(VLOOKUP(C1193,Participants!$B$3:$C$1002,2,0),\"\")","v":""},null,{"$f":"IFERROR(VLOOKUP(E1193,Participants!$B$3:$C$1002,2,0),\"\")","v":""}]
[null,null,null,{"$f":"IFERROR(VLOOKUP(C1194,Participants!$B$3:$C$1002,2,0),\"\")","v":""},null,{"$f":"IFERROR(VLOOKUP(E1194,Participants!$B$3:$C$1002,2,0),\"\")","v":""}]
[null,null,null,{"$f":"IFERROR(VLOOKUP(C1195,Participants!$B$3:$C$1002,2,0),\"\")","v":""},null,{"$f":"IFERROR(VLOOKUP(E1195,Participants!$B$3:$C$1002,2,0),\"\")","v":""}]
[null,null,null,{"$f":"IFERROR(VLOOKUP(C1196,Participants!$B$3:$C$1002,2,0),\"\")","v":""},null,{"$f":"IFERROR(VLOOKUP(E1196,Participants!$B$3:$C$1002,2,0),\"\")","v":""}]
[null,null,null,{"$f":"IFERROR(VLOOKUP(C1197,Participants!$B$3:$C$1002,2,0),\"\")","v":""},null,{"$f":"IFERROR(VLOOKUP(E1197,Participants!$B$3:$C$1002,2,0),\"\")","v":""}]
[null,null,null,{"$f":"IFERROR(VLOOKUP(C1198,Participants!$B$3:$C$1002,2,0),\"\")","v":""},null,{"$f":"IFERROR(VLOOKUP(E1198,Participants!$B$3:$C$1002,2,0),\"\")","v":""}]
[null,null,null,{"$f":"IFERROR(VLOOKUP(C1199,Participants!$B$3:$C$1002,2,0),\"\")","v":""},null,{"$f":"IFERROR(VLOOKUP(E1199,Participants!$B$3:$C$1002,2,0),\"\")","v":""}]
[null,null,null,{"$f":"IFERROR(VLOOKUP(C1200,Participants!$B$3:$C$1002,2,0),\"\")","v":""},null,{"$f":"IFERROR(VLOOKUP(E1200,Participants!$B$3:$C$1002,2,0),\"\")","v":""}]
[null,null,null,{"$f":"IFERROR(VLOOKUP(C1201,Participants!$B$3:$C$1002,2,0),\"\")","v":""},null,{"$f":"IFERROR(VLOOKUP(E1201,Participants!$B$3:$C$1002,2,0),\"\")","v":""}]
[null,null,null,{"$f":"IFERROR(VLOOKUP(C1202,Participants!$B$3:$C$1002,2,0),\"\")","v":""},null,{"$f":"IFERROR(VLOOKUP(E1202,Participants!$B$3:$C$1002,2,0),\"\")","v":""}]
[null,null,null,{"$f":"IFERROR(VLOOKUP(C1203,Participants!$B$3:$C$1002,2,0),\"\")","v":""},null,{"$f":"IFERROR(VLOOKUP(E1203,Participants!$B$3:$C$1002,2,0),\"\")","v":""}]
[null,null,null,{"$f":"IFERROR(VLOOKUP(C1204,Participants!$B$3:$C$1002,2,0),\"\")","v":""},null,{"$f":"IFERROR(VLOOKUP(E1204,Participants!$B$3:$C$1002,2,0),\"\")","v":""}]
[null,null,null,{"$f":"IFERROR(VLOOKUP(C1205,Participants!$B$3:$C$1002,2,0),\"\")","v":""},null,{"$f":"IFERROR(VLOOKUP(E1205,Participants!$B$3:$C$1002,2,0),\"\")","v":""}]
[null,null,null,{"$f":"IFERROR(VLOOKUP(C1206,Participants!$B$3:$C$1002,2,0),\"\")","v":""},null,{"$f":"IFERROR(VLOOKUP(E1206,Participants!$B$3:$C$1002,2,0),\"\")","v":""}]
[null,null,null,{"$f":"IFERROR(VLOOKUP(C1207,Participants!$B$3:$C$1002,2,0),\"\")","v":""},null,{"$f":"IFERROR(VLOOKUP(E1207,Participants!$B$3:$C$1002,2,0),\"\")","v":""}]
[null,null,null,{"$f":"IFERROR(VLOOKUP(C1208,Participants!$B$3:$C$1002,2,0),\"\")","v":""},null,{"$f":"IFERROR(VLOOKUP(E1208,Participants!$B$3:$C$1002,2,0),\"\")","v":""}]
[null,null,null,{"$f":"IFERROR(VLOOKUP(C1209,Participants!$B$3:$C$1002,2,0),\"\")","v":""},null,{"$f":"IFERROR(VLOOKUP(E1209,Participants!$B$3:$C$1002,2,0),\"\")","v":""}]
[null,null,null,{"$f":"IFERROR(VLOOKUP(C1210,Participants!$B$3:$C$1002,2,0),\"\")","v":""},null,{"$f":"IFERROR(VLOOKUP(E1210,Participants!$B$3:$C$1002,2,0),\"\")","v":""}]
[null,null,null,{"$f":"IFERROR(VLOOKUP(C1211,Participants!$B$3:$C$1002,2,0),\"\")","v":""},null,{"$f":"IFERROR(VLOOKUP(E1211,Participants!$B$3:$C$1002,2,0),\"\")","v":""}]
[null,null,null,{"$f":"IFERROR(VLOOKUP(C1212,Participants!$B$3:$C$1002,2,0),\"\")","v":""},null,{"$f":"IFERROR(VLOOKUP(E1212,Participants!$B$3:$C$1002,2,0),\"\")","v":""}]
[null,null,null,{"$f":"IFERROR(VLOOKUP(C1213,Participants!$B$3:$C$1002,2,0),\"\")","v":""},null,{"$f":"IFERROR(VLOOKUP(E1213,Participants!$B$3:$C$1002,2,0),\"\")","v":""}]
[null,null,null,{"$f":"IFERROR(VLOOKUP(C1214,Participants!$B$3:$C$1002,2,0),\"\")","v":""},null,{"$f":"IFERROR(VLOOKUP(E1214,Participants!$B$3:$C$1002,2,0),\"\")","v":""}]
[null,null,null,{"$f":"IFERROR(VLOOKUP(C1215,Participants!$B$3:$C$1002,2,0),\"\")","v":""},null,{"$f":"IFERROR(VLOOKUP(E1215,Participants!$B$3:$C$1002,2,0),\"\")","v":""}]
[null,null,null,{"$f":"IFERROR(VLOOKUP(C1216,Participants!$B$3:$C$1002,2,0),\"\")","v":""},null,{"$f":"IFERROR(VLOOKUP(E1216,Participants!$B$3:$C$1002,2,0),\"\")","v":""}]
[null,null,null,{"$f":"IFERROR(VLOOKUP(C1217,Participants!$B$3:$C$1002,2,0),\"\")","v":""},null,{"$f":"IFERROR(VLOOKUP(E1217,Participants!$B$3:$C$1002,2,0),\"\")","v":""}]
[null,null,null,{"$f":"IFERROR(VLOOKUP(C1218,Participants!$B$3:$C$1002,2,0),\"\")","v":""},null,{"$f":"IFERROR(VLOOKUP(E1218,Participants!$B$3:$C$1002,2,0),\"\")","v":""}]
[null,null,null,{"$f":"IFERROR(VLOOKUP(C1219,Participants!$B$3:$C$1002,2,0),\"\")","v":""},null,{"$f":"IFERROR(VLOOKUP(E1219,Participants!$B$3:$C$1002,2,0),\"\")","v":""}]
[null,null,null,{"$f":"IFERROR(VLOOKUP(C1220,Participants!$B$3:$C$1002,2,0),\"\")","v":""},null,{"$f":"IFERROR(VLOOKUP(E1220,Participants!$B$3:$C$1002,2,0),\"\")","v":""}]
[null,null,null,{"$f":"IFERROR(VLOOKUP(C1221,Participants!$B$3:$C$1002,2,0),\"\")","v":""},null,{"$f":"IFERROR(VLOOKUP(E1221,Participants!$B$3:$C$1002,2,0),\"\")","v":""}]
[null,null,null,{"$f":"IFERROR(VLOOKUP(C1222,Participants!$B$3:$C$1002,2,0),\"\")","v":""},null,{"$f":"IFERROR(VLOOKUP(E1222,Participants!$B$3:$C$1002,2,0),\"\")","v":""}]
[null,null,null,{"$f":"IFERROR(VLOOKUP(C1223,Participants!$B$3:$C$1002,2,0),\"\")","v":""},null,{"$f":"IFERROR(VLOOKUP(E1223,Participants!$B$3:$C$1002,2,0),\"\")","v":""}]
[null,null,null,{"$f":"IFERROR(VLOOKUP(C1224,Participants!$B$3:$C$1002,2,0),\"\")","v":""},null,{"$f":"IFERROR(VLOOKUP(E1224,Participants!$B$3:$C$1002,2,0),\"\")","v":""}]
[null,null,null,{"$f":"IFERROR(VLOOKUP(C1225,Participants!$B$3:$C$1002,2,0),\"\")","v":""},null,{"$f":"IFERROR(VLOOKUP(E1225,Participants!$B$3:$C$1002,2,0),\"\")","v":""}]
[null,null,null,{"$f":"IFERROR(VLOOKUP(C1226,Participants!$B$3:$C$1002,2,0),\"\")","v":""},null,{"$f":"IFERROR(VLOOKUP(E1226,Participants!$B$3:$C$1002,2,0),\"\")","v":""}]
[null,null,null,{"$f":"IFERROR(VLOOKUP(C1227,Participants!$B$3:$C$1002,2,0),\"\")","v":""},null,{"$f":"IFERROR(VLOOKUP(E1227,Participants!$B$3:$C$1002,2,0),\"\")","v":""}]
[null,null,null,{"$f":"IFERROR(VLOOKUP(C1228,Participants!$B$3:$C$1002,2,0),\"\")","v":""},null,{"$f":"IFERROR(VLOOKUP(E1228,Participants!$B$3:$C$1002,2,0),\"\")","v":""}]
[null,null,null,{"$f":"IFERROR(VLOOKUP(C1229,Participants!$B$3:$C$1002,2,0),\"\")","v":""},null,{"$f":"IFERROR(VLOOKUP(E1229,Participants!$B$3:$C$1002,2,0),\"\")","v":""}]
[null,null,null,{"$f":"IFERROR(VLOOKUP(C1230,Participants!$B$3:$C$1002,2,0),\"\")","v":""},null,{"$f":"IFERROR(VLOOKUP(E1230,Participants!$B$3:$C$1002,2,0),\"\")","v":""}]
[null,null,null,{"$f":"IFERROR(VLOOKUP(C1231,Participants!$B$3:$C$1002,2,0),\"\")","v":""},null,{"$f":"IFERROR(VLOOKUP(E1231,Participants!$B$3:$C$1002,2,0),\"\")","v":""}]
[null,null,null,{"$f":"IFERROR(VLOOKUP(C1232,Participants!$B$3:$C$1002,2,0),\"\")","v":""},null,{"$f":"IFERROR(VLOOKUP(E1232,Participants!$B$3:$C$1002,2,0),\"\")","v":""}]
[null,null,null,{"$f":"IFERROR(VLOOKUP(C1233,Participants!$B$3:$C$1002,2,0),\"\")","v":""},null,{"$f":"IFERROR(VLOOKUP(E1233,Participants!$B$3:$C$1002,2,0),\"\")","v":""}]
[null,null,null,{"$f":"IFERROR(VLOOKUP(C1234,Participants!$B$3:$C$1002,2,0),\"\")","v":""},null,{"$f":"IFERROR(VLOOKUP(E1234,Participants!$B$3:$C$1002,2,0),\"\")","v":""}]
[null,null,null,{"$f":"IFERROR(VLOOKUP(C1235,Participants!$B$3:$C$1002,2,0),\"\")","v":""},null,{"$f":"IFERROR(VLOOKUP(E1235,Participants!$B$3:$C$1002,2,0),\"\")","v":""}]
[null,null,null,{"$f":"IFERROR(VLOOKUP(C1236,Participants!$B$3:$C$1002,2,0),\"\")","v":""},null,{"$f":"IFERROR(VLOOKUP(E1236,Participants!$B$3:$C$1002,2,0),\"\")","v":""}]
[null,null,null,{"$f":"IFERROR(VLOOKUP(C1237,Participants!$B$3:$C$1002,2,0),\"\")","v":""},null,{"$f":"IFERROR(VLOOKUP(E1237,Participants!$B$3:$C$1002,2,0),\"\")","v":""}]
[null,null,null,{"$f":"IFERROR(VLOOKUP(C1238,Participants!$B$3:$C$1002,2,0),\"\")","v":""},null,{"$f":"IFERROR(VLOOKUP(E1238,Participants!$B$3:$C$1002,2,0),\"\")","v":""}]
[null,null,null,{"$f":"IFERROR(VLOOKUP(C1239,Participants!$B$3:$C$1002,2,0),\"\")","v":""},null,{"$f":"IFERROR(VLOOKUP(E1239,Participants!$B$3:$C$1002,2,0),\"\")","v":""}]
[null,null,null,{"$f":"IFERROR(VLOOKUP(C1240,Participants!$B$3:$C$1002,2,0),\"\")","v":""},null,{"$f":"IFERROR(VLOOKUP(E1240,Participants!$B$3:$C$1002,2,0),\"\")","v":""}]
[null,null,null,{"$f":"IFERROR(VLOOKUP(C1241,Participants!$B$3:$C$1002,2,0),\"\")","v":""},null,{"$f":"IFERROR(VLOOKUP(E1241,Participants!$B$3:$C$1002,2,0),\"\")","v":""}]
[null,null,null,{"$f":"IFERROR(VLOOKUP(C1242,Participants!$B$3:$C$1002,2,0),\"\")","v":""},null,{"$f":"IFERROR(VLOOKUP(E1242,Participants!$B$3:$C$1002,2,0),\"\")","v":""}]
[null,null,null,{"$f":"IFERROR(VLOOKUP(C1243,Participants!$B$3:$C$1002,2,0),\"\")","v":""},null,{"$f":"IFERROR(VLOOKUP(E1243,Participants!$B$3:$C$1002,2,0),\"\")","v":""}]
[null,null,null,{"$f":"IFERROR(VLOOKUP(C1244,Participants!$B$3:$C$1002,2,0),\"\")","v":""},null,{"$f":"IFERROR(VLOOKUP(E1244,Participants!$B$3:$C$1002,2,0),\"\")","v":""}]
[null,null,null,{"$f":"IFERROR(VLOOKUP(C1245,Participants!$B$3:$C$1002,2,0),\"\")","v":""},null,{"$f":"IFERROR(VLOOKUP(E1245,Participants!$B$3:$C$1002,2,0),\"\")","v":""}]
[null,null,null,{"$f":"IFERROR(VLOOKUP(C1246,Participants!$B$3:$C$1002,2,0),\"\")","v":""},null,{"$f":"IFERROR(VLOOKUP(E1246,Participants!$B$3:$C$1002,2,0),\"\")","v":""}]
[null,null,null,{"$f":"IFERROR(VLOOKUP(C1247,Participants!$B$3:$C$1002,2,0),\"\")","v":""},null,{"$f":"IFERROR(VLOOKUP(E1247,Participants!$B$3:$C$1002,2,0),\"\")","v":""}]
[null,null,null,{"$f":"IFERROR(VLOOKUP(C1248,Participants!$B$3:$C$1002,2,0),\"\")","v":""},null,{"$f":"IFERROR(VLOOKUP(E1248,Participants!$B$3:$C$1002,2,0),\"\")","v":""}]
[null,null,null,{"$f":"IFERROR(VLOOKUP(C1249,Participants!$B$3:$C$1002,2,0),\"\")","v":""},null,{"$f":"IFERROR(VLOOKUP(E1249,Participants!$B$3:$C$1002,2,0),\"\")","v":""}]
[null,null,null,{"$f":"IFERROR(VLOOKUP(C1250,Participants!$B$3:$C$1002,2,0),\"\")","v":""},null,{"$f":"IFERROR(VLOOKUP(E1250,Participants!$B$3:$C$1002,2,0),\"\")","v":""}]
[null,null,null,{"$f":"IFERROR(VLOOKUP(C1251,Participants!$B$3:$C$1002,2,0),\"\")","v":""},null,{"$f":"IFERROR(VLOOKUP(E1251,Participants!$B$3:$C$1002,2,0),\"\")","v":""}]
[null,null,null,{"$f":"IFERROR(VLOOKUP(C1252,Participants!$B$3:$C$1002,2,0),\"\")","v":""},null,{"$f":"IFERROR(VLOOKUP(E1252,Participants!$B$3:$C$1002,2,0),\"\")","v":""}]
[null,null,null,{"$f":"IFERROR(VLOOKUP(C1253,Participants!$B$3:$C$1002,2,0),\"\")","v":""},null,{"$f":"IFERROR(VLOOKUP(E1253,Participants!$B$3:$C$1002,2,0),\"\")","v":""}]
[null,null,null,{"$f":"IFERROR(VLOOKUP(C1254,Participants!$B$3:$C$1002,2,0),\"\")","v":""},null,{"$f":"IFERROR(VLOOKUP(E1254,Participants!$B$3:$C$1002,2,0),\"\")","v":""}]
[null,null,null,{"$f":"IFERROR(VLOOKUP(C1255,Participants!$B$3:$C$1002,2,0),\"\")","v":""},null,{"$f":"IFERROR(VLOOKUP(E1255,Participants!$B$3:$C$1002,2,0),\"\")","v":""}]
[null,null,null,{"$f":"IFERROR(VLOOKUP(C1256,Participants!$B$3:$C$1002,2,0),\"\")","v":""},null,{"$f":"IFERROR(VLOOKUP(E1256,Participants!$B$3:$C$1002,2,0),\"\")","v":""}]
[null,null,null,{"$f":"IFERROR(VLOOKUP(C1257,Participants!$B$3:$C$1002,2,0),\"\")","v":""},null,{"$f":"IFERROR(VLOOKUP(E1257,Participants!$B$3:$C$1002,2,0),\"\")","v":""}]
[null,null,null,{"$f":"IFERROR(VLOOKUP(C1258,Participants!$B$3:$C$1002,2,0),\"\")","v":""},null,{"$f":"IFERROR(VLOOKUP(E1258,Participants!$B$3:$C$1002,2,0),\"\")","v":""}]
[null,null,null,{"$f":"IFERROR(VLOOKUP(C1259,Participants!$B$3:$C$1002,2,0),\"\")","v":""},null,{"$f":"IFERROR(VLOOKUP(E1259,Participants!$B$3:$C$1002,2,0),\"\")","v":""}]
[null,null,null,{"$f":"IFERROR(VLOOKUP(C1260,Participants!$B$3:$C$1002,2,0),\"\")","v":""},null,{"$f":"IFERROR(VLOOKUP(E1260,Participants!$B$3:$C$1002,2,0),\"\")","v":""}]
[null,null,null,{"$f":"IFERROR(VLOOKUP(C1261,Participants!$B$3:$C$1002,2,0),\"\")","v":""},null,{"$f":"IFERROR(VLOOKUP(E1261,Participants!$B$3:$C$1002,2,0),\"\")","v":""}]
[null,null,null,{"$f":"IFERROR(VLOOKUP(C1262,Participants!$B$3:$C$1002,2,0),\"\")","v":""},null,{"$f":"IFERROR(VLOOKUP(E1262,Participants!$B$3:$C$1002,2,0),\"\")","v":""}]
[null,null,null,{"$f":"IFERROR(VLOOKUP(C1263,Participants!$B$3:$C$1002,2,0),\"\")","v":""},null,{"$f":"IFERROR(VLOOKUP(E1263,Participants!$B$3:$C$1002,2,0),\"\")","v":""}]
[null,null,null,{"$f":"IFERROR(VLOOKUP(C1264,Participants!$B$3:$C$1002,2,0),\"\")","v":""},null,{"$f":"IFERROR(VLOOKUP(E1264,Participants!$B$3:$C$1002,2,0),\"\")","v":""}]
[null,null,null,{"$f":"IFERROR(VLOOKUP(C1265,Participants!$B$3:$C$1002,2,0),\"\")","v":""},null,{"$f":"IFERROR(VLOOKUP(E1265,Participants!$B$3:$C$1002,2,0),\"\")","v":""}]
[null,null,null,{"$f":"IFERROR(VLOOKUP(C1266,Participants!$B$3:$C$1002,2,0),\"\")","v":""},null,{"$f":"IFERROR(VLOOKUP(E1266,Participants!$B$3:$C$1002,2,0),\"\")","v":""}]
[null,null,null,{"$f":"IFERROR(VLOOKUP(C1267,Participants!$B$3:$C$1002,2,0),\"\")","v":""},null,{"$f":"IFERROR(VLOOKUP(E1267,Participants!$B$3:$C$1002,2,0),\"\")","v":""}]
[null,null,null,{"$f":"IFERROR(VLOOKUP(C1268,Participants!$B$3:$C$1002,2,0),\"\")","v":""},null,{"$f":"IFERROR(VLOOKUP(E1268,Participants!$B$3:$C$1002,2,0),\"\")","v":""}]
[null,null,null,{"$f":"IFERROR(VLOOKUP(C1269,Participants!$B$3:$C$1002,2,0),\"\")","v":""},null,{"$f":"IFERROR(VLOOKUP(E1269,Participants!$B$3:$C$1002,2,0),\"\")","v":""}]
[null,null,null,{"$f":"IFERROR(VLOOKUP(C1270,Participants!$B$3:$C$1002,2,0),\"\")","v":""},null,{"$f":"IFERROR(VLOOKUP(E1270,Participants!$B$3:$C$1002,2,0),\"\")","v":""}]
[null,null,null,{"$f":"IFERROR(VLOOKUP(C1271,Participants!$B$3:$C$1002,2,0),\"\")","v":""},null,{"$f":"IFERROR(VLOOKUP(E1271,Participants!$B$3:$C$1002,2,0),\"\")","v":""}]
[null,null,null,{"$f":"IFERROR(VLOOKUP(C1272,Participants!$B$3:$C$1002,2,0),\"\")","v":""},null,{"$f":"IFERROR(VLOOKUP(E1272,Participants!$B$3:$C$1002,2,0),\"\")","v":""}]
[null,null,null,{"$f":"IFERROR(VLOOKUP(C1273,Participants!$B$3:$C$1002,2,0),\"\")","v":""},null,{"$f":"IFERROR(VLOOKUP(E1273,Participants!$B$3:$C$1002,2,0),\"\")","v":""}]
[null,null,null,{"$f":"IFERROR(VLOOKUP(C1274,Participants!$B$3:$C$1002,2,0),\"\")","v":""},null,{"$f":"IFERROR(VLOOKUP(E1274,Participants!$B$3:$C$1002,2,0),\"\")","v":""}]
[null,null,null,{"$f":"IFERROR(VLOOKUP(C1275,Participants!$B$3:$C$1002,2,0),\"\")","v":""},null,{"$f":"IFERROR(VLOOKUP(E1275,Participants!$B$3:$C$1002,2,0),\"\")","v":""}]
[null,null,null,{"$f":"IFERROR(VLOOKUP(C1276,Participants!$B$3:$C$1002,2,0),\"\")","v":""},null,{"$f":"IFERROR(VLOOKUP(E1276,Participants!$B$3:$C$1002,2,0),\"\")","v":""}]
[null,null,null,{"$f":"IFERROR(VLOOKUP(C1277,Participants!$B$3:$C$1002,2,0),\"\")","v":""},null,{"$f":"IFERROR(VLOOKUP(E1277,Participants!$B$3:$C$1002,2,0),\"\")","v":""}]
[null,null,null,{"$f":"IFERROR(VLOOKUP(C1278,Participants!$B$3:$C$1002,2,0),\"\")","v":""},null,{"$f":"IFERROR(VLOOKUP(E1278,Participants!$B$3:$C$1002,2,0),\"\")","v":""}]
[null,null,null,{"$f":"IFERROR(VLOOKUP(C1279,Participants!$B$3:$C$1002,2,0),\"\")","v":""},null,{"$f":"IFERROR(VLOOKUP(E1279,Participants!$B$3:$C$1002,2,0),\"\")","v":""}]
[null,null,null,{"$f":"IFERROR(VLOOKUP(C1280,Participants!$B$3:$C$1002,2,0),\"\")","v":""},null,{"$f":"IFERROR(VLOOKUP(E1280,Participants!$B$3:$C$1002,2,0),\"\")","v":""}]
[null,null,null,{"$f":"IFERROR(VLOOKUP(C1281,Participants!$B$3:$C$1002,2,0),\"\")","v":""},null,{"$f":"IFERROR(VLOOKUP(E1281,Participants!$B$3:$C$1002,2,0),\"\")","v":""}]
[null,null,null,{"$f":"IFERROR(VLOOKUP(C1282,Participants!$B$3:$C$1002,2,0),\"\")","v":""},null,{"$f":"IFERROR(VLOOKUP(E1282,Participants!$B$3:$C$1002,2,0),\"\")","v":""}]
[null,null,null,{"$f":"IFERROR(VLOOKUP(C1283,Participants!$B$3:$C$1002,2,0),\"\")","v":""},null,{"$f":"IFERROR(VLOOKUP(E1283,Participants!$B$3:$C$1002,2,0),\"\")","v":""}]
[null,null,null,{"$f":"IFERROR(VLOOKUP(C1284,Participants!$B$3:$C$1002,2,0),\"\")","v":""},null,{"$f":"IFERROR(VLOOKUP(E1284,Participants!$B$3:$C$1002,2,0),\"\")","v":""}]
[null,null,null,{"$f":"IFERROR(VLOOKUP(C1285,Participants!$B$3:$C$1002,2,0),\"\")","v":""},null,{"$f":"IFERROR(VLOOKUP(E1285,Participants!$B$3:$C$1002,2,0),\"\")","v":""}]
[null,null,null,{"$f":"IFERROR(VLOOKUP(C1286,Participants!$B$3:$C$1002,2,0),\"\")","v":""},null,{"$f":"IFERROR(VLOOKUP(E1286,Participants!$B$3:$C$1002,2,0),\"\")","v":""}]
[null,null,null,{"$f":"IFERROR(VLOOKUP(C1287,Participants!$B$3:$C$1002,2,0),\"\")","v":""},null,{"$f":"IFERROR(VLOOKUP(E1287,Participants!$B$3:$C$1002,2,0),\"\")","v":""}]
[null,null,null,{"$f":"IFERROR(VLOOKUP(C1288,Participants!$B$3:$C$1002,2,0),\"\")","v":""},null,{"$f":"IFERROR(VLOOKUP(E1288,Participants!$B$3:$C$1002,2,0),\"\")","v":""}]
[null,null,null,{"$f":"IFERROR(VLOOKUP(C1289,Participants!$B$3:$C$1002,2,0),\"\")","v":""},null,{"$f":"IFERROR(VLOOKUP(E1289,Participants!$B$3:$C$1002,2,0),\"\")","v":""}]
[null,null,null,{"$f":"IFERROR(VLOOKUP(C1290,Participants!$B$3:$C$1002,2,0),\"\")","v":""},null,{"$f":"IFERROR(VLOOKUP(E1290,Participants!$B$3:$C$1002,2,0),\"\")","v":""}]
[null,null,null,{"$f":"IFERROR(VLOOKUP(C1291,Participants!$B$3:$C$1002,2,0),\"\")","v":""},null,{"$f":"IFERROR(VLOOKUP(E1291,Participants!$B$3:$C$1002,2,0),\"\")","v":""}]
[null,null,null,{"$f":"IFERROR(VLOOKUP(C1292,Participants!$B$3:$C$1002,2,0),\"\")","v":""},null,{"$f":"IFERROR(VLOOKUP(E1292,Participants!$B$3:$C$1002,2,0),\"\")","v":""}]
[null,null,null,{"$f":"IFERROR(VLOOKUP(C1293,Participants!$B$3:$C$1002,2,0),\"\")","v":""},null,{"$f":"IFERROR(VLOOKUP(E1293,Participants!$B$3:$C$1002,2,0),\"\")","v":""}]
[null,null,null,{"$f":"IFERROR(VLOOKUP(C1294,Participants!$B$3:$C$1002,2,0),\"\")","v":""},null,{"$f":"IFERROR(VLOOKUP(E1294,Participants!$B$3:$C$1002,2,0),\"\")","v":""}]
[null,null,null,{"$f":"IFERROR(VLOOKUP(C1295,Participants!$B$3:$C$1002,2,0),\"\")","v":""},null,{"$f":"IFERROR(VLOOKUP(E1295,Participants!$B$3:$C$1002,2,0),\"\")","v":""}]
[null,null,null,{"$f":"IFERROR(VLOOKUP(C1296,Participants!$B$3:$C$1002,2,0),\"\")","v":""},null,{"$f":"IFERROR(VLOOKUP(E1296,Participants!$B$3:$C$1002,2,0),\"\")","v":""}]
[null,null,null,{"$f":"IFERROR(VLOOKUP(C1297,Participants!$B$3:$C$1002,2,0),\"\")","v":""},null,{"$f":"IFERROR(VLOOKUP(E1297,Participants!$B$3:$C$1002,2,0),\"\")","v":""}]
[null,null,null,{"$f":"IFERROR(VLOOKUP(C1298,Participants!$B$3:$C$1002,2,0),\"\")","v":""},null,{"$f":"IFERROR(VLOOKUP(E1298,Participants!$B$3:$C$1002,2,0),\"\")","v":""}]
[null,null,null,{"$f":"IFERROR(VLOOKUP(C1299,Participants!$B$3:$C$1002,2,0),\"\")","v":""},null,{"$f":"IFERROR(VLOOKUP(E1299,Participants!$B$3:$C$1002,2,0),\"\")","v":""}]
[null,null,null,{"$f":"IFERROR(VLOOKUP(C1300,Participants!$B$3:$C$1002,2,0),\"\")","v":""},null,{"$f":"IFERROR(VLOOKUP(E1300,Participants!$B$3:$C$1002,2,0),\"\")","v":""}]
[null,null,null,{"$f":"IFERROR(VLOOKUP(C1301,Participants!$B$3:$C$1002,2,0),\"\")","v":""},null,{"$f":"IFERROR(VLOOKUP(E1301,Participants!$B$3:$C$1002,2,0),\"\")","v":""}]
[null,null,null,{"$f":"IFERROR(VLOOKUP(C1302,Participants!$B$3:$C$1002,2,0),\"\")","v":""},null,{"$f":"IFERROR(VLOOKUP(E1302,Participants!$B$3:$C$1002,2,0),\"\")","v":""}]
[null,null,null,{"$f":"IFERROR(VLOOKUP(C1303,Participants!$B$3:$C$1002,2,0),\"\")","v":""},null,{"$f":"IFERROR(VLOOKUP(E1303,Participants!$B$3:$C$1002,2,0),\"\")","v":""}]
[null,null,null,{"$f":"IFERROR(VLOOKUP(C1304,Participants!$B$3:$C$1002,2,0),\"\")","v":""},null,{"$f":"IFERROR(VLOOKUP(E1304,Participants!$B$3:$C$1002,2,0),\"\")","v":""}]
[null,null,null,{"$f":"IFERROR(VLOOKUP(C1305,Participants!$B$3:$C$1002,2,0),\"\")","v":""},null,{"$f":"IFERROR(VLOOKUP(E1305,Participants!$B$3:$C$1002,2,0),\"\")","v":""}]
[null,null,null,{"$f":"IFERROR(VLOOKUP(C1306,Participants!$B$3:$C$1002,2,0),\"\")","v":""},null,{"$f":"IFERROR(VLOOKUP(E1306,Participants!$B$3:$C$1002,2,0),\"\")","v":""}]
[null,null,null,{"$f":"IFERROR(VLOOKUP(C1307,Participants!$B$3:$C$1002,2,0),\"\")","v":""},null,{"$f":"IFERROR(VLOOKUP(E1307,Participants!$B$3:$C$1002,2,0),\"\")","v":""}]
[null,null,null,{"$f":"IFERROR(VLOOKUP(C1308,Participants!$B$3:$C$1002,2,0),\"\")","v":""},null,{"$f":"IFERROR(VLOOKUP(E1308,Participants!$B$3:$C$1002,2,0),\"\")","v":""}]
[null,null,null,{"$f":"IFERROR(VLOOKUP(C1309,Participants!$B$3:$C$1002,2,0),\"\")","v":""},null,{"$f":"IFERROR(VLOOKUP(E1309,Participants!$B$3:$C$1002,2,0),\"\")","v":""}]
[null,null,null,{"$f":"IFERROR(VLOOKUP(C1310,Participants!$B$3:$C$1002,2,0),\"\")","v":""},null,{"$f":"IFERROR(VLOOKUP(E1310,Participants!$B$3:$C$1002,2,0),\"\")","v":""}]
[null,null,null,{"$f":"IFERROR(VLOOKUP(C1311,Participants!$B$3:$C$1002,2,0),\"\")","v":""},null,{"$f":"IFERROR(VLOOKUP(E1311,Participants!$B$3:$C$1002,2,0),\"\")","v":""}]
[null,null,null,{"$f":"IFERROR(VLOOKUP(C1312,Participants!$B$3:$C$1002,2,0),\"\")","v":""},null,{"$f":"IFERROR(VLOOKUP(E1312,Participants!$B$3:$C$1002,2,0),\"\")","v":""}]
[null,null,null,{"$f":"IFERROR(VLOOKUP(C1313,Participants!$B$3:$C$1002,2,0),\"\")","v":""},null,{"$f":"IFERROR(VLOOKUP(E1313,Participants!$B$3:$C$1002,2,0),\"\")","v":""}]
[null,null,null,{"$f":"IFERROR(VLOOKUP(C1314,Participants!$B$3:$C$1002,2,0),\"\")","v":""},null,{"$f":"IFERROR(VLOOKUP(E1314,Participants!$B$3:$C$1002,2,0),\"\")","v":""}]
[null,null,null,{"$f":"IFERROR(VLOOKUP(C1315,Participants!$B$3:$C$1002,2,0),\"\")","v":""},null,{"$f":"IFERROR(VLOOKUP(E1315,Participants!$B$3:$C$1002,2,0),\"\")","v":""}]
[null,null,null,{"$f":"IFERROR(VLOOKUP(C1316,Participants!$B$3:$C$1002,2,0),\"\")","v":""},null,{"$f":"IFERROR(VLOOKUP(E1316,Participants!$B$3:$C$1002,2,0),\"\")","v":""}]
[null,null,null,{"$f":"IFERROR(VLOOKUP(C1317,Participants!$B$3:$C$1002,2,0),\"\")","v":""},null,{"$f":"IFERROR(VLOOKUP(E1317,Participants!$B$3:$C$1002,2,0),\"\")","v":""}]
[null,null,null,{"$f":"IFERROR(VLOOKUP(C1318,Participants!$B$3:$C$1002,2,0),\"\")","v":""},null,{"$f":"IFERROR(VLOOKUP(E1318,Participants!$B$3:$C$1002,2,0),\"\")","v":""}]
[null,null,null,{"$f":"IFERROR(VLOOKUP(C1319,Participants!$B$3:$C$1002,2,0),\"\")","v":""},null,{"$f":"IFERROR(VLOOKUP(E1319,Participants!$B$3:$C$1002,2,0),\"\")","v":""}]
[null,null,null,{"$f":"IFERROR(VLOOKUP(C1320,Participants!$B$3:$C$1002,2,0),\"\")","v":""},null,{"$f":"IFERROR(VLOOKUP(E1320,Participants!$B$3:$C$1002,2,0),\"\")","v":""}]
[null,null,null,{"$f":"IFERROR(VLOOKUP(C1321,Participants!$B$3:$C$1002,2,0),\"\")","v":""},null,{"$f":"IFERROR(VLOOKUP(E1321,Participants!$B$3:$C$1002,2,0),\"\")","v":""}]
[null,null,null,{"$f":"IFERROR(VLOOKUP(C1322,Participants!$B$3:$C$1002,2,0),\"\")","v":""},null,{"$f":"IFERROR(VLOOKUP(E1322,Participants!$B$3:$C$1002,2,0),\"\")","v":""}]
[null,null,null,{"$f":"IFERROR(VLOOKUP(C1323,Participants!$B$3:$C$1002,2,0),\"\")","v":""},null,{"$f":"IFERROR(VLOOKUP(E1323,Participants!$B$3:$C$1002,2,0),\"\")","v":""}]
[null,null,null,{"$f":"IFERROR(VLOOKUP(C1324,Participants!$B$3:$C$1002,2,0),\"\")","v":""},null,{"$f":"IFERROR(VLOOKUP(E1324,Participants!$B$3:$C$1002,2,0),\"\")","v":""}]
[null,null,null,{"$f":"IFERROR(VLOOKUP(C1325,Participants!$B$3:$C$1002,2,0),\"\")","v":""},null,{"$f":"IFERROR(VLOOKUP(E1325,Participants!$B$3:$C$1002,2,0),\"\")","v":""}]
[null,null,null,{"$f":"IFERROR(VLOOKUP(C1326,Participants!$B$3:$C$1002,2,0),\"\")","v":""},null,{"$f":"IFERROR(VLOOKUP(E1326,Participants!$B$3:$C$1002,2,0),\"\")","v":""}]
[null,null,null,{"$f":"IFERROR(VLOOKUP(C1327,Participants!$B$3:$C$1002,2,0),\"\")","v":""},null,{"$f":"IFERROR(VLOOKUP(E1327,Participants!$B$3:$C$1002,2,0),\"\")","v":""}]
[null,null,null,{"$f":"IFERROR(VLOOKUP(C1328,Participants!$B$3:$C$1002,2,0),\"\")","v":""},null,{"$f":"IFERROR(VLOOKUP(E1328,Participants!$B$3:$C$1002,2,0),\"\")","v":""}]
[null,null,null,{"$f":"IFERROR(VLOOKUP(C1329,Participants!$B$3:$C$1002,2,0),\"\")","v":""},null,{"$f":"IFERROR(VLOOKUP(E1329,Participants!$B$3:$C$1002,2,0),\"\")","v":""}]
[null,null,null,{"$f":"IFERROR(VLOOKUP(C1330,Participants!$B$3:$C$1002,2,0),\"\")","v":""},null,{"$f":"IFERROR(VLOOKUP(E1330,Participants!$B$3:$C$1002,2,0),\"\")","v":""}]
[null,null,null,{"$f":"IFERROR(VLOOKUP(C1331,Participants!$B$3:$C$1002,2,0),\"\")","v":""},null,{"$f":"IFERROR(VLOOKUP(E1331,Participants!$B$3:$C$1002,2,0),\"\")","v":""}]
[null,null,null,{"$f":"IFERROR(VLOOKUP(C1332,Participants!$B$3:$C$1002,2,0),\"\")","v":""},null,{"$f":"IFERROR(VLOOKUP(E1332,Participants!$B$3:$C$1002,2,0),\"\")","v":""}]
[null,null,null,{"$f":"IFERROR(VLOOKUP(C1333,Participants!$B$3:$C$1002,2,0),\"\")","v":""},null,{"$f":"IFERROR(VLOOKUP(E1333,Participants!$B$3:$C$1002,2,0),\"\")","v":""}]
[null,null,null,{"$f":"IFERROR(VLOOKUP(C1334,Participants!$B$3:$C$1002,2,0),\"\")","v":""},null,{"$f":"IFERROR(VLOOKUP(E1334,Participants!$B$3:$C$1002,2,0),\"\")","v":""}]
[null,null,null,{"$f":"IFERROR(VLOOKUP(C1335,Participants!$B$3:$C$1002,2,0),\"\")","v":""},null,{"$f":"IFERROR(VLOOKUP(E1335,Participants!$B$3:$C$1002,2,0),\"\")","v":""}]
[null,null,null,{"$f":"IFERROR(VLOOKUP(C1336,Participants!$B$3:$C$1002,2,0),\"\")","v":""},null,{"$f":"IFERROR(VLOOKUP(E1336,Participants!$B$3:$C$1002,2,0),\"\")","v":""}]
[null,null,null,{"$f":"IFERROR(VLOOKUP(C1337,Participants!$B$3:$C$1002,2,0),\"\")","v":""},null,{"$f":"IFERROR(VLOOKUP(E1337,Participants!$B$3:$C$1002,2,0),\"\")","v":""}]
[null,null,null,{"$f":"IFERROR(VLOOKUP(C1338,Participants!$B$3:$C$1002,2,0),\"\")","v":""},null,{"$f":"IFERROR(VLOOKUP(E1338,Participants!$B$3:$C$1002,2,0),\"\")","v":""}]
[null,null,null,{"$f":"IFERROR(VLOOKUP(C1339,Participants!$B$3:$C$1002,2,0),\"\")","v":""},null,{"$f":"IFERROR(VLOOKUP(E1339,Participants!$B$3:$C$1002,2,0),\"\")","v":""}]
[null,null,null,{"$f":"IFERROR(VLOOKUP(C1340,Participants!$B$3:$C$1002,2,0),\"\")","v":""},null,{"$f":"IFERROR(VLOOKUP(E1340,Participants!$B$3:$C$1002,2,0),\"\")","v":""}]
[null,null,null,{"$f":"IFERROR(VLOOKUP(C1341,Participants!$B$3:$C$1002,2,0),\"\")","v":""},null,{"$f":"IFERROR(VLOOKUP(E1341,Participants!$B$3:$C$1002,2,0),\"\")","v":""}]
[null,null,null,{"$f":"IFERROR(VLOOKUP(C1342,Participants!$B$3:$C$1002,2,0),\"\")","v":""},null,{"$f":"IFERROR(VLOOKUP(E1342,Participants!$B$3:$C$1002,2,0),\"\")","v":""}]
[null,null,null,{"$f":"IFERROR(VLOOKUP(C1343,Participants!$B$3:$C$1002,2,0),\"\")","v":""},null,{"$f":"IFERROR(VLOOKUP(E1343,Participants!$B$3:$C$1002,2,0),\"\")","v":""}]
[null,null,null,{"$f":"IFERROR(VLOOKUP(C1344,Participants!$B$3:$C$1002,2,0),\"\")","v":""},null,{"$f":"IFERROR(VLOOKUP(E1344,Participants!$B$3:$C$1002,2,0),\"\")","v":""}]
[null,null,null,{"$f":"IFERROR(VLOOKUP(C1345,Participants!$B$3:$C$1002,2,0),\"\")","v":""},null,{"$f":"IFERROR(VLOOKUP(E1345,Participants!$B$3:$C$1002,2,0),\"\")","v":""}]
[null,null,null,{"$f":"IFERROR(VLOOKUP(C1346,Participants!$B$3:$C$1002,2,0),\"\")","v":""},null,{"$f":"IFERROR(VLOOKUP(E1346,Participants!$B$3:$C$1002,2,0),\"\")","v":""}]
[null,null,null,{"$f":"IFERROR(VLOOKUP(C1347,Participants!$B$3:$C$1002,2,0),\"\")","v":""},null,{"$f":"IFERROR(VLOOKUP(E1347,Participants!$B$3:$C$1002,2,0),\"\")","v":""}]
[null,null,null,{"$f":"IFERROR(VLOOKUP(C1348,Participants!$B$3:$C$1002,2,0),\"\")","v":""},null,{"$f":"IFERROR(VLOOKUP(E1348,Participants!$B$3:$C$1002,2,0),\"\")","v":""}]
[null,null,null,{"$f":"IFERROR(VLOOKUP(C1349,Participants!$B$3:$C$1002,2,0),\"\")","v":""},null,{"$f":"IFERROR(VLOOKUP(E1349,Participants!$B$3:$C$1002,2,0),\"\")","v":""}]
[null,null,null,{"$f":"IFERROR(VLOOKUP(C1350,Participants!$B$3:$C$1002,2,0),\"\")","v":""},null,{"$f":"IFERROR(VLOOKUP(E1350,Participants!$B$3:$C$1002,2,0),\"\")","v":""}]
[null,null,null,{"$f":"IFERROR(VLOOKUP(C1351,Participants!$B$3:$C$1002,2,0),\"\")","v":""},null,{"$f":"IFERROR(VLOOKUP(E1351,Participants!$B$3:$C$1002,2,0),\"\")","v":""}]
[null,null,null,{"$f":"IFERROR(VLOOKUP(C1352,Participants!$B$3:$C$1002,2,0),\"\")","v":""},null,{"$f":"IFERROR(VLOOKUP(E1352,Participants!$B$3:$C$1002,2,0),\"\")","v":""}]
[null,null,null,{"$f":"IFERROR(VLOOKUP(C1353,Participants!$B$3:$C$1002,2,0),\"\")","v":""},null,{"$f":"IFERROR(VLOOKUP(E1353,Participants!$B$3:$C$1002,2,0),\"\")","v":""}]
[null,null,null,{"$f":"IFERROR(VLOOKUP(C1354,Participants!$B$3:$C$1002,2,0),\"\")","v":""},null,{"$f":"IFERROR(VLOOKUP(E1354,Participants!$B$3:$C$1002,2,0),\"\")","v":""}]
[null,null,null,{"$f":"IFERROR(VLOOKUP(C1355,Participants!$B$3:$C$1002,2,0),\"\")","v":""},null,{"$f":"IFERROR(VLOOKUP(E1355,Participants!$B$3:$C$1002,2,0),\"\")","v":""}]
[null,null,null,{"$f":"IFERROR(VLOOKUP(C1356,Participants!$B$3:$C$1002,2,0),\"\")","v":""},null,{"$f":"IFERROR(VLOOKUP(E1356,Participants!$B$3:$C$1002,2,0),\"\")","v":""}]
[null,null,null,{"$f":"IFERROR(VLOOKUP(C1357,Participants!$B$3:$C$1002,2,0),\"\")","v":""},null,{"$f":"IFERROR(VLOOKUP(E1357,Participants!$B$3:$C$1002,2,0),\"\")","v":""}]
[null,null,null,{"$f":"IFERROR(VLOOKUP(C1358,Participants!$B$3:$C$1002,2,0),\"\")","v":""},null,{"$f":"IFERROR(VLOOKUP(E1358,Participants!$B$3:$C$1002,2,0),\"\")","v":""}]
[null,null,null,{"$f":"IFERROR(VLOOKUP(C1359,Participants!$B$3:$C$1002,2,0),\"\")","v":""},null,{"$f":"IFERROR(VLOOKUP(E1359,Participants!$B$3:$C$1002,2,0),\"\")","v":""}]
[null,null,null,{"$f":"IFERROR(VLOOKUP(C1360,Participants!$B$3:$C$1002,2,0),\"\")","v":""},null,{"$f":"IFERROR(VLOOKUP(E1360,Participants!$B$3:$C$1002,2,0),\"\")","v":""}]
[null,null,null,{"$f":"IFERROR(VLOOKUP(C1361,Participants!$B$3:$C$1002,2,0),\"\")","v":""},null,{"$f":"IFERROR(VLOOKUP(E1361,Participants!$B$3:$C$1002,2,0),\"\")","v":""}]
[null,null,null,{"$f":"IFERROR(VLOOKUP(C1362,Participants!$B$3:$C$1002,2,0),\"\")","v":""},null,{"$f":"IFERROR(VLOOKUP(E1362,Participants!$B$3:$C$1002,2,0),\"\")","v":""}]
[null,null,null,{"$f":"IFERROR(VLOOKUP(C1363,Participants!$B$3:$C$1002,2,0),\"\")","v":""},null,{"$f":"IFERROR(VLOOKUP(E1363,Participants!$B$3:$C$1002,2,0),\"\")","v":""}]
[null,null,null,{"$f":"IFERROR(VLOOKUP(C1364,Participants!$B$3:$C$1002,2,0),\"\")","v":""},null,{"$f":"IFERROR(VLOOKUP(E1364,Participants!$B$3:$C$1002,2,0),\"\")","v":""}]
[null,null,null,{"$f":"IFERROR(VLOOKUP(C1365,Participants!$B$3:$C$1002,2,0),\"\")","v":""},null,{"$f":"IFERROR(VLOOKUP(E1365,Participants!$B$3:$C$1002,2,0),\"\")","v":""}]
[null,null,null,{"$f":"IFERROR(VLOOKUP(C1366,Participants!$B$3:$C$1002,2,0),\"\")","v":""},null,{"$f":"IFERROR(VLOOKUP(E1366,Participants!$B$3:$C$1002,2,0),\"\")","v":""}]
[null,null,null,{"$f":"IFERROR(VLOOKUP(C1367,Participants!$B$3:$C$1002,2,0),\"\")","v":""},null,{"$f":"IFERROR(VLOOKUP(E1367,Participants!$B$3:$C$1002,2,0),\"\")","v":""}]
[null,null,null,{"$f":"IFERROR(VLOOKUP(C1368,Participants!$B$3:$C$1002,2,0),\"\")","v":""},null,{"$f":"IFERROR(VLOOKUP(E1368,Participants!$B$3:$C$1002,2,0),\"\")","v":""}]
[null,null,null,{"$f":"IFERROR(VLOOKUP(C1369,Participants!$B$3:$C$1002,2,0),\"\")","v":""},null,{"$f":"IFERROR(VLOOKUP(E1369,Participants!$B$3:$C$1002,2,0),\"\")","v":""}]
[null,null,null,{"$f":"IFERROR(VLOOKUP(C1370,Participants!$B$3:$C$1002,2,0),\"\")","v":""},null,{"$f":"IFERROR(VLOOKUP(E1370,Participants!$B$3:$C$1002,2,0),\"\")","v":""}]
[null,null,null,{"$f":"IFERROR(VLOOKUP(C1371,Participants!$B$3:$C$1002,2,0),\"\")","v":""},null,{"$f":"IFERROR(VLOOKUP(E1371,Participants!$B$3:$C$1002,2,0),\"\")","v":""}]
[null,null,null,{"$f":"IFERROR(VLOOKUP(C1372,Participants!$B$3:$C$1002,2,0),\"\")","v":""},null,{"$f":"IFERROR(VLOOKUP(E1372,Participants!$B$3:$C$1002,2,0),\"\")","v":""}]
[null,null,null,{"$f":"IFERROR(VLOOKUP(C1373,Participants!$B$3:$C$1002,2,0),\"\")","v":""},null,{"$f":"IFERROR(VLOOKUP(E1373,Participants!$B$3:$C$1002,2,0),\"\")","v":""}]
[null,null,null,{"$f":"IFERROR(VLOOKUP(C1374,Participants!$B$3:$C$1002,2,0),\"\")","v":""},null,{"$f":"IFERROR(VLOOKUP(E1374,Participants!$B$3:$C$1002,2,0),\"\")","v":""}]
[null,null,null,{"$f":"IFERROR(VLOOKUP(C1375,Participants!$B$3:$C$1002,2,0),\"\")","v":""},null,{"$f":"IFERROR(VLOOKUP(E1375,Participants!$B$3:$C$1002,2,0),\"\")","v":""}]
[null,null,null,{"$f":"IFERROR(VLOOKUP(C1376,Participants!$B$3:$C$1002,2,0),\"\")","v":""},null,{"$f":"IFERROR(VLOOKUP(E1376,Participants!$B$3:$C$1002,2,0),\"\")","v":""}]
[null,null,null,{"$f":"IFERROR(VLOOKUP(C1377,Participants!$B$3:$C$1002,2,0),\"\")","v":""},null,{"$f":"IFERROR(VLOOKUP(E1377,Participants!$B$3:$C$1002,2,0),\"\")","v":""}]
[null,null,null,{"$f":"IFERROR(VLOOKUP(C1378,Participants!$B$3:$C$1002,2,0),\"\")","v":""},null,{"$f":"IFERROR(VLOOKUP(E1378,Participants!$B$3:$C$1002,2,0),\"\")","v":""}]
[null,null,null,{"$f":"IFERROR(VLOOKUP(C1379,Participants!$B$3:$C$1002,2,0),\"\")","v":""},null,{"$f":"IFERROR(VLOOKUP(E1379,Participants!$B$3:$C$1002,2,0),\"\")","v":""}]
[null,null,null,{"$f":"IFERROR(VLOOKUP(C1380,Participants!$B$3:$C$1002,2,0),\"\")","v":""},null,{"$f":"IFERROR(VLOOKUP(E1380,Participants!$B$3:$C$1002,2,0),\"\")","v":""}]
[null,null,null,{"$f":"IFERROR(VLOOKUP(C1381,Participants!$B$3:$C$1002,2,0),\"\")","v":""},null,{"$f":"IFERROR(VLOOKUP(E1381,Participants!$B$3:$C$1002,2,0),\"\")","v":""}]
[null,null,null,{"$f":"IFERROR(VLOOKUP(C1382,Participants!$B$3:$C$1002,2,0),\"\")","v":""},null,{"$f":"IFERROR(VLOOKUP(E1382,Participants!$B$3:$C$1002,2,0),\"\")","v":""}]
[null,null,null,{"$f":"IFERROR(VLOOKUP(C1383,Participants!$B$3:$C$1002,2,0),\"\")","v":""},null,{"$f":"IFERROR(VLOOKUP(E1383,Participants!$B$3:$C$1002,2,0),\"\")","v":""}]
[null,null,null,{"$f":"IFERROR(VLOOKUP(C1384,Participants!$B$3:$C$1002,2,0),\"\")","v":""},null,{"$f":"IFERROR(VLOOKUP(E1384,Participants!$B$3:$C$1002,2,0),\"\")","v":""}]
[null,null,null,{"$f":"IFERROR(VLOOKUP(C1385,Participants!$B$3:$C$1002,2,0),\"\")","v":""},null,{"$f":"IFERROR(VLOOKUP(E1385,Participants!$B$3:$C$1002,2,0),\"\")","v":""}]
[null,null,null,{"$f":"IFERROR(VLOOKUP(C1386,Participants!$B$3:$C$1002,2,0),\"\")","v":""},null,{"$f":"IFERROR(VLOOKUP(E1386,Participants!$B$3:$C$1002,2,0),\"\")","v":""}]
[null,null,null,{"$f":"IFERROR(VLOOKUP(C1387,Participants!$B$3:$C$1002,2,0),\"\")","v":""},null,{"$f":"IFERROR(VLOOKUP(E1387,Participants!$B$3:$C$1002,2,0),\"\")","v":""}]
[null,null,null,{"$f":"IFERROR(VLOOKUP(C1388,Participants!$B$3:$C$1002,2,0),\"\")","v":""},null,{"$f":"IFERROR(VLOOKUP(E1388,Participants!$B$3:$C$1002,2,0),\"\")","v":""}]
[null,null,null,{"$f":"IFERROR(VLOOKUP(C1389,Participants!$B$3:$C$1002,2,0),\"\")","v":""},null,{"$f":"IFERROR(VLOOKUP(E1389,Participants!$B$3:$C$1002,2,0),\"\")","v":""}]
[null,null,null,{"$f":"IFERROR(VLOOKUP(C1390,Participants!$B$3:$C$1002,2,0),\"\")","v":""},null,{"$f":"IFERROR(VLOOKUP(E1390,Participants!$B$3:$C$1002,2,0),\"\")","v":""}]
[null,null,null,{"$f":"IFERROR(VLOOKUP(C1391,Participants!$B$3:$C$1002,2,0),\"\")","v":""},null,{"$f":"IFERROR(VLOOKUP(E1391,Participants!$B$3:$C$1002,2,0),\"\")","v":""}]
[null,null,null,{"$f":"IFERROR(VLOOKUP(C1392,Participants!$B$3:$C$1002,2,0),\"\")","v":""},null,{"$f":"IFERROR(VLOOKUP(E1392,Participants!$B$3:$C$1002,2,0),\"\")","v":""}]
[null,null,null,{"$f":"IFERROR(VLOOKUP(C1393,Participants!$B$3:$C$1002,2,0),\"\")","v":""},null,{"$f":"IFERROR(VLOOKUP(E1393,Participants!$B$3:$C$1002,2,0),\"\")","v":""}]
[null,null,null,{"$f":"IFERROR(VLOOKUP(C1394,Participants!$B$3:$C$1002,2,0),\"\")","v":""},null,{"$f":"IFERROR(VLOOKUP(E1394,Participants!$B$3:$C$1002,2,0),\"\")","v":""}]
[null,null,null,{"$f":"IFERROR(VLOOKUP(C1395,Participants!$B$3:$C$1002,2,0),\"\")","v":""},null,{"$f":"IFERROR(VLOOKUP(E1395,Participants!$B$3:$C$1002,2,0),\"\")","v":""}]
[null,null,null,{"$f":"IFERROR(VLOOKUP(C1396,Participants!$B$3:$C$1002,2,0),\"\")","v":""},null,{"$f":"IFERROR(VLOOKUP(E1396,Participants!$B$3:$C$1002,2,0),\"\")","v":""}]
[null,null,null,{"$f":"IFERROR(VLOOKUP(C1397,Participants!$B$3:$C$1002,2,0),\"\")","v":""},null,{"$f":"IFERROR(VLOOKUP(E1397,Participants!$B$3:$C$1002,2,0),\"\")","v":""}]
[null,null,null,{"$f":"IFERROR(VLOOKUP(C1398,Participants!$B$3:$C$1002,2,0),\"\")","v":""},null,{"$f":"IFERROR(VLOOKUP(E1398,Participants!$B$3:$C$1002,2,0),\"\")","v":""}]
[null,null,null,{"$f":"IFERROR(VLOOKUP(C1399,Participants!$B$3:$C$1002,2,0),\"\")","v":""},null,{"$f":"IFERROR(VLOOKUP(E1399,Participants!$B$3:$C$1002,2,0),\"\")","v":""}]
[null,null,null,{"$f":"IFERROR(VLOOKUP(C1400,Participants!$B$3:$C$1002,2,0),\"\")","v":""},null,{"$f":"IFERROR(VLOOKUP(E1400,Participants!$B$3:$C$1002,2,0),\"\")","v":""}]
[null,null,null,{"$f":"IFERROR(VLOOKUP(C1401,Participants!$B$3:$C$1002,2,0),\"\")","v":""},null,{"$f":"IFERROR(VLOOKUP(E1401,Participants!$B$3:$C$1002,2,0),\"\")","v":""}]
[null,null,null,{"$f":"IFERROR(VLOOKUP(C1402,Participants!$B$3:$C$1002,2,0),\"\")","v":""},null,{"$f":"IFERROR(VLOOKUP(E1402,Participants!$B$3:$C$1002,2,0),\"\")","v":""}]
[null,null,null,{"$f":"IFERROR(VLOOKUP(C1403,Participants!$B$3:$C$1002,2,0),\"\")","v":""},null,{"$f":"IFERROR(VLOOKUP(E1403,Participants!$B$3:$C$1002,2,0),\"\")","v":""}]
[null,null,null,{"$f":"IFERROR(VLOOKUP(C1404,Participants!$B$3:$C$1002,2,0),\"\")","v":""},null,{"$f":"IFERROR(VLOOKUP(E1404,Participants!$B$3:$C$1002,2,0),\"\")","v":""}]
[null,null,null,{"$f":"IFERROR(VLOOKUP(C1405,Participants!$B$3:$C$1002,2,0),\"\")","v":""},null,{"$f":"IFERROR(VLOOKUP(E1405,Participants!$B$3:$C$1002,2,0),\"\")","v":""}]
[null,null,null,{"$f":"IFERROR(VLOOKUP(C1406,Participants!$B$3:$C$1002,2,0),\"\")","v":""},null,{"$f":"IFERROR(VLOOKUP(E1406,Participants!$B$3:$C$1002,2,0),\"\")","v":""}]
[null,null,null,{"$f":"IFERROR(VLOOKUP(C1407,Participants!$B$3:$C$1002,2,0),\"\")","v":""},null,{"$f":"IFERROR(VLOOKUP(E1407,Participants!$B$3:$C$1002,2,0),\"\")","v":""}]
[null,null,null,{"$f":"IFERROR(VLOOKUP(C1408,Participants!$B$3:$C$1002,2,0),\"\")","v":""},null,{"$f":"IFERROR(VLOOKUP(E1408,Participants!$B$3:$C$1002,2,0),\"\")","v":""}]
[null,null,null,{"$f":"IFERROR(VLOOKUP(C1409,Participants!$B$3:$C$1002,2,0),\"\")","v":""},null,{"$f":"IFERROR(VLOOKUP(E1409,Participants!$B$3:$C$1002,2,0),\"\")","v":""}]
[null,null,null,{"$f":"IFERROR(VLOOKUP(C1410,Participants!$B$3:$C$1002,2,0),\"\")","v":""},null,{"$f":"IFERROR(VLOOKUP(E1410,Participants!$B$3:$C$1002,2,0),\"\")","v":""}]
[null,null,null,{"$f":"IFERROR(VLOOKUP(C1411,Participants!$B$3:$C$1002,2,0),\"\")","v":""},null,{"$f":"IFERROR(VLOOKUP(E1411,Participants!$B$3:$C$1002,2,0),\"\")","v":""}]
[null,null,null,{"$f":"IFERROR(VLOOKUP(C1412,Participants!$B$3:$C$1002,2,0),\"\")","v":""},null,{"$f":"IFERROR(VLOOKUP(E1412,Participants!$B$3:$C$1002,2,0),\"\")","v":""}]
[null,null,null,{"$f":"IFERROR(VLOOKUP(C1413,Participants!$B$3:$C$1002,2,0),\"\")","v":""},null,{"$f":"IFERROR(VLOOKUP(E1413,Participants!$B$3:$C$1002,2,0),\"\")","v":""}]
[null,null,null,{"$f":"IFERROR(VLOOKUP(C1414,Participants!$B$3:$C$1002,2,0),\"\")","v":""},null,{"$f":"IFERROR(VLOOKUP(E1414,Participants!$B$3:$C$1002,2,0),\"\")","v":""}]
[null,null,null,{"$f":"IFERROR(VLOOKUP(C1415,Participants!$B$3:$C$1002,2,0),\"\")","v":""},null,{"$f":"IFERROR(VLOOKUP(E1415,Participants!$B$3:$C$1002,2,0),\"\")","v":""}]
[null,null,null,{"$f":"IFERROR(VLOOKUP(C1416,Participants!$B$3:$C$1002,2,0),\"\")","v":""},null,{"$f":"IFERROR(VLOOKUP(E1416,Participants!$B$3:$C$1002,2,0),\"\")","v":""}]
[null,null,null,{"$f":"IFERROR(VLOOKUP(C1417,Participants!$B$3:$C$1002,2,0),\"\")","v":""},null,{"$f":"IFERROR(VLOOKUP(E1417,Participants!$B$3:$C$1002,2,0),\"\")","v":""}]
[null,null,null,{"$f":"IFERROR(VLOOKUP(C1418,Participants!$B$3:$C$1002,2,0),\"\")","v":""},null,{"$f":"IFERROR(VLOOKUP(E1418,Participants!$B$3:$C$1002,2,0),\"\")","v":""}]
[null,null,null,{"$f":"IFERROR(VLOOKUP(C1419,Participants!$B$3:$C$1002,2,0),\"\")","v":""},null,{"$f":"IFERROR(VLOOKUP(E1419,Participants!$B$3:$C$1002,2,0),\"\")","v":""}]
[null,null,null,{"$f":"IFERROR(VLOOKUP(C1420,Participants!$B$3:$C$1002,2,0),\"\")","v":""},null,{"$f":"IFERROR(VLOOKUP(E1420,Participants!$B$3:$C$1002,2,0),\"\")","v":""}]
[null,null,null,{"$f":"IFERROR(VLOOKUP(C1421,Participants!$B$3:$C$1002,2,0),\"\")","v":""},null,{"$f":"IFERROR(VLOOKUP(E1421,Participants!$B$3:$C$1002,2,0),\"\")","v":""}]
[null,null,null,{"$f":"IFERROR(VLOOKUP(C1422,Participants!$B$3:$C$1002,2,0),\"\")","v":""},null,{"$f":"IFERROR(VLOOKUP(E1422,Participants!$B$3:$C$1002,2,0),\"\")","v":""}]
[null,null,null,{"$f":"IFERROR(VLOOKUP(C1423,Participants!$B$3:$C$1002,2,0),\"\")","v":""},null,{"$f":"IFERROR(VLOOKUP(E1423,Participants!$B$3:$C$1002,2,0),\"\")","v":""}]
[null,null,null,{"$f":"IFERROR(VLOOKUP(C1424,Participants!$B$3:$C$1002,2,0),\"\")","v":""},null,{"$f":"IFERROR(VLOOKUP(E1424,Participants!$B$3:$C$1002,2,0),\"\")","v":""}]
[null,null,null,{"$f":"IFERROR(VLOOKUP(C1425,Participants!$B$3:$C$1002,2,0),\"\")","v":""},null,{"$f":"IFERROR(VLOOKUP(E1425,Participants!$B$3:$C$1002,2,0),\"\")","v":""}]
[null,null,null,{"$f":"IFERROR(VLOOKUP(C1426,Participants!$B$3:$C$1002,2,0),\"\")","v":""},null,{"$f":"IFERROR(VLOOKUP(E1426,Participants!$B$3:$C$1002,2,0),\"\")","v":""}]
[null,null,null,{"$f":"IFERROR(VLOOKUP(C1427,Participants!$B$3:$C$1002,2,0),\"\")","v":""},null,{"$f":"IFERROR(VLOOKUP(E1427,Participants!$B$3:$C$1002,2,0),\"\")","v":""}]
[null,null,null,{"$f":"IFERROR(VLOOKUP(C1428,Participants!$B$3:$C$1002,2,0),\"\")","v":""},null,{"$f":"IFERROR(VLOOKUP(E1428,Participants!$B$3:$C$1002,2,0),\"\")","v":""}]
[null,null,null,{"$f":"IFERROR(VLOOKUP(C1429,Participants!$B$3:$C$1002,2,0),\"\")","v":""},null,{"$f":"IFERROR(VLOOKUP(E1429,Participants!$B$3:$C$1002,2,0),\"\")","v":""}]
[null,null,null,{"$f":"IFERROR(VLOOKUP(C1430,Participants!$B$3:$C$1002,2,0),\"\")","v":""},null,{"$f":"IFERROR(VLOOKUP(E1430,Participants!$B$3:$C$1002,2,0),\"\")","v":""}]
[null,null,null,{"$f":"IFERROR(VLOOKUP(C1431,Participants!$B$3:$C$1002,2,0),\"\")","v":""},null,{"$f":"IFERROR(VLOOKUP(E1431,Participants!$B$3:$C$1002,2,0),\"\")","v":""}]
[null,null,null,{"$f":"IFERROR(VLOOKUP(C1432,Participants!$B$3:$C$1002,2,0),\"\")","v":""},null,{"$f":"IFERROR(VLOOKUP(E1432,Participants!$B$3:$C$1002,2,0),\"\")","v":""}]
[null,null,null,{"$f":"IFERROR(VLOOKUP(C1433,Participants!$B$3:$C$1002,2,0),\"\")","v":""},null,{"$f":"IFERROR(VLOOKUP(E1433,Participants!$B$3:$C$1002,2,0),\"\")","v":""}]
[null,null,null,{"$f":"IFERROR(VLOOKUP(C1434,Participants!$B$3:$C$1002,2,0),\"\")","v":""},null,{"$f":"IFERROR(VLOOKUP(E1434,Participants!$B$3:$C$1002,2,0),\"\")","v":""}]
[null,null,null,{"$f":"IFERROR(VLOOKUP(C1435,Participants!$B$3:$C$1002,2,0),\"\")","v":""},null,{"$f":"IFERROR(VLOOKUP(E1435,Participants!$B$3:$C$1002,2,0),\"\")","v":""}]
[null,null,null,{"$f":"IFERROR(VLOOKUP(C1436,Participants!$B$3:$C$1002,2,0),\"\")","v":""},null,{"$f":"IFERROR(VLOOKUP(E1436,Participants!$B$3:$C$1002,2,0),\"\")","v":""}]
[null,null,null,{"$f":"IFERROR(VLOOKUP(C1437,Participants!$B$3:$C$1002,2,0),\"\")","v":""},null,{"$f":"IFERROR(VLOOKUP(E1437,Participants!$B$3:$C$1002,2,0),\"\")","v":""}]
[null,null,null,{"$f":"IFERROR(VLOOKUP(C1438,Participants!$B$3:$C$1002,2,0),\"\")","v":""},null,{"$f":"IFERROR(VLOOKUP(E1438,Participants!$B$3:$C$1002,2,0),\"\")","v":""}]
[null,null,null,{"$f":"IFERROR(VLOOKUP(C1439,Participants!$B$3:$C$1002,2,0),\"\")","v":""},null,{"$f":"IFERROR(VLOOKUP(E1439,Participants!$B$3:$C$1002,2,0),\"\")","v":""}]
[null,null,null,{"$f":"IFERROR(VLOOKUP(C1440,Participants!$B$3:$C$1002,2,0),\"\")","v":""},null,{"$f":"IFERROR(VLOOKUP(E1440,Participants!$B$3:$C$1002,2,0),\"\")","v":""}]
[null,null,null,{"$f":"IFERROR(VLOOKUP(C1441,Participants!$B$3:$C$1002,2,0),\"\")","v":""},null,{"$f":"IFERROR(VLOOKUP(E1441,Participants!$B$3:$C$1002,2,0),\"\")","v":""}]
[null,null,null,{"$f":"IFERROR(VLOOKUP(C1442,Participants!$B$3:$C$1002,2,0),\"\")","v":""},null,{"$f":"IFERROR(VLOOKUP(E1442,Participants!$B$3:$C$1002,2,0),\"\")","v":""}]
[null,null,null,{"$f":"IFERROR(VLOOKUP(C1443,Participants!$B$3:$C$1002,2,0),\"\")","v":""},null,{"$f":"IFERROR(VLOOKUP(E1443,Participants!$B$3:$C$1002,2,0),\"\")","v":""}]
[null,null,null,{"$f":"IFERROR(VLOOKUP(C1444,Participants!$B$3:$C$1002,2,0),\"\")","v":""},null,{"$f":"IFERROR(VLOOKUP(E1444,Participants!$B$3:$C$1002,2,0),\"\")","v":""}]
[null,null,null,{"$f":"IFERROR(VLOOKUP(C1445,Participants!$B$3:$C$1002,2,0),\"\")","v":""},null,{"$f":"IFERROR(VLOOKUP(E1445,Participants!$B$3:$C$1002,2,0),\"\")","v":""}]
[null,null,null,{"$f":"IFERROR(VLOOKUP(C1446,Participants!$B$3:$C$1002,2,0),\"\")","v":""},null,{"$f":"IFERROR(VLOOKUP(E1446,Participants!$B$3:$C$1002,2,0),\"\")","v":""}]
[null,null,null,{"$f":"IFERROR(VLOOKUP(C1447,Participants!$B$3:$C$1002,2,0),\"\")","v":""},null,{"$f":"IFERROR(VLOOKUP(E1447,Participants!$B$3:$C$1002,2,0),\"\")","v":""}]
[null,null,null,{"$f":"IFERROR(VLOOKUP(C1448,Participants!$B$3:$C$1002,2,0),\"\")","v":""},null,{"$f":"IFERROR(VLOOKUP(E1448,Participants!$B$3:$C$1002,2,0),\"\")","v":""}]
[null,null,null,{"$f":"IFERROR(VLOOKUP(C1449,Participants!$B$3:$C$1002,2,0),\"\")","v":""},null,{"$f":"IFERROR(VLOOKUP(E1449,Participants!$B$3:$C$1002,2,0),\"\")","v":""}]
[null,null,null,{"$f":"IFERROR(VLOOKUP(C1450,Participants!$B$3:$C$1002,2,0),\"\")","v":""},null,{"$f":"IFERROR(VLOOKUP(E1450,Participants!$B$3:$C$1002,2,0),\"\")","v":""}]
[null,null,null,{"$f":"IFERROR(VLOOKUP(C1451,Participants!$B$3:$C$1002,2,0),\"\")","v":""},null,{"$f":"IFERROR(VLOOKUP(E1451,Participants!$B$3:$C$1002,2,0),\"\")","v":""}]
[null,null,null,{"$f":"IFERROR(VLOOKUP(C1452,Participants!$B$3:$C$1002,2,0),\"\")","v":""},null,{"$f":"IFERROR(VLOOKUP(E1452,Participants!$B$3:$C$1002,2,0),\"\")","v":""}]
[null,null,null,{"$f":"IFERROR(VLOOKUP(C1453,Participants!$B$3:$C$1002,2,0),\"\")","v":""},null,{"$f":"IFERROR(VLOOKUP(E1453,Participants!$B$3:$C$1002,2,0),\"\")","v":""}]
[null,null,null,{"$f":"IFERROR(VLOOKUP(C1454,Participants!$B$3:$C$1002,2,0),\"\")","v":""},null,{"$f":"IFERROR(VLOOKUP(E1454,Participants!$B$3:$C$1002,2,0),\"\")","v":""}]
[null,null,null,{"$f":"IFERROR(VLOOKUP(C1455,Participants!$B$3:$C$1002,2,0),\"\")","v":""},null,{"$f":"IFERROR(VLOOKUP(E1455,Participants!$B$3:$C$1002,2,0),\"\")","v":""}]
[null,null,null,{"$f":"IFERROR(VLOOKUP(C1456,Participants!$B$3:$C$1002,2,0),\"\")","v":""},null,{"$f":"IFERROR(VLOOKUP(E1456,Participants!$B$3:$C$1002,2,0),\"\")","v":""}]
[null,null,null,{"$f":"IFERROR(VLOOKUP(C1457,Participants!$B$3:$C$1002,2,0),\"\")","v":""},null,{"$f":"IFERROR(VLOOKUP(E1457,Participants!$B$3:$C$1002,2,0),\"\")","v":""}]
[null,null,null,{"$f":"IFERROR(VLOOKUP(C1458,Participants!$B$3:$C$1002,2,0),\"\")","v":""},null,{"$f":"IFERROR(VLOOKUP(E1458,Participants!$B$3:$C$1002,2,0),\"\")","v":""}]
[null,null,null,{"$f":"IFERROR(VLOOKUP(C1459,Participants!$B$3:$C$1002,2,0),\"\")","v":""},null,{"$f":"IFERROR(VLOOKUP(E1459,Participants!$B$3:$C$1002,2,0),\"\")","v":""}]
[null,null,null,{"$f":"IFERROR(VLOOKUP(C1460,Participants!$B$3:$C$1002,2,0),\"\")","v":""},null,{"$f":"IFERROR(VLOOKUP(E1460,Participants!$B$3:$C$1002,2,0),\"\")","v":""}]
[null,null,null,{"$f":"IFERROR(VLOOKUP(C1461,Participants!$B$3:$C$1002,2,0),\"\")","v":""},null,{"$f":"IFERROR(VLOOKUP(E1461,Participants!$B$3:$C$1002,2,0),\"\")","v":""}]
[null,null,null,{"$f":"IFERROR(VLOOKUP(C1462,Participants!$B$3:$C$1002,2,0),\"\")","v":""},null,{"$f":"IFERROR(VLOOKUP(E1462,Participants!$B$3:$C$1002,2,0),\"\")","v":""}]
[null,null,null,{"$f":"IFERROR(VLOOKUP(C1463,Participants!$B$3:$C$1002,2,0),\"\")","v":""},null,{"$f":"IFERROR(VLOOKUP(E1463,Participants!$B$3:$C$1002,2,0),\"\")","v":""}]
[null,null,null,{"$f":"IFERROR(VLOOKUP(C1464,Participants!$B$3:$C$1002,2,0),\"\")","v":""},null,{"$f":"IFERROR(VLOOKUP(E1464,Participants!$B$3:$C$1002,2,0),\"\")","v":""}]
[null,null,null,{"$f":"IFERROR(VLOOKUP(C1465,Participants!$B$3:$C$1002,2,0),\"\")","v":""},null,{"$f":"IFERROR(VLOOKUP(E1465,Participants!$B$3:$C$1002,2,0),\"\")","v":""}]
[null,null,null,{"$f":"IFERROR(VLOOKUP(C1466,Participants!$B$3:$C$1002,2,0),\"\")","v":""},null,{"$f":"IFERROR(VLOOKUP(E1466,Participants!$B$3:$C$1002,2,0),\"\")","v":""}]
[null,null,null,{"$f":"IFERROR(VLOOKUP(C1467,Participants!$B$3:$C$1002,2,0),\"\")","v":""},null,{"$f":"IFERROR(VLOOKUP(E1467,Participants!$B$3:$C$1002,2,0),\"\")","v":""}]
[null,null,null,{"$f":"IFERROR(VLOOKUP(C1468,Participants!$B$3:$C$1002,2,0),\"\")","v":""},null,{"$f":"IFERROR(VLOOKUP(E1468,Participants!$B$3:$C$1002,2,0),\"\")","v":""}]
[null,null,null,{"$f":"IFERROR(VLOOKUP(C1469,Participants!$B$3:$C$1002,2,0),\"\")","v":""},null,{"$f":"IFERROR(VLOOKUP(E1469,Participants!$B$3:$C$1002,2,0),\"\")","v":""}]
[null,null,null,{"$f":"IFERROR(VLOOKUP(C1470,Participants!$B$3:$C$1002,2,0),\"\")","v":""},null,{"$f":"IFERROR(VLOOKUP(E1470,Participants!$B$3:$C$1002,2,0),\"\")","v":""}]
[null,null,null,{"$f":"IFERROR(VLOOKUP(C1471,Participants!$B$3:$C$1002,2,0),\"\")","v":""},null,{"$f":"IFERROR(VLOOKUP(E1471,Participants!$B$3:$C$1002,2,0),\"\")","v":""}]
[null,null,null,{"$f":"IFERROR(VLOOKUP(C1472,Participants!$B$3:$C$1002,2,0),\"\")","v":""},null,{"$f":"IFERROR(VLOOKUP(E1472,Participants!$B$3:$C$1002,2,0),\"\")","v":""}]
[null,null,null,{"$f":"IFERROR(VLOOKUP(C1473,Participants!$B$3:$C$1002,2,0),\"\")","v":""},null,{"$f":"IFERROR(VLOOKUP(E1473,Participants!$B$3:$C$1002,2,0),\"\")","v":""}]
[null,null,null,{"$f":"IFERROR(VLOOKUP(C1474,Participants!$B$3:$C$1002,2,0),\"\")","v":""},null,{"$f":"IFERROR(VLOOKUP(E1474,Participants!$B$3:$C$1002,2,0),\"\")","v":""}]
[null,null,null,{"$f":"IFERROR(VLOOKUP(C1475,Participants!$B$3:$C$1002,2,0),\"\")","v":""},null,{"$f":"IFERROR(VLOOKUP(E1475,Participants!$B$3:$C$1002,2,0),\"\")","v":""}]
[null,null,null,{"$f":"IFERROR(VLOOKUP(C1476,Participants!$B$3:$C$1002,2,0),\"\")","v":""},null,{"$f":"IFERROR(VLOOKUP(E1476,Participants!$B$3:$C$1002,2,0),\"\")","v":""}]
[null,null,null,{"$f":"IFERROR(VLOOKUP(C1477,Participants!$B$3:$C$1002,2,0),\"\")","v":""},null,{"$f":"IFERROR(VLOOKUP(E1477,Participants!$B$3:$C$1002,2,0),\"\")","v":""}]
[null,null,null,{"$f":"IFERROR(VLOOKUP(C1478,Participants!$B$3:$C$1002,2,0),\"\")","v":""},null,{"$f":"IFERROR(VLOOKUP(E1478,Participants!$B$3:$C$1002,2,0),\"\")","v":""}]
[null,null,null,{"$f":"IFERROR(VLOOKUP(C1479,Participants!$B$3:$C$1002,2,0),\"\")","v":""},null,{"$f":"IFERROR(VLOOKUP(E1479,Participants!$B$3:$C$1002,2,0),\"\")","v":""}]
[null,null,null,{"$f":"IFERROR(VLOOKUP(C1480,Participants!$B$3:$C$1002,2,0),\"\")","v":""},null,{"$f":"IFERROR(VLOOKUP(E1480,Participants!$B$3:$C$1002,2,0),\"\")","v":""}]
[null,null,null,{"$f":"IFERROR(VLOOKUP(C1481,Participants!$B$3:$C$1002,2,0),\"\")","v":""},null,{"$f":"IFERROR(VLOOKUP(E1481,Participants!$B$3:$C$1002,2,0),\"\")","v":""}]
[null,null,null,{"$f":"IFERROR(VLOOKUP(C1482,Participants!$B$3:$C$1002,2,0),\"\")","v":""},null,{"$f":"IFERROR(VLOOKUP(E1482,Participants!$B$3:$C$1002,2,0),\"\")","v":""}]
[null,null,null,{"$f":"IFERROR(VLOOKUP(C1483,Participants!$B$3:$C$1002,2,0),\"\")","v":""},null,{"$f":"IFERROR(VLOOKUP(E1483,Participants!$B$3:$C$1002,2,0),\"\")","v":""}]
[null,null,null,{"$f":"IFERROR(VLOOKUP(C1484,Participants!$B$3:$C$1002,2,0),\"\")","v":""},null,{"$f":"IFERROR(VLOOKUP(E1484,Participants!$B$3:$C$1002,2,0),\"\")","v":""}]
[null,null,null,{"$f":"IFERROR(VLOOKUP(C1485,Participants!$B$3:$C$1002,2,0),\"\")","v":""},null,{"$f":"IFERROR(VLOOKUP(E1485,Participants!$B$3:$C$1002,2,0),\"\")","v":""}]
[null,null,null,{"$f":"IFERROR(VLOOKUP(C1486,Participants!$B$3:$C$1002,2,0),\"\")","v":""},null,{"$f":"IFERROR(VLOOKUP(E1486,Participants!$B$3:$C$1002,2,0),\"\")","v":""}]
[null,null,null,{"$f":"IFERROR(VLOOKUP(C1487,Participants!$B$3:$C$1002,2,0),\"\")","v":""},null,{"$f":"IFERROR(VLOOKUP(E1487,Participants!$B$3:$C$1002,2,0),\"\")","v":""}]
[null,null,null,{"$f":"IFERROR(VLOOKUP(C1488,Participants!$B$3:$C$1002,2,0),\"\")","v":""},null,{"$f":"IFERROR(VLOOKUP(E1488,Participants!$B$3:$C$1002,2,0),\"\")","v":""}]
[null,null,null,{"$f":"IFERROR(VLOOKUP(C1489,Participants!$B$3:$C$1002,2,0),\"\")","v":""},null,{"$f":"IFERROR(VLOOKUP(E1489,Participants!$B$3:$C$1002,2,0),\"\")","v":""}]
[null,null,null,{"$f":"IFERROR(VLOOKUP(C1490,Participants!$B$3:$C$1002,2,0),\"\")","v":""},null,{"$f":"IFERROR(VLOOKUP(E1490,Participants!$B$3:$C$1002,2,0),\"\")","v":""}]
[null,null,null,{"$f":"IFERROR(VLOOKUP(C1491,Participants!$B$3:$C$1002,2,0),\"\")","v":""},null,{"$f":"IFERROR(VLOOKUP(E1491,Participants!$B$3:$C$1002,2,0),\"\")","v":""}]
[null,null,null,{"$f":"IFERROR(VLOOKUP(C1492,Participants!$B$3:$C$1002,2,0),\"\")","v":""},null,{"$f":"IFERROR(VLOOKUP(E1492,Participants!$B$3:$C$1002,2,0),\"\")","v":""}]
[null,null,null,{"$f":"IFERROR(VLOOKUP(C1493,Participants!$B$3:$C$1002,2,0),\"\")","v":""},null,{"$f":"IFERROR(VLOOKUP(E1493,Participants!$B$3:$C$1002,2,0),\"\")","v":""}]
[null,null,null,{"$f":"IFERROR(VLOOKUP(C1494,Participants!$B$3:$C$1002,2,0),\"\")","v":""},null,{"$f":"IFERROR(VLOOKUP(E1494,Participants!$B$3:$C$1002,2,0),\"\")","v":""}]
[null,null,null,{"$f":"IFERROR(VLOOKUP(C1495,Participants!$B$3:$C$1002,2,0),\"\")","v":""},null,{"$f":"IFERROR(VLOOKUP(E1495,Participants!$B$3:$C$1002,2,0),\"\")","v":""}]
[null,null,null,{"$f":"IFERROR(VLOOKUP(C1496,Participants!$B$3:$C$1002,2,0),\"\")","v":""},null,{"$f":"IFERROR(VLOOKUP(E1496,Participants!$B$3:$C$1002,2,0),\"\")","v":""}]
[null,null,null,{"$f":"IFERROR(VLOOKUP(C1497,Participants!$B$3:$C$1002,2,0),\"\")","v":""},null,{"$f":"IFERROR(VLOOKUP(E1497,Participants!$B$3:$C$1002,2,0),\"\")","v":""}]
[null,null,null,{"$f":"IFERROR(VLOOKUP(C1498,Participants!$B$3:$C$1002,2,0),\"\")","v":""},null,{"$f":"IFERROR(VLOOKUP(E1498,Participants!$B$3:$C$1002,2,0),\"\")","v":""}]
[null,null,null,{"$f":"IFERROR(VLOOKUP(C1499,Participants!$B$3:$C$1002,2,0),\"\")","v":""},null,{"$f":"IFERROR(VLOOKUP(E1499,Participants!$B$3:$C$1002,2,0),\"\")","v":""}]
[null,null,null,{"$f":"IFERROR(VLOOKUP(C1500,Participants!$B$3:$C$1002,2,0),\"\")","v":""},null,{"$f":"IFERROR(VLOOKUP(E1500,Participants!$B$3:$C$1002,2,0),\"\")","v":""}]
[null,null,null,{"$f":"IFERROR(VLOOKUP(C1501,Participants!$B$3:$C$1002,2,0),\"\")","v":""},null,{"$f":"IFERROR(VLOOKUP(E1501,Participants!$B$3:$C$1002,2,0),\"\")","v":""}]
[null,null,null,{"$f":"IFERROR(VLOOKUP(C1502,Participants!$B$3:$C$1002,2,0),\"\")","v":""},null,{"$f":"IFERROR(VLOOKUP(E1502,Participants!$B$3:$C$1002,2,0),\"\")","v":""}]
[null,null,null,{"$f":"IFERROR(VLOOKUP(C1503,Participants!$B$3:$C$1002,2,0),\"\")","v":""},null,{"$f":"IFERROR(VLOOKUP(E1503,Participants!$B$3:$C$1002,2,0),\"\")","v":""}]
[null,null,null,{"$f":"IFERROR(VLOOKUP(C1504,Participants!$B$3:$C$1002,2,0),\"\")","v":""},null,{"$f":"IFERROR(VLOOKUP(E1504,Participants!$B$3:$C$1002,2,0),\"\")","v":""}]
[null,null,null,{"$f":"IFERROR(VLOOKUP(C1505,Participants!$B$3:$C$1002,2,0),\"\")","v":""},null,{"$f":"IFERROR(VLOOKUP(E1505,Participants!$B$3:$C$1002,2,0),\"\")","v":""}]
[null,null,null,{"$f":"IFERROR(VLOOKUP(C1506,Participants!$B$3:$C$1002,2,0),\"\")","v":""},null,{"$f":"IFERROR(VLOOKUP(E1506,Participants!$B$3:$C$1002,2,0),\"\")","v":""}]
[null,null,null,{"$f":"IFERROR(VLOOKUP(C1507,Participants!$B$3:$C$1002,2,0),\"\")","v":""},null,{"$f":"IFERROR(VLOOKUP(E1507,Participants!$B$3:$C$1002,2,0),\"\")","v":""}]
[null,null,null,{"$f":"IFERROR(VLOOKUP(C1508,Participants!$B$3:$C$1002,2,0),\"\")","v":""},null,{"$f":"IFERROR(VLOOKUP(E1508,Participants!$B$3:$C$1002,2,0),\"\")","v":""}]
[null,null,null,{"$f":"IFERROR(VLOOKUP(C1509,Participants!$B$3:$C$1002,2,0),\"\")","v":""},null,{"$f":"IFERROR(VLOOKUP(E1509,Participants!$B$3:$C$1002,2,0),\"\")","v":""}]
[null,null,null,{"$f":"IFERROR(VLOOKUP(C1510,Participants!$B$3:$C$1002,2,0),\"\")","v":""},null,{"$f":"IFERROR(VLOOKUP(E1510,Participants!$B$3:$C$1002,2,0),\"\")","v":""}]
[null,null,null,{"$f":"IFERROR(VLOOKUP(C1511,Participants!$B$3:$C$1002,2,0),\"\")","v":""},null,{"$f":"IFERROR(VLOOKUP(E1511,Participants!$B$3:$C$1002,2,0),\"\")","v":""}]
[null,null,null,{"$f":"IFERROR(VLOOKUP(C1512,Participants!$B$3:$C$1002,2,0),\"\")","v":""},null,{"$f":"IFERROR(VLOOKUP(E1512,Participants!$B$3:$C$1002,2,0),\"\")","v":""}]
[null,null,null,{"$f":"IFERROR(VLOOKUP(C1513,Participants!$B$3:$C$1002,2,0),\"\")","v":""},null,{"$f":"IFERROR(VLOOKUP(E1513,Participants!$B$3:$C$1002,2,0),\"\")","v":""}]
[null,null,null,{"$f":"IFERROR(VLOOKUP(C1514,Participants!$B$3:$C$1002,2,0),\"\")","v":""},null,{"$f":"IFERROR(VLOOKUP(E1514,Participants!$B$3:$C$1002,2,0),\"\")","v":""}]
[null,null,null,{"$f":"IFERROR(VLOOKUP(C1515,Participants!$B$3:$C$1002,2,0),\"\")","v":""},null,{"$f":"IFERROR(VLOOKUP(E1515,Participants!$B$3:$C$1002,2,0),\"\")","v":""}]
[null,null,null,{"$f":"IFERROR(VLOOKUP(C1516,Participants!$B$3:$C$1002,2,0),\"\")","v":""},null,{"$f":"IFERROR(VLOOKUP(E1516,Participants!$B$3:$C$1002,2,0),\"\")","v":""}]
[null,null,null,{"$f":"IFERROR(VLOOKUP(C1517,Participants!$B$3:$C$1002,2,0),\"\")","v":""},null,{"$f":"IFERROR(VLOOKUP(E1517,Participants!$B$3:$C$1002,2,0),\"\")","v":""}]
[null,null,null,{"$f":"IFERROR(VLOOKUP(C1518,Participants!$B$3:$C$1002,2,0),\"\")","v":""},null,{"$f":"IFERROR(VLOOKUP(E1518,Participants!$B$3:$C$1002,2,0),\"\")","v":""}]
[null,null,null,{"$f":"IFERROR(VLOOKUP(C1519,Participants!$B$3:$C$1002,2,0),\"\")","v":""},null,{"$f":"IFERROR(VLOOKUP(E1519,Participants!$B$3:$C$1002,2,0),\"\")","v":""}]
[null,null,null,{"$f":"IFERROR(VLOOKUP(C1520,Participants!$B$3:$C$1002,2,0),\"\")","v":""},null,{"$f":"IFERROR(VLOOKUP(E1520,Participants!$B$3:$C$1002,2,0),\"\")","v":""}]
[null,null,null,{"$f":"IFERROR(VLOOKUP(C1521,Participants!$B$3:$C$1002,2,0),\"\")","v":""},null,{"$f":"IFERROR(VLOOKUP(E1521,Participants!$B$3:$C$1002,2,0),\"\")","v":""}]
[null,null,null,{"$f":"IFERROR(VLOOKUP(C1522,Participants!$B$3:$C$1002,2,0),\"\")","v":""},null,{"$f":"IFERROR(VLOOKUP(E1522,Participants!$B$3:$C$1002,2,0),\"\")","v":""}]
[null,null,null,{"$f":"IFERROR(VLOOKUP(C1523,Participants!$B$3:$C$1002,2,0),\"\")","v":""},null,{"$f":"IFERROR(VLOOKUP(E1523,Participants!$B$3:$C$1002,2,0),\"\")","v":""}]
[null,null,null,{"$f":"IFERROR(VLOOKUP(C1524,Participants!$B$3:$C$1002,2,0),\"\")","v":""},null,{"$f":"IFERROR(VLOOKUP(E1524,Participants!$B$3:$C$1002,2,0),\"\")","v":""}]
[null,null,null,{"$f":"IFERROR(VLOOKUP(C1525,Participants!$B$3:$C$1002,2,0),\"\")","v":""},null,{"$f":"IFERROR(VLOOKUP(E1525,Participants!$B$3:$C$1002,2,0),\"\")","v":""}]
[null,null,null,{"$f":"IFERROR(VLOOKUP(C1526,Participants!$B$3:$C$1002,2,0),\"\")","v":""},null,{"$f":"IFERROR(VLOOKUP(E1526,Participants!$B$3:$C$1002,2,0),\"\")","v":""}]
[null,null,null,{"$f":"IFERROR(VLOOKUP(C1527,Participants!$B$3:$C$1002,2,0),\"\")","v":""},null,{"$f":"IFERROR(VLOOKUP(E1527,Participants!$B$3:$C$1002,2,0),\"\")","v":""}]
[null,null,null,{"$f":"IFERROR(VLOOKUP(C1528,Participants!$B$3:$C$1002,2,0),\"\")","v":""},null,{"$f":"IFERROR(VLOOKUP(E1528,Participants!$B$3:$C$1002,2,0),\"\")","v":""}]
[null,null,null,{"$f":"IFERROR(VLOOKUP(C1529,Participants!$B$3:$C$1002,2,0),\"\")","v":""},null,{"$f":"IFERROR(VLOOKUP(E1529,Participants!$B$3:$C$1002,2,0),\"\")","v":""}]
[null,null,null,{"$f":"IFERROR(VLOOKUP(C1530,Participants!$B$3:$C$1002,2,0),\"\")","v":""},null,{"$f":"IFERROR(VLOOKUP(E1530,Participants!$B$3:$C$1002,2,0),\"\")","v":""}]
[null,null,null,{"$f":"IFERROR(VLOOKUP(C1531,Participants!$B$3:$C$1002,2,0),\"\")","v":""},null,{"$f":"IFERROR(VLOOKUP(E1531,Participants!$B$3:$C$1002,2,0),\"\")","v":""}]
[null,null,null,{"$f":"IFERROR(VLOOKUP(C1532,Participants!$B$3:$C$1002,2,0),\"\")","v":""},null,{"$f":"IFERROR(VLOOKUP(E1532,Participants!$B$3:$C$1002,2,0),\"\")","v":""}]
[null,null,null,{"$f":"IFERROR(VLOOKUP(C1533,Participants!$B$3:$C$1002,2,0),\"\")","v":""},null,{"$f":"IFERROR(VLOOKUP(E1533,Participants!$B$3:$C$1002,2,0),\"\")","v":""}]
[null,null,null,{"$f":"IFERROR(VLOOKUP(C1534,Participants!$B$3:$C$1002,2,0),\"\")","v":""},null,{"$f":"IFERROR(VLOOKUP(E1534,Participants!$B$3:$C$1002,2,0),\"\")","v":""}]
[null,null,null,{"$f":"IFERROR(VLOOKUP(C1535,Participants!$B$3:$C$1002,2,0),\"\")","v":""},null,{"$f":"IFERROR(VLOOKUP(E1535,Participants!$B$3:$C$1002,2,0),\"\")","v":""}]
[null,null,null,{"$f":"IFERROR(VLOOKUP(C1536,Participants!$B$3:$C$1002,2,0),\"\")","v":""},null,{"$f":"IFERROR(VLOOKUP(E1536,Participants!$B$3:$C$1002,2,0),\"\")","v":""}]
[null,null,null,{"$f":"IFERROR(VLOOKUP(C1537,Participants!$B$3:$C$1002,2,0),\"\")","v":""},null,{"$f":"IFERROR(VLOOKUP(E1537,Participants!$B$3:$C$1002,2,0),\"\")","v":""}]
[null,null,null,{"$f":"IFERROR(VLOOKUP(C1538,Participants!$B$3:$C$1002,2,0),\"\")","v":""},null,{"$f":"IFERROR(VLOOKUP(E1538,Participants!$B$3:$C$1002,2,0),\"\")","v":""}]
[null,null,null,{"$f":"IFERROR(VLOOKUP(C1539,Participants!$B$3:$C$1002,2,0),\"\")","v":""},null,{"$f":"IFERROR(VLOOKUP(E1539,Participants!$B$3:$C$1002,2,0),\"\")","v":""}]
[null,null,null,{"$f":"IFERROR(VLOOKUP(C1540,Participants!$B$3:$C$1002,2,0),\"\")","v":""},null,{"$f":"IFERROR(VLOOKUP(E1540,Participants!$B$3:$C$1002,2,0),\"\")","v":""}]
[null,null,null,{"$f":"IFERROR(VLOOKUP(C1541,Participants!$B$3:$C$1002,2,0),\"\")","v":""},null,{"$f":"IFERROR(VLOOKUP(E1541,Participants!$B$3:$C$1002,2,0),\"\")","v":""}]
[null,null,null,{"$f":"IFERROR(VLOOKUP(C1542,Participants!$B$3:$C$1002,2,0),\"\")","v":""},null,{"$f":"IFERROR(VLOOKUP(E1542,Participants!$B$3:$C$1002,2,0),\"\")","v":""}]
[null,null,null,{"$f":"IFERROR(VLOOKUP(C1543,Participants!$B$3:$C$1002,2,0),\"\")","v":""},null,{"$f":"IFERROR(VLOOKUP(E1543,Participants!$B$3:$C$1002,2,0),\"\")","v":""}]
[null,null,null,{"$f":"IFERROR(VLOOKUP(C1544,Participants!$B$3:$C$1002,2,0),\"\")","v":""},null,{"$f":"IFERROR(VLOOKUP(E1544,Participants!$B$3:$C$1002,2,0),\"\")","v":""}]
[null,null,null,{"$f":"IFERROR(VLOOKUP(C1545,Participants!$B$3:$C$1002,2,0),\"\")","v":""},null,{"$f":"IFERROR(VLOOKUP(E1545,Participants!$B$3:$C$1002,2,0),\"\")","v":""}]
[null,null,null,{"$f":"IFERROR(VLOOKUP(C1546,Participants!$B$3:$C$1002,2,0),\"\")","v":""},null,{"$f":"IFERROR(VLOOKUP(E1546,Participants!$B$3:$C$1002,2,0),\"\")","v":""}]
[null,null,null,{"$f":"IFERROR(VLOOKUP(C1547,Participants!$B$3:$C$1002,2,0),\"\")","v":""},null,{"$f":"IFERROR(VLOOKUP(E1547,Participants!$B$3:$C$1002,2,0),\"\")","v":""}]
[null,null,null,{"$f":"IFERROR(VLOOKUP(C1548,Participants!$B$3:$C$1002,2,0),\"\")","v":""},null,{"$f":"IFERROR(VLOOKUP(E1548,Participants!$B$3:$C$1002,2,0),\"\")","v":""}]
[null,null,null,{"$f":"IFERROR(VLOOKUP(C1549,Participants!$B$3:$C$1002,2,0),\"\")","v":""},null,{"$f":"IFERROR(VLOOKUP(E1549,Participants!$B$3:$C$1002,2,0),\"\")","v":""}]
[null,null,null,{"$f":"IFERROR(VLOOKUP(C1550,Participants!$B$3:$C$1002,2,0),\"\")","v":""},null,{"$f":"IFERROR(VLOOKUP(E1550,Participants!$B$3:$C$1002,2,0),\"\")","v":""}]
[null,null,null,{"$f":"IFERROR(VLOOKUP(C1551,Participants!$B$3:$C$1002,2,0),\"\")","v":""},null,{"$f":"IFERROR(VLOOKUP(E1551,Participants!$B$3:$C$1002,2,0),\"\")","v":""}]
[null,null,null,{"$f":"IFERROR(VLOOKUP(C1552,Participants!$B$3:$C$1002,2,0),\"\")","v":""},null,{"$f":"IFERROR(VLOOKUP(E1552,Participants!$B$3:$C$1002,2,0),\"\")","v":""}]
[null,null,null,{"$f":"IFERROR(VLOOKUP(C1553,Participants!$B$3:$C$1002,2,0),\"\")","v":""},null,{"$f":"IFERROR(VLOOKUP(E1553,Participants!$B$3:$C$1002,2,0),\"\")","v":""}]
[null,null,null,{"$f":"IFERROR(VLOOKUP(C1554,Participants!$B$3:$C$1002,2,0),\"\")","v":""},null,{"$f":"IFERROR(VLOOKUP(E1554,Participants!$B$3:$C$1002,2,0),\"\")","v":""}]
[null,null,null,{"$f":"IFERROR(VLOOKUP(C1555,Participants!$B$3:$C$1002,2,0),\"\")","v":""},null,{"$f":"IFERROR(VLOOKUP(E1555,Participants!$B$3:$C$1002,2,0),\"\")","v":""}]
[null,null,null,{"$f":"IFERROR(VLOOKUP(C1556,Participants!$B$3:$C$1002,2,0),\"\")","v":""},null,{"$f":"IFERROR(VLOOKUP(E1556,Participants!$B$3:$C$1002,2,0),\"\")","v":""}]
[null,null,null,{"$f":"IFERROR(VLOOKUP(C1557,Participants!$B$3:$C$1002,2,0),\"\")","v":""},null,{"$f":"IFERROR(VLOOKUP(E1557,Participants!$B$3:$C$1002,2,0),\"\")","v":""}]
[null,null,null,{"$f":"IFERROR(VLOOKUP(C1558,Participants!$B$3:$C$1002,2,0),\"\")","v":""},null,{"$f":"IFERROR(VLOOKUP(E1558,Participants!$B$3:$C$1002,2,0),\"\")","v":""}]
[null,null,null,{"$f":"IFERROR(VLOOKUP(C1559,Participants!$B$3:$C$1002,2,0),\"\")","v":""},null,{"$f":"IFERROR(VLOOKUP(E1559,Participants!$B$3:$C$1002,2,0),\"\")","v":""}]
[null,null,null,{"$f":"IFERROR(VLOOKUP(C1560,Participants!$B$3:$C$1002,2,0),\"\")","v":""},null,{"$f":"IFERROR(VLOOKUP(E1560,Participants!$B$3:$C$1002,2,0),\"\")","v":""}]
[null,null,null,{"$f":"IFERROR(VLOOKUP(C1561,Participants!$B$3:$C$1002,2,0),\"\")","v":""},null,{"$f":"IFERROR(VLOOKUP(E1561,Participants!$B$3:$C$1002,2,0),\"\")","v":""}]
[null,null,null,{"$f":"IFERROR(VLOOKUP(C1562,Participants!$B$3:$C$1002,2,0),\"\")","v":""},null,{"$f":"IFERROR(VLOOKUP(E1562,Participants!$B$3:$C$1002,2,0),\"\")","v":""}]
[null,null,null,{"$f":"IFERROR(VLOOKUP(C1563,Participants!$B$3:$C$1002,2,0),\"\")","v":""},null,{"$f":"IFERROR(VLOOKUP(E1563,Participants!$B$3:$C$1002,2,0),\"\")","v":""}]
[null,null,null,{"$f":"IFERROR(VLOOKUP(C1564,Participants!$B$3:$C$1002,2,0),\"\")","v":""},null,{"$f":"IFERROR(VLOOKUP(E1564,Participants!$B$3:$C$1002,2,0),\"\")","v":""}]
[null,null,null,{"$f":"IFERROR(VLOOKUP(C1565,Participants!$B$3:$C$1002,2,0),\"\")","v":""},null,{"$f":"IFERROR(VLOOKUP(E1565,Participants!$B$3:$C$1002,2,0),\"\")","v":""}]
[null,null,null,{"$f":"IFERROR(VLOOKUP(C1566,Participants!$B$3:$C$1002,2,0),\"\")","v":""},null,{"$f":"IFERROR(VLOOKUP(E1566,Participants!$B$3:$C$1002,2,0),\"\")","v":""}]
[null,null,null,{"$f":"IFERROR(VLOOKUP(C1567,Participants!$B$3:$C$1002,2,0),\"\")","v":""},null,{"$f":"IFERROR(VLOOKUP(E1567,Participants!$B$3:$C$1002,2,0),\"\")","v":""}]
[null,null,null,{"$f":"IFERROR(VLOOKUP(C1568,Participants!$B$3:$C$1002,2,0),\"\")","v":""},null,{"$f":"IFERROR(VLOOKUP(E1568,Participants!$B$3:$C$1002,2,0),\"\")","v":""}]
[null,null,null,{"$f":"IFERROR(VLOOKUP(C1569,Participants!$B$3:$C$1002,2,0),\"\")","v":""},null,{"$f":"IFERROR(VLOOKUP(E1569,Participants!$B$3:$C$1002,2,0),\"\")","v":""}]
[null,null,null,{"$f":"IFERROR(VLOOKUP(C1570,Participants!$B$3:$C$1002,2,0),\"\")","v":""},null,{"$f":"IFERROR(VLOOKUP(E1570,Participants!$B$3:$C$1002,2,0),\"\")","v":""}]
[null,null,null,{"$f":"IFERROR(VLOOKUP(C1571,Participants!$B$3:$C$1002,2,0),\"\")","v":""},null,{"$f":"IFERROR(VLOOKUP(E1571,Participants!$B$3:$C$1002,2,0),\"\")","v":""}]
[null,null,null,{"$f":"IFERROR(VLOOKUP(C1572,Participants!$B$3:$C$1002,2,0),\"\")","v":""},null,{"$f":"IFERROR(VLOOKUP(E1572,Participants!$B$3:$C$1002,2,0),\"\")","v":""}]
[null,null,null,{"$f":"IFERROR(VLOOKUP(C1573,Participants!$B$3:$C$1002,2,0),\"\")","v":""},null,{"$f":"IFERROR(VLOOKUP(E1573,Participants!$B$3:$C$1002,2,0),\"\")","v":""}]
[null,null,null,{"$f":"IFERROR(VLOOKUP(C1574,Participants!$B$3:$C$1002,2,0),\"\")","v":""},null,{"$f":"IFERROR(VLOOKUP(E1574,Participants!$B$3:$C$1002,2,0),\"\")","v":""}]
[null,null,null,{"$f":"IFERROR(VLOOKUP(C1575,Participants!$B$3:$C$1002,2,0),\"\")","v":""},null,{"$f":"IFERROR(VLOOKUP(E1575,Participants!$B$3:$C$1002,2,0),\"\")","v":""}]
[null,null,null,{"$f":"IFERROR(VLOOKUP(C1576,Participants!$B$3:$C$1002,2,0),\"\")","v":""},null,{"$f":"IFERROR(VLOOKUP(E1576,Participants!$B$3:$C$1002,2,0),\"\")","v":""}]
[null,null,null,{"$f":"IFERROR(VLOOKUP(C1577,Participants!$B$3:$C$1002,2,0),\"\")","v":""},null,{"$f":"IFERROR(VLOOKUP(E1577,Participants!$B$3:$C$1002,2,0),\"\")","v":""}]
[null,null,null,{"$f":"IFERROR(VLOOKUP(C1578,Participants!$B$3:$C$1002,2,0),\"\")","v":""},null,{"$f":"IFERROR(VLOOKUP(E1578,Participants!$B$3:$C$1002,2,0),\"\")","v":""}]
[null,null,null,{"$f":"IFERROR(VLOOKUP(C1579,Participants!$B$3:$C$1002,2,0),\"\")","v":""},null,{"$f":"IFERROR(VLOOKUP(E1579,Participants!$B$3:$C$1002,2,0),\"\")","v":""}]
[null,null,null,{"$f":"IFERROR(VLOOKUP(C1580,Participants!$B$3:$C$1002,2,0),\"\")","v":""},null,{"$f":"IFERROR(VLOOKUP(E1580,Participants!$B$3:$C$1002,2,0),\"\")","v":""}]
[null,null,null,{"$f":"IFERROR(VLOOKUP(C1581,Participants!$B$3:$C$1002,2,0),\"\")","v":""},null,{"$f":"IFERROR(VLOOKUP(E1581,Participants!$B$3:$C$1002,2,0),\"\")","v":""}]
[null,null,null,{"$f":"IFERROR(VLOOKUP(C1582,Participants!$B$3:$C$1002,2,0),\"\")","v":""},null,{"$f":"IFERROR(VLOOKUP(E1582,Participants!$B$3:$C$1002,2,0),\"\")","v":""}]
[null,null,null,{"$f":"IFERROR(VLOOKUP(C1583,Participants!$B$3:$C$1002,2,0),\"\")","v":""},null,{"$f":"IFERROR(VLOOKUP(E1583,Participants!$B$3:$C$1002,2,0),\"\")","v":""}]
[null,null,null,{"$f":"IFERROR(VLOOKUP(C1584,Participants!$B$3:$C$1002,2,0),\"\")","v":""},null,{"$f":"IFERROR(VLOOKUP(E1584,Participants!$B$3:$C$1002,2,0),\"\")","v":""}]
[null,null,null,{"$f":"IFERROR(VLOOKUP(C1585,Participants!$B$3:$C$1002,2,0),\"\")","v":""},null,{"$f":"IFERROR(VLOOKUP(E1585,Participants!$B$3:$C$1002,2,0),\"\")","v":""}]
[null,null,null,{"$f":"IFERROR(VLOOKUP(C1586,Participants!$B$3:$C$1002,2,0),\"\")","v":""},null,{"$f":"IFERROR(VLOOKUP(E1586,Participants!$B$3:$C$1002,2,0),\"\")","v":""}]
[null,null,null,{"$f":"IFERROR(VLOOKUP(C1587,Participants!$B$3:$C$1002,2,0),\"\")","v":""},null,{"$f":"IFERROR(VLOOKUP(E1587,Participants!$B$3:$C$1002,2,0),\"\")","v":""}]
[null,null,null,{"$f":"IFERROR(VLOOKUP(C1588,Participants!$B$3:$C$1002,2,0),\"\")","v":""},null,{"$f":"IFERROR(VLOOKUP(E1588,Participants!$B$3:$C$1002,2,0),\"\")","v":""}]
[null,null,null,{"$f":"IFERROR(VLOOKUP(C1589,Participants!$B$3:$C$1002,2,0),\"\")","v":""},null,{"$f":"IFERROR(VLOOKUP(E1589,Participants!$B$3:$C$1002,2,0),\"\")","v":""}]
[null,null,null,{"$f":"IFERROR(VLOOKUP(C1590,Participants!$B$3:$C$1002,2,0),\"\")","v":""},null,{"$f":"IFERROR(VLOOKUP(E1590,Participants!$B$3:$C$1002,2,0),\"\")","v":""}]
[null,null,null,{"$f":"IFERROR(VLOOKUP(C1591,Participants!$B$3:$C$1002,2,0),\"\")","v":""},null,{"$f":"IFERROR(VLOOKUP(E1591,Participants!$B$3:$C$1002,2,0),\"\")","v":""}]
[null,null,null,{"$f":"IFERROR(VLOOKUP(C1592,Participants!$B$3:$C$1002,2,0),\"\")","v":""},null,{"$f":"IFERROR(VLOOKUP(E1592,Participants!$B$3:$C$1002,2,0),\"\")","v":""}]
[null,null,null,{"$f":"IFERROR(VLOOKUP(C1593,Participants!$B$3:$C$1002,2,0),\"\")","v":""},null,{"$f":"IFERROR(VLOOKUP(E1593,Participants!$B$3:$C$1002,2,0),\"\")","v":""}]
[null,null,null,{"$f":"IFERROR(VLOOKUP(C1594,Participants!$B$3:$C$1002,2,0),\"\")","v":""},null,{"$f":"IFERROR(VLOOKUP(E1594,Participants!$B$3:$C$1002,2,0),\"\")","v":""}]
[null,null,null,{"$f":"IFERROR(VLOOKUP(C1595,Participants!$B$3:$C$1002,2,0),\"\")","v":""},null,{"$f":"IFERROR(VLOOKUP(E1595,Participants!$B$3:$C$1002,2,0),\"\")","v":""}]
[null,null,null,{"$f":"IFERROR(VLOOKUP(C1596,Participants!$B$3:$C$1002,2,0),\"\")","v":""},null,{"$f":"IFERROR(VLOOKUP(E1596,Participants!$B$3:$C$1002,2,0),\"\")","v":""}]
[null,null,null,{"$f":"IFERROR(VLOOKUP(C1597,Participants!$B$3:$C$1002,2,0),\"\")","v":""},null,{"$f":"IFERROR(VLOOKUP(E1597,Participants!$B$3:$C$1002,2,0),\"\")","v":""}]
[null,null,null,{"$f":"IFERROR(VLOOKUP(C1598,Participants!$B$3:$C$1002,2,0),\"\")","v":""},null,{"$f":"IFERROR(VLOOKUP(E1598,Participants!$B$3:$C$1002,2,0),\"\")","v":""}]
[null,null,null,{"$f":"IFERROR(VLOOKUP(C1599,Participants!$B$3:$C$1002,2,0),\"\")","v":""},null,{"$f":"IFERROR(VLOOKUP(E1599,Participants!$B$3:$C$1002,2,0),\"\")","v":""}]
[null,null,null,{"$f":"IFERROR(VLOOKUP(C1600,Participants!$B$3:$C$1002,2,0),\"\")","v":""},null,{"$f":"IFERROR(VLOOKUP(E1600,Participants!$B$3:$C$1002,2,0),\"\")","v":""}]
[null,null,null,{"$f":"IFERROR(VLOOKUP(C1601,Participants!$B$3:$C$1002,2,0),\"\")","v":""},null,{"$f":"IFERROR(VLOOKUP(E1601,Participants!$B$3:$C$1002,2,0),\"\")","v":""}]
[null,null,null,{"$f":"IFERROR(VLOOKUP(C1602,Participants!$B$3:$C$1002,2,0),\"\")","v":""},null,{"$f":"IFERROR(VLOOKUP(E1602,Participants!$B$3:$C$1002,2,0),\"\")","v":""}]
[null,null,null,{"$f":"IFERROR(VLOOKUP(C1603,Participants!$B$3:$C$1002,2,0),\"\")","v":""},null,{"$f":"IFERROR(VLOOKUP(E1603,Participants!$B$3:$C$1002,2,0),\"\")","v":""}]
[null,null,null,{"$f":"IFERROR(VLOOKUP(C1604,Participants!$B$3:$C$1002,2,0),\"\")","v":""},null,{"$f":"IFERROR(VLOOKUP(E1604,Participants!$B$3:$C$1002,2,0),\"\")","v":""}]
[null,null,null,{"$f":"IFERROR(VLOOKUP(C1605,Participants!$B$3:$C$1002,2,0),\"\")","v":""},null,{"$f":"IFERROR(VLOOKUP(E1605,Participants!$B$3:$C$1002,2,0),\"\")","v":""}]
[null,null,null,{"$f":"IFERROR(VLOOKUP(C1606,Participants!$B$3:$C$1002,2,0),\"\")","v":""},null,{"$f":"IFERROR(VLOOKUP(E1606,Participants!$B$3:$C$1002,2,0),\"\")","v":""}]
[null,null,null,{"$f":"IFERROR(VLOOKUP(C1607,Participants!$B$3:$C$1002,2,0),\"\")","v":""},null,{"$f":"IFERROR(VLOOKUP(E1607,Participants!$B$3:$C$1002,2,0),\"\")","v":""}]
[null,null,null,{"$f":"IFERROR(VLOOKUP(C1608,Participants!$B$3:$C$1002,2,0),\"\")","v":""},null,{"$f":"IFERROR(VLOOKUP(E1608,Participants!$B$3:$C$1002,2,0),\"\")","v":""}]
[null,null,null,{"$f":"IFERROR(VLOOKUP(C1609,Participants!$B$3:$C$1002,2,0),\"\")","v":""},null,{"$f":"IFERROR(VLOOKUP(E1609,Participants!$B$3:$C$1002,2,0),\"\")","v":""}]
[null,null,null,{"$f":"IFERROR(VLOOKUP(C1610,Participants!$B$3:$C$1002,2,0),\"\")","v":""},null,{"$f":"IFERROR(VLOOKUP(E1610,Participants!$B$3:$C$1002,2,0),\"\")","v":""}]
[null,null,null,{"$f":"IFERROR(VLOOKUP(C1611,Participants!$B$3:$C$1002,2,0),\"\")","v":""},null,{"$f":"IFERROR(VLOOKUP(E1611,Participants!$B$3:$C$1002,2,0),\"\")","v":""}]
[null,null,null,{"$f":"IFERROR(VLOOKUP(C1612,Participants!$B$3:$C$1002,2,0),\"\")","v":""},null,{"$f":"IFERROR(VLOOKUP(E1612,Participants!$B$3:$C$1002,2,0),\"\")","v":""}]
[null,null,null,{"$f":"IFERROR(VLOOKUP(C1613,Participants!$B$3:$C$1002,2,0),\"\")","v":""},null,{"$f":"IFERROR(VLOOKUP(E1613,Participants!$B$3:$C$1002,2,0),\"\")","v":""}]
[null,null,null,{"$f":"IFERROR(VLOOKUP(C1614,Participants!$B$3:$C$1002,2,0),\"\")","v":""},null,{"$f":"IFERROR(VLOOKUP(E1614,Participants!$B$3:$C$1002,2,0),\"\")","v":""}]
[null,null,null,{"$f":"IFERROR(VLOOKUP(C1615,Participants!$B$3:$C$1002,2,0),\"\")","v":""},null,{"$f":"IFERROR(VLOOKUP(E1615,Participants!$B$3:$C$1002,2,0),\"\")","v":""}]
[null,null,null,{"$f":"IFERROR(VLOOKUP(C1616,Participants!$B$3:$C$1002,2,0),\"\")","v":""},null,{"$f":"IFERROR(VLOOKUP(E1616,Participants!$B$3:$C$1002,2,0),\"\")","v":""}]
[null,null,null,{"$f":"IFERROR(VLOOKUP(C1617,Participants!$B$3:$C$1002,2,0),\"\")","v":""},null,{"$f":"IFERROR(VLOOKUP(E1617,Participants!$B$3:$C$1002,2,0),\"\")","v":""}]
[null,null,null,{"$f":"IFERROR(VLOOKUP(C1618,Participants!$B$3:$C$1002,2,0),\"\")","v":""},null,{"$f":"IFERROR(VLOOKUP(E1618,Participants!$B$3:$C$1002,2,0),\"\")","v":""}]
[null,null,null,{"$f":"IFERROR(VLOOKUP(C1619,Participants!$B$3:$C$1002,2,0),\"\")","v":""},null,{"$f":"IFERROR(VLOOKUP(E1619,Participants!$B$3:$C$1002,2,0),\"\")","v":""}]
[null,null,null,{"$f":"IFERROR(VLOOKUP(C1620,Participants!$B$3:$C$1002,2,0),\"\")","v":""},null,{"$f":"IFERROR(VLOOKUP(E1620,Participants!$B$3:$C$1002,2,0),\"\")","v":""}]
[null,null,null,{"$f":"IFERROR(VLOOKUP(C1621,Participants!$B$3:$C$1002,2,0),\"\")","v":""},null,{"$f":"IFERROR(VLOOKUP(E1621,Participants!$B$3:$C$1002,2,0),\"\")","v":""}]
[null,null,null,{"$f":"IFERROR(VLOOKUP(C1622,Participants!$B$3:$C$1002,2,0),\"\")","v":""},null,{"$f":"IFERROR(VLOOKUP(E1622,Participants!$B$3:$C$1002,2,0),\"\")","v":""}]
[null,null,null,{"$f":"IFERROR(VLOOKUP(C1623,Participants!$B$3:$C$1002,2,0),\"\")","v":""},null,{"$f":"IFERROR(VLOOKUP(E1623,Participants!$B$3:$C$1002,2,0),\"\")","v":""}]
[null,null,null,{"$f":"IFERROR(VLOOKUP(C1624,Participants!$B$3:$C$1002,2,0),\"\")","v":""},null,{"$f":"IFERROR(VLOOKUP(E1624,Participants!$B$3:$C$1002,2,0),\"\")","v":""}]
[null,null,null,{"$f":"IFERROR(VLOOKUP(C1625,Participants!$B$3:$C$1002,2,0),\"\")","v":""},null,{"$f":"IFERROR(VLOOKUP(E1625,Participants!$B$3:$C$1002,2,0),\"\")","v":""}]
[null,null,null,{"$f":"IFERROR(VLOOKUP(C1626,Participants!$B$3:$C$1002,2,0),\"\")","v":""},null,{"$f":"IFERROR(VLOOKUP(E1626,Participants!$B$3:$C$1002,2,0),\"\")","v":""}]
[null,null,null,{"$f":"IFERROR(VLOOKUP(C1627,Participants!$B$3:$C$1002,2,0),\"\")","v":""},null,{"$f":"IFERROR(VLOOKUP(E1627,Participants!$B$3:$C$1002,2,0),\"\")","v":""}]
[null,null,null,{"$f":"IFERROR(VLOOKUP(C1628,Participants!$B$3:$C$1002,2,0),\"\")","v":""},null,{"$f":"IFERROR(VLOOKUP(E1628,Participants!$B$3:$C$1002,2,0),\"\")","v":""}]
[null,null,null,{"$f":"IFERROR(VLOOKUP(C1629,Participants!$B$3:$C$1002,2,0),\"\")","v":""},null,{"$f":"IFERROR(VLOOKUP(E1629,Participants!$B$3:$C$1002,2,0),\"\")","v":""}]
[null,null,null,{"$f":"IFERROR(VLOOKUP(C1630,Participants!$B$3:$C$1002,2,0),\"\")","v":""},null,{"$f":"IFERROR(VLOOKUP(E1630,Participants!$B$3:$C$1002,2,0),\"\")","v":""}]
[null,null,null,{"$f":"IFERROR(VLOOKUP(C1631,Participants!$B$3:$C$1002,2,0),\"\")","v":""},null,{"$f":"IFERROR(VLOOKUP(E1631,Participants!$B$3:$C$1002,2,0),\"\")","v":""}]
[null,null,null,{"$f":"IFERROR(VLOOKUP(C1632,Participants!$B$3:$C$1002,2,0),\"\")","v":""},null,{"$f":"IFERROR(VLOOKUP(E1632,Participants!$B$3:$C$1002,2,0),\"\")","v":""}]
[null,null,null,{"$f":"IFERROR(VLOOKUP(C1633,Participants!$B$3:$C$1002,2,0),\"\")","v":""},null,{"$f":"IFERROR(VLOOKUP(E1633,Participants!$B$3:$C$1002,2,0),\"\")","v":""}]
[null,null,null,{"$f":"IFERROR(VLOOKUP(C1634,Participants!$B$3:$C$1002,2,0),\"\")","v":""},null,{"$f":"IFERROR(VLOOKUP(E1634,Participants!$B$3:$C$1002,2,0),\"\")","v":""}]
[null,null,null,{"$f":"IFERROR(VLOOKUP(C1635,Participants!$B$3:$C$1002,2,0),\"\")","v":""},null,{"$f":"IFERROR(VLOOKUP(E1635,Participants!$B$3:$C$1002,2,0),\"\")","v":""}]
[null,null,null,{"$f":"IFERROR(VLOOKUP(C1636,Participants!$B$3:$C$1002,2,0),\"\")","v":""},null,{"$f":"IFERROR(VLOOKUP(E1636,Participants!$B$3:$C$1002,2,0),\"\")","v":""}]
[null,null,null,{"$f":"IFERROR(VLOOKUP(C1637,Participants!$B$3:$C$1002,2,0),\"\")","v":""},null,{"$f":"IFERROR(VLOOKUP(E1637,Participants!$B$3:$C$1002,2,0),\"\")","v":""}]
[null,null,null,{"$f":"IFERROR(VLOOKUP(C1638,Participants!$B$3:$C$1002,2,0),\"\")","v":""},null,{"$f":"IFERROR(VLOOKUP(E1638,Participants!$B$3:$C$1002,2,0),\"\")","v":""}]
[null,null,null,{"$f":"IFERROR(VLOOKUP(C1639,Participants!$B$3:$C$1002,2,0),\"\")","v":""},null,{"$f":"IFERROR(VLOOKUP(E1639,Participants!$B$3:$C$1002,2,0),\"\")","v":""}]
[null,null,null,{"$f":"IFERROR(VLOOKUP(C1640,Participants!$B$3:$C$1002,2,0),\"\")","v":""},null,{"$f":"IFERROR(VLOOKUP(E1640,Participants!$B$3:$C$1002,2,0),\"\")","v":""}]
[null,null,null,{"$f":"IFERROR(VLOOKUP(C1641,Participants!$B$3:$C$1002,2,0),\"\")","v":""},null,{"$f":"IFERROR(VLOOKUP(E1641,Participants!$B$3:$C$1002,2,0),\"\")","v":""}]
[null,null,null,{"$f":"IFERROR(VLOOKUP(C1642,Participants!$B$3:$C$1002,2,0),\"\")","v":""},null,{"$f":"IFERROR(VLOOKUP(E1642,Participants!$B$3:$C$1002,2,0),\"\")","v":""}]
[null,null,null,{"$f":"IFERROR(VLOOKUP(C1643,Participants!$B$3:$C$1002,2,0),\"\")","v":""},null,{"$f":"IFERROR(VLOOKUP(E1643,Participants!$B$3:$C$1002,2,0),\"\")","v":""}]
[null,null,null,{"$f":"IFERROR(VLOOKUP(C1644,Participants!$B$3:$C$1002,2,0),\"\")","v":""},null,{"$f":"IFERROR(VLOOKUP(E1644,Participants!$B$3:$C$1002,2,0),\"\")","v":""}]
[null,null,null,{"$f":"IFERROR(VLOOKUP(C1645,Participants!$B$3:$C$1002,2,0),\"\")","v":""},null,{"$f":"IFERROR(VLOOKUP(E1645,Participants!$B$3:$C$1002,2,0),\"\")","v":""}]
[null,null,null,{"$f":"IFERROR(VLOOKUP(C1646,Participants!$B$3:$C$1002,2,0),\"\")","v":""},null,{"$f":"IFERROR(VLOOKUP(E1646,Participants!$B$3:$C$1002,2,0),\"\")","v":""}]
[null,null,null,{"$f":"IFERROR(VLOOKUP(C1647,Participants!$B$3:$C$1002,2,0),\"\")","v":""},null,{"$f":"IFERROR(VLOOKUP(E1647,Participants!$B$3:$C$1002,2,0),\"\")","v":""}]
[null,null,null,{"$f":"IFERROR(VLOOKUP(C1648,Participants!$B$3:$C$1002,2,0),\"\")","v":""},null,{"$f":"IFERROR(VLOOKUP(E1648,Participants!$B$3:$C$1002,2,0),\"\")","v":""}]
[null,null,null,{"$f":"IFERROR(VLOOKUP(C1649,Participants!$B$3:$C$1002,2,0),\"\")","v":""},null,{"$f":"IFERROR(VLOOKUP(E1649,Participants!$B$3:$C$1002,2,0),\"\")","v":""}]
[null,null,null,{"$f":"IFERROR(VLOOKUP(C1650,Participants!$B$3:$C$1002,2,0),\"\")","v":""},null,{"$f":"IFERROR(VLOOKUP(E1650,Participants!$B$3:$C$1002,2,0),\"\")","v":""}]
[null,null,null,{"$f":"IFERROR(VLOOKUP(C1651,Participants!$B$3:$C$1002,2,0),\"\")","v":""},null,{"$f":"IFERROR(VLOOKUP(E1651,Participants!$B$3:$C$1002,2,0),\"\")","v":""}]
[null,null,null,{"$f":"IFERROR(VLOOKUP(C1652,Participants!$B$3:$C$1002,2,0),\"\")","v":""},null,{"$f":"IFERROR(VLOOKUP(E1652,Participants!$B$3:$C$1002,2,0),\"\")","v":""}]
[null,null,null,{"$f":"IFERROR(VLOOKUP(C1653,Participants!$B$3:$C$1002,2,0),\"\")","v":""},null,{"$f":"IFERROR(VLOOKUP(E1653,Participants!$B$3:$C$1002,2,0),\"\")","v":""}]
[null,null,null,{"$f":"IFERROR(VLOOKUP(C1654,Participants!$B$3:$C$1002,2,0),\"\")","v":""},null,{"$f":"IFERROR(VLOOKUP(E1654,Participants!$B$3:$C$1002,2,0),\"\")","v":""}]
[null,null,null,{"$f":"IFERROR(VLOOKUP(C1655,Participants!$B$3:$C$1002,2,0),\"\")","v":""},null,{"$f":"IFERROR(VLOOKUP(E1655,Participants!$B$3:$C$1002,2,0),\"\")","v":""}]
[null,null,null,{"$f":"IFERROR(VLOOKUP(C1656,Participants!$B$3:$C$1002,2,0),\"\")","v":""},null,{"$f":"IFERROR(VLOOKUP(E1656,Participants!$B$3:$C$1002,2,0),\"\")","v":""}]
[null,null,null,{"$f":"IFERROR(VLOOKUP(C1657,Participants!$B$3:$C$1002,2,0),\"\")","v":""},null,{"$f":"IFERROR(VLOOKUP(E1657,Participants!$B$3:$C$1002,2,0),\"\")","v":""}]
[null,null,null,{"$f":"IFERROR(VLOOKUP(C1658,Participants!$B$3:$C$1002,2,0),\"\")","v":""},null,{"$f":"IFERROR(VLOOKUP(E1658,Participants!$B$3:$C$1002,2,0),\"\")","v":""}]
[null,null,null,{"$f":"IFERROR(VLOOKUP(C1659,Participants!$B$3:$C$1002,2,0),\"\")","v":""},null,{"$f":"IFERROR(VLOOKUP(E1659,Participants!$B$3:$C$1002,2,0),\"\")","v":""}]
[null,null,null,{"$f":"IFERROR(VLOOKUP(C1660,Participants!$B$3:$C$1002,2,0),\"\")","v":""},null,{"$f":"IFERROR(VLOOKUP(E1660,Participants!$B$3:$C$1002,2,0),\"\")","v":""}]
[null,null,null,{"$f":"IFERROR(VLOOKUP(C1661,Participants!$B$3:$C$1002,2,0),\"\")","v":""},null,{"$f":"IFERROR(VLOOKUP(E1661,Participants!$B$3:$C$1002,2,0),\"\")","v":""}]
[null,null,null,{"$f":"IFERROR(VLOOKUP(C1662,Participants!$B$3:$C$1002,2,0),\"\")","v":""},null,{"$f":"IFERROR(VLOOKUP(E1662,Participants!$B$3:$C$1002,2,0),\"\")","v":""}]
[null,null,null,{"$f":"IFERROR(VLOOKUP(C1663,Participants!$B$3:$C$1002,2,0),\"\")","v":""},null,{"$f":"IFERROR(VLOOKUP(E1663,Participants!$B$3:$C$1002,2,0),\"\")","v":""}]
[null,null,null,{"$f":"IFERROR(VLOOKUP(C1664,Participants!$B$3:$C$1002,2,0),\"\")","v":""},null,{"$f":"IFERROR(VLOOKUP(E1664,Participants!$B$3:$C$1002,2,0),\"\")","v":""}]
[null,null,null,{"$f":"IFERROR(VLOOKUP(C1665,Participants!$B$3:$C$1002,2,0),\"\")","v":""},null,{"$f":"IFERROR(VLOOKUP(E1665,Participants!$B$3:$C$1002,2,0),\"\")","v":""}]
[null,null,null,{"$f":"IFERROR(VLOOKUP(C1666,Participants!$B$3:$C$1002,2,0),\"\")","v":""},null,{"$f":"IFERROR(VLOOKUP(E1666,Participants!$B$3:$C$1002,2,0),\"\")","v":""}]
[null,null,null,{"$f":"IFERROR(VLOOKUP(C1667,Participants!$B$3:$C$1002,2,0),\"\")","v":""},null,{"$f":"IFERROR(VLOOKUP(E1667,Participants!$B$3:$C$1002,2,0),\"\")","v":""}]
[null,null,null,{"$f":"IFERROR(VLOOKUP(C1668,Participants!$B$3:$C$1002,2,0),\"\")","v":""},null,{"$f":"IFERROR(VLOOKUP(E1668,Participants!$B$3:$C$1002,2,0),\"\")","v":""}]
[null,null,null,{"$f":"IFERROR(VLOOKUP(C1669,Participants!$B$3:$C$1002,2,0),\"\")","v":""},null,{"$f":"IFERROR(VLOOKUP(E1669,Participants!$B$3:$C$1002,2,0),\"\")","v":""}]
[null,null,null,{"$f":"IFERROR(VLOOKUP(C1670,Participants!$B$3:$C$1002,2,0),\"\")","v":""},null,{"$f":"IFERROR(VLOOKUP(E1670,Participants!$B$3:$C$1002,2,0),\"\")","v":""}]
[null,null,null,{"$f":"IFERROR(VLOOKUP(C1671,Participants!$B$3:$C$1002,2,0),\"\")","v":""},null,{"$f":"IFERROR(VLOOKUP(E1671,Participants!$B$3:$C$1002,2,0),\"\")","v":""}]
[null,null,null,{"$f":"IFERROR(VLOOKUP(C1672,Participants!$B$3:$C$1002,2,0),\"\")","v":""},null,{"$f":"IFERROR(VLOOKUP(E1672,Participants!$B$3:$C$1002,2,0),\"\")","v":""}]
[null,null,null,{"$f":"IFERROR(VLOOKUP(C1673,Participants!$B$3:$C$1002,2,0),\"\")","v":""},null,{"$f":"IFERROR(VLOOKUP(E1673,Participants!$B$3:$C$1002,2,0),\"\")","v":""}]
[null,null,null,{"$f":"IFERROR(VLOOKUP(C1674,Participants!$B$3:$C$1002,2,0),\"\")","v":""},null,{"$f":"IFERROR(VLOOKUP(E1674,Participants!$B$3:$C$1002,2,0),\"\")","v":""}]
[null,null,null,{"$f":"IFERROR(VLOOKUP(C1675,Participants!$B$3:$C$1002,2,0),\"\")","v":""},null,{"$f":"IFERROR(VLOOKUP(E1675,Participants!$B$3:$C$1002,2,0),\"\")","v":""}]
[null,null,null,{"$f":"IFERROR(VLOOKUP(C1676,Participants!$B$3:$C$1002,2,0),\"\")","v":""},null,{"$f":"IFERROR(VLOOKUP(E1676,Participants!$B$3:$C$1002,2,0),\"\")","v":""}]
[null,null,null,{"$f":"IFERROR(VLOOKUP(C1677,Participants!$B$3:$C$1002,2,0),\"\")","v":""},null,{"$f":"IFERROR(VLOOKUP(E1677,Participants!$B$3:$C$1002,2,0),\"\")","v":""}]
[null,null,null,{"$f":"IFERROR(VLOOKUP(C1678,Participants!$B$3:$C$1002,2,0),\"\")","v":""},null,{"$f":"IFERROR(VLOOKUP(E1678,Participants!$B$3:$C$1002,2,0),\"\")","v":""}]
[null,null,null,{"$f":"IFERROR(VLOOKUP(C1679,Participants!$B$3:$C$1002,2,0),\"\")","v":""},null,{"$f":"IFERROR(VLOOKUP(E1679,Participants!$B$3:$C$1002,2,0),\"\")","v":""}]
[null,null,null,{"$f":"IFERROR(VLOOKUP(C1680,Participants!$B$3:$C$1002,2,0),\"\")","v":""},null,{"$f":"IFERROR(VLOOKUP(E1680,Participants!$B$3:$C$1002,2,0),\"\")","v":""}]
[null,null,null,{"$f":"IFERROR(VLOOKUP(C1681,Participants!$B$3:$C$1002,2,0),\"\")","v":""},null,{"$f":"IFERROR(VLOOKUP(E1681,Participants!$B$3:$C$1002,2,0),\"\")","v":""}]
[null,null,null,{"$f":"IFERROR(VLOOKUP(C1682,Participants!$B$3:$C$1002,2,0),\"\")","v":""},null,{"$f":"IFERROR(VLOOKUP(E1682,Participants!$B$3:$C$1002,2,0),\"\")","v":""}]
[null,null,null,{"$f":"IFERROR(VLOOKUP(C1683,Participants!$B$3:$C$1002,2,0),\"\")","v":""},null,{"$f":"IFERROR(VLOOKUP(E1683,Participants!$B$3:$C$1002,2,0),\"\")","v":""}]
[null,null,null,{"$f":"IFERROR(VLOOKUP(C1684,Participants!$B$3:$C$1002,2,0),\"\")","v":""},null,{"$f":"IFERROR(VLOOKUP(E1684,Participants!$B$3:$C$1002,2,0),\"\")","v":""}]
[null,null,null,{"$f":"IFERROR(VLOOKUP(C1685,Participants!$B$3:$C$1002,2,0),\"\")","v":""},null,{"$f":"IFERROR(VLOOKUP(E1685,Participants!$B$3:$C$1002,2,0),\"\")","v":""}]
[null,null,null,{"$f":"IFERROR(VLOOKUP(C1686,Participants!$B$3:$C$1002,2,0),\"\")","v":""},null,{"$f":"IFERROR(VLOOKUP(E1686,Participants!$B$3:$C$1002,2,0),\"\")","v":""}]
[null,null,null,{"$f":"IFERROR(VLOOKUP(C1687,Participants!$B$3:$C$1002,2,0),\"\")","v":""},null,{"$f":"IFERROR(VLOOKUP(E1687,Participants!$B$3:$C$1002,2,0),\"\")","v":""}]
[null,null,null,{"$f":"IFERROR(VLOOKUP(C1688,Participants!$B$3:$C$1002,2,0),\"\")","v":""},null,{"$f":"IFERROR(VLOOKUP(E1688,Participants!$B$3:$C$1002,2,0),\"\")","v":""}]
[null,null,null,{"$f":"IFERROR(VLOOKUP(C1689,Participants!$B$3:$C$1002,2,0),\"\")","v":""},null,{"$f":"IFERROR(VLOOKUP(E1689,Participants!$B$3:$C$1002,2,0),\"\")","v":""}]
[null,null,null,{"$f":"IFERROR(VLOOKUP(C1690,Participants!$B$3:$C$1002,2,0),\"\")","v":""},null,{"$f":"IFERROR(VLOOKUP(E1690,Participants!$B$3:$C$1002,2,0),\"\")","v":""}]
[null,null,null,{"$f":"IFERROR(VLOOKUP(C1691,Participants!$B$3:$C$1002,2,0),\"\")","v":""},null,{"$f":"IFERROR(VLOOKUP(E1691,Participants!$B$3:$C$1002,2,0),\"\")","v":""}]
[null,null,null,{"$f":"IFERROR(VLOOKUP(C1692,Participants!$B$3:$C$1002,2,0),\"\")","v":""},null,{"$f":"IFERROR(VLOOKUP(E1692,Participants!$B$3:$C$1002,2,0),\"\")","v":""}]
[null,null,null,{"$f":"IFERROR(VLOOKUP(C1693,Participants!$B$3:$C$1002,2,0),\"\")","v":""},null,{"$f":"IFERROR(VLOOKUP(E1693,Participants!$B$3:$C$1002,2,0),\"\")","v":""}]
[null,null,null,{"$f":"IFERROR(VLOOKUP(C1694,Participants!$B$3:$C$1002,2,0),\"\")","v":""},null,{"$f":"IFERROR(VLOOKUP(E1694,Participants!$B$3:$C$1002,2,0),\"\")","v":""}]
[null,null,null,{"$f":"IFERROR(VLOOKUP(C1695,Participants!$B$3:$C$1002,2,0),\"\")","v":""},null,{"$f":"IFERROR(VLOOKUP(E1695,Participants!$B$3:$C$1002,2,0),\"\")","v":""}]
[null,null,null,{"$f":"IFERROR(VLOOKUP(C1696,Participants!$B$3:$C$1002,2,0),\"\")","v":""},null,{"$f":"IFERROR(VLOOKUP(E1696,Participants!$B$3:$C$1002,2,0),\"\")","v":""}]
[null,null,null,{"$f":"IFERROR(VLOOKUP(C1697,Participants!$B$3:$C$1002,2,0),\"\")","v":""},null,{"$f":"IFERROR(VLOOKUP(E1697,Participants!$B$3:$C$1002,2,0),\"\")","v":""}]
[null,null,null,{"$f":"IFERROR(VLOOKUP(C1698,Participants!$B$3:$C$1002,2,0),\"\")","v":""},null,{"$f":"IFERROR(VLOOKUP(E1698,Participants!$B$3:$C$1002,2,0),\"\")","v":""}]
[null,null,null,{"$f":"IFERROR(VLOOKUP(C1699,Participants!$B$3:$C$1002,2,0),\"\")","v":""},null,{"$f":"IFERROR(VLOOKUP(E1699,Participants!$B$3:$C$1002,2,0),\"\")","v":""}]
[null,null,null,{"$f":"IFERROR(VLOOKUP(C1700,Participants!$B$3:$C$1002,2,0),\"\")","v":""},null,{"$f":"IFERROR(VLOOKUP(E1700,Participants!$B$3:$C$1002,2,0),\"\")","v":""}]
[null,null,null,{"$f":"IFERROR(VLOOKUP(C1701,Participants!$B$3:$C$1002,2,0),\"\")","v":""},null,{"$f":"IFERROR(VLOOKUP(E1701,Participants!$B$3:$C$1002,2,0),\"\")","v":""}]
[null,null,null,{"$f":"IFERROR(VLOOKUP(C1702,Participants!$B$3:$C$1002,2,0),\"\")","v":""},null,{"$f":"IFERROR(VLOOKUP(E1702,Participants!$B$3:$C$1002,2,0),\"\")","v":""}]
[null,null,null,{"$f":"IFERROR(VLOOKUP(C1703,Participants!$B$3:$C$1002,2,0),\"\")","v":""},null,{"$f":"IFERROR(VLOOKUP(E1703,Participants!$B$3:$C$1002,2,0),\"\")","v":""}]
[null,null,null,{"$f":"IFERROR(VLOOKUP(C1704,Participants!$B$3:$C$1002,2,0),\"\")","v":""},null,{"$f":"IFERROR(VLOOKUP(E1704,Participants!$B$3:$C$1002,2,0),\"\")","v":""}]
[null,null,null,{"$f":"IFERROR(VLOOKUP(C1705,Participants!$B$3:$C$1002,2,0),\"\")","v":""},null,{"$f":"IFERROR(VLOOKUP(E1705,Participants!$B$3:$C$1002,2,0),\"\")","v":""}]
[null,null,null,{"$f":"IFERROR(VLOOKUP(C1706,Participants!$B$3:$C$1002,2,0),\"\")","v":""},null,{"$f":"IFERROR(VLOOKUP(E1706,Participants!$B$3:$C$1002,2,0),\"\")","v":""}]
[null,null,null,{"$f":"IFERROR(VLOOKUP(C1707,Participants!$B$3:$C$1002,2,0),\"\")","v":""},null,{"$f":"IFERROR(VLOOKUP(E1707,Participants!$B$3:$C$1002,2,0),\"\")","v":""}]
[null,null,null,{"$f":"IFERROR(VLOOKUP(C1708,Participants!$B$3:$C$1002,2,0),\"\")","v":""},null,{"$f":"IFERROR(VLOOKUP(E1708,Participants!$B$3:$C$1002,2,0),\"\")","v":""}]
[null,null,null,{"$f":"IFERROR(VLOOKUP(C1709,Participants!$B$3:$C$1002,2,0),\"\")","v":""},null,{"$f":"IFERROR(VLOOKUP(E1709,Participants!$B$3:$C$1002,2,0),\"\")","v":""}]
[null,null,null,{"$f":"IFERROR(VLOOKUP(C1710,Participants!$B$3:$C$1002,2,0),\"\")","v":""},null,{"$f":"IFERROR(VLOOKUP(E1710,Participants!$B$3:$C$1002,2,0),\"\")","v":""}]
[null,null,null,{"$f":"IFERROR(VLOOKUP(C1711,Participants!$B$3:$C$1002,2,0),\"\")","v":""},null,{"$f":"IFERROR(VLOOKUP(E1711,Participants!$B$3:$C$1002,2,0),\"\")","v":""}]
[null,null,null,{"$f":"IFERROR(VLOOKUP(C1712,Participants!$B$3:$C$1002,2,0),\"\")","v":""},null,{"$f":"IFERROR(VLOOKUP(E1712,Participants!$B$3:$C$1002,2,0),\"\")","v":""}]
[null,null,null,{"$f":"IFERROR(VLOOKUP(C1713,Participants!$B$3:$C$1002,2,0),\"\")","v":""},null,{"$f":"IFERROR(VLOOKUP(E1713,Participants!$B$3:$C$1002,2,0),\"\")","v":""}]
[null,null,null,{"$f":"IFERROR(VLOOKUP(C1714,Participants!$B$3:$C$1002,2,0),\"\")","v":""},null,{"$f":"IFERROR(VLOOKUP(E1714,Participants!$B$3:$C$1002,2,0),\"\")","v":""}]
[null,null,null,{"$f":"IFERROR(VLOOKUP(C1715,Participants!$B$3:$C$1002,2,0),\"\")","v":""},null,{"$f":"IFERROR(VLOOKUP(E1715,Participants!$B$3:$C$1002,2,0),\"\")","v":""}]
[null,null,null,{"$f":"IFERROR(VLOOKUP(C1716,Participants!$B$3:$C$1002,2,0),\"\")","v":""},null,{"$f":"IFERROR(VLOOKUP(E1716,Participants!$B$3:$C$1002,2,0),\"\")","v":""}]
[null,null,null,{"$f":"IFERROR(VLOOKUP(C1717,Participants!$B$3:$C$1002,2,0),\"\")","v":""},null,{"$f":"IFERROR(VLOOKUP(E1717,Participants!$B$3:$C$1002,2,0),\"\")","v":""}]
[null,null,null,{"$f":"IFERROR(VLOOKUP(C1718,Participants!$B$3:$C$1002,2,0),\"\")","v":""},null,{"$f":"IFERROR(VLOOKUP(E1718,Participants!$B$3:$C$1002,2,0),\"\")","v":""}]
[null,null,null,{"$f":"IFERROR(VLOOKUP(C1719,Participants!$B$3:$C$1002,2,0),\"\")","v":""},null,{"$f":"IFERROR(VLOOKUP(E1719,Participants!$B$3:$C$1002,2,0),\"\")","v":""}]
[null,null,null,{"$f":"IFERROR(VLOOKUP(C1720,Participants!$B$3:$C$1002,2,0),\"\")","v":""},null,{"$f":"IFERROR(VLOOKUP(E1720,Participants!$B$3:$C$1002,2,0),\"\")","v":""}]
[null,null,null,{"$f":"IFERROR(VLOOKUP(C1721,Participants!$B$3:$C$1002,2,0),\"\")","v":""},null,{"$f":"IFERROR(VLOOKUP(E1721,Participants!$B$3:$C$1002,2,0),\"\")","v":""}]
[null,null,null,{"$f":"IFERROR(VLOOKUP(C1722,Participants!$B$3:$C$1002,2,0),\"\")","v":""},null,{"$f":"IFERROR(VLOOKUP(E1722,Participants!$B$3:$C$1002,2,0),\"\")","v":""}]
[null,null,null,{"$f":"IFERROR(VLOOKUP(C1723,Participants!$B$3:$C$1002,2,0),\"\")","v":""},null,{"$f":"IFERROR(VLOOKUP(E1723,Participants!$B$3:$C$1002,2,0),\"\")","v":""}]
[null,null,null,{"$f":"IFERROR(VLOOKUP(C1724,Participants!$B$3:$C$1002,2,0),\"\")","v":""},null,{"$f":"IFERROR(VLOOKUP(E1724,Participants!$B$3:$C$1002,2,0),\"\")","v":""}]
[null,null,null,{"$f":"IFERROR(VLOOKUP(C1725,Participants!$B$3:$C$1002,2,0),\"\")","v":""},null,{"$f":"IFERROR(VLOOKUP(E1725,Participants!$B$3:$C$1002,2,0),\"\")","v":""}]
[null,null,null,{"$f":"IFERROR(VLOOKUP(C1726,Participants!$B$3:$C$1002,2,0),\"\")","v":""},null,{"$f":"IFERROR(VLOOKUP(E1726,Participants!$B$3:$C$1002,2,0),\"\")","v":""}]
[null,null,null,{"$f":"IFERROR(VLOOKUP(C1727,Participants!$B$3:$C$1002,2,0),\"\")","v":""},null,{"$f":"IFERROR(VLOOKUP(E1727,Participants!$B$3:$C$1002,2,0),\"\")","v":""}]
[null,null,null,{"$f":"IFERROR(VLOOKUP(C1728,Participants!$B$3:$C$1002,2,0),\"\")","v":""},null,{"$f":"IFERROR(VLOOKUP(E1728,Participants!$B$3:$C$1002,2,0),\"\")","v":""}]
[null,null,null,{"$f":"IFERROR(VLOOKUP(C1729,Participants!$B$3:$C$1002,2,0),\"\")","v":""},null,{"$f":"IFERROR(VLOOKUP(E1729,Participants!$B$3:$C$1002,2,0),\"\")","v":""}]
[null,null,null,{"$f":"IFERROR(VLOOKUP(C1730,Participants!$B$3:$C$1002,2,0),\"\")","v":""},null,{"$f":"IFERROR(VLOOKUP(E1730,Participants!$B$3:$C$1002,2,0),\"\")","v":""}]
[null,null,null,{"$f":"IFERROR(VLOOKUP(C1731,Participants!$B$3:$C$1002,2,0),\"\")","v":""},null,{"$f":"IFERROR(VLOOKUP(E1731,Participants!$B$3:$C$1002,2,0),\"\")","v":""}]
[null,null,null,{"$f":"IFERROR(VLOOKUP(C1732,Participants!$B$3:$C$1002,2,0),\"\")","v":""},null,{"$f":"IFERROR(VLOOKUP(E1732,Participants!$B$3:$C$1002,2,0),\"\")","v":""}]
[null,null,null,{"$f":"IFERROR(VLOOKUP(C1733,Participants!$B$3:$C$1002,2,0),\"\")","v":""},null,{"$f":"IFERROR(VLOOKUP(E1733,Participants!$B$3:$C$1002,2,0),\"\")","v":""}]
[null,null,null,{"$f":"IFERROR(VLOOKUP(C1734,Participants!$B$3:$C$1002,2,0),\"\")","v":""},null,{"$f":"IFERROR(VLOOKUP(E1734,Participants!$B$3:$C$1002,2,0),\"\")","v":""}]
[null,null,null,{"$f":"IFERROR(VLOOKUP(C1735,Participants!$B$3:$C$1002,2,0),\"\")","v":""},null,{"$f":"IFERROR(VLOOKUP(E1735,Participants!$B$3:$C$1002,2,0),\"\")","v":""}]
[null,null,null,{"$f":"IFERROR(VLOOKUP(C1736,Participants!$B$3:$C$1002,2,0),\"\")","v":""},null,{"$f":"IFERROR(VLOOKUP(E1736,Participants!$B$3:$C$1002,2,0),\"\")","v":""}]
[null,null,null,{"$f":"IFERROR(VLOOKUP(C1737,Participants!$B$3:$C$1002,2,0),\"\")","v":""},null,{"$f":"IFERROR(VLOOKUP(E1737,Participants!$B$3:$C$1002,2,0),\"\")","v":""}]
[null,null,null,{"$f":"IFERROR(VLOOKUP(C1738,Participants!$B$3:$C$1002,2,0),\"\")","v":""},null,{"$f":"IFERROR(VLOOKUP(E1738,Participants!$B$3:$C$1002,2,0),\"\")","v":""}]
[null,null,null,{"$f":"IFERROR(VLOOKUP(C1739,Participants!$B$3:$C$1002,2,0),\"\")","v":""},null,{"$f":"IFERROR(VLOOKUP(E1739,Participants!$B$3:$C$1002,2,0),\"\")","v":""}]
[null,null,null,{"$f":"IFERROR(VLOOKUP(C1740,Participants!$B$3:$C$1002,2,0),\"\")","v":""},null,{"$f":"IFERROR(VLOOKUP(E1740,Participants!$B$3:$C$1002,2,0),\"\")","v":""}]
[null,null,null,{"$f":"IFERROR(VLOOKUP(C1741,Participants!$B$3:$C$1002,2,0),\"\")","v":""},null,{"$f":"IFERROR(VLOOKUP(E1741,Participants!$B$3:$C$1002,2,0),\"\")","v":""}]
[null,null,null,{"$f":"IFERROR(VLOOKUP(C1742,Participants!$B$3:$C$1002,2,0),\"\")","v":""},null,{"$f":"IFERROR(VLOOKUP(E1742,Participants!$B$3:$C$1002,2,0),\"\")","v":""}]
[null,null,null,{"$f":"IFERROR(VLOOKUP(C1743,Participants!$B$3:$C$1002,2,0),\"\")","v":""},null,{"$f":"IFERROR(VLOOKUP(E1743,Participants!$B$3:$C$1002,2,0),\"\")","v":""}]
[null,null,null,{"$f":"IFERROR(VLOOKUP(C1744,Participants!$B$3:$C$1002,2,0),\"\")","v":""},null,{"$f":"IFERROR(VLOOKUP(E1744,Participants!$B$3:$C$1002,2,0),\"\")","v":""}]
[null,null,null,{"$f":"IFERROR(VLOOKUP(C1745,Participants!$B$3:$C$1002,2,0),\"\")","v":""},null,{"$f":"IFERROR(VLOOKUP(E1745,Participants!$B$3:$C$1002,2,0),\"\")","v":""}]
[null,null,null,{"$f":"IFERROR(VLOOKUP(C1746,Participants!$B$3:$C$1002,2,0),\"\")","v":""},null,{"$f":"IFERROR(VLOOKUP(E1746,Participants!$B$3:$C$1002,2,0),\"\")","v":""}]
[null,null,null,{"$f":"IFERROR(VLOOKUP(C1747,Participants!$B$3:$C$1002,2,0),\"\")","v":""},null,{"$f":"IFERROR(VLOOKUP(E1747,Participants!$B$3:$C$1002,2,0),\"\")","v":""}]
[null,null,null,{"$f":"IFERROR(VLOOKUP(C1748,Participants!$B$3:$C$1002,2,0),\"\")","v":""},null,{"$f":"IFERROR(VLOOKUP(E1748,Participants!$B$3:$C$1002,2,0),\"\")","v":""}]
[null,null,null,{"$f":"IFERROR(VLOOKUP(C1749,Participants!$B$3:$C$1002,2,0),\"\")","v":""},null,{"$f":"IFERROR(VLOOKUP(E1749,Participants!$B$3:$C$1002,2,0),\"\")","v":""}]
[null,null,null,{"$f":"IFERROR(VLOOKUP(C1750,Participants!$B$3:$C$1002,2,0),\"\")","v":""},null,{"$f":"IFERROR(VLOOKUP(E1750,Participants!$B$3:$C$1002,2,0),\"\")","v":""}]
[null,null,null,{"$f":"IFERROR(VLOOKUP(C1751,Participants!$B$3:$C$1002,2,0),\"\")","v":""},null,{"$f":"IFERROR(VLOOKUP(E1751,Participants!$B$3:$C$1002,2,0),\"\")","v":""}]
[null,null,null,{"$f":"IFERROR(VLOOKUP(C1752,Participants!$B$3:$C$1002,2,0),\"\")","v":""},null,{"$f":"IFERROR(VLOOKUP(E1752,Participants!$B$3:$C$1002,2,0),\"\")","v":""}]
[null,null,null,{"$f":"IFERROR(VLOOKUP(C1753,Participants!$B$3:$C$1002,2,0),\"\")","v":""},null,{"$f":"IFERROR(VLOOKUP(E1753,Participants!$B$3:$C$1002,2,0),\"\")","v":""}]
[null,null,null,{"$f":"IFERROR(VLOOKUP(C1754,Participants!$B$3:$C$1002,2,0),\"\")","v":""},null,{"$f":"IFERROR(VLOOKUP(E1754,Participants!$B$3:$C$1002,2,0),\"\")","v":""}]
[null,null,null,{"$f":"IFERROR(VLOOKUP(C1755,Participants!$B$3:$C$1002,2,0),\"\")","v":""},null,{"$f":"IFERROR(VLOOKUP(E1755,Participants!$B$3:$C$1002,2,0),\"\")","v":""}]
[null,null,null,{"$f":"IFERROR(VLOOKUP(C1756,Participants!$B$3:$C$1002,2,0),\"\")","v":""},null,{"$f":"IFERROR(VLOOKUP(E1756,Participants!$B$3:$C$1002,2,0),\"\")","v":""}]
[null,null,null,{"$f":"IFERROR(VLOOKUP(C1757,Participants!$B$3:$C$1002,2,0),\"\")","v":""},null,{"$f":"IFERROR(VLOOKUP(E1757,Participants!$B$3:$C$1002,2,0),\"\")","v":""}]
[null,null,null,{"$f":"IFERROR(VLOOKUP(C1758,Participants!$B$3:$C$1002,2,0),\"\")","v":""},null,{"$f":"IFERROR(VLOOKUP(E1758,Participants!$B$3:$C$1002,2,0),\"\")","v":""}]
[null,null,null,{"$f":"IFERROR(VLOOKUP(C1759,Participants!$B$3:$C$1002,2,0),\"\")","v":""},null,{"$f":"IFERROR(VLOOKUP(E1759,Participants!$B$3:$C$1002,2,0),\"\")","v":""}]
[null,null,null,{"$f":"IFERROR(VLOOKUP(C1760,Participants!$B$3:$C$1002,2,0),\"\")","v":""},null,{"$f":"IFERROR(VLOOKUP(E1760,Participants!$B$3:$C$1002,2,0),\"\")","v":""}]
[null,null,null,{"$f":"IFERROR(VLOOKUP(C1761,Participants!$B$3:$C$1002,2,0),\"\")","v":""},null,{"$f":"IFERROR(VLOOKUP(E1761,Participants!$B$3:$C$1002,2,0),\"\")","v":""}]
[null,null,null,{"$f":"IFERROR(VLOOKUP(C1762,Participants!$B$3:$C$1002,2,0),\"\")","v":""},null,{"$f":"IFERROR(VLOOKUP(E1762,Participants!$B$3:$C$1002,2,0),\"\")","v":""}]
[null,null,null,{"$f":"IFERROR(VLOOKUP(C1763,Participants!$B$3:$C$1002,2,0),\"\")","v":""},null,{"$f":"IFERROR(VLOOKUP(E1763,Participants!$B$3:$C$1002,2,0),\"\")","v":""}]
[null,null,null,{"$f":"IFERROR(VLOOKUP(C1764,Participants!$B$3:$C$1002,2,0),\"\")","v":""},null,{"$f":"IFERROR(VLOOKUP(E1764,Participants!$B$3:$C$1002,2,0),\"\")","v":""}]
[null,null,null,{"$f":"IFERROR(VLOOKUP(C1765,Participants!$B$3:$C$1002,2,0),\"\")","v":""},null,{"$f":"IFERROR(VLOOKUP(E1765,Participants!$B$3:$C$1002,2,0),\"\")","v":""}]
[null,null,null,{"$f":"IFERROR(VLOOKUP(C1766,Participants!$B$3:$C$1002,2,0),\"\")","v":""},null,{"$f":"IFERROR(VLOOKUP(E1766,Participants!$B$3:$C$1002,2,0),\"\")","v":""}]
[null,null,null,{"$f":"IFERROR(VLOOKUP(C1767,Participants!$B$3:$C$1002,2,0),\"\")","v":""},null,{"$f":"IFERROR(VLOOKUP(E1767,Participants!$B$3:$C$1002,2,0),\"\")","v":""}]
[null,null,null,{"$f":"IFERROR(VLOOKUP(C1768,Participants!$B$3:$C$1002,2,0),\"\")","v":""},null,{"$f":"IFERROR(VLOOKUP(E1768,Participants!$B$3:$C$1002,2,0),\"\")","v":""}]
[null,null,null,{"$f":"IFERROR(VLOOKUP(C1769,Participants!$B$3:$C$1002,2,0),\"\")","v":""},null,{"$f":"IFERROR(VLOOKUP(E1769,Participants!$B$3:$C$1002,2,0),\"\")","v":""}]
[null,null,null,{"$f":"IFERROR(VLOOKUP(C1770,Participants!$B$3:$C$1002,2,0),\"\")","v":""},null,{"$f":"IFERROR(VLOOKUP(E1770,Participants!$B$3:$C$1002,2,0),\"\")","v":""}]
[null,null,null,{"$f":"IFERROR(VLOOKUP(C1771,Participants!$B$3:$C$1002,2,0),\"\")","v":""},null,{"$f":"IFERROR(VLOOKUP(E1771,Participants!$B$3:$C$1002,2,0),\"\")","v":""}]
[null,null,null,{"$f":"IFERROR(VLOOKUP(C1772,Participants!$B$3:$C$1002,2,0),\"\")","v":""},null,{"$f":"IFERROR(VLOOKUP(E1772,Participants!$B$3:$C$1002,2,0),\"\")","v":""}]
[null,null,null,{"$f":"IFERROR(VLOOKUP(C1773,Participants!$B$3:$C$1002,2,0),\"\")","v":""},null,{"$f":"IFERROR(VLOOKUP(E1773,Participants!$B$3:$C$1002,2,0),\"\")","v":""}]
[null,null,null,{"$f":"IFERROR(VLOOKUP(C1774,Participants!$B$3:$C$1002,2,0),\"\")","v":""},null,{"$f":"IFERROR(VLOOKUP(E1774,Participants!$B$3:$C$1002,2,0),\"\")","v":""}]
[null,null,null,{"$f":"IFERROR(VLOOKUP(C1775,Participants!$B$3:$C$1002,2,0),\"\")","v":""},null,{"$f":"IFERROR(VLOOKUP(E1775,Participants!$B$3:$C$1002,2,0),\"\")","v":""}]
[null,null,null,{"$f":"IFERROR(VLOOKUP(C1776,Participants!$B$3:$C$1002,2,0),\"\")","v":""},null,{"$f":"IFERROR(VLOOKUP(E1776,Participants!$B$3:$C$1002,2,0),\"\")","v":""}]
[null,null,null,{"$f":"IFERROR(VLOOKUP(C1777,Participants!$B$3:$C$1002,2,0),\"\")","v":""},null,{"$f":"IFERROR(VLOOKUP(E1777,Participants!$B$3:$C$1002,2,0),\"\")","v":""}]
[null,null,null,{"$f":"IFERROR(VLOOKUP(C1778,Participants!$B$3:$C$1002,2,0),\"\")","v":""},null,{"$f":"IFERROR(VLOOKUP(E1778,Participants!$B$3:$C$1002,2,0),\"\")","v":""}]
[null,null,null,{"$f":"IFERROR(VLOOKUP(C1779,Participants!$B$3:$C$1002,2,0),\"\")","v":""},null,{"$f":"IFERROR(VLOOKUP(E1779,Participants!$B$3:$C$1002,2,0),\"\")","v":""}]
[null,null,null,{"$f":"IFERROR(VLOOKUP(C1780,Participants!$B$3:$C$1002,2,0),\"\")","v":""},null,{"$f":"IFERROR(VLOOKUP(E1780,Participants!$B$3:$C$1002,2,0),\"\")","v":""}]
[null,null,null,{"$f":"IFERROR(VLOOKUP(C1781,Participants!$B$3:$C$1002,2,0),\"\")","v":""},null,{"$f":"IFERROR(VLOOKUP(E1781,Participants!$B$3:$C$1002,2,0),\"\")","v":""}]
[null,null,null,{"$f":"IFERROR(VLOOKUP(C1782,Participants!$B$3:$C$1002,2,0),\"\")","v":""},null,{"$f":"IFERROR(VLOOKUP(E1782,Participants!$B$3:$C$1002,2,0),\"\")","v":""}]
[null,null,null,{"$f":"IFERROR(VLOOKUP(C1783,Participants!$B$3:$C$1002,2,0),\"\")","v":""},null,{"$f":"IFERROR(VLOOKUP(E1783,Participants!$B$3:$C$1002,2,0),\"\")","v":""}]
[null,null,null,{"$f":"IFERROR(VLOOKUP(C1784,Participants!$B$3:$C$1002,2,0),\"\")","v":""},null,{"$f":"IFERROR(VLOOKUP(E1784,Participants!$B$3:$C$1002,2,0),\"\")","v":""}]
[null,null,null,{"$f":"IFERROR(VLOOKUP(C1785,Participants!$B$3:$C$1002,2,0),\"\")","v":""},null,{"$f":"IFERROR(VLOOKUP(E1785,Participants!$B$3:$C$1002,2,0),\"\")","v":""}]
[null,null,null,{"$f":"IFERROR(VLOOKUP(C1786,Participants!$B$3:$C$1002,2,0),\"\")","v":""},null,{"$f":"IFERROR(VLOOKUP(E1786,Participants!$B$3:$C$1002,2,0),\"\")","v":""}]
[null,null,null,{"$f":"IFERROR(VLOOKUP(C1787,Participants!$B$3:$C$1002,2,0),\"\")","v":""},null,{"$f":"IFERROR(VLOOKUP(E1787,Participants!$B$3:$C$1002,2,0),\"\")","v":""}]
[null,null,null,{"$f":"IFERROR(VLOOKUP(C1788,Participants!$B$3:$C$1002,2,0),\"\")","v":""},null,{"$f":"IFERROR(VLOOKUP(E1788,Participants!$B$3:$C$1002,2,0),\"\")","v":""}]
[null,null,null,{"$f":"IFERROR(VLOOKUP(C1789,Participants!$B$3:$C$1002,2,0),\"\")","v":""},null,{"$f":"IFERROR(VLOOKUP(E1789,Participants!$B$3:$C$1002,2,0),\"\")","v":""}]
[null,null,null,{"$f":"IFERROR(VLOOKUP(C1790,Participants!$B$3:$C$1002,2,0),\"\")","v":""},null,{"$f":"IFERROR(VLOOKUP(E1790,Participants!$B$3:$C$1002,2,0),\"\")","v":""}]
[null,null,null,{"$f":"IFERROR(VLOOKUP(C1791,Participants!$B$3:$C$1002,2,0),\"\")","v":""},null,{"$f":"IFERROR(VLOOKUP(E1791,Participants!$B$3:$C$1002,2,0),\"\")","v":""}]
[null,null,null,{"$f":"IFERROR(VLOOKUP(C1792,Participants!$B$3:$C$1002,2,0),\"\")","v":""},null,{"$f":"IFERROR(VLOOKUP(E1792,Participants!$B$3:$C$1002,2,0),\"\")","v":""}]
[null,null,null,{"$f":"IFERROR(VLOOKUP(C1793,Participants!$B$3:$C$1002,2,0),\"\")","v":""},null,{"$f":"IFERROR(VLOOKUP(E1793,Participants!$B$3:$C$1002,2,0),\"\")","v":""}]
[null,null,null,{"$f":"IFERROR(VLOOKUP(C1794,Participants!$B$3:$C$1002,2,0),\"\")","v":""},null,{"$f":"IFERROR(VLOOKUP(E1794,Participants!$B$3:$C$1002,2,0),\"\")","v":""}]
[null,null,null,{"$f":"IFERROR(VLOOKUP(C1795,Participants!$B$3:$C$1002,2,0),\"\")","v":""},null,{"$f":"IFERROR(VLOOKUP(E1795,Participants!$B$3:$C$1002,2,0),\"\")","v":""}]
[null,null,null,{"$f":"IFERROR(VLOOKUP(C1796,Participants!$B$3:$C$1002,2,0),\"\")","v":""},null,{"$f":"IFERROR(VLOOKUP(E1796,Participants!$B$3:$C$1002,2,0),\"\")","v":""}]
[null,null,null,{"$f":"IFERROR(VLOOKUP(C1797,Participants!$B$3:$C$1002,2,0),\"\")","v":""},null,{"$f":"IFERROR(VLOOKUP(E1797,Participants!$B$3:$C$1002,2,0),\"\")","v":""}]
[null,null,null,{"$f":"IFERROR(VLOOKUP(C1798,Participants!$B$3:$C$1002,2,0),\"\")","v":""},null,{"$f":"IFERROR(VLOOKUP(E1798,Participants!$B$3:$C$1002,2,0),\"\")","v":""}]
[null,null,null,{"$f":"IFERROR(VLOOKUP(C1799,Participants!$B$3:$C$1002,2,0),\"\")","v":""},null,{"$f":"IFERROR(VLOOKUP(E1799,Participants!$B$3:$C$1002,2,0),\"\")","v":""}]
[null,null,null,{"$f":"IFERROR(VLOOKUP(C1800,Participants!$B$3:$C$1002,2,0),\"\")","v":""},null,{"$f":"IFERROR(VLOOKUP(E1800,Participants!$B$3:$C$1002,2,0),\"\")","v":""}]
[null,null,null,{"$f":"IFERROR(VLOOKUP(C1801,Participants!$B$3:$C$1002,2,0),\"\")","v":""},null,{"$f":"IFERROR(VLOOKUP(E1801,Participants!$B$3:$C$1002,2,0),\"\")","v":""}]
[null,null,null,{"$f":"IFERROR(VLOOKUP(C1802,Participants!$B$3:$C$1002,2,0),\"\")","v":""},null,{"$f":"IFERROR(VLOOKUP(E1802,Participants!$B$3:$C$1002,2,0),\"\")","v":""}]
[null,null,null,{"$f":"IFERROR(VLOOKUP(C1803,Participants!$B$3:$C$1002,2,0),\"\")","v":""},null,{"$f":"IFERROR(VLOOKUP(E1803,Participants!$B$3:$C$1002,2,0),\"\")","v":""}]
[null,null,null,{"$f":"IFERROR(VLOOKUP(C1804,Participants!$B$3:$C$1002,2,0),\"\")","v":""},null,{"$f":"IFERROR(VLOOKUP(E1804,Participants!$B$3:$C$1002,2,0),\"\")","v":""}]
[null,null,null,{"$f":"IFERROR(VLOOKUP(C1805,Participants!$B$3:$C$1002,2,0),\"\")","v":""},null,{"$f":"IFERROR(VLOOKUP(E1805,Participants!$B$3:$C$1002,2,0),\"\")","v":""}]
[null,null,null,{"$f":"IFERROR(VLOOKUP(C1806,Participants!$B$3:$C$1002,2,0),\"\")","v":""},null,{"$f":"IFERROR(VLOOKUP(E1806,Participants!$B$3:$C$1002,2,0),\"\")","v":""}]
[null,null,null,{"$f":"IFERROR(VLOOKUP(C1807,Participants!$B$3:$C$1002,2,0),\"\")","v":""},null,{"$f":"IFERROR(VLOOKUP(E1807,Participants!$B$3:$C$1002,2,0),\"\")","v":""}]
[null,null,null,{"$f":"IFERROR(VLOOKUP(C1808,Participants!$B$3:$C$1002,2,0),\"\")","v":""},null,{"$f":"IFERROR(VLOOKUP(E1808,Participants!$B$3:$C$1002,2,0),\"\")","v":""}]
[null,null,null,{"$f":"IFERROR(VLOOKUP(C1809,Participants!$B$3:$C$1002,2,0),\"\")","v":""},null,{"$f":"IFERROR(VLOOKUP(E1809,Participants!$B$3:$C$1002,2,0),\"\")","v":""}]
[null,null,null,{"$f":"IFERROR(VLOOKUP(C1810,Participants!$B$3:$C$1002,2,0),\"\")","v":""},null,{"$f":"IFERROR(VLOOKUP(E1810,Participants!$B$3:$C$1002,2,0),\"\")","v":""}]
[null,null,null,{"$f":"IFERROR(VLOOKUP(C1811,Participants!$B$3:$C$1002,2,0),\"\")","v":""},null,{"$f":"IFERROR(VLOOKUP(E1811,Participants!$B$3:$C$1002,2,0),\"\")","v":""}]
[null,null,null,{"$f":"IFERROR(VLOOKUP(C1812,Participants!$B$3:$C$1002,2,0),\"\")","v":""},null,{"$f":"IFERROR(VLOOKUP(E1812,Participants!$B$3:$C$1002,2,0),\"\")","v":""}]
[null,null,null,{"$f":"IFERROR(VLOOKUP(C1813,Participants!$B$3:$C$1002,2,0),\"\")","v":""},null,{"$f":"IFERROR(VLOOKUP(E1813,Participants!$B$3:$C$1002,2,0),\"\")","v":""}]
[null,null,null,{"$f":"IFERROR(VLOOKUP(C1814,Participants!$B$3:$C$1002,2,0),\"\")","v":""},null,{"$f":"IFERROR(VLOOKUP(E1814,Participants!$B$3:$C$1002,2,0),\"\")","v":""}]
[null,null,null,{"$f":"IFERROR(VLOOKUP(C1815,Participants!$B$3:$C$1002,2,0),\"\")","v":""},null,{"$f":"IFERROR(VLOOKUP(E1815,Participants!$B$3:$C$1002,2,0),\"\")","v":""}]
[null,null,null,{"$f":"IFERROR(VLOOKUP(C1816,Participants!$B$3:$C$1002,2,0),\"\")","v":""},null,{"$f":"IFERROR(VLOOKUP(E1816,Participants!$B$3:$C$1002,2,0),\"\")","v":""}]
[null,null,null,{"$f":"IFERROR(VLOOKUP(C1817,Participants!$B$3:$C$1002,2,0),\"\")","v":""},null,{"$f":"IFERROR(VLOOKUP(E1817,Participants!$B$3:$C$1002,2,0),\"\")","v":""}]
[null,null,null,{"$f":"IFERROR(VLOOKUP(C1818,Participants!$B$3:$C$1002,2,0),\"\")","v":""},null,{"$f":"IFERROR(VLOOKUP(E1818,Participants!$B$3:$C$1002,2,0),\"\")","v":""}]
[null,null,null,{"$f":"IFERROR(VLOOKUP(C1819,Participants!$B$3:$C$1002,2,0),\"\")","v":""},null,{"$f":"IFERROR(VLOOKUP(E1819,Participants!$B$3:$C$1002,2,0),\"\")","v":""}]
[null,null,null,{"$f":"IFERROR(VLOOKUP(C1820,Participants!$B$3:$C$1002,2,0),\"\")","v":""},null,{"$f":"IFERROR(VLOOKUP(E1820,Participants!$B$3:$C$1002,2,0),\"\")","v":""}]
[null,null,null,{"$f":"IFERROR(VLOOKUP(C1821,Participants!$B$3:$C$1002,2,0),\"\")","v":""},null,{"$f":"IFERROR(VLOOKUP(E1821,Participants!$B$3:$C$1002,2,0),\"\")","v":""}]
[null,null,null,{"$f":"IFERROR(VLOOKUP(C1822,Participants!$B$3:$C$1002,2,0),\"\")","v":""},null,{"$f":"IFERROR(VLOOKUP(E1822,Participants!$B$3:$C$1002,2,0),\"\")","v":""}]
[null,null,null,{"$f":"IFERROR(VLOOKUP(C1823,Participants!$B$3:$C$1002,2,0),\"\")","v":""},null,{"$f":"IFERROR(VLOOKUP(E1823,Participants!$B$3:$C$1002,2,0),\"\")","v":""}]
[null,null,null,{"$f":"IFERROR(VLOOKUP(C1824,Participants!$B$3:$C$1002,2,0),\"\")","v":""},null,{"$f":"IFERROR(VLOOKUP(E1824,Participants!$B$3:$C$1002,2,0),\"\")","v":""}]
[null,null,null,{"$f":"IFERROR(VLOOKUP(C1825,Participants!$B$3:$C$1002,2,0),\"\")","v":""},null,{"$f":"IFERROR(VLOOKUP(E1825,Participants!$B$3:$C$1002,2,0),\"\")","v":""}]
[null,null,null,{"$f":"IFERROR(VLOOKUP(C1826,Participants!$B$3:$C$1002,2,0),\"\")","v":""},null,{"$f":"IFERROR(VLOOKUP(E1826,Participants!$B$3:$C$1002,2,0),\"\")","v":""}]
[null,null,null,{"$f":"IFERROR(VLOOKUP(C1827,Participants!$B$3:$C$1002,2,0),\"\")","v":""},null,{"$f":"IFERROR(VLOOKUP(E1827,Participants!$B$3:$C$1002,2,0),\"\")","v":""}]
[null,null,null,{"$f":"IFERROR(VLOOKUP(C1828,Participants!$B$3:$C$1002,2,0),\"\")","v":""},null,{"$f":"IFERROR(VLOOKUP(E1828,Participants!$B$3:$C$1002,2,0),\"\")","v":""}]
[null,null,null,{"$f":"IFERROR(VLOOKUP(C1829,Participants!$B$3:$C$1002,2,0),\"\")","v":""},null,{"$f":"IFERROR(VLOOKUP(E1829,Participants!$B$3:$C$1002,2,0),\"\")","v":""}]
[null,null,null,{"$f":"IFERROR(VLOOKUP(C1830,Participants!$B$3:$C$1002,2,0),\"\")","v":""},null,{"$f":"IFERROR(VLOOKUP(E1830,Participants!$B$3:$C$1002,2,0),\"\")","v":""}]
[null,null,null,{"$f":"IFERROR(VLOOKUP(C1831,Participants!$B$3:$C$1002,2,0),\"\")","v":""},null,{"$f":"IFERROR(VLOOKUP(E1831,Participants!$B$3:$C$1002,2,0),\"\")","v":""}]
[null,null,null,{"$f":"IFERROR(VLOOKUP(C1832,Participants!$B$3:$C$1002,2,0),\"\")","v":""},null,{"$f":"IFERROR(VLOOKUP(E1832,Participants!$B$3:$C$1002,2,0),\"\")","v":""}]
[null,null,null,{"$f":"IFERROR(VLOOKUP(C1833,Participants!$B$3:$C$1002,2,0),\"\")","v":""},null,{"$f":"IFERROR(VLOOKUP(E1833,Participants!$B$3:$C$1002,2,0),\"\")","v":""}]
[null,null,null,{"$f":"IFERROR(VLOOKUP(C1834,Participants!$B$3:$C$1002,2,0),\"\")","v":""},null,{"$f":"IFERROR(VLOOKUP(E1834,Participants!$B$3:$C$1002,2,0),\"\")","v":""}]
[null,null,null,{"$f":"IFERROR(VLOOKUP(C1835,Participants!$B$3:$C$1002,2,0),\"\")","v":""},null,{"$f":"IFERROR(VLOOKUP(E1835,Participants!$B$3:$C$1002,2,0),\"\")","v":""}]
[null,null,null,{"$f":"IFERROR(VLOOKUP(C1836,Participants!$B$3:$C$1002,2,0),\"\")","v":""},null,{"$f":"IFERROR(VLOOKUP(E1836,Participants!$B$3:$C$1002,2,0),\"\")","v":""}]
[null,null,null,{"$f":"IFERROR(VLOOKUP(C1837,Participants!$B$3:$C$1002,2,0),\"\")","v":""},null,{"$f":"IFERROR(VLOOKUP(E1837,Participants!$B$3:$C$1002,2,0),\"\")","v":""}]
[null,null,null,{"$f":"IFERROR(VLOOKUP(C1838,Participants!$B$3:$C$1002,2,0),\"\")","v":""},null,{"$f":"IFERROR(VLOOKUP(E1838,Participants!$B$3:$C$1002,2,0),\"\")","v":""}]
[null,null,null,{"$f":"IFERROR(VLOOKUP(C1839,Participants!$B$3:$C$1002,2,0),\"\")","v":""},null,{"$f":"IFERROR(VLOOKUP(E1839,Participants!$B$3:$C$1002,2,0),\"\")","v":""}]
[null,null,null,{"$f":"IFERROR(VLOOKUP(C1840,Participants!$B$3:$C$1002,2,0),\"\")","v":""},null,{"$f":"IFERROR(VLOOKUP(E1840,Participants!$B$3:$C$1002,2,0),\"\")","v":""}]
[null,null,null,{"$f":"IFERROR(VLOOKUP(C1841,Participants!$B$3:$C$1002,2,0),\"\")","v":""},null,{"$f":"IFERROR(VLOOKUP(E1841,Participants!$B$3:$C$1002,2,0),\"\")","v":""}]
[null,null,null,{"$f":"IFERROR(VLOOKUP(C1842,Participants!$B$3:$C$1002,2,0),\"\")","v":""},null,{"$f":"IFERROR(VLOOKUP(E1842,Participants!$B$3:$C$1002,2,0),\"\")","v":""}]
[null,null,null,{"$f":"IFERROR(VLOOKUP(C1843,Participants!$B$3:$C$1002,2,0),\"\")","v":""},null,{"$f":"IFERROR(VLOOKUP(E1843,Participants!$B$3:$C$1002,2,0),\"\")","v":""}]
[null,null,null,{"$f":"IFERROR(VLOOKUP(C1844,Participants!$B$3:$C$1002,2,0),\"\")","v":""},null,{"$f":"IFERROR(VLOOKUP(E1844,Participants!$B$3:$C$1002,2,0),\"\")","v":""}]
[null,null,null,{"$f":"IFERROR(VLOOKUP(C1845,Participants!$B$3:$C$1002,2,0),\"\")","v":""},null,{"$f":"IFERROR(VLOOKUP(E1845,Participants!$B$3:$C$1002,2,0),\"\")","v":""}]
[null,null,null,{"$f":"IFERROR(VLOOKUP(C1846,Participants!$B$3:$C$1002,2,0),\"\")","v":""},null,{"$f":"IFERROR(VLOOKUP(E1846,Participants!$B$3:$C$1002,2,0),\"\")","v":""}]
[null,null,null,{"$f":"IFERROR(VLOOKUP(C1847,Participants!$B$3:$C$1002,2,0),\"\")","v":""},null,{"$f":"IFERROR(VLOOKUP(E1847,Participants!$B$3:$C$1002,2,0),\"\")","v":""}]
[null,null,null,{"$f":"IFERROR(VLOOKUP(C1848,Participants!$B$3:$C$1002,2,0),\"\")","v":""},null,{"$f":"IFERROR(VLOOKUP(E1848,Participants!$B$3:$C$1002,2,0),\"\")","v":""}]
[null,null,null,{"$f":"IFERROR(VLOOKUP(C1849,Participants!$B$3:$C$1002,2,0),\"\")","v":""},null,{"$f":"IFERROR(VLOOKUP(E1849,Participants!$B$3:$C$1002,2,0),\"\")","v":""}]
[null,null,null,{"$f":"IFERROR(VLOOKUP(C1850,Participants!$B$3:$C$1002,2,0),\"\")","v":""},null,{"$f":"IFERROR(VLOOKUP(E1850,Participants!$B$3:$C$1002,2,0),\"\")","v":""}]
[null,null,null,{"$f":"IFERROR(VLOOKUP(C1851,Participants!$B$3:$C$1002,2,0),\"\")","v":""},null,{"$f":"IFERROR(VLOOKUP(E1851,Participants!$B$3:$C$1002,2,0),\"\")","v":""}]
[null,null,null,{"$f":"IFERROR(VLOOKUP(C1852,Participants!$B$3:$C$1002,2,0),\"\")","v":""},null,{"$f":"IFERROR(VLOOKUP(E1852,Participants!$B$3:$C$1002,2,0),\"\")","v":""}]
[null,null,null,{"$f":"IFERROR(VLOOKUP(C1853,Participants!$B$3:$C$1002,2,0),\"\")","v":""},null,{"$f":"IFERROR(VLOOKUP(E1853,Participants!$B$3:$C$1002,2,0),\"\")","v":""}]
[null,null,null,{"$f":"IFERROR(VLOOKUP(C1854,Participants!$B$3:$C$1002,2,0),\"\")","v":""},null,{"$f":"IFERROR(VLOOKUP(E1854,Participants!$B$3:$C$1002,2,0),\"\")","v":""}]
[null,null,null,{"$f":"IFERROR(VLOOKUP(C1855,Participants!$B$3:$C$1002,2,0),\"\")","v":""},null,{"$f":"IFERROR(VLOOKUP(E1855,Participants!$B$3:$C$1002,2,0),\"\")","v":""}]
[null,null,null,{"$f":"IFERROR(VLOOKUP(C1856,Participants!$B$3:$C$1002,2,0),\"\")","v":""},null,{"$f":"IFERROR(VLOOKUP(E1856,Participants!$B$3:$C$1002,2,0),\"\")","v":""}]
[null,null,null,{"$f":"IFERROR(VLOOKUP(C1857,Participants!$B$3:$C$1002,2,0),\"\")","v":""},null,{"$f":"IFERROR(VLOOKUP(E1857,Participants!$B$3:$C$1002,2,0),\"\")","v":""}]
[null,null,null,{"$f":"IFERROR(VLOOKUP(C1858,Participants!$B$3:$C$1002,2,0),\"\")","v":""},null,{"$f":"IFERROR(VLOOKUP(E1858,Participants!$B$3:$C$1002,2,0),\"\")","v":""}]
[null,null,null,{"$f":"IFERROR(VLOOKUP(C1859,Participants!$B$3:$C$1002,2,0),\"\")","v":""},null,{"$f":"IFERROR(VLOOKUP(E1859,Participants!$B$3:$C$1002,2,0),\"\")","v":""}]
[null,null,null,{"$f":"IFERROR(VLOOKUP(C1860,Participants!$B$3:$C$1002,2,0),\"\")","v":""},null,{"$f":"IFERROR(VLOOKUP(E1860,Participants!$B$3:$C$1002,2,0),\"\")","v":""}]
[null,null,null,{"$f":"IFERROR(VLOOKUP(C1861,Participants!$B$3:$C$1002,2,0),\"\")","v":""},null,{"$f":"IFERROR(VLOOKUP(E1861,Participants!$B$3:$C$1002,2,0),\"\")","v":""}]
[null,null,null,{"$f":"IFERROR(VLOOKUP(C1862,Participants!$B$3:$C$1002,2,0),\"\")","v":""},null,{"$f":"IFERROR(VLOOKUP(E1862,Participants!$B$3:$C$1002,2,0),\"\")","v":""}]
[null,null,null,{"$f":"IFERROR(VLOOKUP(C1863,Participants!$B$3:$C$1002,2,0),\"\")","v":""},null,{"$f":"IFERROR(VLOOKUP(E1863,Participants!$B$3:$C$1002,2,0),\"\")","v":""}]
[null,null,null,{"$f":"IFERROR(VLOOKUP(C1864,Participants!$B$3:$C$1002,2,0),\"\")","v":""},null,{"$f":"IFERROR(VLOOKUP(E1864,Participants!$B$3:$C$1002,2,0),\"\")","v":""}]
[null,null,null,{"$f":"IFERROR(VLOOKUP(C1865,Participants!$B$3:$C$1002,2,0),\"\")","v":""},null,{"$f":"IFERROR(VLOOKUP(E1865,Participants!$B$3:$C$1002,2,0),\"\")","v":""}]
[null,null,null,{"$f":"IFERROR(VLOOKUP(C1866,Participants!$B$3:$C$1002,2,0),\"\")","v":""},null,{"$f":"IFERROR(VLOOKUP(E1866,Participants!$B$3:$C$1002,2,0),\"\")","v":""}]
[null,null,null,{"$f":"IFERROR(VLOOKUP(C1867,Participants!$B$3:$C$1002,2,0),\"\")","v":""},null,{"$f":"IFERROR(VLOOKUP(E1867,Participants!$B$3:$C$1002,2,0),\"\")","v":""}]
[null,null,null,{"$f":"IFERROR(VLOOKUP(C1868,Participants!$B$3:$C$1002,2,0),\"\")","v":""},null,{"$f":"IFERROR(VLOOKUP(E1868,Participants!$B$3:$C$1002,2,0),\"\")","v":""}]
[null,null,null,{"$f":"IFERROR(VLOOKUP(C1869,Participants!$B$3:$C$1002,2,0),\"\")","v":""},null,{"$f":"IFERROR(VLOOKUP(E1869,Participants!$B$3:$C$1002,2,0),\"\")","v":""}]
[null,null,null,{"$f":"IFERROR(VLOOKUP(C1870,Participants!$B$3:$C$1002,2,0),\"\")","v":""},null,{"$f":"IFERROR(VLOOKUP(E1870,Participants!$B$3:$C$1002,2,0),\"\")","v":""}]
[null,null,null,{"$f":"IFERROR(VLOOKUP(C1871,Participants!$B$3:$C$1002,2,0),\"\")","v":""},null,{"$f":"IFERROR(VLOOKUP(E1871,Participants!$B$3:$C$1002,2,0),\"\")","v":""}]
[null,null,null,{"$f":"IFERROR(VLOOKUP(C1872,Participants!$B$3:$C$1002,2,0),\"\")","v":""},null,{"$f":"IFERROR(VLOOKUP(E1872,Participants!$B$3:$C$1002,2,0),\"\")","v":""}]
[null,null,null,{"$f":"IFERROR(VLOOKUP(C1873,Participants!$B$3:$C$1002,2,0),\"\")","v":""},null,{"$f":"IFERROR(VLOOKUP(E1873,Participants!$B$3:$C$1002,2,0),\"\")","v":""}]
[null,null,null,{"$f":"IFERROR(VLOOKUP(C1874,Participants!$B$3:$C$1002,2,0),\"\")","v":""},null,{"$f":"IFERROR(VLOOKUP(E1874,Participants!$B$3:$C$1002,2,0),\"\")","v":""}]
[null,null,null,{"$f":"IFERROR(VLOOKUP(C1875,Participants!$B$3:$C$1002,2,0),\"\")","v":""},null,{"$f":"IFERROR(VLOOKUP(E1875,Participants!$B$3:$C$1002,2,0),\"\")","v":""}]
[null,null,null,{"$f":"IFERROR(VLOOKUP(C1876,Participants!$B$3:$C$1002,2,0),\"\")","v":""},null,{"$f":"IFERROR(VLOOKUP(E1876,Participants!$B$3:$C$1002,2,0),\"\")","v":""}]
[null,null,null,{"$f":"IFERROR(VLOOKUP(C1877,Participants!$B$3:$C$1002,2,0),\"\")","v":""},null,{"$f":"IFERROR(VLOOKUP(E1877,Participants!$B$3:$C$1002,2,0),\"\")","v":""}]
[null,null,null,{"$f":"IFERROR(VLOOKUP(C1878,Participants!$B$3:$C$1002,2,0),\"\")","v":""},null,{"$f":"IFERROR(VLOOKUP(E1878,Participants!$B$3:$C$1002,2,0),\"\")","v":""}]
[null,null,null,{"$f":"IFERROR(VLOOKUP(C1879,Participants!$B$3:$C$1002,2,0),\"\")","v":""},null,{"$f":"IFERROR(VLOOKUP(E1879,Participants!$B$3:$C$1002,2,0),\"\")","v":""}]
[null,null,null,{"$f":"IFERROR(VLOOKUP(C1880,Participants!$B$3:$C$1002,2,0),\"\")","v":""},null,{"$f":"IFERROR(VLOOKUP(E1880,Participants!$B$3:$C$1002,2,0),\"\")","v":""}]
[null,null,null,{"$f":"IFERROR(VLOOKUP(C1881,Participants!$B$3:$C$1002,2,0),\"\")","v":""},null,{"$f":"IFERROR(VLOOKUP(E1881,Participants!$B$3:$C$1002,2,0),\"\")","v":""}]
[null,null,null,{"$f":"IFERROR(VLOOKUP(C1882,Participants!$B$3:$C$1002,2,0),\"\")","v":""},null,{"$f":"IFERROR(VLOOKUP(E1882,Participants!$B$3:$C$1002,2,0),\"\")","v":""}]
[null,null,null,{"$f":"IFERROR(VLOOKUP(C1883,Participants!$B$3:$C$1002,2,0),\"\")","v":""},null,{"$f":"IFERROR(VLOOKUP(E1883,Participants!$B$3:$C$1002,2,0),\"\")","v":""}]
[null,null,null,{"$f":"IFERROR(VLOOKUP(C1884,Participants!$B$3:$C$1002,2,0),\"\")","v":""},null,{"$f":"IFERROR(VLOOKUP(E1884,Participants!$B$3:$C$1002,2,0),\"\")","v":""}]
[null,null,null,{"$f":"IFERROR(VLOOKUP(C1885,Participants!$B$3:$C$1002,2,0),\"\")","v":""},null,{"$f":"IFERROR(VLOOKUP(E1885,Participants!$B$3:$C$1002,2,0),\"\")","v":""}]
[null,null,null,{"$f":"IFERROR(VLOOKUP(C1886,Participants!$B$3:$C$1002,2,0),\"\")","v":""},null,{"$f":"IFERROR(VLOOKUP(E1886,Participants!$B$3:$C$1002,2,0),\"\")","v":""}]
[null,null,null,{"$f":"IFERROR(VLOOKUP(C1887,Participants!$B$3:$C$1002,2,0),\"\")","v":""},null,{"$f":"IFERROR(VLOOKUP(E1887,Participants!$B$3:$C$1002,2,0),\"\")","v":""}]
[null,null,null,{"$f":"IFERROR(VLOOKUP(C1888,Participants!$B$3:$C$1002,2,0),\"\")","v":""},null,{"$f":"IFERROR(VLOOKUP(E1888,Participants!$B$3:$C$1002,2,0),\"\")","v":""}]
[null,null,null,{"$f":"IFERROR(VLOOKUP(C1889,Participants!$B$3:$C$1002,2,0),\"\")","v":""},null,{"$f":"IFERROR(VLOOKUP(E1889,Participants!$B$3:$C$1002,2,0),\"\")","v":""}]
[null,null,null,{"$f":"IFERROR(VLOOKUP(C1890,Participants!$B$3:$C$1002,2,0),\"\")","v":""},null,{"$f":"IFERROR(VLOOKUP(E1890,Participants!$B$3:$C$1002,2,0),\"\")","v":""}]
[null,null,null,{"$f":"IFERROR(VLOOKUP(C1891,Participants!$B$3:$C$1002,2,0),\"\")","v":""},null,{"$f":"IFERROR(VLOOKUP(E1891,Participants!$B$3:$C$1002,2,0),\"\")","v":""}]
[null,null,null,{"$f":"IFERROR(VLOOKUP(C1892,Participants!$B$3:$C$1002,2,0),\"\")","v":""},null,{"$f":"IFERROR(VLOOKUP(E1892,Participants!$B$3:$C$1002,2,0),\"\")","v":""}]
[null,null,null,{"$f":"IFERROR(VLOOKUP(C1893,Participants!$B$3:$C$1002,2,0),\"\")","v":""},null,{"$f":"IFERROR(VLOOKUP(E1893,Participants!$B$3:$C$1002,2,0),\"\")","v":""}]
[null,null,null,{"$f":"IFERROR(VLOOKUP(C1894,Participants!$B$3:$C$1002,2,0),\"\")","v":""},null,{"$f":"IFERROR(VLOOKUP(E1894,Participants!$B$3:$C$1002,2,0),\"\")","v":""}]
[null,null,null,{"$f":"IFERROR(VLOOKUP(C1895,Participants!$B$3:$C$1002,2,0),\"\")","v":""},null,{"$f":"IFERROR(VLOOKUP(E1895,Participants!$B$3:$C$1002,2,0),\"\")","v":""}]
[null,null,null,{"$f":"IFERROR(VLOOKUP(C1896,Participants!$B$3:$C$1002,2,0),\"\")","v":""},null,{"$f":"IFERROR(VLOOKUP(E1896,Participants!$B$3:$C$1002,2,0),\"\")","v":""}]
[null,null,null,{"$f":"IFERROR(VLOOKUP(C1897,Participants!$B$3:$C$1002,2,0),\"\")","v":""},null,{"$f":"IFERROR(VLOOKUP(E1897,Participants!$B$3:$C$1002,2,0),\"\")","v":""}]
[null,null,null,{"$f":"IFERROR(VLOOKUP(C1898,Participants!$B$3:$C$1002,2,0),\"\")","v":""},null,{"$f":"IFERROR(VLOOKUP(E1898,Participants!$B$3:$C$1002,2,0),\"\")","v":""}]
[null,null,null,{"$f":"IFERROR(VLOOKUP(C1899,Participants!$B$3:$C$1002,2,0),\"\")","v":""},null,{"$f":"IFERROR(VLOOKUP(E1899,Participants!$B$3:$C$1002,2,0),\"\")","v":""}]
[null,null,null,{"$f":"IFERROR(VLOOKUP(C1900,Participants!$B$3:$C$1002,2,0),\"\")","v":""},null,{"$f":"IFERROR(VLOOKUP(E1900,Participants!$B$3:$C$1002,2,0),\"\")","v":""}]
[null,null,null,{"$f":"IFERROR(VLOOKUP(C1901,Participants!$B$3:$C$1002,2,0),\"\")","v":""},null,{"$f":"IFERROR(VLOOKUP(E1901,Participants!$B$3:$C$1002,2,0),\"\")","v":""}]
[null,null,null,{"$f":"IFERROR(VLOOKUP(C1902,Participants!$B$3:$C$1002,2,0),\"\")","v":""},null,{"$f":"IFERROR(VLOOKUP(E1902,Participants!$B$3:$C$1002,2,0),\"\")","v":""}]
[null,null,null,{"$f":"IFERROR(VLOOKUP(C1903,Participants!$B$3:$C$1002,2,0),\"\")","v":""},null,{"$f":"IFERROR(VLOOKUP(E1903,Participants!$B$3:$C$1002,2,0),\"\")","v":""}]
[null,null,null,{"$f":"IFERROR(VLOOKUP(C1904,Participants!$B$3:$C$1002,2,0),\"\")","v":""},null,{"$f":"IFERROR(VLOOKUP(E1904,Participants!$B$3:$C$1002,2,0),\"\")","v":""}]
[null,null,null,{"$f":"IFERROR(VLOOKUP(C1905,Participants!$B$3:$C$1002,2,0),\"\")","v":""},null,{"$f":"IFERROR(VLOOKUP(E1905,Participants!$B$3:$C$1002,2,0),\"\")","v":""}]
[null,null,null,{"$f":"IFERROR(VLOOKUP(C1906,Participants!$B$3:$C$1002,2,0),\"\")","v":""},null,{"$f":"IFERROR(VLOOKUP(E1906,Participants!$B$3:$C$1002,2,0),\"\")","v":""}]
[null,null,null,{"$f":"IFERROR(VLOOKUP(C1907,Participants!$B$3:$C$1002,2,0),\"\")","v":""},null,{"$f":"IFERROR(VLOOKUP(E1907,Participants!$B$3:$C$1002,2,0),\"\")","v":""}]
[null,null,null,{"$f":"IFERROR(VLOOKUP(C1908,Participants!$B$3:$C$1002,2,0),\"\")","v":""},null,{"$f":"IFERROR(VLOOKUP(E1908,Participants!$B$3:$C$1002,2,0),\"\")","v":""}]
[null,null,null,{"$f":"IFERROR(VLOOKUP(C1909,Participants!$B$3:$C$1002,2,0),\"\")","v":""},null,{"$f":"IFERROR(VLOOKUP(E1909,Participants!$B$3:$C$1002,2,0),\"\")","v":""}]
[null,null,null,{"$f":"IFERROR(VLOOKUP(C1910,Participants!$B$3:$C$1002,2,0),\"\")","v":""},null,{"$f":"IFERROR(VLOOKUP(E1910,Participants!$B$3:$C$1002,2,0),\"\")","v":""}]
[null,null,null,{"$f":"IFERROR(VLOOKUP(C1911,Participants!$B$3:$C$1002,2,0),\"\")","v":""},null,{"$f":"IFERROR(VLOOKUP(E1911,Participants!$B$3:$C$1002,2,0),\"\")","v":""}]
[null,null,null,{"$f":"IFERROR(VLOOKUP(C1912,Participants!$B$3:$C$1002,2,0),\"\")","v":""},null,{"$f":"IFERROR(VLOOKUP(E1912,Participants!$B$3:$C$1002,2,0),\"\")","v":""}]
[null,null,null,{"$f":"IFERROR(VLOOKUP(C1913,Participants!$B$3:$C$1002,2,0),\"\")","v":""},null,{"$f":"IFERROR(VLOOKUP(E1913,Participants!$B$3:$C$1002,2,0),\"\")","v":""}]
[null,null,null,{"$f":"IFERROR(VLOOKUP(C1914,Participants!$B$3:$C$1002,2,0),\"\")","v":""},null,{"$f":"IFERROR(VLOOKUP(E1914,Participants!$B$3:$C$1002,2,0),\"\")","v":""}]
[null,null,null,{"$f":"IFERROR(VLOOKUP(C1915,Participants!$B$3:$C$1002,2,0),\"\")","v":""},null,{"$f":"IFERROR(VLOOKUP(E1915,Participants!$B$3:$C$1002,2,0),\"\")","v":""}]
[null,null,null,{"$f":"IFERROR(VLOOKUP(C1916,Participants!$B$3:$C$1002,2,0),\"\")","v":""},null,{"$f":"IFERROR(VLOOKUP(E1916,Participants!$B$3:$C$1002,2,0),\"\")","v":""}]
[null,null,null,{"$f":"IFERROR(VLOOKUP(C1917,Participants!$B$3:$C$1002,2,0),\"\")","v":""},null,{"$f":"IFERROR(VLOOKUP(E1917,Participants!$B$3:$C$1002,2,0),\"\")","v":""}]
[null,null,null,{"$f":"IFERROR(VLOOKUP(C1918,Participants!$B$3:$C$1002,2,0),\"\")","v":""},null,{"$f":"IFERROR(VLOOKUP(E1918,Participants!$B$3:$C$1002,2,0),\"\")","v":""}]
[null,null,null,{"$f":"IFERROR(VLOOKUP(C1919,Participants!$B$3:$C$1002,2,0),\"\")","v":""},null,{"$f":"IFERROR(VLOOKUP(E1919,Participants!$B$3:$C$1002,2,0),\"\")","v":""}]
[null,null,null,{"$f":"IFERROR(VLOOKUP(C1920,Participants!$B$3:$C$1002,2,0),\"\")","v":""},null,{"$f":"IFERROR(VLOOKUP(E1920,Participants!$B$3:$C$1002,2,0),\"\")","v":""}]
[null,null,null,{"$f":"IFERROR(VLOOKUP(C1921,Participants!$B$3:$C$1002,2,0),\"\")","v":""},null,{"$f":"IFERROR(VLOOKUP(E1921,Participants!$B$3:$C$1002,2,0),\"\")","v":""}]
[null,null,null,{"$f":"IFERROR(VLOOKUP(C1922,Participants!$B$3:$C$1002,2,0),\"\")","v":""},null,{"$f":"IFERROR(VLOOKUP(E1922,Participants!$B$3:$C$1002,2,0),\"\")","v":""}]
[null,null,null,{"$f":"IFERROR(VLOOKUP(C1923,Participants!$B$3:$C$1002,2,0),\"\")","v":""},null,{"$f":"IFERROR(VLOOKUP(E1923,Participants!$B$3:$C$1002,2,0),\"\")","v":""}]
[null,null,null,{"$f":"IFERROR(VLOOKUP(C1924,Participants!$B$3:$C$1002,2,0),\"\")","v":""},null,{"$f":"IFERROR(VLOOKUP(E1924,Participants!$B$3:$C$1002,2,0),\"\")","v":""}]
[null,null,null,{"$f":"IFERROR(VLOOKUP(C1925,Participants!$B$3:$C$1002,2,0),\"\")","v":""},null,{"$f":"IFERROR(VLOOKUP(E1925,Participants!$B$3:$C$1002,2,0),\"\")","v":""}]
[null,null,null,{"$f":"IFERROR(VLOOKUP(C1926,Participants!$B$3:$C$1002,2,0),\"\")","v":""},null,{"$f":"IFERROR(VLOOKUP(E1926,Participants!$B$3:$C$1002,2,0),\"\")","v":""}]
[null,null,null,{"$f":"IFERROR(VLOOKUP(C1927,Participants!$B$3:$C$1002,2,0),\"\")","v":""},null,{"$f":"IFERROR(VLOOKUP(E1927,Participants!$B$3:$C$1002,2,0),\"\")","v":""}]
[null,null,null,{"$f":"IFERROR(VLOOKUP(C1928,Participants!$B$3:$C$1002,2,0),\"\")","v":""},null,{"$f":"IFERROR(VLOOKUP(E1928,Participants!$B$3:$C$1002,2,0),\"\")","v":""}]
[null,null,null,{"$f":"IFERROR(VLOOKUP(C1929,Participants!$B$3:$C$1002,2,0),\"\")","v":""},null,{"$f":"IFERROR(VLOOKUP(E1929,Participants!$B$3:$C$1002,2,0),\"\")","v":""}]
[null,null,null,{"$f":"IFERROR(VLOOKUP(C1930,Participants!$B$3:$C$1002,2,0),\"\")","v":""},null,{"$f":"IFERROR(VLOOKUP(E1930,Participants!$B$3:$C$1002,2,0),\"\")","v":""}]
[null,null,null,{"$f":"IFERROR(VLOOKUP(C1931,Participants!$B$3:$C$1002,2,0),\"\")","v":""},null,{"$f":"IFERROR(VLOOKUP(E1931,Participants!$B$3:$C$1002,2,0),\"\")","v":""}]
[null,null,null,{"$f":"IFERROR(VLOOKUP(C1932,Participants!$B$3:$C$1002,2,0),\"\")","v":""},null,{"$f":"IFERROR(VLOOKUP(E1932,Participants!$B$3:$C$1002,2,0),\"\")","v":""}]
[null,null,null,{"$f":"IFERROR(VLOOKUP(C1933,Participants!$B$3:$C$1002,2,0),\"\")","v":""},null,{"$f":"IFERROR(VLOOKUP(E1933,Participants!$B$3:$C$1002,2,0),\"\")","v":""}]
[null,null,null,{"$f":"IFERROR(VLOOKUP(C1934,Participants!$B$3:$C$1002,2,0),\"\")","v":""},null,{"$f":"IFERROR(VLOOKUP(E1934,Participants!$B$3:$C$1002,2,0),\"\")","v":""}]
[null,null,null,{"$f":"IFERROR(VLOOKUP(C1935,Participants!$B$3:$C$1002,2,0),\"\")","v":""},null,{"$f":"IFERROR(VLOOKUP(E1935,Participants!$B$3:$C$1002,2,0),\"\")","v":""}]
[null,null,null,{"$f":"IFERROR(VLOOKUP(C1936,Participants!$B$3:$C$1002,2,0),\"\")","v":""},null,{"$f":"IFERROR(VLOOKUP(E1936,Participants!$B$3:$C$1002,2,0),\"\")","v":""}]
[null,null,null,{"$f":"IFERROR(VLOOKUP(C1937,Participants!$B$3:$C$1002,2,0),\"\")","v":""},null,{"$f":"IFERROR(VLOOKUP(E1937,Participants!$B$3:$C$1002,2,0),\"\")","v":""}]
[null,null,null,{"$f":"IFERROR(VLOOKUP(C1938,Participants!$B$3:$C$1002,2,0),\"\")","v":""},null,{"$f":"IFERROR(VLOOKUP(E1938,Participants!$B$3:$C$1002,2,0),\"\")","v":""}]
[null,null,null,{"$f":"IFERROR(VLOOKUP(C1939,Participants!$B$3:$C$1002,2,0),\"\")","v":""},null,{"$f":"IFERROR(VLOOKUP(E1939,Participants!$B$3:$C$1002,2,0),\"\")","v":""}]
[null,null,null,{"$f":"IFERROR(VLOOKUP(C1940,Participants!$B$3:$C$1002,2,0),\"\")","v":""},null,{"$f":"IFERROR(VLOOKUP(E1940,Participants!$B$3:$C$1002,2,0),\"\")","v":""}]
[null,null,null,{"$f":"IFERROR(VLOOKUP(C1941,Participants!$B$3:$C$1002,2,0),\"\")","v":""},null,{"$f":"IFERROR(VLOOKUP(E1941,Participants!$B$3:$C$1002,2,0),\"\")","v":""}]
[null,null,null,{"$f":"IFERROR(VLOOKUP(C1942,Participants!$B$3:$C$1002,2,0),\"\")","v":""},null,{"$f":"IFERROR(VLOOKUP(E1942,Participants!$B$3:$C$1002,2,0),\"\")","v":""}]
[null,null,null,{"$f":"IFERROR(VLOOKUP(C1943,Participants!$B$3:$C$1002,2,0),\"\")","v":""},null,{"$f":"IFERROR(VLOOKUP(E1943,Participants!$B$3:$C$1002,2,0),\"\")","v":""}]
[null,null,null,{"$f":"IFERROR(VLOOKUP(C1944,Participants!$B$3:$C$1002,2,0),\"\")","v":""},null,{"$f":"IFERROR(VLOOKUP(E1944,Participants!$B$3:$C$1002,2,0),\"\")","v":""}]
[null,null,null,{"$f":"IFERROR(VLOOKUP(C1945,Participants!$B$3:$C$1002,2,0),\"\")","v":""},null,{"$f":"IFERROR(VLOOKUP(E1945,Participants!$B$3:$C$1002,2,0),\"\")","v":""}]
[null,null,null,{"$f":"IFERROR(VLOOKUP(C1946,Participants!$B$3:$C$1002,2,0),\"\")","v":""},null,{"$f":"IFERROR(VLOOKUP(E1946,Participants!$B$3:$C$1002,2,0),\"\")","v":""}]
[null,null,null,{"$f":"IFERROR(VLOOKUP(C1947,Participants!$B$3:$C$1002,2,0),\"\")","v":""},null,{"$f":"IFERROR(VLOOKUP(E1947,Participants!$B$3:$C$1002,2,0),\"\")","v":""}]
[null,null,null,{"$f":"IFERROR(VLOOKUP(C1948,Participants!$B$3:$C$1002,2,0),\"\")","v":""},null,{"$f":"IFERROR(VLOOKUP(E1948,Participants!$B$3:$C$1002,2,0),\"\")","v":""}]
[null,null,null,{"$f":"IFERROR(VLOOKUP(C1949,Participants!$B$3:$C$1002,2,0),\"\")","v":""},null,{"$f":"IFERROR(VLOOKUP(E1949,Participants!$B$3:$C$1002,2,0),\"\")","v":""}]
[null,null,null,{"$f":"IFERROR(VLOOKUP(C1950,Participants!$B$3:$C$1002,2,0),\"\")","v":""},null,{"$f":"IFERROR(VLOOKUP(E1950,Participants!$B$3:$C$1002,2,0),\"\")","v":""}]
[null,null,null,{"$f":"IFERROR(VLOOKUP(C1951,Participants!$B$3:$C$1002,2,0),\"\")","v":""},null,{"$f":"IFERROR(VLOOKUP(E1951,Participants!$B$3:$C$1002,2,0),\"\")","v":""}]
[null,null,null,{"$f":"IFERROR(VLOOKUP(C1952,Participants!$B$3:$C$1002,2,0),\"\")","v":""},null,{"$f":"IFERROR(VLOOKUP(E1952,Participants!$B$3:$C$1002,2,0),\"\")","v":""}]
[null,null,null,{"$f":"IFERROR(VLOOKUP(C1953,Participants!$B$3:$C$1002,2,0),\"\")","v":""},null,{"$f":"IFERROR(VLOOKUP(E1953,Participants!$B$3:$C$1002,2,0),\"\")","v":""}]
[null,null,null,{"$f":"IFERROR(VLOOKUP(C1954,Participants!$B$3:$C$1002,2,0),\"\")","v":""},null,{"$f":"IFERROR(VLOOKUP(E1954,Participants!$B$3:$C$1002,2,0),\"\")","v":""}]
[null,null,null,{"$f":"IFERROR(VLOOKUP(C1955,Participants!$B$3:$C$1002,2,0),\"\")","v":""},null,{"$f":"IFERROR(VLOOKUP(E1955,Participants!$B$3:$C$1002,2,0),\"\")","v":""}]
[null,null,null,{"$f":"IFERROR(VLOOKUP(C1956,Participants!$B$3:$C$1002,2,0),\"\")","v":""},null,{"$f":"IFERROR(VLOOKUP(E1956,Participants!$B$3:$C$1002,2,0),\"\")","v":""}]
[null,null,null,{"$f":"IFERROR(VLOOKUP(C1957,Participants!$B$3:$C$1002,2,0),\"\")","v":""},null,{"$f":"IFERROR(VLOOKUP(E1957,Participants!$B$3:$C$1002,2,0),\"\")","v":""}]
[null,null,null,{"$f":"IFERROR(VLOOKUP(C1958,Participants!$B$3:$C$1002,2,0),\"\")","v":""},null,{"$f":"IFERROR(VLOOKUP(E1958,Participants!$B$3:$C$1002,2,0),\"\")","v":""}]
[null,null,null,{"$f":"IFERROR(VLOOKUP(C1959,Participants!$B$3:$C$1002,2,0),\"\")","v":""},null,{"$f":"IFERROR(VLOOKUP(E1959,Participants!$B$3:$C$1002,2,0),\"\")","v":""}]
[null,null,null,{"$f":"IFERROR(VLOOKUP(C1960,Participants!$B$3:$C$1002,2,0),\"\")","v":""},null,{"$f":"IFERROR(VLOOKUP(E1960,Participants!$B$3:$C$1002,2,0),\"\")","v":""}]
[null,null,null,{"$f":"IFERROR(VLOOKUP(C1961,Participants!$B$3:$C$1002,2,0),\"\")","v":""},null,{"$f":"IFERROR(VLOOKUP(E1961,Participants!$B$3:$C$1002,2,0),\"\")","v":""}]
[null,null,null,{"$f":"IFERROR(VLOOKUP(C1962,Participants!$B$3:$C$1002,2,0),\"\")","v":""},null,{"$f":"IFERROR(VLOOKUP(E1962,Participants!$B$3:$C$1002,2,0),\"\")","v":""}]
[null,null,null,{"$f":"IFERROR(VLOOKUP(C1963,Participants!$B$3:$C$1002,2,0),\"\")","v":""},null,{"$f":"IFERROR(VLOOKUP(E1963,Participants!$B$3:$C$1002,2,0),\"\")","v":""}]
[null,null,null,{"$f":"IFERROR(VLOOKUP(C1964,Participants!$B$3:$C$1002,2,0),\"\")","v":""},null,{"$f":"IFERROR(VLOOKUP(E1964,Participants!$B$3:$C$1002,2,0),\"\")","v":""}]
[null,null,null,{"$f":"IFERROR(VLOOKUP(C1965,Participants!$B$3:$C$1002,2,0),\"\")","v":""},null,{"$f":"IFERROR(VLOOKUP(E1965,Participants!$B$3:$C$1002,2,0),\"\")","v":""}]
[null,null,null,{"$f":"IFERROR(VLOOKUP(C1966,Participants!$B$3:$C$1002,2,0),\"\")","v":""},null,{"$f":"IFERROR(VLOOKUP(E1966,Participants!$B$3:$C$1002,2,0),\"\")","v":""}]
[null,null,null,{"$f":"IFERROR(VLOOKUP(C1967,Participants!$B$3:$C$1002,2,0),\"\")","v":""},null,{"$f":"IFERROR(VLOOKUP(E1967,Participants!$B$3:$C$1002,2,0),\"\")","v":""}]
[null,null,null,{"$f":"IFERROR(VLOOKUP(C1968,Participants!$B$3:$C$1002,2,0),\"\")","v":""},null,{"$f":"IFERROR(VLOOKUP(E1968,Participants!$B$3:$C$1002,2,0),\"\")","v":""}]
[null,null,null,{"$f":"IFERROR(VLOOKUP(C1969,Participants!$B$3:$C$1002,2,0),\"\")","v":""},null,{"$f":"IFERROR(VLOOKUP(E1969,Participants!$B$3:$C$1002,2,0),\"\")","v":""}]
[null,null,null,{"$f":"IFERROR(VLOOKUP(C1970,Participants!$B$3:$C$1002,2,0),\"\")","v":""},null,{"$f":"IFERROR(VLOOKUP(E1970,Participants!$B$3:$C$1002,2,0),\"\")","v":""}]
[null,null,null,{"$f":"IFERROR(VLOOKUP(C1971,Participants!$B$3:$C$1002,2,0),\"\")","v":""},null,{"$f":"IFERROR(VLOOKUP(E1971,Participants!$B$3:$C$1002,2,0),\"\")","v":""}]
[null,null,null,{"$f":"IFERROR(VLOOKUP(C1972,Participants!$B$3:$C$1002,2,0),\"\")","v":""},null,{"$f":"IFERROR(VLOOKUP(E1972,Participants!$B$3:$C$1002,2,0),\"\")","v":""}]
[null,null,null,{"$f":"IFERROR(VLOOKUP(C1973,Participants!$B$3:$C$1002,2,0),\"\")","v":""},null,{"$f":"IFERROR(VLOOKUP(E1973,Participants!$B$3:$C$1002,2,0),\"\")","v":""}]
[null,null,null,{"$f":"IFERROR(VLOOKUP(C1974,Participants!$B$3:$C$1002,2,0),\"\")","v":""},null,{"$f":"IFERROR(VLOOKUP(E1974,Participants!$B$3:$C$1002,2,0),\"\")","v":""}]
[null,null,null,{"$f":"IFERROR(VLOOKUP(C1975,Participants!$B$3:$C$1002,2,0),\"\")","v":""},null,{"$f":"IFERROR(VLOOKUP(E1975,Participants!$B$3:$C$1002,2,0),\"\")","v":""}]
[null,null,null,{"$f":"IFERROR(VLOOKUP(C1976,Participants!$B$3:$C$1002,2,0),\"\")","v":""},null,{"$f":"IFERROR(VLOOKUP(E1976,Participants!$B$3:$C$1002,2,0),\"\")","v":""}]
[null,null,null,{"$f":"IFERROR(VLOOKUP(C1977,Participants!$B$3:$C$1002,2,0),\"\")","v":""},null,{"$f":"IFERROR(VLOOKUP(E1977,Participants!$B$3:$C$1002,2,0),\"\")","v":""}]
[null,null,null,{"$f":"IFERROR(VLOOKUP(C1978,Participants!$B$3:$C$1002,2,0),\"\")","v":""},null,{"$f":"IFERROR(VLOOKUP(E1978,Participants!$B$3:$C$1002,2,0),\"\")","v":""}]
[null,null,null,{"$f":"IFERROR(VLOOKUP(C1979,Participants!$B$3:$C$1002,2,0),\"\")","v":""},null,{"$f":"IFERROR(VLOOKUP(E1979,Participants!$B$3:$C$1002,2,0),\"\")","v":""}]
[null,null,null,{"$f":"IFERROR(VLOOKUP(C1980,Participants!$B$3:$C$1002,2,0),\"\")","v":""},null,{"$f":"IFERROR(VLOOKUP(E1980,Participants!$B$3:$C$1002,2,0),\"\")","v":""}]
[null,null,null,{"$f":"IFERROR(VLOOKUP(C1981,Participants!$B$3:$C$1002,2,0),\"\")","v":""},null,{"$f":"IFERROR(VLOOKUP(E1981,Participants!$B$3:$C$1002,2,0),\"\")","v":""}]
[null,null,null,{"$f":"IFERROR(VLOOKUP(C1982,Participants!$B$3:$C$1002,2,0),\"\")","v":""},null,{"$f":"IFERROR(VLOOKUP(E1982,Participants!$B$3:$C$1002,2,0),\"\")","v":""}]
[null,null,null,{"$f":"IFERROR(VLOOKUP(C1983,Participants!$B$3:$C$1002,2,0),\"\")","v":""},null,{"$f":"IFERROR(VLOOKUP(E1983,Participants!$B$3:$C$1002,2,0),\"\")","v":""}]
[null,null,null,{"$f":"IFERROR(VLOOKUP(C1984,Participants!$B$3:$C$1002,2,0),\"\")","v":""},null,{"$f":"IFERROR(VLOOKUP(E1984,Participants!$B$3:$C$1002,2,0),\"\")","v":""}]
[null,null,null,{"$f":"IFERROR(VLOOKUP(C1985,Participants!$B$3:$C$1002,2,0),\"\")","v":""},null,{"$f":"IFERROR(VLOOKUP(E1985,Participants!$B$3:$C$1002,2,0),\"\")","v":""}]
[null,null,null,{"$f":"IFERROR(VLOOKUP(C1986,Participants!$B$3:$C$1002,2,0),\"\")","v":""},null,{"$f":"IFERROR(VLOOKUP(E1986,Participants!$B$3:$C$1002,2,0),\"\")","v":""}]
[null,null,null,{"$f":"IFERROR(VLOOKUP(C1987,Participants!$B$3:$C$1002,2,0),\"\")","v":""},null,{"$f":"IFERROR(VLOOKUP(E1987,Participants!$B$3:$C$1002,2,0),\"\")","v":""}]
[null,null,null,{"$f":"IFERROR(VLOOKUP(C1988,Participants!$B$3:$C$1002,2,0),\"\")","v":""},null,{"$f":"IFERROR(VLOOKUP(E1988,Participants!$B$3:$C$1002,2,0),\"\")","v":""}]
[null,null,null,{"$f":"IFERROR(VLOOKUP(C1989,Participants!$B$3:$C$1002,2,0),\"\")","v":""},null,{"$f":"IFERROR(VLOOKUP(E1989,Participants!$B$3:$C$1002,2,0),\"\")","v":""}]
[null,null,null,{"$f":"IFERROR(VLOOKUP(C1990,Participants!$B$3:$C$1002,2,0),\"\")","v":""},null,{"$f":"IFERROR(VLOOKUP(E1990,Participants!$B$3:$C$1002,2,0),\"\")","v":""}]
[null,null,null,{"$f":"IFERROR(VLOOKUP(C1991,Participants!$B$3:$C$1002,2,0),\"\")","v":""},null,{"$f":"IFERROR(VLOOKUP(E1991,Participants!$B$3:$C$1002,2,0),\"\")","v":""}]
[null,null,null,{"$f":"IFERROR(VLOOKUP(C1992,Participants!$B$3:$C$1002,2,0),\"\")","v":""},null,{"$f":"IFERROR(VLOOKUP(E1992,Participants!$B$3:$C$1002,2,0),\"\")","v":""}]
[null,null,null,{"$f":"IFERROR(VLOOKUP(C1993,Participants!$B$3:$C$1002,2,0),\"\")","v":""},null,{"$f":"IFERROR(VLOOKUP(E1993,Participants!$B$3:$C$1002,2,0),\"\")","v":""}]
[null,null,null,{"$f":"IFERROR(VLOOKUP(C1994,Participants!$B$3:$C$1002,2,0),\"\")","v":""},null,{"$f":"IFERROR(VLOOKUP(E1994,Participants!$B$3:$C$1002,2,0),\"\")","v":""}]
[null,null,null,{"$f":"IFERROR(VLOOKUP(C1995,Participants!$B$3:$C$1002,2,0),\"\")","v":""},null,{"$f":"IFERROR(VLOOKUP(E1995,Participants!$B$3:$C$1002,2,0),\"\")","v":""}]
[null,null,null,{"$f":"IFERROR(VLOOKUP(C1996,Participants!$B$3:$C$1002,2,0),\"\")","v":""},null,{"$f":"IFERROR(VLOOKUP(E1996,Participants!$B$3:$C$1002,2,0),\"\")","v":""}]
[null,null,null,{"$f":"IFERROR(VLOOKUP(C1997,Participants!$B$3:$C$1002,2,0),\"\")","v":""},null,{"$f":"IFERROR(VLOOKUP(E1997,Participants!$B$3:$C$1002,2,0),\"\")","v":""}]
[null,null,null,{"$f":"IFERROR(VLOOKUP(C1998,Participants!$B$3:$C$1002,2,0),\"\")","v":""},null,{"$f":"IFERROR(VLOOKUP(E1998,Participants!$B$3:$C$1002,2,0),\"\")","v":""}]
[null,null,null,{"$f":"IFERROR(VLOOKUP(C1999,Participants!$B$3:$C$1002,2,0),\"\")","v":""},null,{"$f":"IFERROR(VLOOKUP(E1999,Participants!$B$3:$C$1002,2,0),\"\")","v":""}]
[null,null,null,{"$f":"IFERROR(VLOOKUP(C2000,Participants!$B$3:$C$1002,2,0),\"\")","v":""},null,{"$f":"IFERROR(VLOOKUP(E2000,Participants!$B$3:$C$1002,2,0),\"\")","v":""}]
[null,null,null,{"$f":"IFERROR(VLOOKUP(C2001,Participants!$B$3:$C$1002,2,0),\"\")","v":""},null,{"$f":"IFERROR(VLOOKUP(E2001,Participants!$B$3:$C$1002,2,0),\"\")","v":""}]
[null,null,null,{"$f":"IFERROR(VLOOKUP(C2002,Participants!$B$3:$C$1002,2,0),\"\")","v":""},null,{"$f":"IFERROR(VLOOKUP(E2002,Participants!$B$3:$C$1002,2,0),\"\")","v":""}]
[null,null,null,{"$f":"IFERROR(VLOOKUP(C2003,Participants!$B$3:$C$1002,2,0),\"\")","v":""},null,{"$f":"IFERROR(VLOOKUP(E2003,Participants!$B$3:$C$1002,2,0),\"\")","v":""}]

{"sheet":"Settings","index":5,"n_rows":5,"n_cols":5,"rows_kept":5,"cut":false,"hidden":false,"merged":[]}
[null,{"$f":"Sprache!$E$24","v":"Einstellungen"}]
[]
[null,{"$f":"Sprache!$E$25","v":"ELO Divisor:"},600,null,{"$f":"Sprache!$E$26","v":"600  für Fußball-Bewertungszahlen"}]
[null,null,null,null,{"$f":"Sprache!$E$27","v":"400  für Schach-Spielstärken"}]
[null,null,null,null,{"$f":"Sprache!$E$28","v":"200  für Tischtennis"}]

{"sheet":"Sprache","index":6,"n_rows":49,"n_cols":12,"rows_kept":49,"cut":false,"hidden":false,"merged":[[0,5,0,7],[1,5,1,6],[2,3,3,3],[2,4,3,4],[2,5,3,5],[2,6,3,6],[2,7,3,7]]}
[null,null,null,null,null,{"$f":"$E$31","v":"Sprache"},null,null,null,"deutsch",{"$f":"_xlfn.UNICHAR(8592)","v":"←"},{"$f":"$E$46","v":"Sprache wählen"}]
[]
[null,"english",{"$f":"IF(AND($J$1<>B4,$J$1<>B5),1,0)","v":0},null,null,"english","deutsch","my language"]
[null,"deutsch",{"$f":"IF($J$1=B4,1,0)","v":1}]
[null,"my language",{"$f":"IF($J$1=B5,1,0)","v":0},null,null,{"$f":"$E$30","v":"Überschriften"}]
[null,null,null,null,{"$f":"IF($C$3,F6,IF($C$4,G6,IF($H6<>\"\",$H6,$F6)))","v":"Teilnehmer"},"Participants","Teilnehmer"]
[null,null,null,null,{"$f":"IF($C$3,F7,IF($C$4,G7,IF($H7<>\"\",$H7,$F7)))","v":"Startwert"},"Starting number","Startwert"]
[null,null,null,null,"ID","ID","ID"]
[null,null,null,null,"Nr.","No.","Nr."]
[null,null,null,null,"Name","Name","Name"]
[null,null,null,null,"Rangliste","Ranking","Rangliste"]
[null,null,null,null,"Altes Datum:","Old Date:","Altes Datum:"]
[null,null,null,null,"Neues Datum:","New Date:","Neues Datum:"]
[null,null,null,null,"Spiele","Matches","Spiele"]
[null,null,null,null,"Neue Rangliste","New Ranking","Neue Rangliste"]
[null,null,null,null,"Datum","Date","Datum"]
[null,null,null,null,"ID 1","ID 1","ID 1"]
[null,null,null,null,"ID 2","ID 2","ID 2"]
[null,null,null,null,"Ergebnis","Result","Ergebnis"]
[null,null,null,null,"Wichtung","Weight","Wichtung"]
[null,null,null,null,"Elfmetersch.","Penalty","Elfmetersch."]
[null,null,null,null,"KO-Runde","KO round","KO-Runde"]
[null,null,null,null,"Rang","Rank","Rang"]
[null,null,null,null,"Einstellungen","Settings","Einstellungen"]
[null,null,null,null,"ELO Divisor:","ELO Divisor:","ELO Divisor:"]
[null,null,null,null,"600  für Fußball-Bewertungszahlen","600  for soccer rating numbers","600  für Fußball-Bewertungszahlen"]
[null,null,null,null,"400  für Schach-Spielstärken","400  for chess skill levels","400  für Schach-Spielstärken"]
[null,null,null,null,"200  für Tischtennis","200  for table tennis","200  für Tischtennis"]
[null,null,null,null,"Meldungen","Messages","Meldungen"]
[null,null,null,null,"Überschriften","Captions","Überschriften"]
[null,null,null,null,"Sprache","Language","Sprache"]
[null,null,null,null,"Verein","Club","Verein"]
[null,null,null,null,"Punkte","Points","Punkte"]
[null,null,null,null,"Datum:","Date:","Datum:"]
[null,null,null,null,0]
[null,null,null,null,0,{"$f":"$E$29","v":"Meldungen"}]
[null,null,null,null,"Altes Datum fehlt!","Old Date is missing!","Altes Datum fehlt!"]
[null,null,null,null,"Neues Datum fehlt!","New Date is missing!","Neues Datum fehlt!"]
[null,null,null,null,"Altes Datum nicht gefunden auf dem Tabellenblatt 'Participants'!","Old Date not found on worksheet 'Participants'!","Altes Datum nicht gefunden auf dem Tabellenblatt 'Participants'!"]
[null,null,null,null,"Datum fehlt!","Date is missing!","Datum fehlt!"]
[null,null,null,null,"Teilnehmer fehlt!","Participant is missing!","Teilnehmer fehlt!"]
[null,null,null,null,"Ergebnis fehlt!","Result is missing!","Ergebnis fehlt!"]
[null,null,null,null,"Wichtung fehlt!","Weight is missing!","Wichtung fehlt!"]
[null,null,null,null,"Keine Teilnehmer eingetragen auf dem Tabellenblatt 'Participants'!","No participants entered on worksheet 'Participants'!","Keine Teilnehmer eingetragen auf dem Tabellenblatt 'Participants'!"]
[null,null,null,null,"Keine Spiele eingetragen!","No matches entered!","Keine Spiele eingetragen!"]
[null,null,null,null,"Sprache wählen","Choose language","Sprache wählen"]
[null,null,null,null,"ID nicht gefunden!","ID not found!","ID nicht gefunden!"]
[null,null,null,null,0]
[null,null,null,null,0]

{"sheet":"Info","index":7,"n_rows":71,"n_cols":17,"rows_kept":71,"cut":false,"hidden":false,"merged":[[69,2,69,8],[69,10,69,16],[70,2,70,8],[70,10,70,16]]}
[null,null,null,null,null,null,null,null,null,null,null,null,null,null,null,null,"hb / Version 1.3"]
[null,null,"English",null,null,null,null,null,null,null,"Deutsch",null,null,null,null,null,"2026-06-08"]
[]
[]
[]
[]
[]
[]
[]
[]
[]
[]
[]
[]
[]
[]
[]
[]
[]
[]
[]
[]
[]
[]
[]
[]
[]
[]
[]
[]
[]
[]
[]
[]
[]
[]
[]
[]
[]
[]
[]
[]
[]
[]
[]
[]
[]
[]
[]
[]
[]
[]
[]
[]
[]
[]
[]
[]
[]
[]
[]
[]
[]
[]
[]
[]
[]
[]
[]
[null,null,"If there are any discrepancies, I am very grateful for notification!",null,null,null,null,null,null,null,"Bei Unstimmigkeiten bin ich für eine entsprechende Benachrichtigung sehr dankbar!"]
[null,null,"mail@hermann-baum.de",null,null,null,null,null,null,null,"mail@hermann-baum.de"]